{"text_format":"1","workbook":"xlsx","n_sheets":2,"sheets":["Лист1","Лист2"],"not_rendered":{"charts":0,"images":0,"macros":1,"external_links":17,"defined_names":2,"comments":0,"pivot_tables":0},"unopened":[],"bounds":{"document_bytes":16777216,"sheet_cells":100000,"rows_first":2000,"rows_last":500,"rows_between":2000,"halvings":0,"cell_chars":16384,"cell_head_chars":4096},"cells_cut":0,"cells_raw":0,"read":"whole","date_system":"1900"}

{"sheet":"Лист1","index":0,"n_rows":1702,"n_cols":27,"rows_kept":1702,"cut":false,"hidden":false,"merged":[[0,21,1,21],[0,20,1,20],[0,14,0,19],[0,1,1,1],[0,4,1,4],[0,5,1,5],[0,6,1,6],[0,7,1,7],[0,3,1,3],[0,8,1,8],[0,13,1,13],[0,9,0,12]]}
["№","№",{"$f":"TODAY()","v":"2018-02-22"},"Внутрифирменное название","Кол-во","Менеджер","Конструктор","Дизайнер","Отв. Производство /бригадир","Размер",null,null,null,"Дата сдачи заказа","Сборочный участок",null,null,null,null,null,"Ссылка_Сборочный участок","Готовность_Сборочный участок"]
[null,null,"Идентификатор изделий",null,null,null,null,null,null,"ширина","х","высота","ед. изм.",null,"надо дней","конечная дата на участке","начать ч/з","дней до срока на участке","выполнено (стало)","выполнено (было)"]
[]
[1608,{"$f":"'[1]Список изделий'!D577","v":8},{"$f":"'[1]Список изделий'!E577","v":0},{"$f":"'[1]Список изделий'!F577","v":0},{"$f":"'[1]Список изделий'!I577","v":0},{"$f":"'[1]Список изделий'!X577","v":0},{"$f":"'[1]Список изделий'!Y577","v":0},{"$f":"'[1]Список изделий'!Z577","v":0},{"$f":"'[1]Список изделий'!AA577","v":0},{"$f":"'[1]Список изделий'!AB577","v":0},{"$f":"'[1]Список изделий'!AC577","v":"x"},{"$f":"'[1]Список изделий'!AD577","v":0},{"$f":"'[1]Список изделий'!AE577","v":0},{"$f":"'[1]Список изделий'!AF577","v":"00:00:00"},{"$f":"'[1]Список изделий'!AY577","v":0},{"$f":"'[1]Список изделий'!AZ577","v":"00:00:00"},{"$f":"IF(O4=\"нет в заказе\",\"нет в заказе\",-(TODAY()-(P4-O4)))","v":-43153},{"$f":"IF(Q4=\"нет в заказе\",\"нет взаказе\",-(IF(O4=\"нет в заказе\",\"нет в заказе\",TODAY()-P4)))","v":-43153},0,{"$f":"V4","v":0},{"$f":"'[1]Список изделий'!BR577","v":0},{"$f":"IF(S4>=0,S4,IF(T4>S4,T4,S4))","v":0},0]
[1631,{"$f":"'[1]Список изделий'!D2463","v":31},{"$f":"'[1]Список изделий'!E2463","v":0},{"$f":"'[1]Список изделий'!F2463","v":0},{"$f":"'[1]Список изделий'!I2463","v":0},{"$f":"'[1]Список изделий'!X2463","v":0},{"$f":"'[1]Список изделий'!Y2463","v":0},{"$f":"'[1]Список изделий'!Z2463","v":0},{"$f":"'[1]Список изделий'!AA2463","v":0},{"$f":"'[1]Список изделий'!AB2463","v":0},{"$f":"'[1]Список изделий'!AC2463","v":"x"},{"$f":"'[1]Список изделий'!AD2463","v":0},{"$f":"'[1]Список изделий'!AE2463","v":0},{"$f":"'[1]Список изделий'!AF2463","v":"00:00:00"},{"$f":"'[1]Список изделий'!AY2463","v":0},{"$f":"'[1]Список изделий'!AZ2463","v":"00:00:00"},-43153,-43153,0,0,{"$f":"'[1]Список изделий'!BR2463","v":0},0,"\\\\SERVER\\Data1\\П\\Перекресток\\2018\\ОКЕЙ_Перекресток\\Лиговский 30а (Галерея)\\техничка\\П-выв-Галер-6-1900х410\\сборка"]
[3,{"$f":"'[2]Список изделий'!D5","v":3},{"$f":"'[2]Список изделий'!E5","v":0},{"$f":"'[2]Список изделий'!F5","v":0},{"$f":"'[2]Список изделий'!I5","v":0},{"$f":"'[2]Список изделий'!X5","v":0},{"$f":"'[2]Список изделий'!Y5","v":0},{"$f":"'[2]Список изделий'!Z5","v":0},{"$f":"'[2]Список изделий'!AA5","v":0},{"$f":"'[2]Список изделий'!AB5","v":0},{"$f":"'[2]Список изделий'!AC5","v":"x"},{"$f":"'[2]Список изделий'!AD5","v":0},{"$f":"'[2]Список изделий'!AE5","v":0},{"$f":"'[2]Список изделий'!AF5","v":"00:00:00"},{"$f":"'[2]Список изделий'!AY5","v":0},{"$f":"'[2]Список изделий'!AZ5","v":"00:00:00"},-43153,-43153,0,0,{"$f":"'[2]Список изделий'!BR5","v":0},0,0]
[4,{"$f":"'[2]Список изделий'!D6","v":4},{"$f":"'[2]Список изделий'!E6","v":0},{"$f":"'[2]Список изделий'!F6","v":0},{"$f":"'[2]Список изделий'!I6","v":0},{"$f":"'[2]Список изделий'!X6","v":0},{"$f":"'[2]Список изделий'!Y6","v":0},{"$f":"'[2]Список изделий'!Z6","v":0},{"$f":"'[2]Список изделий'!AA6","v":0},{"$f":"'[2]Список изделий'!AB6","v":0},{"$f":"'[2]Список изделий'!AC6","v":"x"},{"$f":"'[2]Список изделий'!AD6","v":0},{"$f":"'[2]Список изделий'!AE6","v":0},{"$f":"'[2]Список изделий'!AF6","v":"00:00:00"},{"$f":"'[2]Список изделий'!AY6","v":0},{"$f":"'[2]Список изделий'!AZ6","v":"00:00:00"},-43153,-43153,0,0,{"$f":"'[2]Список изделий'!BR6","v":0},0,0]
[5,{"$f":"'[2]Список изделий'!D7","v":5},{"$f":"'[2]Список изделий'!E7","v":0},{"$f":"'[2]Список изделий'!F7","v":0},{"$f":"'[2]Список изделий'!I7","v":0},{"$f":"'[2]Список изделий'!X7","v":0},{"$f":"'[2]Список изделий'!Y7","v":0},{"$f":"'[2]Список изделий'!Z7","v":0},{"$f":"'[2]Список изделий'!AA7","v":0},{"$f":"'[2]Список изделий'!AB7","v":0},{"$f":"'[2]Список изделий'!AC7","v":"x"},{"$f":"'[2]Список изделий'!AD7","v":0},{"$f":"'[2]Список изделий'!AE7","v":0},{"$f":"'[2]Список изделий'!AF7","v":"00:00:00"},{"$f":"'[2]Список изделий'!AY7","v":0},{"$f":"'[2]Список изделий'!AZ7","v":"00:00:00"},-43153,-43153,0,0,{"$f":"'[2]Список изделий'!BR7","v":0},0,0]
[116,{"$f":"'[3]Список изделий'!D1233","v":16},{"$f":"'[3]Список изделий'!E1233","v":"П-выв-Тихая-16"},{"$f":"'[3]Список изделий'!F1233","v":"Вывеска Перекресток/супермаркет 16000х1300"},{"$f":"'[3]Список изделий'!I1233","v":1},{"$f":"'[3]Список изделий'!X1233","v":"ГМА"},{"$f":"'[3]Список изделий'!Y1233","v":"Топоров"},{"$f":"'[3]Список изделий'!Z1233","v":"Жаворонков"},{"$f":"'[3]Список изделий'!AA1233","v":"Замотаев"},{"$f":"'[3]Список изделий'!AB1233","v":0},{"$f":"'[3]Список изделий'!AC1233","v":"x"},{"$f":"'[3]Список изделий'!AD1233","v":0},{"$f":"'[3]Список изделий'!AE1233","v":0},{"$f":"'[3]Список изделий'!AF1233","v":"2018-02-22"},{"$f":"'[3]Список изделий'!AY1233","v":6},{"$f":"'[3]Список изделий'!AZ1233","v":"2018-02-20"},-8,-2,1,1,{"$f":"'[3]Список изделий'!BR1233","v":0},1,0]
[8,{"$f":"'[2]Список изделий'!D9","v":7},{"$f":"'[2]Список изделий'!E9","v":0},{"$f":"'[2]Список изделий'!F9","v":0},{"$f":"'[2]Список изделий'!I9","v":0},{"$f":"'[2]Список изделий'!X9","v":0},{"$f":"'[2]Список изделий'!Y9","v":0},{"$f":"'[2]Список изделий'!Z9","v":0},{"$f":"'[2]Список изделий'!AA9","v":0},{"$f":"'[2]Список изделий'!AB9","v":0},{"$f":"'[2]Список изделий'!AC9","v":"x"},{"$f":"'[2]Список изделий'!AD9","v":0},{"$f":"'[2]Список изделий'!AE9","v":0},{"$f":"'[2]Список изделий'!AF9","v":"00:00:00"},{"$f":"'[2]Список изделий'!AY9","v":0},{"$f":"'[2]Список изделий'!AZ9","v":"00:00:00"},-43153,-43153,null,0,{"$f":"'[2]Список изделий'!BR9","v":0},0,0]
[9,{"$f":"'[2]Список изделий'!D10","v":8},{"$f":"'[2]Список изделий'!E10","v":0},{"$f":"'[2]Список изделий'!F10","v":0},{"$f":"'[2]Список изделий'!I10","v":0},{"$f":"'[2]Список изделий'!X10","v":0},{"$f":"'[2]Список изделий'!Y10","v":0},{"$f":"'[2]Список изделий'!Z10","v":0},{"$f":"'[2]Список изделий'!AA10","v":0},{"$f":"'[2]Список изделий'!AB10","v":0},{"$f":"'[2]Список изделий'!AC10","v":"x"},{"$f":"'[2]Список изделий'!AD10","v":0},{"$f":"'[2]Список изделий'!AE10","v":0},{"$f":"'[2]Список изделий'!AF10","v":"00:00:00"},{"$f":"'[2]Список изделий'!AY10","v":0},{"$f":"'[2]Список изделий'!AZ10","v":"00:00:00"},-43153,-43153,0,0,{"$f":"'[2]Список изделий'!BR10","v":0},0,0]
[10,{"$f":"'[2]Список изделий'!D11","v":9},{"$f":"'[2]Список изделий'!E11","v":0},{"$f":"'[2]Список изделий'!F11","v":0},{"$f":"'[2]Список изделий'!I11","v":0},{"$f":"'[2]Список изделий'!X11","v":0},{"$f":"'[2]Список изделий'!Y11","v":0},{"$f":"'[2]Список изделий'!Z11","v":0},{"$f":"'[2]Список изделий'!AA11","v":0},{"$f":"'[2]Список изделий'!AB11","v":0},{"$f":"'[2]Список изделий'!AC11","v":"x"},{"$f":"'[2]Список изделий'!AD11","v":0},{"$f":"'[2]Список изделий'!AE11","v":0},{"$f":"'[2]Список изделий'!AF11","v":"00:00:00"},{"$f":"'[2]Список изделий'!AY11","v":0},{"$f":"'[2]Список изделий'!AZ11","v":"00:00:00"},-43153,-43153,0,0,{"$f":"'[2]Список изделий'!BR11","v":0},0,0]
[11,{"$f":"'[2]Список изделий'!D12","v":10},{"$f":"'[2]Список изделий'!E12","v":0},{"$f":"'[2]Список изделий'!F12","v":0},{"$f":"'[2]Список изделий'!I12","v":0},{"$f":"'[2]Список изделий'!X12","v":0},{"$f":"'[2]Список изделий'!Y12","v":0},{"$f":"'[2]Список изделий'!Z12","v":0},{"$f":"'[2]Список изделий'!AA12","v":0},{"$f":"'[2]Список изделий'!AB12","v":0},{"$f":"'[2]Список изделий'!AC12","v":"x"},{"$f":"'[2]Список изделий'!AD12","v":0},{"$f":"'[2]Список изделий'!AE12","v":0},{"$f":"'[2]Список изделий'!AF12","v":"00:00:00"},{"$f":"'[2]Список изделий'!AY12","v":0},{"$f":"'[2]Список изделий'!AZ12","v":"00:00:00"},-43153,-43153,0,0,{"$f":"'[2]Список изделий'!BR12","v":0},0,0]
[117,{"$f":"'[3]Список изделий'!D1315","v":17},{"$f":"'[3]Список изделий'!E1315","v":"П-выв-Тихая-17"},{"$f":"'[3]Список изделий'!F1315","v":"Вывеска Перекресток/супермаркет 10000х800"},{"$f":"'[3]Список изделий'!I1315","v":1},{"$f":"'[3]Список изделий'!X1315","v":"ГМА"},{"$f":"'[3]Список изделий'!Y1315","v":"Топоров"},{"$f":"'[3]Список изделий'!Z1315","v":"Жаворонков"},{"$f":"'[3]Список изделий'!AA1315","v":"Замотаев"},{"$f":"'[3]Список изделий'!AB1315","v":350},{"$f":"'[3]Список изделий'!AC1315","v":"x"},{"$f":"'[3]Список изделий'!AD1315","v":450},{"$f":"'[3]Список изделий'!AE1315","v":"мм"},{"$f":"'[3]Список изделий'!AF1315","v":"2018-02-22"},{"$f":"'[3]Список изделий'!AY1315","v":6},{"$f":"'[3]Список изделий'!AZ1315","v":"2018-02-20"},-8,-2,1,1,{"$f":"'[3]Список изделий'!BR1315","v":0},1,"\\\\SERVER\\Data1\\П\\принт кириши\\2018\\проект\\к 25 января"]
[13,{"$f":"'[2]Список изделий'!D14","v":12},{"$f":"'[2]Список изделий'!E14","v":0},{"$f":"'[2]Список изделий'!F14","v":0},{"$f":"'[2]Список изделий'!I14","v":0},{"$f":"'[2]Список изделий'!X14","v":0},{"$f":"'[2]Список изделий'!Y14","v":0},{"$f":"'[2]Список изделий'!Z14","v":0},{"$f":"'[2]Список изделий'!AA14","v":0},{"$f":"'[2]Список изделий'!AB14","v":0},{"$f":"'[2]Список изделий'!AC14","v":"x"},{"$f":"'[2]Список изделий'!AD14","v":0},{"$f":"'[2]Список изделий'!AE14","v":0},{"$f":"'[2]Список изделий'!AF14","v":"00:00:00"},{"$f":"'[2]Список изделий'!AY14","v":0},{"$f":"'[2]Список изделий'!AZ14","v":"00:00:00"},-43153,-43153,0,0,{"$f":"'[2]Список изделий'!BR14","v":0},0,"\\\\SERVER\\Data1\\П\\Перекресток\\2018\\МОСКВА_18\\Балаклавский пр. 16А\\mail\\Кронштейны.jpg"]
[14,{"$f":"'[2]Список изделий'!D15","v":13},{"$f":"'[2]Список изделий'!E15","v":0},{"$f":"'[2]Список изделий'!F15","v":0},{"$f":"'[2]Список изделий'!I15","v":0},{"$f":"'[2]Список изделий'!X15","v":0},{"$f":"'[2]Список изделий'!Y15","v":0},{"$f":"'[2]Список изделий'!Z15","v":0},{"$f":"'[2]Список изделий'!AA15","v":0},{"$f":"'[2]Список изделий'!AB15","v":0},{"$f":"'[2]Список изделий'!AC15","v":"x"},{"$f":"'[2]Список изделий'!AD15","v":0},{"$f":"'[2]Список изделий'!AE15","v":0},{"$f":"'[2]Список изделий'!AF15","v":"00:00:00"},{"$f":"'[2]Список изделий'!AY15","v":0},{"$f":"'[2]Список изделий'!AZ15","v":"00:00:00"},-43153,-43153,0,0,{"$f":"'[2]Список изделий'!BR15","v":0},0,"\\\\SERVER\\Data1\\П\\Перекресток\\2018\\МОСКВА_18\\Балаклавский пр. 16А\\mail\\Кронштейны.jpg"]
[15,{"$f":"'[2]Список изделий'!D16","v":14},{"$f":"'[2]Список изделий'!E16","v":0},{"$f":"'[2]Список изделий'!F16","v":0},{"$f":"'[2]Список изделий'!I16","v":0},{"$f":"'[2]Список изделий'!X16","v":0},{"$f":"'[2]Список изделий'!Y16","v":0},{"$f":"'[2]Список изделий'!Z16","v":0},{"$f":"'[2]Список изделий'!AA16","v":0},{"$f":"'[2]Список изделий'!AB16","v":0},{"$f":"'[2]Список изделий'!AC16","v":"x"},{"$f":"'[2]Список изделий'!AD16","v":0},{"$f":"'[2]Список изделий'!AE16","v":0},{"$f":"'[2]Список изделий'!AF16","v":"00:00:00"},{"$f":"'[2]Список изделий'!AY16","v":0},{"$f":"'[2]Список изделий'!AZ16","v":"00:00:00"},-43153,-43153,0,0,{"$f":"'[2]Список изделий'!BR16","v":0},0,"\\\\SERVER\\Data1\\П\\Перекресток\\2018\\МОСКВА_18\\Балаклавский пр. 16А\\mail\\Оклейка стекол.jpg"]
[16,{"$f":"'[2]Список изделий'!D17","v":15},{"$f":"'[2]Список изделий'!E17","v":0},{"$f":"'[2]Список изделий'!F17","v":0},{"$f":"'[2]Список изделий'!I17","v":0},{"$f":"'[2]Список изделий'!X17","v":0},{"$f":"'[2]Список изделий'!Y17","v":0},{"$f":"'[2]Список изделий'!Z17","v":0},{"$f":"'[2]Список изделий'!AA17","v":0},{"$f":"'[2]Список изделий'!AB17","v":0},{"$f":"'[2]Список изделий'!AC17","v":"x"},{"$f":"'[2]Список изделий'!AD17","v":0},{"$f":"'[2]Список изделий'!AE17","v":0},{"$f":"'[2]Список изделий'!AF17","v":"00:00:00"},{"$f":"'[2]Список изделий'!AY17","v":0},{"$f":"'[2]Список изделий'!AZ17","v":"00:00:00"},-43153,-43153,0,0,{"$f":"'[2]Список изделий'!BR17","v":0},0,"\\\\SERVER\\Data1\\П\\Перекресток\\2018\\МОСКВА_18\\Балаклавский пр. 16А\\Техничка\\64-оклейка_ВХОДной_группы"]
[17,{"$f":"'[2]Список изделий'!D18","v":16},{"$f":"'[2]Список изделий'!E18","v":"14 Ка-ТРК Л-16"},{"$f":"'[2]Список изделий'!F18","v":"Замена внутренней вывески в ТРК Лигов"},{"$f":"'[2]Список изделий'!I18","v":1},{"$f":"'[2]Список изделий'!X18","v":"ГМА"},{"$f":"'[2]Список изделий'!Y18","v":"Урека"},{"$f":"'[2]Список изделий'!Z18","v":"Закурдаев"},{"$f":"'[2]Список изделий'!AA18","v":"Замотаев"},{"$f":"'[2]Список изделий'!AB18","v":0},{"$f":"'[2]Список изделий'!AC18","v":"x"},{"$f":"'[2]Список изделий'!AD18","v":0},{"$f":"'[2]Список изделий'!AE18","v":0},{"$f":"'[2]Список изделий'!AF18","v":"2018-03-15"},{"$f":"'[2]Список изделий'!AY18","v":5},{"$f":"'[2]Список изделий'!AZ18","v":"2018-03-14"},15,20,0,0,{"$f":"'[2]Список изделий'!BR18","v":0},0,0]
[18,{"$f":"'[2]Список изделий'!D19","v":17},{"$f":"'[2]Список изделий'!E19","v":0},{"$f":"'[2]Список изделий'!F19","v":0},{"$f":"'[2]Список изделий'!I19","v":0},{"$f":"'[2]Список изделий'!X19","v":0},{"$f":"'[2]Список изделий'!Y19","v":0},{"$f":"'[2]Список изделий'!Z19","v":0},{"$f":"'[2]Список изделий'!AA19","v":0},{"$f":"'[2]Список изделий'!AB19","v":0},{"$f":"'[2]Список изделий'!AC19","v":"x"},{"$f":"'[2]Список изделий'!AD19","v":0},{"$f":"'[2]Список изделий'!AE19","v":0},{"$f":"'[2]Список изделий'!AF19","v":"00:00:00"},{"$f":"'[2]Список изделий'!AY19","v":0},{"$f":"'[2]Список изделий'!AZ19","v":"00:00:00"},-43153,-43153,0,0,{"$f":"'[2]Список изделий'!BR19","v":0},0,"\\\\SERVER\\Data1\\Х\\Хронограф\\2017\\техничка\\Табличка аренда (печать).cdr"]
[19,{"$f":"'[2]Список изделий'!D20","v":18},{"$f":"'[2]Список изделий'!E20","v":0},{"$f":"'[2]Список изделий'!F20","v":0},{"$f":"'[2]Список изделий'!I20","v":0},{"$f":"'[2]Список изделий'!X20","v":0},{"$f":"'[2]Список изделий'!Y20","v":0},{"$f":"'[2]Список изделий'!Z20","v":0},{"$f":"'[2]Список изделий'!AA20","v":0},{"$f":"'[2]Список изделий'!AB20","v":0},{"$f":"'[2]Список изделий'!AC20","v":"x"},{"$f":"'[2]Список изделий'!AD20","v":0},{"$f":"'[2]Список изделий'!AE20","v":0},{"$f":"'[2]Список изделий'!AF20","v":"00:00:00"},{"$f":"'[2]Список изделий'!AY20","v":0},{"$f":"'[2]Список изделий'!AZ20","v":"00:00:00"},-43153,-43153,0,0,{"$f":"'[2]Список изделий'!BR20","v":0},0,0]
[20,{"$f":"'[2]Список изделий'!D21","v":19},{"$f":"'[2]Список изделий'!E21","v":0},{"$f":"'[2]Список изделий'!F21","v":0},{"$f":"'[2]Список изделий'!I21","v":0},{"$f":"'[2]Список изделий'!X21","v":0},{"$f":"'[2]Список изделий'!Y21","v":0},{"$f":"'[2]Список изделий'!Z21","v":0},{"$f":"'[2]Список изделий'!AA21","v":0},{"$f":"'[2]Список изделий'!AB21","v":0},{"$f":"'[2]Список изделий'!AC21","v":"x"},{"$f":"'[2]Список изделий'!AD21","v":0},{"$f":"'[2]Список изделий'!AE21","v":0},{"$f":"'[2]Список изделий'!AF21","v":"00:00:00"},{"$f":"'[2]Список изделий'!AY21","v":0},{"$f":"'[2]Список изделий'!AZ21","v":"00:00:00"},-43153,-43153,0,0,{"$f":"'[2]Список изделий'!BR21","v":0},0,0]
[21,{"$f":"'[2]Список изделий'!D22","v":20},{"$f":"'[2]Список изделий'!E22","v":0},{"$f":"'[2]Список изделий'!F22","v":0},{"$f":"'[2]Список изделий'!I22","v":0},{"$f":"'[2]Список изделий'!X22","v":0},{"$f":"'[2]Список изделий'!Y22","v":0},{"$f":"'[2]Список изделий'!Z22","v":0},{"$f":"'[2]Список изделий'!AA22","v":0},{"$f":"'[2]Список изделий'!AB22","v":0},{"$f":"'[2]Список изделий'!AC22","v":"x"},{"$f":"'[2]Список изделий'!AD22","v":0},{"$f":"'[2]Список изделий'!AE22","v":0},{"$f":"'[2]Список изделий'!AF22","v":"00:00:00"},{"$f":"'[2]Список изделий'!AY22","v":0},{"$f":"'[2]Список изделий'!AZ22","v":"00:00:00"},-43153,-43153,0,0,{"$f":"'[2]Список изделий'!BR22","v":0},0,0]
[22,{"$f":"'[2]Список изделий'!D23","v":21},{"$f":"'[2]Список изделий'!E23","v":0},{"$f":"'[2]Список изделий'!F23","v":0},{"$f":"'[2]Список изделий'!I23","v":0},{"$f":"'[2]Список изделий'!X23","v":0},{"$f":"'[2]Список изделий'!Y23","v":0},{"$f":"'[2]Список изделий'!Z23","v":0},{"$f":"'[2]Список изделий'!AA23","v":0},{"$f":"'[2]Список изделий'!AB23","v":0},{"$f":"'[2]Список изделий'!AC23","v":"x"},{"$f":"'[2]Список изделий'!AD23","v":0},{"$f":"'[2]Список изделий'!AE23","v":0},{"$f":"'[2]Список изделий'!AF23","v":"00:00:00"},{"$f":"'[2]Список изделий'!AY23","v":0},{"$f":"'[2]Список изделий'!AZ23","v":"00:00:00"},-43153,-43153,0,0,{"$f":"'[2]Список изделий'!BR23","v":0},0,0]
[23,{"$f":"'[2]Список изделий'!D24","v":22},{"$f":"'[2]Список изделий'!E24","v":0},{"$f":"'[2]Список изделий'!F24","v":0},{"$f":"'[2]Список изделий'!I24","v":0},{"$f":"'[2]Список изделий'!X24","v":0},{"$f":"'[2]Список изделий'!Y24","v":0},{"$f":"'[2]Список изделий'!Z24","v":0},{"$f":"'[2]Список изделий'!AA24","v":0},{"$f":"'[2]Список изделий'!AB24","v":0},{"$f":"'[2]Список изделий'!AC24","v":"x"},{"$f":"'[2]Список изделий'!AD24","v":0},{"$f":"'[2]Список изделий'!AE24","v":0},{"$f":"'[2]Список изделий'!AF24","v":"00:00:00"},{"$f":"'[2]Список изделий'!AY24","v":0},{"$f":"'[2]Список изделий'!AZ24","v":"00:00:00"},-43153,-43153,0,0,{"$f":"'[2]Список изделий'!BR24","v":0},0,0]
[24,{"$f":"'[2]Список изделий'!D25","v":23},{"$f":"'[2]Список изделий'!E25","v":0},{"$f":"'[2]Список изделий'!F25","v":0},{"$f":"'[2]Список изделий'!I25","v":0},{"$f":"'[2]Список изделий'!X25","v":0},{"$f":"'[2]Список изделий'!Y25","v":0},{"$f":"'[2]Список изделий'!Z25","v":0},{"$f":"'[2]Список изделий'!AA25","v":0},{"$f":"'[2]Список изделий'!AB25","v":0},{"$f":"'[2]Список изделий'!AC25","v":"x"},{"$f":"'[2]Список изделий'!AD25","v":0},{"$f":"'[2]Список изделий'!AE25","v":0},{"$f":"'[2]Список изделий'!AF25","v":"00:00:00"},{"$f":"'[2]Список изделий'!AY25","v":0},{"$f":"'[2]Список изделий'!AZ25","v":"00:00:00"},-43153,-43153,0,0,{"$f":"'[2]Список изделий'!BR25","v":0},0,"\\\\SERVER\\Data1\\П\\Перекресток\\2018\\ОКЕЙ_Перекресток\\Парашютная 46\\проект\\фризы потолочки.cdr"]
[25,{"$f":"'[2]Список изделий'!D26","v":24},{"$f":"'[2]Список изделий'!E26","v":0},{"$f":"'[2]Список изделий'!F26","v":0},{"$f":"'[2]Список изделий'!I26","v":0},{"$f":"'[2]Список изделий'!X26","v":0},{"$f":"'[2]Список изделий'!Y26","v":0},{"$f":"'[2]Список изделий'!Z26","v":0},{"$f":"'[2]Список изделий'!AA26","v":0},{"$f":"'[2]Список изделий'!AB26","v":0},{"$f":"'[2]Список изделий'!AC26","v":"x"},{"$f":"'[2]Список изделий'!AD26","v":0},{"$f":"'[2]Список изделий'!AE26","v":0},{"$f":"'[2]Список изделий'!AF26","v":"00:00:00"},{"$f":"'[2]Список изделий'!AY26","v":0},{"$f":"'[2]Список изделий'!AZ26","v":"00:00:00"},-43153,-43153,0,0,{"$f":"'[2]Список изделий'!BR26","v":0},0,"\\\\SERVER\\Data1\\П\\Перекресток\\2018\\ОКЕЙ_Перекресток\\Парашютная 46\\проект\\фризы потолочки.cdr"]
[26,{"$f":"'[2]Список изделий'!D27","v":25},{"$f":"'[2]Список изделий'!E27","v":0},{"$f":"'[2]Список изделий'!F27","v":0},{"$f":"'[2]Список изделий'!I27","v":0},{"$f":"'[2]Список изделий'!X27","v":0},{"$f":"'[2]Список изделий'!Y27","v":0},{"$f":"'[2]Список изделий'!Z27","v":0},{"$f":"'[2]Список изделий'!AA27","v":0},{"$f":"'[2]Список изделий'!AB27","v":0},{"$f":"'[2]Список изделий'!AC27","v":"x"},{"$f":"'[2]Список изделий'!AD27","v":0},{"$f":"'[2]Список изделий'!AE27","v":0},{"$f":"'[2]Список изделий'!AF27","v":"00:00:00"},{"$f":"'[2]Список изделий'!AY27","v":0},{"$f":"'[2]Список изделий'!AZ27","v":"00:00:00"},-43153,-43153,0,0,{"$f":"'[2]Список изделий'!BR27","v":0},0,"\\\\SERVER\\Data1\\П\\Перекресток\\2018\\ОКЕЙ_Перекресток\\Парашютная 46\\техничка\\07-Потолочные_вывески-2000х400"]
[27,{"$f":"'[2]Список изделий'!D28","v":26},{"$f":"'[2]Список изделий'!E28","v":0},{"$f":"'[2]Список изделий'!F28","v":0},{"$f":"'[2]Список изделий'!I28","v":0},{"$f":"'[2]Список изделий'!X28","v":0},{"$f":"'[2]Список изделий'!Y28","v":0},{"$f":"'[2]Список изделий'!Z28","v":0},{"$f":"'[2]Список изделий'!AA28","v":0},{"$f":"'[2]Список изделий'!AB28","v":0},{"$f":"'[2]Список изделий'!AC28","v":"x"},{"$f":"'[2]Список изделий'!AD28","v":0},{"$f":"'[2]Список изделий'!AE28","v":0},{"$f":"'[2]Список изделий'!AF28","v":"00:00:00"},{"$f":"'[2]Список изделий'!AY28","v":0},{"$f":"'[2]Список изделий'!AZ28","v":"00:00:00"},-43153,-43153,0,0,{"$f":"'[2]Список изделий'!BR28","v":0},0,"\\\\SERVER\\Data1\\П\\Перекресток\\2018\\ТЕХНИЧЕСКАЯ ДОКУМЕНТАЦИЯ\\27-Быстро_и_вкусно\\Сборка\\БиВ-комплект.jpg"]
[28,{"$f":"'[2]Список изделий'!D29","v":27},{"$f":"'[2]Список изделий'!E29","v":0},{"$f":"'[2]Список изделий'!F29","v":0},{"$f":"'[2]Список изделий'!I29","v":0},{"$f":"'[2]Список изделий'!X29","v":0},{"$f":"'[2]Список изделий'!Y29","v":0},{"$f":"'[2]Список изделий'!Z29","v":0},{"$f":"'[2]Список изделий'!AA29","v":0},{"$f":"'[2]Список изделий'!AB29","v":0},{"$f":"'[2]Список изделий'!AC29","v":"x"},{"$f":"'[2]Список изделий'!AD29","v":0},{"$f":"'[2]Список изделий'!AE29","v":0},{"$f":"'[2]Список изделий'!AF29","v":"00:00:00"},{"$f":"'[2]Список изделий'!AY29","v":0},{"$f":"'[2]Список изделий'!AZ29","v":"00:00:00"},-43153,-43153,0,0,{"$f":"'[2]Список изделий'!BR29","v":0},0,"\\\\SERVER\\Data1\\П\\Перекресток\\2018\\ОКЕЙ_Перекресток\\Парашютная 46\\техничка\\52-оформление_доп_оборудования"]
[29,{"$f":"'[2]Список изделий'!D30","v":28},{"$f":"'[2]Список изделий'!E30","v":0},{"$f":"'[2]Список изделий'!F30","v":0},{"$f":"'[2]Список изделий'!I30","v":0},{"$f":"'[2]Список изделий'!X30","v":0},{"$f":"'[2]Список изделий'!Y30","v":0},{"$f":"'[2]Список изделий'!Z30","v":0},{"$f":"'[2]Список изделий'!AA30","v":0},{"$f":"'[2]Список изделий'!AB30","v":0},{"$f":"'[2]Список изделий'!AC30","v":"x"},{"$f":"'[2]Список изделий'!AD30","v":0},{"$f":"'[2]Список изделий'!AE30","v":0},{"$f":"'[2]Список изделий'!AF30","v":"00:00:00"},{"$f":"'[2]Список изделий'!AY30","v":0},{"$f":"'[2]Список изделий'!AZ30","v":"00:00:00"},-43153,-43153,0,0,{"$f":"'[2]Список изделий'!BR30","v":0},0,"\\\\SERVER\\Data1\\П\\Перекресток\\2018\\ТЕХНИЧЕСКАЯ ДОКУМЕНТАЦИЯ\\58-СУПЕРЦЕНА-одинарная_подвесная\\Сборка\\суперцена_плоская-сборка.cdr"]
[30,{"$f":"'[2]Список изделий'!D31","v":29},{"$f":"'[2]Список изделий'!E31","v":0},{"$f":"'[2]Список изделий'!F31","v":0},{"$f":"'[2]Список изделий'!I31","v":0},{"$f":"'[2]Список изделий'!X31","v":0},{"$f":"'[2]Список изделий'!Y31","v":0},{"$f":"'[2]Список изделий'!Z31","v":0},{"$f":"'[2]Список изделий'!AA31","v":0},{"$f":"'[2]Список изделий'!AB31","v":0},{"$f":"'[2]Список изделий'!AC31","v":"x"},{"$f":"'[2]Список изделий'!AD31","v":0},{"$f":"'[2]Список изделий'!AE31","v":0},{"$f":"'[2]Список изделий'!AF31","v":"00:00:00"},{"$f":"'[2]Список изделий'!AY31","v":0},{"$f":"'[2]Список изделий'!AZ31","v":"00:00:00"},-43153,-43153,0,0,{"$f":"'[2]Список изделий'!BR31","v":0},0,"\\\\SERVER\\Data1\\П\\Перекресток\\2018\\ОКЕЙ_Перекресток\\Парашютная 46\\техничка\\03-Световые_вывески_отделов\\Сборка\\буквы отделов 350\\световые вывески высота 350 бок 3 мм.cdr"]
[31,{"$f":"'[2]Список изделий'!D32","v":30},{"$f":"'[2]Список изделий'!E32","v":0},{"$f":"'[2]Список изделий'!F32","v":0},{"$f":"'[2]Список изделий'!I32","v":0},{"$f":"'[2]Список изделий'!X32","v":0},{"$f":"'[2]Список изделий'!Y32","v":0},{"$f":"'[2]Список изделий'!Z32","v":0},{"$f":"'[2]Список изделий'!AA32","v":0},{"$f":"'[2]Список изделий'!AB32","v":0},{"$f":"'[2]Список изделий'!AC32","v":"x"},{"$f":"'[2]Список изделий'!AD32","v":0},{"$f":"'[2]Список изделий'!AE32","v":0},{"$f":"'[2]Список изделий'!AF32","v":"00:00:00"},{"$f":"'[2]Список изделий'!AY32","v":0},{"$f":"'[2]Список изделий'!AZ32","v":"00:00:00"},-43153,-43153,0,0,{"$f":"'[2]Список изделий'!BR32","v":0},0,"\\\\SERVER\\Data1\\П\\Перекресток\\2018\\ТЕХНИЧЕСКАЯ ДОКУМЕНТАЦИЯ\\10-Карман_под_бумагу_А1\\Сборка\\Карман_А1-сборка.cdr"]
[32,{"$f":"'[2]Список изделий'!D33","v":31},{"$f":"'[2]Список изделий'!E33","v":0},{"$f":"'[2]Список изделий'!F33","v":0},{"$f":"'[2]Список изделий'!I33","v":0},{"$f":"'[2]Список изделий'!X33","v":0},{"$f":"'[2]Список изделий'!Y33","v":0},{"$f":"'[2]Список изделий'!Z33","v":0},{"$f":"'[2]Список изделий'!AA33","v":0},{"$f":"'[2]Список изделий'!AB33","v":0},{"$f":"'[2]Список изделий'!AC33","v":"x"},{"$f":"'[2]Список изделий'!AD33","v":0},{"$f":"'[2]Список изделий'!AE33","v":0},{"$f":"'[2]Список изделий'!AF33","v":"00:00:00"},{"$f":"'[2]Список изделий'!AY33","v":0},{"$f":"'[2]Список изделий'!AZ33","v":"00:00:00"},-43153,-43153,0,0,{"$f":"'[2]Список изделий'!BR33","v":0},0,"\\\\SERVER\\Data1\\П\\Перекресток\\2018\\ТЕХНИЧЕСКАЯ ДОКУМЕНТАЦИЯ\\11-Карман_круглый_двухсторонний_(ПромоКруг)\\Сборка\\Круг_Промо-сборка.cdr"]
[33,{"$f":"'[2]Список изделий'!D34","v":32},{"$f":"'[2]Список изделий'!E34","v":0},{"$f":"'[2]Список изделий'!F34","v":0},{"$f":"'[2]Список изделий'!I34","v":0},{"$f":"'[2]Список изделий'!X34","v":0},{"$f":"'[2]Список изделий'!Y34","v":0},{"$f":"'[2]Список изделий'!Z34","v":0},{"$f":"'[2]Список изделий'!AA34","v":0},{"$f":"'[2]Список изделий'!AB34","v":0},{"$f":"'[2]Список изделий'!AC34","v":"x"},{"$f":"'[2]Список изделий'!AD34","v":0},{"$f":"'[2]Список изделий'!AE34","v":0},{"$f":"'[2]Список изделий'!AF34","v":"00:00:00"},{"$f":"'[2]Список изделий'!AY34","v":0},{"$f":"'[2]Список изделий'!AZ34","v":"00:00:00"},-43153,-43153,0,0,{"$f":"'[2]Список изделий'!BR34","v":0},0,0]
[34,{"$f":"'[2]Список изделий'!D35","v":33},{"$f":"'[2]Список изделий'!E35","v":0},{"$f":"'[2]Список изделий'!F35","v":0},{"$f":"'[2]Список изделий'!I35","v":0},{"$f":"'[2]Список изделий'!X35","v":0},{"$f":"'[2]Список изделий'!Y35","v":0},{"$f":"'[2]Список изделий'!Z35","v":0},{"$f":"'[2]Список изделий'!AA35","v":0},{"$f":"'[2]Список изделий'!AB35","v":0},{"$f":"'[2]Список изделий'!AC35","v":"x"},{"$f":"'[2]Список изделий'!AD35","v":0},{"$f":"'[2]Список изделий'!AE35","v":0},{"$f":"'[2]Список изделий'!AF35","v":"00:00:00"},{"$f":"'[2]Список изделий'!AY35","v":0},{"$f":"'[2]Список изделий'!AZ35","v":"00:00:00"},-43153,-43153,0,0,{"$f":"'[2]Список изделий'!BR35","v":0},0,"\\\\SERVER\\Data1\\П\\Перекресток\\2018\\ТЕХНИЧЕСКАЯ ДОКУМЕНТАЦИЯ\\17-Стикер-задник_ПД_ФРОВ\\Сборка\\стикеры_зад_ПД-ФРОВ-сборка.cdr"]
[35,{"$f":"'[2]Список изделий'!D36","v":34},{"$f":"'[2]Список изделий'!E36","v":0},{"$f":"'[2]Список изделий'!F36","v":0},{"$f":"'[2]Список изделий'!I36","v":0},{"$f":"'[2]Список изделий'!X36","v":0},{"$f":"'[2]Список изделий'!Y36","v":0},{"$f":"'[2]Список изделий'!Z36","v":0},{"$f":"'[2]Список изделий'!AA36","v":0},{"$f":"'[2]Список изделий'!AB36","v":0},{"$f":"'[2]Список изделий'!AC36","v":"x"},{"$f":"'[2]Список изделий'!AD36","v":0},{"$f":"'[2]Список изделий'!AE36","v":0},{"$f":"'[2]Список изделий'!AF36","v":"00:00:00"},{"$f":"'[2]Список изделий'!AY36","v":0},{"$f":"'[2]Список изделий'!AZ36","v":"00:00:00"},-43153,-43153,0,0,{"$f":"'[2]Список изделий'!BR36","v":0},0,0]
[36,{"$f":"'[2]Список изделий'!D37","v":35},{"$f":"'[2]Список изделий'!E37","v":0},{"$f":"'[2]Список изделий'!F37","v":0},{"$f":"'[2]Список изделий'!I37","v":0},{"$f":"'[2]Список изделий'!X37","v":0},{"$f":"'[2]Список изделий'!Y37","v":0},{"$f":"'[2]Список изделий'!Z37","v":0},{"$f":"'[2]Список изделий'!AA37","v":0},{"$f":"'[2]Список изделий'!AB37","v":0},{"$f":"'[2]Список изделий'!AC37","v":"x"},{"$f":"'[2]Список изделий'!AD37","v":0},{"$f":"'[2]Список изделий'!AE37","v":0},{"$f":"'[2]Список изделий'!AF37","v":"00:00:00"},{"$f":"'[2]Список изделий'!AY37","v":0},{"$f":"'[2]Список изделий'!AZ37","v":"00:00:00"},-43153,-43153,0,0,{"$f":"'[2]Список изделий'!BR37","v":0},0,0]
[37,{"$f":"'[2]Список изделий'!D38","v":36},{"$f":"'[2]Список изделий'!E38","v":0},{"$f":"'[2]Список изделий'!F38","v":0},{"$f":"'[2]Список изделий'!I38","v":0},{"$f":"'[2]Список изделий'!X38","v":0},{"$f":"'[2]Список изделий'!Y38","v":0},{"$f":"'[2]Список изделий'!Z38","v":0},{"$f":"'[2]Список изделий'!AA38","v":0},{"$f":"'[2]Список изделий'!AB38","v":0},{"$f":"'[2]Список изделий'!AC38","v":"x"},{"$f":"'[2]Список изделий'!AD38","v":0},{"$f":"'[2]Список изделий'!AE38","v":0},{"$f":"'[2]Список изделий'!AF38","v":"00:00:00"},{"$f":"'[2]Список изделий'!AY38","v":0},{"$f":"'[2]Список изделий'!AZ38","v":"00:00:00"},-43153,-43153,0,0,{"$f":"'[2]Список изделий'!BR38","v":0},0,0]
[38,{"$f":"'[2]Список изделий'!D39","v":37},{"$f":"'[2]Список изделий'!E39","v":0},{"$f":"'[2]Список изделий'!F39","v":0},{"$f":"'[2]Список изделий'!I39","v":0},{"$f":"'[2]Список изделий'!X39","v":0},{"$f":"'[2]Список изделий'!Y39","v":0},{"$f":"'[2]Список изделий'!Z39","v":0},{"$f":"'[2]Список изделий'!AA39","v":0},{"$f":"'[2]Список изделий'!AB39","v":0},{"$f":"'[2]Список изделий'!AC39","v":"x"},{"$f":"'[2]Список изделий'!AD39","v":0},{"$f":"'[2]Список изделий'!AE39","v":0},{"$f":"'[2]Список изделий'!AF39","v":"00:00:00"},{"$f":"'[2]Список изделий'!AY39","v":0},{"$f":"'[2]Список изделий'!AZ39","v":"00:00:00"},-43153,-43153,0,0,{"$f":"'[2]Список изделий'!BR39","v":0},0,0]
[39,{"$f":"'[2]Список изделий'!D40","v":38},{"$f":"'[2]Список изделий'!E40","v":0},{"$f":"'[2]Список изделий'!F40","v":0},{"$f":"'[2]Список изделий'!I40","v":0},{"$f":"'[2]Список изделий'!X40","v":0},{"$f":"'[2]Список изделий'!Y40","v":0},{"$f":"'[2]Список изделий'!Z40","v":0},{"$f":"'[2]Список изделий'!AA40","v":0},{"$f":"'[2]Список изделий'!AB40","v":0},{"$f":"'[2]Список изделий'!AC40","v":"x"},{"$f":"'[2]Список изделий'!AD40","v":0},{"$f":"'[2]Список изделий'!AE40","v":0},{"$f":"'[2]Список изделий'!AF40","v":"00:00:00"},{"$f":"'[2]Список изделий'!AY40","v":0},{"$f":"'[2]Список изделий'!AZ40","v":"00:00:00"},-43153,-43153,0,0,{"$f":"'[2]Список изделий'!BR40","v":0},0,0]
[40,{"$f":"'[2]Список изделий'!D41","v":39},{"$f":"'[2]Список изделий'!E41","v":0},{"$f":"'[2]Список изделий'!F41","v":0},{"$f":"'[2]Список изделий'!I41","v":0},{"$f":"'[2]Список изделий'!X41","v":0},{"$f":"'[2]Список изделий'!Y41","v":0},{"$f":"'[2]Список изделий'!Z41","v":0},{"$f":"'[2]Список изделий'!AA41","v":0},{"$f":"'[2]Список изделий'!AB41","v":0},{"$f":"'[2]Список изделий'!AC41","v":"x"},{"$f":"'[2]Список изделий'!AD41","v":0},{"$f":"'[2]Список изделий'!AE41","v":0},{"$f":"'[2]Список изделий'!AF41","v":"00:00:00"},{"$f":"'[2]Список изделий'!AY41","v":0},{"$f":"'[2]Список изделий'!AZ41","v":"00:00:00"},-43153,-43153,0,0,{"$f":"'[2]Список изделий'!BR41","v":0},0,0]
[41,{"$f":"'[2]Список изделий'!D42","v":40},{"$f":"'[2]Список изделий'!E42","v":0},{"$f":"'[2]Список изделий'!F42","v":0},{"$f":"'[2]Список изделий'!I42","v":0},{"$f":"'[2]Список изделий'!X42","v":0},{"$f":"'[2]Список изделий'!Y42","v":0},{"$f":"'[2]Список изделий'!Z42","v":0},{"$f":"'[2]Список изделий'!AA42","v":0},{"$f":"'[2]Список изделий'!AB42","v":0},{"$f":"'[2]Список изделий'!AC42","v":"x"},{"$f":"'[2]Список изделий'!AD42","v":0},{"$f":"'[2]Список изделий'!AE42","v":0},{"$f":"'[2]Список изделий'!AF42","v":"00:00:00"},{"$f":"'[2]Список изделий'!AY42","v":0},{"$f":"'[2]Список изделий'!AZ42","v":"00:00:00"},-43153,-43153,0,0,{"$f":"'[2]Список изделий'!BR42","v":0},0,0]
[42,{"$f":"'[2]Список изделий'!D43","v":41},{"$f":"'[2]Список изделий'!E43","v":0},{"$f":"'[2]Список изделий'!F43","v":0},{"$f":"'[2]Список изделий'!I43","v":0},{"$f":"'[2]Список изделий'!X43","v":0},{"$f":"'[2]Список изделий'!Y43","v":0},{"$f":"'[2]Список изделий'!Z43","v":0},{"$f":"'[2]Список изделий'!AA43","v":0},{"$f":"'[2]Список изделий'!AB43","v":0},{"$f":"'[2]Список изделий'!AC43","v":"x"},{"$f":"'[2]Список изделий'!AD43","v":0},{"$f":"'[2]Список изделий'!AE43","v":0},{"$f":"'[2]Список изделий'!AF43","v":"00:00:00"},{"$f":"'[2]Список изделий'!AY43","v":0},{"$f":"'[2]Список изделий'!AZ43","v":"00:00:00"},-43153,-43153,0,0,{"$f":"'[2]Список изделий'!BR43","v":0},0,"\\\\SERVER\\Data1\\П\\Перекресток\\2018\\ОКЕЙ_Перекресток\\Парашютная 46\\техничка\\44-Алкогольные_разделители-200х38"]
[43,{"$f":"'[2]Список изделий'!D44","v":42},{"$f":"'[2]Список изделий'!E44","v":0},{"$f":"'[2]Список изделий'!F44","v":0},{"$f":"'[2]Список изделий'!I44","v":0},{"$f":"'[2]Список изделий'!X44","v":0},{"$f":"'[2]Список изделий'!Y44","v":0},{"$f":"'[2]Список изделий'!Z44","v":0},{"$f":"'[2]Список изделий'!AA44","v":0},{"$f":"'[2]Список изделий'!AB44","v":0},{"$f":"'[2]Список изделий'!AC44","v":"x"},{"$f":"'[2]Список изделий'!AD44","v":0},{"$f":"'[2]Список изделий'!AE44","v":0},{"$f":"'[2]Список изделий'!AF44","v":"00:00:00"},{"$f":"'[2]Список изделий'!AY44","v":0},{"$f":"'[2]Список изделий'!AZ44","v":"00:00:00"},-43153,-43153,0,0,{"$f":"'[2]Список изделий'!BR44","v":0},0,0]
[44,{"$f":"'[2]Список изделий'!D45","v":43},{"$f":"'[2]Список изделий'!E45","v":0},{"$f":"'[2]Список изделий'!F45","v":0},{"$f":"'[2]Список изделий'!I45","v":0},{"$f":"'[2]Список изделий'!X45","v":0},{"$f":"'[2]Список изделий'!Y45","v":0},{"$f":"'[2]Список изделий'!Z45","v":0},{"$f":"'[2]Список изделий'!AA45","v":0},{"$f":"'[2]Список изделий'!AB45","v":0},{"$f":"'[2]Список изделий'!AC45","v":"x"},{"$f":"'[2]Список изделий'!AD45","v":0},{"$f":"'[2]Список изделий'!AE45","v":0},{"$f":"'[2]Список изделий'!AF45","v":"00:00:00"},{"$f":"'[2]Список изделий'!AY45","v":0},{"$f":"'[2]Список изделий'!AZ45","v":"00:00:00"},-43153,-43153,0,0,{"$f":"'[2]Список изделий'!BR45","v":0},0,0]
[45,{"$f":"'[2]Список изделий'!D46","v":44},{"$f":"'[2]Список изделий'!E46","v":0},{"$f":"'[2]Список изделий'!F46","v":0},{"$f":"'[2]Список изделий'!I46","v":0},{"$f":"'[2]Список изделий'!X46","v":0},{"$f":"'[2]Список изделий'!Y46","v":0},{"$f":"'[2]Список изделий'!Z46","v":0},{"$f":"'[2]Список изделий'!AA46","v":0},{"$f":"'[2]Список изделий'!AB46","v":0},{"$f":"'[2]Список изделий'!AC46","v":"x"},{"$f":"'[2]Список изделий'!AD46","v":0},{"$f":"'[2]Список изделий'!AE46","v":0},{"$f":"'[2]Список изделий'!AF46","v":"00:00:00"},{"$f":"'[2]Список изделий'!AY46","v":0},{"$f":"'[2]Список изделий'!AZ46","v":"00:00:00"},-43153,-43153,0,0,{"$f":"'[2]Список изделий'!BR46","v":0},0,0]
[46,{"$f":"'[2]Список изделий'!D47","v":45},{"$f":"'[2]Список изделий'!E47","v":0},{"$f":"'[2]Список изделий'!F47","v":0},{"$f":"'[2]Список изделий'!I47","v":0},{"$f":"'[2]Список изделий'!X47","v":0},{"$f":"'[2]Список изделий'!Y47","v":0},{"$f":"'[2]Список изделий'!Z47","v":0},{"$f":"'[2]Список изделий'!AA47","v":0},{"$f":"'[2]Список изделий'!AB47","v":0},{"$f":"'[2]Список изделий'!AC47","v":"x"},{"$f":"'[2]Список изделий'!AD47","v":0},{"$f":"'[2]Список изделий'!AE47","v":0},{"$f":"'[2]Список изделий'!AF47","v":"00:00:00"},{"$f":"'[2]Список изделий'!AY47","v":0},{"$f":"'[2]Список изделий'!AZ47","v":"00:00:00"},-43153,-43153,0,0,{"$f":"'[2]Список изделий'!BR47","v":0},0,0]
[47,{"$f":"'[2]Список изделий'!D48","v":46},{"$f":"'[2]Список изделий'!E48","v":0},{"$f":"'[2]Список изделий'!F48","v":0},{"$f":"'[2]Список изделий'!I48","v":0},{"$f":"'[2]Список изделий'!X48","v":0},{"$f":"'[2]Список изделий'!Y48","v":0},{"$f":"'[2]Список изделий'!Z48","v":0},{"$f":"'[2]Список изделий'!AA48","v":0},{"$f":"'[2]Список изделий'!AB48","v":0},{"$f":"'[2]Список изделий'!AC48","v":"x"},{"$f":"'[2]Список изделий'!AD48","v":0},{"$f":"'[2]Список изделий'!AE48","v":0},{"$f":"'[2]Список изделий'!AF48","v":"00:00:00"},{"$f":"'[2]Список изделий'!AY48","v":0},{"$f":"'[2]Список изделий'!AZ48","v":"00:00:00"},-43153,-43153,0,0,{"$f":"'[2]Список изделий'!BR48","v":0},0,0]
[48,{"$f":"'[2]Список изделий'!D49","v":47},{"$f":"'[2]Список изделий'!E49","v":0},{"$f":"'[2]Список изделий'!F49","v":0},{"$f":"'[2]Список изделий'!I49","v":0},{"$f":"'[2]Список изделий'!X49","v":0},{"$f":"'[2]Список изделий'!Y49","v":0},{"$f":"'[2]Список изделий'!Z49","v":0},{"$f":"'[2]Список изделий'!AA49","v":0},{"$f":"'[2]Список изделий'!AB49","v":0},{"$f":"'[2]Список изделий'!AC49","v":"x"},{"$f":"'[2]Список изделий'!AD49","v":0},{"$f":"'[2]Список изделий'!AE49","v":0},{"$f":"'[2]Список изделий'!AF49","v":"00:00:00"},{"$f":"'[2]Список изделий'!AY49","v":0},{"$f":"'[2]Список изделий'!AZ49","v":"00:00:00"},-43153,-43153,0,0,{"$f":"'[2]Список изделий'!BR49","v":0},0,0]
[49,{"$f":"'[2]Список изделий'!D50","v":48},{"$f":"'[2]Список изделий'!E50","v":0},{"$f":"'[2]Список изделий'!F50","v":0},{"$f":"'[2]Список изделий'!I50","v":0},{"$f":"'[2]Список изделий'!X50","v":0},{"$f":"'[2]Список изделий'!Y50","v":0},{"$f":"'[2]Список изделий'!Z50","v":0},{"$f":"'[2]Список изделий'!AA50","v":0},{"$f":"'[2]Список изделий'!AB50","v":0},{"$f":"'[2]Список изделий'!AC50","v":"x"},{"$f":"'[2]Список изделий'!AD50","v":0},{"$f":"'[2]Список изделий'!AE50","v":0},{"$f":"'[2]Список изделий'!AF50","v":"00:00:00"},{"$f":"'[2]Список изделий'!AY50","v":0},{"$f":"'[2]Список изделий'!AZ50","v":"00:00:00"},-43153,-43153,0,0,{"$f":"'[2]Список изделий'!BR50","v":0},0,"\\\\SERVER\\Data1\\П\\Перекресток\\2018\\ТЕХНИЧЕСКАЯ ДОКУМЕНТАЦИЯ\\57-СУПЕРЦЕНА-треугольная(Призма)\\Сборка\\Суперцена-треугольная-сборка.cdr"]
[50,{"$f":"'[2]Список изделий'!D51","v":49},{"$f":"'[2]Список изделий'!E51","v":0},{"$f":"'[2]Список изделий'!F51","v":0},{"$f":"'[2]Список изделий'!I51","v":0},{"$f":"'[2]Список изделий'!X51","v":0},{"$f":"'[2]Список изделий'!Y51","v":0},{"$f":"'[2]Список изделий'!Z51","v":0},{"$f":"'[2]Список изделий'!AA51","v":0},{"$f":"'[2]Список изделий'!AB51","v":0},{"$f":"'[2]Список изделий'!AC51","v":"x"},{"$f":"'[2]Список изделий'!AD51","v":0},{"$f":"'[2]Список изделий'!AE51","v":0},{"$f":"'[2]Список изделий'!AF51","v":"00:00:00"},{"$f":"'[2]Список изделий'!AY51","v":0},{"$f":"'[2]Список изделий'!AZ51","v":"00:00:00"},-43153,-43153,0,0,{"$f":"'[2]Список изделий'!BR51","v":0},0,0]
[51,{"$f":"'[2]Список изделий'!D52","v":50},{"$f":"'[2]Список изделий'!E52","v":0},{"$f":"'[2]Список изделий'!F52","v":0},{"$f":"'[2]Список изделий'!I52","v":0},{"$f":"'[2]Список изделий'!X52","v":0},{"$f":"'[2]Список изделий'!Y52","v":0},{"$f":"'[2]Список изделий'!Z52","v":0},{"$f":"'[2]Список изделий'!AA52","v":0},{"$f":"'[2]Список изделий'!AB52","v":0},{"$f":"'[2]Список изделий'!AC52","v":"x"},{"$f":"'[2]Список изделий'!AD52","v":0},{"$f":"'[2]Список изделий'!AE52","v":0},{"$f":"'[2]Список изделий'!AF52","v":"00:00:00"},{"$f":"'[2]Список изделий'!AY52","v":0},{"$f":"'[2]Список изделий'!AZ52","v":"00:00:00"},-43153,-43153,0,0,{"$f":"'[2]Список изделий'!BR52","v":0},0,0]
[52,{"$f":"'[2]Список изделий'!D53","v":51},{"$f":"'[2]Список изделий'!E53","v":0},{"$f":"'[2]Список изделий'!F53","v":0},{"$f":"'[2]Список изделий'!I53","v":0},{"$f":"'[2]Список изделий'!X53","v":0},{"$f":"'[2]Список изделий'!Y53","v":0},{"$f":"'[2]Список изделий'!Z53","v":0},{"$f":"'[2]Список изделий'!AA53","v":0},{"$f":"'[2]Список изделий'!AB53","v":0},{"$f":"'[2]Список изделий'!AC53","v":"x"},{"$f":"'[2]Список изделий'!AD53","v":0},{"$f":"'[2]Список изделий'!AE53","v":0},{"$f":"'[2]Список изделий'!AF53","v":"00:00:00"},{"$f":"'[2]Список изделий'!AY53","v":0},{"$f":"'[2]Список изделий'!AZ53","v":"00:00:00"},-43153,-43153,0,0,{"$f":"'[2]Список изделий'!BR53","v":0},0,0]
[53,{"$f":"'[2]Список изделий'!D54","v":52},{"$f":"'[2]Список изделий'!E54","v":0},{"$f":"'[2]Список изделий'!F54","v":0},{"$f":"'[2]Список изделий'!I54","v":0},{"$f":"'[2]Список изделий'!X54","v":0},{"$f":"'[2]Список изделий'!Y54","v":0},{"$f":"'[2]Список изделий'!Z54","v":0},{"$f":"'[2]Список изделий'!AA54","v":0},{"$f":"'[2]Список изделий'!AB54","v":0},{"$f":"'[2]Список изделий'!AC54","v":"x"},{"$f":"'[2]Список изделий'!AD54","v":0},{"$f":"'[2]Список изделий'!AE54","v":0},{"$f":"'[2]Список изделий'!AF54","v":"00:00:00"},{"$f":"'[2]Список изделий'!AY54","v":0},{"$f":"'[2]Список изделий'!AZ54","v":"00:00:00"},-43153,-43153,0,0,{"$f":"'[2]Список изделий'!BR54","v":0},0,0]
[54,{"$f":"'[2]Список изделий'!D55","v":53},{"$f":"'[2]Список изделий'!E55","v":0},{"$f":"'[2]Список изделий'!F55","v":0},{"$f":"'[2]Список изделий'!I55","v":0},{"$f":"'[2]Список изделий'!X55","v":0},{"$f":"'[2]Список изделий'!Y55","v":0},{"$f":"'[2]Список изделий'!Z55","v":0},{"$f":"'[2]Список изделий'!AA55","v":0},{"$f":"'[2]Список изделий'!AB55","v":0},{"$f":"'[2]Список изделий'!AC55","v":"x"},{"$f":"'[2]Список изделий'!AD55","v":0},{"$f":"'[2]Список изделий'!AE55","v":0},{"$f":"'[2]Список изделий'!AF55","v":"00:00:00"},{"$f":"'[2]Список изделий'!AY55","v":0},{"$f":"'[2]Список изделий'!AZ55","v":"00:00:00"},-43153,-43153,0,0,{"$f":"'[2]Список изделий'!BR55","v":0},0,0]
[55,{"$f":"'[2]Список изделий'!D56","v":54},{"$f":"'[2]Список изделий'!E56","v":0},{"$f":"'[2]Список изделий'!F56","v":0},{"$f":"'[2]Список изделий'!I56","v":0},{"$f":"'[2]Список изделий'!X56","v":0},{"$f":"'[2]Список изделий'!Y56","v":0},{"$f":"'[2]Список изделий'!Z56","v":0},{"$f":"'[2]Список изделий'!AA56","v":0},{"$f":"'[2]Список изделий'!AB56","v":0},{"$f":"'[2]Список изделий'!AC56","v":"x"},{"$f":"'[2]Список изделий'!AD56","v":0},{"$f":"'[2]Список изделий'!AE56","v":0},{"$f":"'[2]Список изделий'!AF56","v":"00:00:00"},{"$f":"'[2]Список изделий'!AY56","v":0},{"$f":"'[2]Список изделий'!AZ56","v":"00:00:00"},-43153,-43153,0,0,{"$f":"'[2]Список изделий'!BR56","v":0},0,0]
[56,{"$f":"'[2]Список изделий'!D57","v":55},{"$f":"'[2]Список изделий'!E57","v":0},{"$f":"'[2]Список изделий'!F57","v":0},{"$f":"'[2]Список изделий'!I57","v":0},{"$f":"'[2]Список изделий'!X57","v":0},{"$f":"'[2]Список изделий'!Y57","v":0},{"$f":"'[2]Список изделий'!Z57","v":0},{"$f":"'[2]Список изделий'!AA57","v":0},{"$f":"'[2]Список изделий'!AB57","v":0},{"$f":"'[2]Список изделий'!AC57","v":"x"},{"$f":"'[2]Список изделий'!AD57","v":0},{"$f":"'[2]Список изделий'!AE57","v":0},{"$f":"'[2]Список изделий'!AF57","v":"00:00:00"},{"$f":"'[2]Список изделий'!AY57","v":0},{"$f":"'[2]Список изделий'!AZ57","v":"00:00:00"},-43153,-43153,0,0,{"$f":"'[2]Список изделий'!BR57","v":0},0,0]
[57,{"$f":"'[2]Список изделий'!D58","v":56},{"$f":"'[2]Список изделий'!E58","v":0},{"$f":"'[2]Список изделий'!F58","v":0},{"$f":"'[2]Список изделий'!I58","v":0},{"$f":"'[2]Список изделий'!X58","v":0},{"$f":"'[2]Список изделий'!Y58","v":0},{"$f":"'[2]Список изделий'!Z58","v":0},{"$f":"'[2]Список изделий'!AA58","v":0},{"$f":"'[2]Список изделий'!AB58","v":0},{"$f":"'[2]Список изделий'!AC58","v":"x"},{"$f":"'[2]Список изделий'!AD58","v":0},{"$f":"'[2]Список изделий'!AE58","v":0},{"$f":"'[2]Список изделий'!AF58","v":"00:00:00"},{"$f":"'[2]Список изделий'!AY58","v":0},{"$f":"'[2]Список изделий'!AZ58","v":"00:00:00"},-43153,-43153,0,0,{"$f":"'[2]Список изделий'!BR58","v":0},0,"\\\\SERVER\\Data1\\П\\Перекресток\\2018\\МОСКВА_18\\Перерва ул. 43 к1\\техничка\\01-Фризы настенные"]
[58,{"$f":"'[2]Список изделий'!D59","v":57},{"$f":"'[2]Список изделий'!E59","v":0},{"$f":"'[2]Список изделий'!F59","v":0},{"$f":"'[2]Список изделий'!I59","v":0},{"$f":"'[2]Список изделий'!X59","v":0},{"$f":"'[2]Список изделий'!Y59","v":0},{"$f":"'[2]Список изделий'!Z59","v":0},{"$f":"'[2]Список изделий'!AA59","v":0},{"$f":"'[2]Список изделий'!AB59","v":0},{"$f":"'[2]Список изделий'!AC59","v":"x"},{"$f":"'[2]Список изделий'!AD59","v":0},{"$f":"'[2]Список изделий'!AE59","v":0},{"$f":"'[2]Список изделий'!AF59","v":"00:00:00"},{"$f":"'[2]Список изделий'!AY59","v":0},{"$f":"'[2]Список изделий'!AZ59","v":"00:00:00"},-43153,-43153,0,0,{"$f":"'[2]Список изделий'!BR59","v":0},0,"\\\\SERVER\\Data1\\П\\Перекресток\\2018\\МОСКВА_18\\Перерва ул. 43 к1\\техничка\\04-Пиктограммы"]
[59,{"$f":"'[2]Список изделий'!D60","v":58},{"$f":"'[2]Список изделий'!E60","v":0},{"$f":"'[2]Список изделий'!F60","v":0},{"$f":"'[2]Список изделий'!I60","v":0},{"$f":"'[2]Список изделий'!X60","v":0},{"$f":"'[2]Список изделий'!Y60","v":0},{"$f":"'[2]Список изделий'!Z60","v":0},{"$f":"'[2]Список изделий'!AA60","v":0},{"$f":"'[2]Список изделий'!AB60","v":0},{"$f":"'[2]Список изделий'!AC60","v":"x"},{"$f":"'[2]Список изделий'!AD60","v":0},{"$f":"'[2]Список изделий'!AE60","v":0},{"$f":"'[2]Список изделий'!AF60","v":"00:00:00"},{"$f":"'[2]Список изделий'!AY60","v":0},{"$f":"'[2]Список изделий'!AZ60","v":"00:00:00"},-43153,-43153,0,0,{"$f":"'[2]Список изделий'!BR60","v":0},0,"\\\\SERVER\\Data1\\П\\Перекресток\\2018\\МОСКВА_18\\Перерва ул. 43 к1\\техничка\\05-Грифельные_доски"]
[60,{"$f":"'[2]Список изделий'!D61","v":59},{"$f":"'[2]Список изделий'!E61","v":0},{"$f":"'[2]Список изделий'!F61","v":0},{"$f":"'[2]Список изделий'!I61","v":0},{"$f":"'[2]Список изделий'!X61","v":0},{"$f":"'[2]Список изделий'!Y61","v":0},{"$f":"'[2]Список изделий'!Z61","v":0},{"$f":"'[2]Список изделий'!AA61","v":0},{"$f":"'[2]Список изделий'!AB61","v":0},{"$f":"'[2]Список изделий'!AC61","v":"x"},{"$f":"'[2]Список изделий'!AD61","v":0},{"$f":"'[2]Список изделий'!AE61","v":0},{"$f":"'[2]Список изделий'!AF61","v":"00:00:00"},{"$f":"'[2]Список изделий'!AY61","v":0},{"$f":"'[2]Список изделий'!AZ61","v":"00:00:00"},-43153,-43153,0,0,{"$f":"'[2]Список изделий'!BR61","v":0},0,"\\\\SERVER\\Data1\\П\\Перекресток\\2018\\МОСКВА_18\\Перерва ул. 43 к1\\техничка\\09-Имиджи"]
[61,{"$f":"'[2]Список изделий'!D62","v":60},{"$f":"'[2]Список изделий'!E62","v":0},{"$f":"'[2]Список изделий'!F62","v":0},{"$f":"'[2]Список изделий'!I62","v":0},{"$f":"'[2]Список изделий'!X62","v":0},{"$f":"'[2]Список изделий'!Y62","v":0},{"$f":"'[2]Список изделий'!Z62","v":0},{"$f":"'[2]Список изделий'!AA62","v":0},{"$f":"'[2]Список изделий'!AB62","v":0},{"$f":"'[2]Список изделий'!AC62","v":"x"},{"$f":"'[2]Список изделий'!AD62","v":0},{"$f":"'[2]Список изделий'!AE62","v":0},{"$f":"'[2]Список изделий'!AF62","v":"00:00:00"},{"$f":"'[2]Список изделий'!AY62","v":0},{"$f":"'[2]Список изделий'!AZ62","v":"00:00:00"},-43153,-43153,0,0,{"$f":"'[2]Список изделий'!BR62","v":0},0,"\\\\SERVER\\Data1\\П\\Перекресток\\2018\\МОСКВА_18\\Перерва ул. 43 к1\\техничка\\13-Оклейка_дверей"]
[62,{"$f":"'[2]Список изделий'!D63","v":61},{"$f":"'[2]Список изделий'!E63","v":0},{"$f":"'[2]Список изделий'!F63","v":0},{"$f":"'[2]Список изделий'!I63","v":0},{"$f":"'[2]Список изделий'!X63","v":0},{"$f":"'[2]Список изделий'!Y63","v":0},{"$f":"'[2]Список изделий'!Z63","v":0},{"$f":"'[2]Список изделий'!AA63","v":0},{"$f":"'[2]Список изделий'!AB63","v":0},{"$f":"'[2]Список изделий'!AC63","v":"x"},{"$f":"'[2]Список изделий'!AD63","v":0},{"$f":"'[2]Список изделий'!AE63","v":0},{"$f":"'[2]Список изделий'!AF63","v":"00:00:00"},{"$f":"'[2]Список изделий'!AY63","v":0},{"$f":"'[2]Список изделий'!AZ63","v":"00:00:00"},-43153,-43153,0,0,{"$f":"'[2]Список изделий'!BR63","v":0},0,"\\\\SERVER\\Data1\\П\\Перекресток\\2018\\МОСКВА_18\\Перерва ул. 43 к1\\техничка\\16-Экспресс_КАССЫ"]
[63,{"$f":"'[2]Список изделий'!D64","v":62},{"$f":"'[2]Список изделий'!E64","v":0},{"$f":"'[2]Список изделий'!F64","v":0},{"$f":"'[2]Список изделий'!I64","v":0},{"$f":"'[2]Список изделий'!X64","v":0},{"$f":"'[2]Список изделий'!Y64","v":0},{"$f":"'[2]Список изделий'!Z64","v":0},{"$f":"'[2]Список изделий'!AA64","v":0},{"$f":"'[2]Список изделий'!AB64","v":0},{"$f":"'[2]Список изделий'!AC64","v":"x"},{"$f":"'[2]Список изделий'!AD64","v":0},{"$f":"'[2]Список изделий'!AE64","v":0},{"$f":"'[2]Список изделий'!AF64","v":"00:00:00"},{"$f":"'[2]Список изделий'!AY64","v":0},{"$f":"'[2]Список изделий'!AZ64","v":"00:00:00"},-43153,-43153,0,0,{"$f":"'[2]Список изделий'!BR64","v":0},0,"\\\\SERVER\\Data1\\П\\Перекресток\\2018\\МОСКВА_18\\Перерва ул. 43 к1\\техничка\\18-оклейка_боковин_холодильников"]
[64,{"$f":"'[2]Список изделий'!D65","v":63},{"$f":"'[2]Список изделий'!E65","v":0},{"$f":"'[2]Список изделий'!F65","v":0},{"$f":"'[2]Список изделий'!I65","v":0},{"$f":"'[2]Список изделий'!X65","v":0},{"$f":"'[2]Список изделий'!Y65","v":0},{"$f":"'[2]Список изделий'!Z65","v":0},{"$f":"'[2]Список изделий'!AA65","v":0},{"$f":"'[2]Список изделий'!AB65","v":0},{"$f":"'[2]Список изделий'!AC65","v":"x"},{"$f":"'[2]Список изделий'!AD65","v":0},{"$f":"'[2]Список изделий'!AE65","v":0},{"$f":"'[2]Список изделий'!AF65","v":"00:00:00"},{"$f":"'[2]Список изделий'!AY65","v":0},{"$f":"'[2]Список изделий'!AZ65","v":"00:00:00"},-43153,-43153,0,0,{"$f":"'[2]Список изделий'!BR65","v":0},0,"\\\\SERVER\\Data1\\П\\Перекресток\\2018\\МОСКВА_18\\Перерва ул. 43 к1\\техничка\\19-Протеус"]
[65,{"$f":"'[2]Список изделий'!D66","v":64},{"$f":"'[2]Список изделий'!E66","v":0},{"$f":"'[2]Список изделий'!F66","v":0},{"$f":"'[2]Список изделий'!I66","v":0},{"$f":"'[2]Список изделий'!X66","v":0},{"$f":"'[2]Список изделий'!Y66","v":0},{"$f":"'[2]Список изделий'!Z66","v":0},{"$f":"'[2]Список изделий'!AA66","v":0},{"$f":"'[2]Список изделий'!AB66","v":0},{"$f":"'[2]Список изделий'!AC66","v":"x"},{"$f":"'[2]Список изделий'!AD66","v":0},{"$f":"'[2]Список изделий'!AE66","v":0},{"$f":"'[2]Список изделий'!AF66","v":"00:00:00"},{"$f":"'[2]Список изделий'!AY66","v":0},{"$f":"'[2]Список изделий'!AZ66","v":"00:00:00"},-43153,-43153,0,0,{"$f":"'[2]Список изделий'!BR66","v":0},0,"\\\\SERVER\\Data1\\П\\Перекресток\\2018\\МОСКВА_18\\Перерва ул. 43 к1\\техничка\\22-Входной_фриз"]
[66,{"$f":"'[2]Список изделий'!D67","v":65},{"$f":"'[2]Список изделий'!E67","v":0},{"$f":"'[2]Список изделий'!F67","v":0},{"$f":"'[2]Список изделий'!I67","v":0},{"$f":"'[2]Список изделий'!X67","v":0},{"$f":"'[2]Список изделий'!Y67","v":0},{"$f":"'[2]Список изделий'!Z67","v":0},{"$f":"'[2]Список изделий'!AA67","v":0},{"$f":"'[2]Список изделий'!AB67","v":0},{"$f":"'[2]Список изделий'!AC67","v":"x"},{"$f":"'[2]Список изделий'!AD67","v":0},{"$f":"'[2]Список изделий'!AE67","v":0},{"$f":"'[2]Список изделий'!AF67","v":"00:00:00"},{"$f":"'[2]Список изделий'!AY67","v":0},{"$f":"'[2]Список изделий'!AZ67","v":"00:00:00"},{"$f":"IF(O68=\"нет в заказе\",\"нет в заказе\",-(TODAY()-(P68-O68)))","v":-43153},{"$f":"IF(Q68=\"нет в заказе\",\"нет взаказе\",-(IF(O68=\"нет в заказе\",\"нет в заказе\",TODAY()-P68)))","v":-43153},0,{"$f":"V68","v":0},{"$f":"'[2]Список изделий'!BR67","v":0},{"$f":"IF(S68>=0,S68,IF(T68>S68,T68,S68))","v":0},"\\\\SERVER\\Data1\\П\\Перекресток\\2018\\МОСКВА_18\\Перерва ул. 43 к1\\техничка\\25-Мясной_разруб"]
[67,{"$f":"'[2]Список изделий'!D68","v":66},{"$f":"'[2]Список изделий'!E68","v":0},{"$f":"'[2]Список изделий'!F68","v":0},{"$f":"'[2]Список изделий'!I68","v":0},{"$f":"'[2]Список изделий'!X68","v":0},{"$f":"'[2]Список изделий'!Y68","v":0},{"$f":"'[2]Список изделий'!Z68","v":0},{"$f":"'[2]Список изделий'!AA68","v":0},{"$f":"'[2]Список изделий'!AB68","v":0},{"$f":"'[2]Список изделий'!AC68","v":"x"},{"$f":"'[2]Список изделий'!AD68","v":0},{"$f":"'[2]Список изделий'!AE68","v":0},{"$f":"'[2]Список изделий'!AF68","v":"00:00:00"},{"$f":"'[2]Список изделий'!AY68","v":0},{"$f":"'[2]Список изделий'!AZ68","v":"00:00:00"},-43153,-43153,0,0,{"$f":"'[2]Список изделий'!BR68","v":0},0,"\\\\SERVER\\Data1\\П\\Перекресток\\2018\\МОСКВА_18\\Перерва ул. 43 к1\\техничка\\38-стикер_Номер_КАССЫ"]
[68,{"$f":"'[2]Список изделий'!D69","v":67},{"$f":"'[2]Список изделий'!E69","v":0},{"$f":"'[2]Список изделий'!F69","v":0},{"$f":"'[2]Список изделий'!I69","v":0},{"$f":"'[2]Список изделий'!X69","v":0},{"$f":"'[2]Список изделий'!Y69","v":0},{"$f":"'[2]Список изделий'!Z69","v":0},{"$f":"'[2]Список изделий'!AA69","v":0},{"$f":"'[2]Список изделий'!AB69","v":0},{"$f":"'[2]Список изделий'!AC69","v":"x"},{"$f":"'[2]Список изделий'!AD69","v":0},{"$f":"'[2]Список изделий'!AE69","v":0},{"$f":"'[2]Список изделий'!AF69","v":"00:00:00"},{"$f":"'[2]Список изделий'!AY69","v":0},{"$f":"'[2]Список изделий'!AZ69","v":"00:00:00"},-43153,-43153,0,0,{"$f":"'[2]Список изделий'!BR69","v":0},0,"\\\\SERVER\\Data1\\П\\Перекресток\\2018\\ТЕХНИЧЕСКАЯ ДОКУМЕНТАЦИЯ\\27-Быстро_и_вкусно\\Сборка\\БиВ-комплект.jpg"]
[69,{"$f":"'[2]Список изделий'!D70","v":68},{"$f":"'[2]Список изделий'!E70","v":0},{"$f":"'[2]Список изделий'!F70","v":0},{"$f":"'[2]Список изделий'!I70","v":0},{"$f":"'[2]Список изделий'!X70","v":0},{"$f":"'[2]Список изделий'!Y70","v":0},{"$f":"'[2]Список изделий'!Z70","v":0},{"$f":"'[2]Список изделий'!AA70","v":0},{"$f":"'[2]Список изделий'!AB70","v":0},{"$f":"'[2]Список изделий'!AC70","v":"x"},{"$f":"'[2]Список изделий'!AD70","v":0},{"$f":"'[2]Список изделий'!AE70","v":0},{"$f":"'[2]Список изделий'!AF70","v":"00:00:00"},{"$f":"'[2]Список изделий'!AY70","v":0},{"$f":"'[2]Список изделий'!AZ70","v":"00:00:00"},-43153,-43153,0,0,{"$f":"'[2]Список изделий'!BR70","v":0},0,"\\\\SERVER\\Data1\\П\\Перекресток\\2018\\МОСКВА_18\\Перерва ул. 43 к1\\техничка\\51-Имиджи_на_колонны"]
[70,{"$f":"'[2]Список изделий'!D71","v":69},{"$f":"'[2]Список изделий'!E71","v":0},{"$f":"'[2]Список изделий'!F71","v":0},{"$f":"'[2]Список изделий'!I71","v":0},{"$f":"'[2]Список изделий'!X71","v":0},{"$f":"'[2]Список изделий'!Y71","v":0},{"$f":"'[2]Список изделий'!Z71","v":0},{"$f":"'[2]Список изделий'!AA71","v":0},{"$f":"'[2]Список изделий'!AB71","v":0},{"$f":"'[2]Список изделий'!AC71","v":"x"},{"$f":"'[2]Список изделий'!AD71","v":0},{"$f":"'[2]Список изделий'!AE71","v":0},{"$f":"'[2]Список изделий'!AF71","v":"00:00:00"},{"$f":"'[2]Список изделий'!AY71","v":0},{"$f":"'[2]Список изделий'!AZ71","v":"00:00:00"},-43153,-43153,0,0,{"$f":"'[2]Список изделий'!BR71","v":0},0,"\\\\SERVER\\Data1\\П\\Перекресток\\2018\\ТЕХНИЧЕСКАЯ ДОКУМЕНТАЦИЯ\\58-СУПЕРЦЕНА-одинарная_подвесная\\Сборка\\суперцена_плоская-сборка.cdr"]
[71,{"$f":"'[2]Список изделий'!D72","v":70},{"$f":"'[2]Список изделий'!E72","v":0},{"$f":"'[2]Список изделий'!F72","v":0},{"$f":"'[2]Список изделий'!I72","v":0},{"$f":"'[2]Список изделий'!X72","v":0},{"$f":"'[2]Список изделий'!Y72","v":0},{"$f":"'[2]Список изделий'!Z72","v":0},{"$f":"'[2]Список изделий'!AA72","v":0},{"$f":"'[2]Список изделий'!AB72","v":0},{"$f":"'[2]Список изделий'!AC72","v":"x"},{"$f":"'[2]Список изделий'!AD72","v":0},{"$f":"'[2]Список изделий'!AE72","v":0},{"$f":"'[2]Список изделий'!AF72","v":"00:00:00"},{"$f":"'[2]Список изделий'!AY72","v":0},{"$f":"'[2]Список изделий'!AZ72","v":"00:00:00"},-43153,-43153,0,0,{"$f":"'[2]Список изделий'!BR72","v":0},0,0]
[72,{"$f":"'[2]Список изделий'!D73","v":71},{"$f":"'[2]Список изделий'!E73","v":0},{"$f":"'[2]Список изделий'!F73","v":0},{"$f":"'[2]Список изделий'!I73","v":0},{"$f":"'[2]Список изделий'!X73","v":0},{"$f":"'[2]Список изделий'!Y73","v":0},{"$f":"'[2]Список изделий'!Z73","v":0},{"$f":"'[2]Список изделий'!AA73","v":0},{"$f":"'[2]Список изделий'!AB73","v":0},{"$f":"'[2]Список изделий'!AC73","v":"x"},{"$f":"'[2]Список изделий'!AD73","v":0},{"$f":"'[2]Список изделий'!AE73","v":0},{"$f":"'[2]Список изделий'!AF73","v":"00:00:00"},{"$f":"'[2]Список изделий'!AY73","v":0},{"$f":"'[2]Список изделий'!AZ73","v":"00:00:00"},-43153,-43153,0,0,{"$f":"'[2]Список изделий'!BR73","v":0},0,0]
[73,{"$f":"'[2]Список изделий'!D74","v":72},{"$f":"'[2]Список изделий'!E74","v":0},{"$f":"'[2]Список изделий'!F74","v":0},{"$f":"'[2]Список изделий'!I74","v":0},{"$f":"'[2]Список изделий'!X74","v":0},{"$f":"'[2]Список изделий'!Y74","v":0},{"$f":"'[2]Список изделий'!Z74","v":0},{"$f":"'[2]Список изделий'!AA74","v":0},{"$f":"'[2]Список изделий'!AB74","v":0},{"$f":"'[2]Список изделий'!AC74","v":"x"},{"$f":"'[2]Список изделий'!AD74","v":0},{"$f":"'[2]Список изделий'!AE74","v":0},{"$f":"'[2]Список изделий'!AF74","v":"00:00:00"},{"$f":"'[2]Список изделий'!AY74","v":0},{"$f":"'[2]Список изделий'!AZ74","v":"00:00:00"},-43153,-43153,0,0,{"$f":"'[2]Список изделий'!BR74","v":0},0,0]
[74,{"$f":"'[2]Список изделий'!D75","v":73},{"$f":"'[2]Список изделий'!E75","v":0},{"$f":"'[2]Список изделий'!F75","v":0},{"$f":"'[2]Список изделий'!I75","v":0},{"$f":"'[2]Список изделий'!X75","v":0},{"$f":"'[2]Список изделий'!Y75","v":0},{"$f":"'[2]Список изделий'!Z75","v":0},{"$f":"'[2]Список изделий'!AA75","v":0},{"$f":"'[2]Список изделий'!AB75","v":0},{"$f":"'[2]Список изделий'!AC75","v":"x"},{"$f":"'[2]Список изделий'!AD75","v":0},{"$f":"'[2]Список изделий'!AE75","v":0},{"$f":"'[2]Список изделий'!AF75","v":"00:00:00"},{"$f":"'[2]Список изделий'!AY75","v":0},{"$f":"'[2]Список изделий'!AZ75","v":"00:00:00"},-43153,-43153,0,0,{"$f":"'[2]Список изделий'!BR75","v":0},0,0]
[75,{"$f":"'[2]Список изделий'!D76","v":74},{"$f":"'[2]Список изделий'!E76","v":0},{"$f":"'[2]Список изделий'!F76","v":0},{"$f":"'[2]Список изделий'!I76","v":0},{"$f":"'[2]Список изделий'!X76","v":0},{"$f":"'[2]Список изделий'!Y76","v":0},{"$f":"'[2]Список изделий'!Z76","v":0},{"$f":"'[2]Список изделий'!AA76","v":0},{"$f":"'[2]Список изделий'!AB76","v":0},{"$f":"'[2]Список изделий'!AC76","v":"x"},{"$f":"'[2]Список изделий'!AD76","v":0},{"$f":"'[2]Список изделий'!AE76","v":0},{"$f":"'[2]Список изделий'!AF76","v":"00:00:00"},{"$f":"'[2]Список изделий'!AY76","v":0},{"$f":"'[2]Список изделий'!AZ76","v":"00:00:00"},-43153,-43153,0,0,{"$f":"'[2]Список изделий'!BR76","v":0},0,0]
[76,{"$f":"'[2]Список изделий'!D77","v":75},{"$f":"'[2]Список изделий'!E77","v":0},{"$f":"'[2]Список изделий'!F77","v":0},{"$f":"'[2]Список изделий'!I77","v":0},{"$f":"'[2]Список изделий'!X77","v":0},{"$f":"'[2]Список изделий'!Y77","v":0},{"$f":"'[2]Список изделий'!Z77","v":0},{"$f":"'[2]Список изделий'!AA77","v":0},{"$f":"'[2]Список изделий'!AB77","v":0},{"$f":"'[2]Список изделий'!AC77","v":"x"},{"$f":"'[2]Список изделий'!AD77","v":0},{"$f":"'[2]Список изделий'!AE77","v":0},{"$f":"'[2]Список изделий'!AF77","v":"00:00:00"},{"$f":"'[2]Список изделий'!AY77","v":0},{"$f":"'[2]Список изделий'!AZ77","v":"00:00:00"},-43153,-43153,0,0,{"$f":"'[2]Список изделий'!BR77","v":0},0,0]
[77,{"$f":"'[2]Список изделий'!D78","v":76},{"$f":"'[2]Список изделий'!E78","v":0},{"$f":"'[2]Список изделий'!F78","v":0},{"$f":"'[2]Список изделий'!I78","v":0},{"$f":"'[2]Список изделий'!X78","v":0},{"$f":"'[2]Список изделий'!Y78","v":0},{"$f":"'[2]Список изделий'!Z78","v":0},{"$f":"'[2]Список изделий'!AA78","v":0},{"$f":"'[2]Список изделий'!AB78","v":0},{"$f":"'[2]Список изделий'!AC78","v":"x"},{"$f":"'[2]Список изделий'!AD78","v":0},{"$f":"'[2]Список изделий'!AE78","v":0},{"$f":"'[2]Список изделий'!AF78","v":"00:00:00"},{"$f":"'[2]Список изделий'!AY78","v":0},{"$f":"'[2]Список изделий'!AZ78","v":"00:00:00"},-43153,-43153,0,0,{"$f":"'[2]Список изделий'!BR78","v":0},0,0]
[78,{"$f":"'[2]Список изделий'!D79","v":77},{"$f":"'[2]Список изделий'!E79","v":0},{"$f":"'[2]Список изделий'!F79","v":0},{"$f":"'[2]Список изделий'!I79","v":0},{"$f":"'[2]Список изделий'!X79","v":0},{"$f":"'[2]Список изделий'!Y79","v":0},{"$f":"'[2]Список изделий'!Z79","v":0},{"$f":"'[2]Список изделий'!AA79","v":0},{"$f":"'[2]Список изделий'!AB79","v":0},{"$f":"'[2]Список изделий'!AC79","v":"x"},{"$f":"'[2]Список изделий'!AD79","v":0},{"$f":"'[2]Список изделий'!AE79","v":0},{"$f":"'[2]Список изделий'!AF79","v":"00:00:00"},{"$f":"'[2]Список изделий'!AY79","v":0},{"$f":"'[2]Список изделий'!AZ79","v":"00:00:00"},-43153,-43153,0,0,{"$f":"'[2]Список изделий'!BR79","v":0},0,0]
[79,{"$f":"'[2]Список изделий'!D80","v":78},{"$f":"'[2]Список изделий'!E80","v":0},{"$f":"'[2]Список изделий'!F80","v":0},{"$f":"'[2]Список изделий'!I80","v":0},{"$f":"'[2]Список изделий'!X80","v":0},{"$f":"'[2]Список изделий'!Y80","v":0},{"$f":"'[2]Список изделий'!Z80","v":0},{"$f":"'[2]Список изделий'!AA80","v":0},{"$f":"'[2]Список изделий'!AB80","v":0},{"$f":"'[2]Список изделий'!AC80","v":"x"},{"$f":"'[2]Список изделий'!AD80","v":0},{"$f":"'[2]Список изделий'!AE80","v":0},{"$f":"'[2]Список изделий'!AF80","v":"00:00:00"},{"$f":"'[2]Список изделий'!AY80","v":0},{"$f":"'[2]Список изделий'!AZ80","v":"00:00:00"},-43153,-43153,0,0,{"$f":"'[2]Список изделий'!BR80","v":0},0,"\\\\SERVER\\Data1\\П\\Перекресток\\2018\\ТЕХНИЧЕСКАЯ ДОКУМЕНТАЦИЯ\\27-Быстро_и_вкусно\\Сборка\\БиВ-комплект.jpg"]
[80,{"$f":"'[2]Список изделий'!D81","v":79},{"$f":"'[2]Список изделий'!E81","v":0},{"$f":"'[2]Список изделий'!F81","v":0},{"$f":"'[2]Список изделий'!I81","v":0},{"$f":"'[2]Список изделий'!X81","v":0},{"$f":"'[2]Список изделий'!Y81","v":0},{"$f":"'[2]Список изделий'!Z81","v":0},{"$f":"'[2]Список изделий'!AA81","v":0},{"$f":"'[2]Список изделий'!AB81","v":0},{"$f":"'[2]Список изделий'!AC81","v":"x"},{"$f":"'[2]Список изделий'!AD81","v":0},{"$f":"'[2]Список изделий'!AE81","v":0},{"$f":"'[2]Список изделий'!AF81","v":"00:00:00"},{"$f":"'[2]Список изделий'!AY81","v":0},{"$f":"'[2]Список изделий'!AZ81","v":"00:00:00"},-43153,-43153,0,0,{"$f":"'[2]Список изделий'!BR81","v":0},0,"\\\\SERVER\\Data1\\П\\Перекресток\\2018\\ТЕХНИЧЕСКАЯ ДОКУМЕНТАЦИЯ\\58-СУПЕРЦЕНА-одинарная_подвесная\\Сборка\\суперцена_плоская-сборка.cdr"]
[81,{"$f":"'[2]Список изделий'!D82","v":80},{"$f":"'[2]Список изделий'!E82","v":0},{"$f":"'[2]Список изделий'!F82","v":0},{"$f":"'[2]Список изделий'!I82","v":0},{"$f":"'[2]Список изделий'!X82","v":0},{"$f":"'[2]Список изделий'!Y82","v":0},{"$f":"'[2]Список изделий'!Z82","v":0},{"$f":"'[2]Список изделий'!AA82","v":0},{"$f":"'[2]Список изделий'!AB82","v":0},{"$f":"'[2]Список изделий'!AC82","v":"x"},{"$f":"'[2]Список изделий'!AD82","v":0},{"$f":"'[2]Список изделий'!AE82","v":0},{"$f":"'[2]Список изделий'!AF82","v":"00:00:00"},{"$f":"'[2]Список изделий'!AY82","v":0},{"$f":"'[2]Список изделий'!AZ82","v":"00:00:00"},-43153,-43153,0,0,{"$f":"'[2]Список изделий'!BR82","v":0},0,0]
[82,{"$f":"'[2]Список изделий'!D83","v":81},{"$f":"'[2]Список изделий'!E83","v":0},{"$f":"'[2]Список изделий'!F83","v":0},{"$f":"'[2]Список изделий'!I83","v":0},{"$f":"'[2]Список изделий'!X83","v":0},{"$f":"'[2]Список изделий'!Y83","v":0},{"$f":"'[2]Список изделий'!Z83","v":0},{"$f":"'[2]Список изделий'!AA83","v":0},{"$f":"'[2]Список изделий'!AB83","v":0},{"$f":"'[2]Список изделий'!AC83","v":"x"},{"$f":"'[2]Список изделий'!AD83","v":0},{"$f":"'[2]Список изделий'!AE83","v":0},{"$f":"'[2]Список изделий'!AF83","v":"00:00:00"},{"$f":"'[2]Список изделий'!AY83","v":0},{"$f":"'[2]Список изделий'!AZ83","v":"00:00:00"},-43153,-43153,0,0,{"$f":"'[2]Список изделий'!BR83","v":0},0,"\\\\SERVER\\Data1\\П\\Перекресток\\2018\\ТЕХНИЧЕСКАЯ ДОКУМЕНТАЦИЯ\\11-Карман_круглый_двухсторонний_(ПромоКруг)\\Сборка\\Круг_Промо-сборка.cdr"]
[83,{"$f":"'[2]Список изделий'!D84","v":82},{"$f":"'[2]Список изделий'!E84","v":0},{"$f":"'[2]Список изделий'!F84","v":0},{"$f":"'[2]Список изделий'!I84","v":0},{"$f":"'[2]Список изделий'!X84","v":0},{"$f":"'[2]Список изделий'!Y84","v":0},{"$f":"'[2]Список изделий'!Z84","v":0},{"$f":"'[2]Список изделий'!AA84","v":0},{"$f":"'[2]Список изделий'!AB84","v":0},{"$f":"'[2]Список изделий'!AC84","v":"x"},{"$f":"'[2]Список изделий'!AD84","v":0},{"$f":"'[2]Список изделий'!AE84","v":0},{"$f":"'[2]Список изделий'!AF84","v":"00:00:00"},{"$f":"'[2]Список изделий'!AY84","v":0},{"$f":"'[2]Список изделий'!AZ84","v":"00:00:00"},-43153,-43153,0,0,{"$f":"'[2]Список изделий'!BR84","v":0},0,0]
[84,{"$f":"'[2]Список изделий'!D85","v":83},{"$f":"'[2]Список изделий'!E85","v":0},{"$f":"'[2]Список изделий'!F85","v":0},{"$f":"'[2]Список изделий'!I85","v":0},{"$f":"'[2]Список изделий'!X85","v":0},{"$f":"'[2]Список изделий'!Y85","v":0},{"$f":"'[2]Список изделий'!Z85","v":0},{"$f":"'[2]Список изделий'!AA85","v":0},{"$f":"'[2]Список изделий'!AB85","v":0},{"$f":"'[2]Список изделий'!AC85","v":"x"},{"$f":"'[2]Список изделий'!AD85","v":0},{"$f":"'[2]Список изделий'!AE85","v":0},{"$f":"'[2]Список изделий'!AF85","v":"00:00:00"},{"$f":"'[2]Список изделий'!AY85","v":0},{"$f":"'[2]Список изделий'!AZ85","v":"00:00:00"},-43153,-43153,0,0,{"$f":"'[2]Список изделий'!BR85","v":0},0,"\\\\SERVER\\Data1\\П\\Перекресток\\2018\\ТЕХНИЧЕСКАЯ ДОКУМЕНТАЦИЯ\\17-Стикер-задник_ПД_ФРОВ\\Сборка\\стикеры_зад_ПД-ФРОВ-сборка.cdr"]
[85,{"$f":"'[2]Список изделий'!D86","v":84},{"$f":"'[2]Список изделий'!E86","v":0},{"$f":"'[2]Список изделий'!F86","v":0},{"$f":"'[2]Список изделий'!I86","v":0},{"$f":"'[2]Список изделий'!X86","v":0},{"$f":"'[2]Список изделий'!Y86","v":0},{"$f":"'[2]Список изделий'!Z86","v":0},{"$f":"'[2]Список изделий'!AA86","v":0},{"$f":"'[2]Список изделий'!AB86","v":0},{"$f":"'[2]Список изделий'!AC86","v":"x"},{"$f":"'[2]Список изделий'!AD86","v":0},{"$f":"'[2]Список изделий'!AE86","v":0},{"$f":"'[2]Список изделий'!AF86","v":"00:00:00"},{"$f":"'[2]Список изделий'!AY86","v":0},{"$f":"'[2]Список изделий'!AZ86","v":"00:00:00"},-43153,-43153,0,0,{"$f":"'[2]Список изделий'!BR86","v":0},0,0]
[86,{"$f":"'[2]Список изделий'!D87","v":85},{"$f":"'[2]Список изделий'!E87","v":0},{"$f":"'[2]Список изделий'!F87","v":0},{"$f":"'[2]Список изделий'!I87","v":0},{"$f":"'[2]Список изделий'!X87","v":0},{"$f":"'[2]Список изделий'!Y87","v":0},{"$f":"'[2]Список изделий'!Z87","v":0},{"$f":"'[2]Список изделий'!AA87","v":0},{"$f":"'[2]Список изделий'!AB87","v":0},{"$f":"'[2]Список изделий'!AC87","v":"x"},{"$f":"'[2]Список изделий'!AD87","v":0},{"$f":"'[2]Список изделий'!AE87","v":0},{"$f":"'[2]Список изделий'!AF87","v":"00:00:00"},{"$f":"'[2]Список изделий'!AY87","v":0},{"$f":"'[2]Список изделий'!AZ87","v":"00:00:00"},-43153,-43153,0,0,{"$f":"'[2]Список изделий'!BR87","v":0},0,0]
[87,{"$f":"'[2]Список изделий'!D88","v":86},{"$f":"'[2]Список изделий'!E88","v":0},{"$f":"'[2]Список изделий'!F88","v":0},{"$f":"'[2]Список изделий'!I88","v":0},{"$f":"'[2]Список изделий'!X88","v":0},{"$f":"'[2]Список изделий'!Y88","v":0},{"$f":"'[2]Список изделий'!Z88","v":0},{"$f":"'[2]Список изделий'!AA88","v":0},{"$f":"'[2]Список изделий'!AB88","v":0},{"$f":"'[2]Список изделий'!AC88","v":"x"},{"$f":"'[2]Список изделий'!AD88","v":0},{"$f":"'[2]Список изделий'!AE88","v":0},{"$f":"'[2]Список изделий'!AF88","v":"00:00:00"},{"$f":"'[2]Список изделий'!AY88","v":0},{"$f":"'[2]Список изделий'!AZ88","v":"00:00:00"},-43153,-43153,0,0,{"$f":"'[2]Список изделий'!BR88","v":0},0,0]
[88,{"$f":"'[2]Список изделий'!D89","v":87},{"$f":"'[2]Список изделий'!E89","v":0},{"$f":"'[2]Список изделий'!F89","v":0},{"$f":"'[2]Список изделий'!I89","v":0},{"$f":"'[2]Список изделий'!X89","v":0},{"$f":"'[2]Список изделий'!Y89","v":0},{"$f":"'[2]Список изделий'!Z89","v":0},{"$f":"'[2]Список изделий'!AA89","v":0},{"$f":"'[2]Список изделий'!AB89","v":0},{"$f":"'[2]Список изделий'!AC89","v":"x"},{"$f":"'[2]Список изделий'!AD89","v":0},{"$f":"'[2]Список изделий'!AE89","v":0},{"$f":"'[2]Список изделий'!AF89","v":"00:00:00"},{"$f":"'[2]Список изделий'!AY89","v":0},{"$f":"'[2]Список изделий'!AZ89","v":"00:00:00"},-43153,-43153,0,0,{"$f":"'[2]Список изделий'!BR89","v":0},0,0]
[89,{"$f":"'[2]Список изделий'!D90","v":88},{"$f":"'[2]Список изделий'!E90","v":0},{"$f":"'[2]Список изделий'!F90","v":0},{"$f":"'[2]Список изделий'!I90","v":0},{"$f":"'[2]Список изделий'!X90","v":0},{"$f":"'[2]Список изделий'!Y90","v":0},{"$f":"'[2]Список изделий'!Z90","v":0},{"$f":"'[2]Список изделий'!AA90","v":0},{"$f":"'[2]Список изделий'!AB90","v":0},{"$f":"'[2]Список изделий'!AC90","v":"x"},{"$f":"'[2]Список изделий'!AD90","v":0},{"$f":"'[2]Список изделий'!AE90","v":0},{"$f":"'[2]Список изделий'!AF90","v":"00:00:00"},{"$f":"'[2]Список изделий'!AY90","v":0},{"$f":"'[2]Список изделий'!AZ90","v":"00:00:00"},-43153,-43153,0,0,{"$f":"'[2]Список изделий'!BR90","v":0},0,0]
[90,{"$f":"'[2]Список изделий'!D91","v":89},{"$f":"'[2]Список изделий'!E91","v":0},{"$f":"'[2]Список изделий'!F91","v":0},{"$f":"'[2]Список изделий'!I91","v":0},{"$f":"'[2]Список изделий'!X91","v":0},{"$f":"'[2]Список изделий'!Y91","v":0},{"$f":"'[2]Список изделий'!Z91","v":0},{"$f":"'[2]Список изделий'!AA91","v":0},{"$f":"'[2]Список изделий'!AB91","v":0},{"$f":"'[2]Список изделий'!AC91","v":"x"},{"$f":"'[2]Список изделий'!AD91","v":0},{"$f":"'[2]Список изделий'!AE91","v":0},{"$f":"'[2]Список изделий'!AF91","v":"00:00:00"},{"$f":"'[2]Список изделий'!AY91","v":0},{"$f":"'[2]Список изделий'!AZ91","v":"00:00:00"},-43153,-43153,0,0,{"$f":"'[2]Список изделий'!BR91","v":0},0,0]
[91,{"$f":"'[2]Список изделий'!D92","v":90},{"$f":"'[2]Список изделий'!E92","v":0},{"$f":"'[2]Список изделий'!F92","v":0},{"$f":"'[2]Список изделий'!I92","v":0},{"$f":"'[2]Список изделий'!X92","v":0},{"$f":"'[2]Список изделий'!Y92","v":0},{"$f":"'[2]Список изделий'!Z92","v":0},{"$f":"'[2]Список изделий'!AA92","v":0},{"$f":"'[2]Список изделий'!AB92","v":0},{"$f":"'[2]Список изделий'!AC92","v":"x"},{"$f":"'[2]Список изделий'!AD92","v":0},{"$f":"'[2]Список изделий'!AE92","v":0},{"$f":"'[2]Список изделий'!AF92","v":"00:00:00"},{"$f":"'[2]Список изделий'!AY92","v":0},{"$f":"'[2]Список изделий'!AZ92","v":"00:00:00"},-43153,-43153,0,0,{"$f":"'[2]Список изделий'!BR92","v":0},0,0]
[92,{"$f":"'[2]Список изделий'!D93","v":91},{"$f":"'[2]Список изделий'!E93","v":0},{"$f":"'[2]Список изделий'!F93","v":0},{"$f":"'[2]Список изделий'!I93","v":0},{"$f":"'[2]Список изделий'!X93","v":0},{"$f":"'[2]Список изделий'!Y93","v":0},{"$f":"'[2]Список изделий'!Z93","v":0},{"$f":"'[2]Список изделий'!AA93","v":0},{"$f":"'[2]Список изделий'!AB93","v":0},{"$f":"'[2]Список изделий'!AC93","v":"x"},{"$f":"'[2]Список изделий'!AD93","v":0},{"$f":"'[2]Список изделий'!AE93","v":0},{"$f":"'[2]Список изделий'!AF93","v":"00:00:00"},{"$f":"'[2]Список изделий'!AY93","v":0},{"$f":"'[2]Список изделий'!AZ93","v":"00:00:00"},-43153,-43153,0,0,{"$f":"'[2]Список изделий'!BR93","v":0},0,0]
[93,{"$f":"'[2]Список изделий'!D94","v":92},{"$f":"'[2]Список изделий'!E94","v":0},{"$f":"'[2]Список изделий'!F94","v":0},{"$f":"'[2]Список изделий'!I94","v":0},{"$f":"'[2]Список изделий'!X94","v":0},{"$f":"'[2]Список изделий'!Y94","v":0},{"$f":"'[2]Список изделий'!Z94","v":0},{"$f":"'[2]Список изделий'!AA94","v":0},{"$f":"'[2]Список изделий'!AB94","v":0},{"$f":"'[2]Список изделий'!AC94","v":"x"},{"$f":"'[2]Список изделий'!AD94","v":0},{"$f":"'[2]Список изделий'!AE94","v":0},{"$f":"'[2]Список изделий'!AF94","v":"00:00:00"},{"$f":"'[2]Список изделий'!AY94","v":0},{"$f":"'[2]Список изделий'!AZ94","v":"00:00:00"},-43153,-43153,0,0,{"$f":"'[2]Список изделий'!BR94","v":0},0,0]
[94,{"$f":"'[2]Список изделий'!D95","v":93},{"$f":"'[2]Список изделий'!E95","v":0},{"$f":"'[2]Список изделий'!F95","v":0},{"$f":"'[2]Список изделий'!I95","v":0},{"$f":"'[2]Список изделий'!X95","v":0},{"$f":"'[2]Список изделий'!Y95","v":0},{"$f":"'[2]Список изделий'!Z95","v":0},{"$f":"'[2]Список изделий'!AA95","v":0},{"$f":"'[2]Список изделий'!AB95","v":0},{"$f":"'[2]Список изделий'!AC95","v":"x"},{"$f":"'[2]Список изделий'!AD95","v":0},{"$f":"'[2]Список изделий'!AE95","v":0},{"$f":"'[2]Список изделий'!AF95","v":"00:00:00"},{"$f":"'[2]Список изделий'!AY95","v":0},{"$f":"'[2]Список изделий'!AZ95","v":"00:00:00"},-43153,-43153,0,0,{"$f":"'[2]Список изделий'!BR95","v":0},0,0]
[95,{"$f":"'[2]Список изделий'!D96","v":94},{"$f":"'[2]Список изделий'!E96","v":0},{"$f":"'[2]Список изделий'!F96","v":0},{"$f":"'[2]Список изделий'!I96","v":0},{"$f":"'[2]Список изделий'!X96","v":0},{"$f":"'[2]Список изделий'!Y96","v":0},{"$f":"'[2]Список изделий'!Z96","v":0},{"$f":"'[2]Список изделий'!AA96","v":0},{"$f":"'[2]Список изделий'!AB96","v":0},{"$f":"'[2]Список изделий'!AC96","v":"x"},{"$f":"'[2]Список изделий'!AD96","v":0},{"$f":"'[2]Список изделий'!AE96","v":0},{"$f":"'[2]Список изделий'!AF96","v":"00:00:00"},{"$f":"'[2]Список изделий'!AY96","v":0},{"$f":"'[2]Список изделий'!AZ96","v":"00:00:00"},-43153,-43153,0,0,{"$f":"'[2]Список изделий'!BR96","v":0},0,0]
[96,{"$f":"'[2]Список изделий'!D97","v":95},{"$f":"'[2]Список изделий'!E97","v":0},{"$f":"'[2]Список изделий'!F97","v":0},{"$f":"'[2]Список изделий'!I97","v":0},{"$f":"'[2]Список изделий'!X97","v":0},{"$f":"'[2]Список изделий'!Y97","v":0},{"$f":"'[2]Список изделий'!Z97","v":0},{"$f":"'[2]Список изделий'!AA97","v":0},{"$f":"'[2]Список изделий'!AB97","v":0},{"$f":"'[2]Список изделий'!AC97","v":"x"},{"$f":"'[2]Список изделий'!AD97","v":0},{"$f":"'[2]Список изделий'!AE97","v":0},{"$f":"'[2]Список изделий'!AF97","v":"00:00:00"},{"$f":"'[2]Список изделий'!AY97","v":0},{"$f":"'[2]Список изделий'!AZ97","v":"00:00:00"},-43153,-43153,0,0,{"$f":"'[2]Список изделий'!BR97","v":0},0,0]
[97,{"$f":"'[2]Список изделий'!D98","v":96},{"$f":"'[2]Список изделий'!E98","v":0},{"$f":"'[2]Список изделий'!F98","v":0},{"$f":"'[2]Список изделий'!I98","v":0},{"$f":"'[2]Список изделий'!X98","v":0},{"$f":"'[2]Список изделий'!Y98","v":0},{"$f":"'[2]Список изделий'!Z98","v":0},{"$f":"'[2]Список изделий'!AA98","v":0},{"$f":"'[2]Список изделий'!AB98","v":0},{"$f":"'[2]Список изделий'!AC98","v":"x"},{"$f":"'[2]Список изделий'!AD98","v":0},{"$f":"'[2]Список изделий'!AE98","v":0},{"$f":"'[2]Список изделий'!AF98","v":"00:00:00"},{"$f":"'[2]Список изделий'!AY98","v":0},{"$f":"'[2]Список изделий'!AZ98","v":"00:00:00"},-43153,-43153,0,0,{"$f":"'[2]Список изделий'!BR98","v":0},0,0]
[98,{"$f":"'[2]Список изделий'!D99","v":97},{"$f":"'[2]Список изделий'!E99","v":0},{"$f":"'[2]Список изделий'!F99","v":0},{"$f":"'[2]Список изделий'!I99","v":0},{"$f":"'[2]Список изделий'!X99","v":0},{"$f":"'[2]Список изделий'!Y99","v":0},{"$f":"'[2]Список изделий'!Z99","v":0},{"$f":"'[2]Список изделий'!AA99","v":0},{"$f":"'[2]Список изделий'!AB99","v":0},{"$f":"'[2]Список изделий'!AC99","v":"x"},{"$f":"'[2]Список изделий'!AD99","v":0},{"$f":"'[2]Список изделий'!AE99","v":0},{"$f":"'[2]Список изделий'!AF99","v":"00:00:00"},{"$f":"'[2]Список изделий'!AY99","v":0},{"$f":"'[2]Список изделий'!AZ99","v":"00:00:00"},-43153,-43153,0,0,{"$f":"'[2]Список изделий'!BR99","v":0},0,"\\\\SERVER\\Data1\\П\\Перекресток\\2018\\ТЕХНИЧЕСКАЯ ДОКУМЕНТАЦИЯ\\57-СУПЕРЦЕНА-треугольная(Призма)\\Сборка\\Суперцена-треугольная-сборка.cdr"]
[99,{"$f":"'[2]Список изделий'!D100","v":98},{"$f":"'[2]Список изделий'!E100","v":0},{"$f":"'[2]Список изделий'!F100","v":0},{"$f":"'[2]Список изделий'!I100","v":0},{"$f":"'[2]Список изделий'!X100","v":0},{"$f":"'[2]Список изделий'!Y100","v":0},{"$f":"'[2]Список изделий'!Z100","v":0},{"$f":"'[2]Список изделий'!AA100","v":0},{"$f":"'[2]Список изделий'!AB100","v":0},{"$f":"'[2]Список изделий'!AC100","v":"x"},{"$f":"'[2]Список изделий'!AD100","v":0},{"$f":"'[2]Список изделий'!AE100","v":0},{"$f":"'[2]Список изделий'!AF100","v":"00:00:00"},{"$f":"'[2]Список изделий'!AY100","v":0},{"$f":"'[2]Список изделий'!AZ100","v":"00:00:00"},-43153,-43153,0,0,{"$f":"'[2]Список изделий'!BR8039","v":0},0,0]
[100,{"$f":"'[2]Список изделий'!D101","v":99},{"$f":"'[2]Список изделий'!E101","v":0},{"$f":"'[2]Список изделий'!F101","v":0},{"$f":"'[2]Список изделий'!I101","v":0},{"$f":"'[2]Список изделий'!X101","v":0},{"$f":"'[2]Список изделий'!Y101","v":0},{"$f":"'[2]Список изделий'!Z101","v":0},{"$f":"'[2]Список изделий'!AA101","v":0},{"$f":"'[2]Список изделий'!AB101","v":0},{"$f":"'[2]Список изделий'!AC101","v":"x"},{"$f":"'[2]Список изделий'!AD101","v":0},{"$f":"'[2]Список изделий'!AE101","v":0},{"$f":"'[2]Список изделий'!AF101","v":"00:00:00"},{"$f":"'[2]Список изделий'!AY101","v":0},{"$f":"'[2]Список изделий'!AZ101","v":"00:00:00"},-43153,-43153,0,0,{"$f":"'[2]Список изделий'!BR8040","v":0},0,0]
[101,{"$f":"'[2]Список изделий'!D102","v":100},{"$f":"'[2]Список изделий'!E102","v":0},{"$f":"'[2]Список изделий'!F102","v":0},{"$f":"'[2]Список изделий'!I102","v":0},{"$f":"'[2]Список изделий'!X102","v":0},{"$f":"'[2]Список изделий'!Y102","v":0},{"$f":"'[2]Список изделий'!Z102","v":0},{"$f":"'[2]Список изделий'!AA102","v":0},{"$f":"'[2]Список изделий'!AB102","v":0},{"$f":"'[2]Список изделий'!AC102","v":"x"},{"$f":"'[2]Список изделий'!AD102","v":0},{"$f":"'[2]Список изделий'!AE102","v":0},{"$f":"'[2]Список изделий'!AF102","v":"00:00:00"},{"$f":"'[2]Список изделий'!AY102","v":0},{"$f":"'[2]Список изделий'!AZ102","v":"00:00:00"},-43153,-43153,0,0,{"$f":"'[3]Список изделий'!BR3","v":0},0,0]
[102,{"$f":"'[3]Список изделий'!D85","v":2},{"$f":"'[3]Список изделий'!E85","v":0},{"$f":"'[3]Список изделий'!F85","v":0},{"$f":"'[3]Список изделий'!I85","v":0},{"$f":"'[3]Список изделий'!X85","v":0},{"$f":"'[3]Список изделий'!Y85","v":0},{"$f":"'[3]Список изделий'!Z85","v":0},{"$f":"'[3]Список изделий'!AA85","v":0},{"$f":"'[3]Список изделий'!AB85","v":0},{"$f":"'[3]Список изделий'!AC85","v":"x"},{"$f":"'[3]Список изделий'!AD85","v":400},{"$f":"'[3]Список изделий'!AE85","v":"мм"},{"$f":"'[3]Список изделий'!AF85","v":"00:00:00"},{"$f":"'[3]Список изделий'!AY85","v":0},{"$f":"'[3]Список изделий'!AZ85","v":"00:00:00"},-43153,-43153,0,0,{"$f":"'[3]Список изделий'!BR85","v":0},0,0]
[103,{"$f":"'[3]Список изделий'!D167","v":3},{"$f":"'[3]Список изделий'!E167","v":0},{"$f":"'[3]Список изделий'!F167","v":0},{"$f":"'[3]Список изделий'!I167","v":0},{"$f":"'[3]Список изделий'!X167","v":0},{"$f":"'[3]Список изделий'!Y167","v":0},{"$f":"'[3]Список изделий'!Z167","v":0},{"$f":"'[3]Список изделий'!AA167","v":0},{"$f":"'[3]Список изделий'!AB167","v":0},{"$f":"'[3]Список изделий'!AC167","v":"x"},{"$f":"'[3]Список изделий'!AD167","v":400},{"$f":"'[3]Список изделий'!AE167","v":"мм"},{"$f":"'[3]Список изделий'!AF167","v":"00:00:00"},{"$f":"'[3]Список изделий'!AY167","v":0},{"$f":"'[3]Список изделий'!AZ167","v":"00:00:00"},-43153,-43153,0,0,{"$f":"'[3]Список изделий'!BR167","v":0},0,"\\\\SERVER\\Data1\\П\\Перекресток\\2018\\ТЕХНИЧЕСКАЯ ДОКУМЕНТАЦИЯ\\27-Быстро_и_вкусно\\Сборка\\БиВ-комплект.jpg"]
[104,{"$f":"'[3]Список изделий'!D249","v":4},{"$f":"'[3]Список изделий'!E249","v":0},{"$f":"'[3]Список изделий'!F249","v":0},{"$f":"'[3]Список изделий'!I249","v":0},{"$f":"'[3]Список изделий'!X249","v":0},{"$f":"'[3]Список изделий'!Y249","v":0},{"$f":"'[3]Список изделий'!Z249","v":0},{"$f":"'[3]Список изделий'!AA249","v":0},{"$f":"'[3]Список изделий'!AB249","v":0},{"$f":"'[3]Список изделий'!AC249","v":"x"},{"$f":"'[3]Список изделий'!AD249","v":0},{"$f":"'[3]Список изделий'!AE249","v":"мм"},{"$f":"'[3]Список изделий'!AF249","v":"00:00:00"},{"$f":"'[3]Список изделий'!AY249","v":0},{"$f":"'[3]Список изделий'!AZ249","v":"00:00:00"},-43153,-43153,0,0,{"$f":"'[3]Список изделий'!BR249","v":0},0,"\\\\SERVER\\Data1\\П\\Перекресток\\2018\\ТЕХНИЧЕСКАЯ ДОКУМЕНТАЦИЯ\\58-СУПЕРЦЕНА-одинарная_подвесная\\Сборка\\суперцена_плоская-сборка.cdr"]
[105,{"$f":"'[3]Список изделий'!D331","v":5},{"$f":"'[3]Список изделий'!E331","v":0},{"$f":"'[3]Список изделий'!F331","v":0},{"$f":"'[3]Список изделий'!I331","v":0},{"$f":"'[3]Список изделий'!X331","v":0},{"$f":"'[3]Список изделий'!Y331","v":0},{"$f":"'[3]Список изделий'!Z331","v":0},{"$f":"'[3]Список изделий'!AA331","v":0},{"$f":"'[3]Список изделий'!AB331","v":600},{"$f":"'[3]Список изделий'!AC331","v":"x"},{"$f":"'[3]Список изделий'!AD331","v":900},{"$f":"'[3]Список изделий'!AE331","v":"мм"},{"$f":"'[3]Список изделий'!AF331","v":"00:00:00"},{"$f":"'[3]Список изделий'!AY331","v":0},{"$f":"'[3]Список изделий'!AZ331","v":"00:00:00"},-43153,-43153,0,0,{"$f":"'[3]Список изделий'!BR331","v":0},0,"\\\\SERVER\\Data1\\П\\Перекресток\\2018\\ТЕХНИЧЕСКАЯ ДОКУМЕНТАЦИЯ\\10-Карман_под_бумагу_А1\\Сборка\\Карман_А1-сборка.cdr"]
[106,{"$f":"'[3]Список изделий'!D413","v":6},{"$f":"'[3]Список изделий'!E413","v":0},{"$f":"'[3]Список изделий'!F413","v":0},{"$f":"'[3]Список изделий'!I413","v":0},{"$f":"'[3]Список изделий'!X413","v":0},{"$f":"'[3]Список изделий'!Y413","v":0},{"$f":"'[3]Список изделий'!Z413","v":0},{"$f":"'[3]Список изделий'!AA413","v":0},{"$f":"'[3]Список изделий'!AB413","v":0},{"$f":"'[3]Список изделий'!AC413","v":"x"},{"$f":"'[3]Список изделий'!AD413","v":0},{"$f":"'[3]Список изделий'!AE413","v":0},{"$f":"'[3]Список изделий'!AF413","v":"00:00:00"},{"$f":"'[3]Список изделий'!AY413","v":0},{"$f":"'[3]Список изделий'!AZ413","v":"00:00:00"},-43153,-43153,0,0,{"$f":"'[3]Список изделий'!BR413","v":0},0,"\\\\SERVER\\Data1\\П\\Перекресток\\2018\\ТЕХНИЧЕСКАЯ ДОКУМЕНТАЦИЯ\\11-Карман_круглый_двухсторонний_(ПромоКруг)\\Сборка\\Круг_Промо-сборка.cdr"]
[107,{"$f":"'[3]Список изделий'!D495","v":7},{"$f":"'[3]Список изделий'!E495","v":0},{"$f":"'[3]Список изделий'!F495","v":0},{"$f":"'[3]Список изделий'!I495","v":0},{"$f":"'[3]Список изделий'!X495","v":0},{"$f":"'[3]Список изделий'!Y495","v":0},{"$f":"'[3]Список изделий'!Z495","v":0},{"$f":"'[3]Список изделий'!AA495","v":0},{"$f":"'[3]Список изделий'!AB495","v":2000},{"$f":"'[3]Список изделий'!AC495","v":"x"},{"$f":"'[3]Список изделий'!AD495","v":400},{"$f":"'[3]Список изделий'!AE495","v":"мм"},{"$f":"'[3]Список изделий'!AF495","v":"00:00:00"},{"$f":"'[3]Список изделий'!AY495","v":0},{"$f":"'[3]Список изделий'!AZ495","v":"00:00:00"},-43153,-43153,0,0,{"$f":"'[3]Список изделий'!BR495","v":0},0,0]
[108,{"$f":"'[3]Список изделий'!D577","v":8},{"$f":"'[3]Список изделий'!E577","v":0},{"$f":"'[3]Список изделий'!F577","v":0},{"$f":"'[3]Список изделий'!I577","v":0},{"$f":"'[3]Список изделий'!X577","v":0},{"$f":"'[3]Список изделий'!Y577","v":0},{"$f":"'[3]Список изделий'!Z577","v":0},{"$f":"'[3]Список изделий'!AA577","v":0},{"$f":"'[3]Список изделий'!AB577","v":1500},{"$f":"'[3]Список изделий'!AC577","v":"x"},{"$f":"'[3]Список изделий'!AD577","v":300},{"$f":"'[3]Список изделий'!AE577","v":"мм"},{"$f":"'[3]Список изделий'!AF577","v":"00:00:00"},{"$f":"'[3]Список изделий'!AY577","v":0},{"$f":"'[3]Список изделий'!AZ577","v":"00:00:00"},-43153,-43153,0,0,{"$f":"'[3]Список изделий'!BR577","v":0},0,"\\\\SERVER\\Data1\\П\\Перекресток\\2018\\ТЕХНИЧЕСКАЯ ДОКУМЕНТАЦИЯ\\17-Стикер-задник_ПД_ФРОВ\\Сборка\\стикеры_зад_ПД-ФРОВ-сборка.cdr"]
[109,{"$f":"'[3]Список изделий'!D659","v":9},{"$f":"'[3]Список изделий'!E659","v":0},{"$f":"'[3]Список изделий'!F659","v":0},{"$f":"'[3]Список изделий'!I659","v":0},{"$f":"'[3]Список изделий'!X659","v":0},{"$f":"'[3]Список изделий'!Y659","v":0},{"$f":"'[3]Список изделий'!Z659","v":0},{"$f":"'[3]Список изделий'!AA659","v":0},{"$f":"'[3]Список изделий'!AB659","v":0},{"$f":"'[3]Список изделий'!AC659","v":"x"},{"$f":"'[3]Список изделий'!AD659","v":0},{"$f":"'[3]Список изделий'!AE659","v":"мм"},{"$f":"'[3]Список изделий'!AF659","v":"00:00:00"},{"$f":"'[3]Список изделий'!AY659","v":0},{"$f":"'[3]Список изделий'!AZ659","v":"00:00:00"},-43153,-43153,0,0,{"$f":"'[3]Список изделий'!BR659","v":0},0,0]
[110,{"$f":"'[3]Список изделий'!D741","v":10},{"$f":"'[3]Список изделий'!E741","v":0},{"$f":"'[3]Список изделий'!F741","v":0},{"$f":"'[3]Список изделий'!I741","v":0},{"$f":"'[3]Список изделий'!X741","v":0},{"$f":"'[3]Список изделий'!Y741","v":0},{"$f":"'[3]Список изделий'!Z741","v":0},{"$f":"'[3]Список изделий'!AA741","v":0},{"$f":"'[3]Список изделий'!AB741","v":610},{"$f":"'[3]Список изделий'!AC741","v":"x"},{"$f":"'[3]Список изделий'!AD741","v":883},{"$f":"'[3]Список изделий'!AE741","v":"мм"},{"$f":"'[3]Список изделий'!AF741","v":"00:00:00"},{"$f":"'[3]Список изделий'!AY741","v":0},{"$f":"'[3]Список изделий'!AZ741","v":"00:00:00"},-43153,-43153,0,0,{"$f":"'[3]Список изделий'!BR741","v":0},0,0]
[111,{"$f":"'[3]Список изделий'!D823","v":11},{"$f":"'[3]Список изделий'!E823","v":0},{"$f":"'[3]Список изделий'!F823","v":0},{"$f":"'[3]Список изделий'!I823","v":0},{"$f":"'[3]Список изделий'!X823","v":0},{"$f":"'[3]Список изделий'!Y823","v":0},{"$f":"'[3]Список изделий'!Z823","v":0},{"$f":"'[3]Список изделий'!AA823","v":0},{"$f":"'[3]Список изделий'!AB823","v":0},{"$f":"'[3]Список изделий'!AC823","v":"x"},{"$f":"'[3]Список изделий'!AD823","v":0},{"$f":"'[3]Список изделий'!AE823","v":0},{"$f":"'[3]Список изделий'!AF823","v":"00:00:00"},{"$f":"'[3]Список изделий'!AY823","v":0},{"$f":"'[3]Список изделий'!AZ823","v":"00:00:00"},-43153,-43153,1,1,{"$f":"'[3]Список изделий'!BR823","v":0},1,0]
[112,{"$f":"'[3]Список изделий'!D905","v":12},{"$f":"'[3]Список изделий'!E905","v":0},{"$f":"'[3]Список изделий'!F905","v":0},{"$f":"'[3]Список изделий'!I905","v":0},{"$f":"'[3]Список изделий'!X905","v":0},{"$f":"'[3]Список изделий'!Y905","v":0},{"$f":"'[3]Список изделий'!Z905","v":0},{"$f":"'[3]Список изделий'!AA905","v":0},{"$f":"'[3]Список изделий'!AB905","v":0},{"$f":"'[3]Список изделий'!AC905","v":"x"},{"$f":"'[3]Список изделий'!AD905","v":0},{"$f":"'[3]Список изделий'!AE905","v":0},{"$f":"'[3]Список изделий'!AF905","v":"00:00:00"},{"$f":"'[3]Список изделий'!AY905","v":0},{"$f":"'[3]Список изделий'!AZ905","v":"00:00:00"},-43153,-43153,1,1,{"$f":"'[3]Список изделий'!BR905","v":0},1,0]
[113,{"$f":"'[3]Список изделий'!D987","v":13},{"$f":"'[3]Список изделий'!E987","v":0},{"$f":"'[3]Список изделий'!F987","v":0},{"$f":"'[3]Список изделий'!I987","v":0},{"$f":"'[3]Список изделий'!X987","v":0},{"$f":"'[3]Список изделий'!Y987","v":0},{"$f":"'[3]Список изделий'!Z987","v":0},{"$f":"'[3]Список изделий'!AA987","v":0},{"$f":"'[3]Список изделий'!AB987","v":0},{"$f":"'[3]Список изделий'!AC987","v":"x"},{"$f":"'[3]Список изделий'!AD987","v":0},{"$f":"'[3]Список изделий'!AE987","v":0},{"$f":"'[3]Список изделий'!AF987","v":"00:00:00"},{"$f":"'[3]Список изделий'!AY987","v":0},{"$f":"'[3]Список изделий'!AZ987","v":"00:00:00"},-43153,-43153,1,1,{"$f":"'[3]Список изделий'!BR987","v":0},1,0]
[114,{"$f":"'[3]Список изделий'!D1069","v":14},{"$f":"'[3]Список изделий'!E1069","v":0},{"$f":"'[3]Список изделий'!F1069","v":0},{"$f":"'[3]Список изделий'!I1069","v":0},{"$f":"'[3]Список изделий'!X1069","v":0},{"$f":"'[3]Список изделий'!Y1069","v":0},{"$f":"'[3]Список изделий'!Z1069","v":0},{"$f":"'[3]Список изделий'!AA1069","v":0},{"$f":"'[3]Список изделий'!AB1069","v":0},{"$f":"'[3]Список изделий'!AC1069","v":"x"},{"$f":"'[3]Список изделий'!AD1069","v":0},{"$f":"'[3]Список изделий'!AE1069","v":0},{"$f":"'[3]Список изделий'!AF1069","v":"00:00:00"},{"$f":"'[3]Список изделий'!AY1069","v":0},{"$f":"'[3]Список изделий'!AZ1069","v":"00:00:00"},-43153,-43153,0,0,{"$f":"'[3]Список изделий'!BR1069","v":0},0,0]
[115,{"$f":"'[3]Список изделий'!D1151","v":15},{"$f":"'[3]Список изделий'!E1151","v":0},{"$f":"'[3]Список изделий'!F1151","v":0},{"$f":"'[3]Список изделий'!I1151","v":0},{"$f":"'[3]Список изделий'!X1151","v":0},{"$f":"'[3]Список изделий'!Y1151","v":0},{"$f":"'[3]Список изделий'!Z1151","v":0},{"$f":"'[3]Список изделий'!AA1151","v":0},{"$f":"'[3]Список изделий'!AB1151","v":0},{"$f":"'[3]Список изделий'!AC1151","v":"x"},{"$f":"'[3]Список изделий'!AD1151","v":0},{"$f":"'[3]Список изделий'!AE1151","v":"мм"},{"$f":"'[3]Список изделий'!AF1151","v":"00:00:00"},{"$f":"'[3]Список изделий'!AY1151","v":0},{"$f":"'[3]Список изделий'!AZ1151","v":"00:00:00"},-43153,-43153,0,0,{"$f":"'[3]Список изделий'!BR1151","v":0},0,0]
[118,{"$f":"'[3]Список изделий'!D1397","v":18},{"$f":"'[3]Список изделий'!E1397","v":"П-выв-Тихая-18"},{"$f":"'[3]Список изделий'!F1397","v":"Вывеска перекресток/супермаркет 10000х1580"},{"$f":"'[3]Список изделий'!I1397","v":1},{"$f":"'[3]Список изделий'!X1397","v":"ГМА"},{"$f":"'[3]Список изделий'!Y1397","v":"Топоров"},{"$f":"'[3]Список изделий'!Z1397","v":"Жаворонков"},{"$f":"'[3]Список изделий'!AA1397","v":"Замотаев"},{"$f":"'[3]Список изделий'!AB1397","v":700},{"$f":"'[3]Список изделий'!AC1397","v":"x"},{"$f":"'[3]Список изделий'!AD1397","v":1600},{"$f":"'[3]Список изделий'!AE1397","v":"мм"},{"$f":"'[3]Список изделий'!AF1397","v":"2018-02-22"},{"$f":"'[3]Список изделий'!AY1397","v":6},{"$f":"'[3]Список изделий'!AZ1397","v":"2018-02-20"},-8,-2,1,1,{"$f":"'[3]Список изделий'!BR1397","v":0},1,0]
[119,{"$f":"'[3]Список изделий'!D1479","v":19},{"$f":"'[3]Список изделий'!E1479","v":"П-выв-Тихая-19"},{"$f":"'[3]Список изделий'!F1479","v":"Вывеска Вход 1820х500"},{"$f":"'[3]Список изделий'!I1479","v":1},{"$f":"'[3]Список изделий'!X1479","v":"ГМА"},{"$f":"'[3]Список изделий'!Y1479","v":"Топоров"},{"$f":"'[3]Список изделий'!Z1479","v":"Жаворонков"},{"$f":"'[3]Список изделий'!AA1479","v":"Замотаев"},{"$f":"'[3]Список изделий'!AB1479","v":0},{"$f":"'[3]Список изделий'!AC1479","v":"x"},{"$f":"'[3]Список изделий'!AD1479","v":0},{"$f":"'[3]Список изделий'!AE1479","v":0},{"$f":"'[3]Список изделий'!AF1479","v":"2018-02-22"},{"$f":"'[3]Список изделий'!AY1479","v":6},{"$f":"'[3]Список изделий'!AZ1479","v":"2018-02-20"},-8,-2,1,1,{"$f":"'[3]Список изделий'!BR1479","v":0},1,0]
[1101,{"$f":"'[4]Список изделий'!D3","v":1},{"$f":"'[4]Список изделий'!E3","v":"Пер-Наст-1"},{"$f":"'[4]Список изделий'!F3","v":"Фризы настенные односторонние"},{"$f":"'[4]Список изделий'!I3","v":15},{"$f":"'[4]Список изделий'!X3","v":"ГМА"},{"$f":"'[4]Список изделий'!Y3","v":"Микуло"},{"$f":"'[4]Список изделий'!Z3","v":"Закурдаев"},{"$f":"'[4]Список изделий'!AA3","v":"Замотаев"},{"$f":"'[4]Список изделий'!AB3","v":0},{"$f":"'[4]Список изделий'!AC3","v":0},{"$f":"'[4]Список изделий'!AD3","v":0},{"$f":"'[4]Список изделий'!AE3","v":0},{"$f":"'[4]Список изделий'!AF3","v":"2018-02-20"},{"$f":"'[4]Список изделий'!AY3","v":8},{"$f":"'[4]Список изделий'!AZ3","v":"2018-02-14"},-16,-8,1,1,{"$f":"'[4]Список изделий'!BR3","v":"\\\\SERVER\\Data1\\П\\Перекресток\\2018\\ОКЕЙ_Перекресток\\Наставников 33\\техничка\\01-Фризы настенные"},1,0]
[1103,{"$f":"'[4]Список изделий'!D167","v":3},{"$f":"'[4]Список изделий'!E167","v":"Пер-Наст-3"},{"$f":"'[4]Список изделий'!F167","v":"Световые вывески клееные"},{"$f":"'[4]Список изделий'!I167","v":9},{"$f":"'[4]Список изделий'!X167","v":"ГМА"},{"$f":"'[4]Список изделий'!Y167","v":"Микуло"},{"$f":"'[4]Список изделий'!Z167","v":"Закурдаев"},{"$f":"'[4]Список изделий'!AA167","v":"Замотаев"},{"$f":"'[4]Список изделий'!AB167","v":0},{"$f":"'[4]Список изделий'!AC167","v":"x"},{"$f":"'[4]Список изделий'!AD167","v":0},{"$f":"'[4]Список изделий'!AE167","v":0},{"$f":"'[4]Список изделий'!AF167","v":"2018-02-20"},{"$f":"'[4]Список изделий'!AY167","v":8},{"$f":"'[4]Список изделий'!AZ167","v":"2018-02-14"},-16,-8,0.9,0.9,{"$f":"'[4]Список изделий'!BR167","v":"\\\\SERVER\\Data1\\П\\Перекресток\\2018\\ОКЕЙ_Перекресток\\Наставников 33\\техничка\\03-Световые_вывески_отделов"},0.9,0]
[120,{"$f":"'[3]Список изделий'!D1561","v":20},{"$f":"'[3]Список изделий'!E1561","v":0},{"$f":"'[3]Список изделий'!F1561","v":0},{"$f":"'[3]Список изделий'!I1561","v":0},{"$f":"'[3]Список изделий'!X1561","v":0},{"$f":"'[3]Список изделий'!Y1561","v":0},{"$f":"'[3]Список изделий'!Z1561","v":0},{"$f":"'[3]Список изделий'!AA1561","v":0},{"$f":"'[3]Список изделий'!AB1561","v":0},{"$f":"'[3]Список изделий'!AC1561","v":"x"},{"$f":"'[3]Список изделий'!AD1561","v":0},{"$f":"'[3]Список изделий'!AE1561","v":0},{"$f":"'[3]Список изделий'!AF1561","v":"00:00:00"},{"$f":"'[3]Список изделий'!AY1561","v":0},{"$f":"'[3]Список изделий'!AZ1561","v":"00:00:00"},-43153,-43153,0,0,{"$f":"'[3]Список изделий'!BR1561","v":0},0,0]
[121,{"$f":"'[3]Список изделий'!D1643","v":21},{"$f":"'[3]Список изделий'!E1643","v":0},{"$f":"'[3]Список изделий'!F1643","v":0},{"$f":"'[3]Список изделий'!I1643","v":0},{"$f":"'[3]Список изделий'!X1643","v":0},{"$f":"'[3]Список изделий'!Y1643","v":0},{"$f":"'[3]Список изделий'!Z1643","v":0},{"$f":"'[3]Список изделий'!AA1643","v":0},{"$f":"'[3]Список изделий'!AB1643","v":0},{"$f":"'[3]Список изделий'!AC1643","v":"x"},{"$f":"'[3]Список изделий'!AD1643","v":0},{"$f":"'[3]Список изделий'!AE1643","v":0},{"$f":"'[3]Список изделий'!AF1643","v":"00:00:00"},{"$f":"'[3]Список изделий'!AY1643","v":0},{"$f":"'[3]Список изделий'!AZ1643","v":"00:00:00"},-43153,-43153,null,0,{"$f":"'[3]Список изделий'!BR1643","v":0},0,0]
[122,{"$f":"'[3]Список изделий'!D1725","v":22},{"$f":"'[3]Список изделий'!E1725","v":0},{"$f":"'[3]Список изделий'!F1725","v":0},{"$f":"'[3]Список изделий'!I1725","v":0},{"$f":"'[3]Список изделий'!X1725","v":0},{"$f":"'[3]Список изделий'!Y1725","v":0},{"$f":"'[3]Список изделий'!Z1725","v":0},{"$f":"'[3]Список изделий'!AA1725","v":0},{"$f":"'[3]Список изделий'!AB1725","v":0},{"$f":"'[3]Список изделий'!AC1725","v":"x"},{"$f":"'[3]Список изделий'!AD1725","v":0},{"$f":"'[3]Список изделий'!AE1725","v":0},{"$f":"'[3]Список изделий'!AF1725","v":"00:00:00"},{"$f":"'[3]Список изделий'!AY1725","v":0},{"$f":"'[3]Список изделий'!AZ1725","v":"00:00:00"},-43153,-43153,0,0,{"$f":"'[3]Список изделий'!BR1725","v":0},0,"\\\\SERVER\\Data1\\П\\Перекресток\\2018\\ТЕХНИЧЕСКАЯ ДОКУМЕНТАЦИЯ\\57-СУПЕРЦЕНА-треугольная(Призма)\\Сборка\\Суперцена-треугольная-сборка.cdr"]
[123,{"$f":"'[3]Список изделий'!D1807","v":23},{"$f":"'[3]Список изделий'!E1807","v":0},{"$f":"'[3]Список изделий'!F1807","v":0},{"$f":"'[3]Список изделий'!I1807","v":0},{"$f":"'[3]Список изделий'!X1807","v":0},{"$f":"'[3]Список изделий'!Y1807","v":0},{"$f":"'[3]Список изделий'!Z1807","v":0},{"$f":"'[3]Список изделий'!AA1807","v":0},{"$f":"'[3]Список изделий'!AB1807","v":0},{"$f":"'[3]Список изделий'!AC1807","v":"x"},{"$f":"'[3]Список изделий'!AD1807","v":0},{"$f":"'[3]Список изделий'!AE1807","v":0},{"$f":"'[3]Список изделий'!AF1807","v":"00:00:00"},{"$f":"'[3]Список изделий'!AY1807","v":0},{"$f":"'[3]Список изделий'!AZ1807","v":"00:00:00"},-43153,-43153,0,0,{"$f":"'[3]Список изделий'!BR1807","v":0},0,0]
[124,{"$f":"'[3]Список изделий'!D1889","v":24},{"$f":"'[3]Список изделий'!E1889","v":0},{"$f":"'[3]Список изделий'!F1889","v":0},{"$f":"'[3]Список изделий'!I1889","v":0},{"$f":"'[3]Список изделий'!X1889","v":0},{"$f":"'[3]Список изделий'!Y1889","v":0},{"$f":"'[3]Список изделий'!Z1889","v":0},{"$f":"'[3]Список изделий'!AA1889","v":0},{"$f":"'[3]Список изделий'!AB1889","v":0},{"$f":"'[3]Список изделий'!AC1889","v":"x"},{"$f":"'[3]Список изделий'!AD1889","v":0},{"$f":"'[3]Список изделий'!AE1889","v":0},{"$f":"'[3]Список изделий'!AF1889","v":"00:00:00"},{"$f":"'[3]Список изделий'!AY1889","v":0},{"$f":"'[3]Список изделий'!AZ1889","v":"00:00:00"},-43153,-43153,0,0,{"$f":"'[3]Список изделий'!BR1889","v":0},0,0]
[125,{"$f":"'[3]Список изделий'!D1971","v":25},{"$f":"'[3]Список изделий'!E1971","v":0},{"$f":"'[3]Список изделий'!F1971","v":0},{"$f":"'[3]Список изделий'!I1971","v":0},{"$f":"'[3]Список изделий'!X1971","v":0},{"$f":"'[3]Список изделий'!Y1971","v":0},{"$f":"'[3]Список изделий'!Z1971","v":0},{"$f":"'[3]Список изделий'!AA1971","v":0},{"$f":"'[3]Список изделий'!AB1971","v":0},{"$f":"'[3]Список изделий'!AC1971","v":"x"},{"$f":"'[3]Список изделий'!AD1971","v":0},{"$f":"'[3]Список изделий'!AE1971","v":"мм"},{"$f":"'[3]Список изделий'!AF1971","v":"00:00:00"},{"$f":"'[3]Список изделий'!AY1971","v":0},{"$f":"'[3]Список изделий'!AZ1971","v":"00:00:00"},-43153,-43153,0,0,{"$f":"'[3]Список изделий'!BR1971","v":0},0,0]
[126,{"$f":"'[3]Список изделий'!D2053","v":26},{"$f":"'[3]Список изделий'!E2053","v":0},{"$f":"'[3]Список изделий'!F2053","v":0},{"$f":"'[3]Список изделий'!I2053","v":0},{"$f":"'[3]Список изделий'!X2053","v":0},{"$f":"'[3]Список изделий'!Y2053","v":0},{"$f":"'[3]Список изделий'!Z2053","v":0},{"$f":"'[3]Список изделий'!AA2053","v":0},{"$f":"'[3]Список изделий'!AB2053","v":0},{"$f":"'[3]Список изделий'!AC2053","v":"x"},{"$f":"'[3]Список изделий'!AD2053","v":0},{"$f":"'[3]Список изделий'!AE2053","v":0},{"$f":"'[3]Список изделий'!AF2053","v":"00:00:00"},{"$f":"'[3]Список изделий'!AY2053","v":0},{"$f":"'[3]Список изделий'!AZ2053","v":"00:00:00"},-43153,-43153,0,0,{"$f":"'[3]Список изделий'!BR2053","v":0},0,0]
[127,{"$f":"'[3]Список изделий'!D2135","v":27},{"$f":"'[3]Список изделий'!E2135","v":0},{"$f":"'[3]Список изделий'!F2135","v":0},{"$f":"'[3]Список изделий'!I2135","v":0},{"$f":"'[3]Список изделий'!X2135","v":0},{"$f":"'[3]Список изделий'!Y2135","v":0},{"$f":"'[3]Список изделий'!Z2135","v":0},{"$f":"'[3]Список изделий'!AA2135","v":0},{"$f":"'[3]Список изделий'!AB2135","v":0},{"$f":"'[3]Список изделий'!AC2135","v":"x"},{"$f":"'[3]Список изделий'!AD2135","v":0},{"$f":"'[3]Список изделий'!AE2135","v":0},{"$f":"'[3]Список изделий'!AF2135","v":"00:00:00"},{"$f":"'[3]Список изделий'!AY2135","v":0},{"$f":"'[3]Список изделий'!AZ2135","v":"00:00:00"},-43153,-43153,0,0,{"$f":"'[3]Список изделий'!BR2135","v":0},0,0]
[128,{"$f":"'[3]Список изделий'!D2217","v":28},{"$f":"'[3]Список изделий'!E2217","v":0},{"$f":"'[3]Список изделий'!F2217","v":0},{"$f":"'[3]Список изделий'!I2217","v":0},{"$f":"'[3]Список изделий'!X2217","v":0},{"$f":"'[3]Список изделий'!Y2217","v":0},{"$f":"'[3]Список изделий'!Z2217","v":0},{"$f":"'[3]Список изделий'!AA2217","v":0},{"$f":"'[3]Список изделий'!AB2217","v":0},{"$f":"'[3]Список изделий'!AC2217","v":"x"},{"$f":"'[3]Список изделий'!AD2217","v":0},{"$f":"'[3]Список изделий'!AE2217","v":0},{"$f":"'[3]Список изделий'!AF2217","v":"00:00:00"},{"$f":"'[3]Список изделий'!AY2217","v":0},{"$f":"'[3]Список изделий'!AZ2217","v":"00:00:00"},-43153,-43153,0,0,{"$f":"'[3]Список изделий'!BR2217","v":0},0,0]
[129,{"$f":"'[3]Список изделий'!D2299","v":29},{"$f":"'[3]Список изделий'!E2299","v":0},{"$f":"'[3]Список изделий'!F2299","v":0},{"$f":"'[3]Список изделий'!I2299","v":0},{"$f":"'[3]Список изделий'!X2299","v":0},{"$f":"'[3]Список изделий'!Y2299","v":0},{"$f":"'[3]Список изделий'!Z2299","v":0},{"$f":"'[3]Список изделий'!AA2299","v":0},{"$f":"'[3]Список изделий'!AB2299","v":0},{"$f":"'[3]Список изделий'!AC2299","v":"x"},{"$f":"'[3]Список изделий'!AD2299","v":0},{"$f":"'[3]Список изделий'!AE2299","v":0},{"$f":"'[3]Список изделий'!AF2299","v":"00:00:00"},{"$f":"'[3]Список изделий'!AY2299","v":0},{"$f":"'[3]Список изделий'!AZ2299","v":"00:00:00"},-43153,-43153,0,0,{"$f":"'[3]Список изделий'!BR2299","v":0},0,0]
[130,{"$f":"'[3]Список изделий'!D2381","v":30},{"$f":"'[3]Список изделий'!E2381","v":0},{"$f":"'[3]Список изделий'!F2381","v":0},{"$f":"'[3]Список изделий'!I2381","v":0},{"$f":"'[3]Список изделий'!X2381","v":0},{"$f":"'[3]Список изделий'!Y2381","v":0},{"$f":"'[3]Список изделий'!Z2381","v":0},{"$f":"'[3]Список изделий'!AA2381","v":0},{"$f":"'[3]Список изделий'!AB2381","v":0},{"$f":"'[3]Список изделий'!AC2381","v":"x"},{"$f":"'[3]Список изделий'!AD2381","v":0},{"$f":"'[3]Список изделий'!AE2381","v":"мм"},{"$f":"'[3]Список изделий'!AF2381","v":"00:00:00"},{"$f":"'[3]Список изделий'!AY2381","v":0},{"$f":"'[3]Список изделий'!AZ2381","v":"00:00:00"},{"$f":"IF(O132=\"нет в заказе\",\"нет в заказе\",-(TODAY()-(P132-O132)))","v":-43153},{"$f":"IF(Q132=\"нет в заказе\",\"нет взаказе\",-(IF(O132=\"нет в заказе\",\"нет в заказе\",TODAY()-P132)))","v":-43153},0,{"$f":"V132","v":0},{"$f":"'[3]Список изделий'!BR2381","v":0},{"$f":"IF(S132>=0,S132,IF(T132>S132,T132,S132))","v":0},0]
[131,{"$f":"'[3]Список изделий'!D2463","v":31},{"$f":"'[3]Список изделий'!E2463","v":0},{"$f":"'[3]Список изделий'!F2463","v":0},{"$f":"'[3]Список изделий'!I2463","v":0},{"$f":"'[3]Список изделий'!X2463","v":0},{"$f":"'[3]Список изделий'!Y2463","v":0},{"$f":"'[3]Список изделий'!Z2463","v":0},{"$f":"'[3]Список изделий'!AA2463","v":0},{"$f":"'[3]Список изделий'!AB2463","v":0},{"$f":"'[3]Список изделий'!AC2463","v":"x"},{"$f":"'[3]Список изделий'!AD2463","v":0},{"$f":"'[3]Список изделий'!AE2463","v":0},{"$f":"'[3]Список изделий'!AF2463","v":"00:00:00"},{"$f":"'[3]Список изделий'!AY2463","v":0},{"$f":"'[3]Список изделий'!AZ2463","v":"00:00:00"},-43153,-43153,0,0,{"$f":"'[3]Список изделий'!BR2463","v":0},0,"\\\\SERVER\\Data1\\П\\Перекресток\\2018\\ТЕХНИЧЕСКАЯ ДОКУМЕНТАЦИЯ\\11-Карман_круглый_двухсторонний_(ПромоКруг)\\Сборка\\Круг_Промо-сборка.cdr"]
[132,{"$f":"'[3]Список изделий'!D2545","v":32},{"$f":"'[3]Список изделий'!E2545","v":0},{"$f":"'[3]Список изделий'!F2545","v":0},{"$f":"'[3]Список изделий'!I2545","v":0},{"$f":"'[3]Список изделий'!X2545","v":0},{"$f":"'[3]Список изделий'!Y2545","v":0},{"$f":"'[3]Список изделий'!Z2545","v":0},{"$f":"'[3]Список изделий'!AA2545","v":0},{"$f":"'[3]Список изделий'!AB2545","v":0},{"$f":"'[3]Список изделий'!AC2545","v":"x"},{"$f":"'[3]Список изделий'!AD2545","v":0},{"$f":"'[3]Список изделий'!AE2545","v":0},{"$f":"'[3]Список изделий'!AF2545","v":"00:00:00"},{"$f":"'[3]Список изделий'!AY2545","v":0},{"$f":"'[3]Список изделий'!AZ2545","v":"00:00:00"},-43153,-43153,0,0,{"$f":"'[3]Список изделий'!BR2545","v":0},0,"\\\\SERVER\\Data1\\П\\Перекресток\\2018\\ТЕХНИЧЕСКАЯ ДОКУМЕНТАЦИЯ\\58-СУПЕРЦЕНА-одинарная_подвесная\\Сборка\\суперцена_плоская-сборка.cdr"]
[133,{"$f":"'[3]Список изделий'!D2627","v":33},{"$f":"'[3]Список изделий'!E2627","v":0},{"$f":"'[3]Список изделий'!F2627","v":0},{"$f":"'[3]Список изделий'!I2627","v":0},{"$f":"'[3]Список изделий'!X2627","v":0},{"$f":"'[3]Список изделий'!Y2627","v":0},{"$f":"'[3]Список изделий'!Z2627","v":0},{"$f":"'[3]Список изделий'!AA2627","v":0},{"$f":"'[3]Список изделий'!AB2627","v":0},{"$f":"'[3]Список изделий'!AC2627","v":"x"},{"$f":"'[3]Список изделий'!AD2627","v":0},{"$f":"'[3]Список изделий'!AE2627","v":0},{"$f":"'[3]Список изделий'!AF2627","v":"00:00:00"},{"$f":"'[3]Список изделий'!AY2627","v":0},{"$f":"'[3]Список изделий'!AZ2627","v":"00:00:00"},-43153,-43153,0,0,{"$f":"'[3]Список изделий'!BR2627","v":0},0,0]
[134,{"$f":"'[3]Список изделий'!D2709","v":34},{"$f":"'[3]Список изделий'!E2709","v":0},{"$f":"'[3]Список изделий'!F2709","v":0},{"$f":"'[3]Список изделий'!I2709","v":0},{"$f":"'[3]Список изделий'!X2709","v":0},{"$f":"'[3]Список изделий'!Y2709","v":0},{"$f":"'[3]Список изделий'!Z2709","v":0},{"$f":"'[3]Список изделий'!AA2709","v":0},{"$f":"'[3]Список изделий'!AB2709","v":0},{"$f":"'[3]Список изделий'!AC2709","v":"x"},{"$f":"'[3]Список изделий'!AD2709","v":0},{"$f":"'[3]Список изделий'!AE2709","v":0},{"$f":"'[3]Список изделий'!AF2709","v":"00:00:00"},{"$f":"'[3]Список изделий'!AY2709","v":0},{"$f":"'[3]Список изделий'!AZ2709","v":"00:00:00"},-43153,-43153,0,0,{"$f":"'[3]Список изделий'!BR2709","v":0},0,"\\\\SERVER\\Data1\\П\\Перекресток\\2018\\ТЕХНИЧЕСКАЯ ДОКУМЕНТАЦИЯ\\17-Стикер-задник_ПД_ФРОВ\\Сборка\\стикеры_зад_ПД-ФРОВ-сборка.cdr"]
[135,{"$f":"'[3]Список изделий'!D2791","v":35},{"$f":"'[3]Список изделий'!E2791","v":0},{"$f":"'[3]Список изделий'!F2791","v":0},{"$f":"'[3]Список изделий'!I2791","v":0},{"$f":"'[3]Список изделий'!X2791","v":0},{"$f":"'[3]Список изделий'!Y2791","v":0},{"$f":"'[3]Список изделий'!Z2791","v":0},{"$f":"'[3]Список изделий'!AA2791","v":0},{"$f":"'[3]Список изделий'!AB2791","v":0},{"$f":"'[3]Список изделий'!AC2791","v":"x"},{"$f":"'[3]Список изделий'!AD2791","v":0},{"$f":"'[3]Список изделий'!AE2791","v":0},{"$f":"'[3]Список изделий'!AF2791","v":"00:00:00"},{"$f":"'[3]Список изделий'!AY2791","v":0},{"$f":"'[3]Список изделий'!AZ2791","v":"00:00:00"},-43153,-43153,0,0,{"$f":"'[3]Список изделий'!BR2791","v":0},0,0]
[136,{"$f":"'[3]Список изделий'!D2873","v":36},{"$f":"'[3]Список изделий'!E2873","v":0},{"$f":"'[3]Список изделий'!F2873","v":0},{"$f":"'[3]Список изделий'!I2873","v":0},{"$f":"'[3]Список изделий'!X2873","v":0},{"$f":"'[3]Список изделий'!Y2873","v":0},{"$f":"'[3]Список изделий'!Z2873","v":0},{"$f":"'[3]Список изделий'!AA2873","v":0},{"$f":"'[3]Список изделий'!AB2873","v":18000},{"$f":"'[3]Список изделий'!AC2873","v":"x"},{"$f":"'[3]Список изделий'!AD2873","v":1450},{"$f":"'[3]Список изделий'!AE2873","v":"мм"},{"$f":"'[3]Список изделий'!AF2873","v":"00:00:00"},{"$f":"'[3]Список изделий'!AY2873","v":0},{"$f":"'[3]Список изделий'!AZ2873","v":"00:00:00"},-43153,-43153,null,0,{"$f":"'[3]Список изделий'!BR2873","v":0},0,0]
[137,{"$f":"'[3]Список изделий'!D2955","v":37},{"$f":"'[3]Список изделий'!E2955","v":0},{"$f":"'[3]Список изделий'!F2955","v":0},{"$f":"'[3]Список изделий'!I2955","v":0},{"$f":"'[3]Список изделий'!X2955","v":0},{"$f":"'[3]Список изделий'!Y2955","v":0},{"$f":"'[3]Список изделий'!Z2955","v":0},{"$f":"'[3]Список изделий'!AA2955","v":0},{"$f":"'[3]Список изделий'!AB2955","v":0},{"$f":"'[3]Список изделий'!AC2955","v":"x"},{"$f":"'[3]Список изделий'!AD2955","v":0},{"$f":"'[3]Список изделий'!AE2955","v":0},{"$f":"'[3]Список изделий'!AF2955","v":"00:00:00"},{"$f":"'[3]Список изделий'!AY2955","v":0},{"$f":"'[3]Список изделий'!AZ2955","v":"00:00:00"},-43153,-43153,0,0,{"$f":"'[3]Список изделий'!BR2955","v":0},0,"\\\\SERVER\\Data1\\П\\Перекресток\\2018\\МОСКВА_18\\Балаклавский пр. 16А\\Техничка\\24-холодильник_ИКРА"]
[138,{"$f":"'[3]Список изделий'!D3037","v":38},{"$f":"'[3]Список изделий'!E3037","v":0},{"$f":"'[3]Список изделий'!F3037","v":0},{"$f":"'[3]Список изделий'!I3037","v":0},{"$f":"'[3]Список изделий'!X3037","v":0},{"$f":"'[3]Список изделий'!Y3037","v":0},{"$f":"'[3]Список изделий'!Z3037","v":0},{"$f":"'[3]Список изделий'!AA3037","v":0},{"$f":"'[3]Список изделий'!AB3037","v":300},{"$f":"'[3]Список изделий'!AC3037","v":"x"},{"$f":"'[3]Список изделий'!AD3037","v":390},{"$f":"'[3]Список изделий'!AE3037","v":"мм"},{"$f":"'[3]Список изделий'!AF3037","v":"00:00:00"},{"$f":"'[3]Список изделий'!AY3037","v":0},{"$f":"'[3]Список изделий'!AZ3037","v":"00:00:00"},-43153,-43153,0,0,{"$f":"'[3]Список изделий'!BR3037","v":0},0,"\\\\SERVER\\Data1\\П\\Перекресток\\2018\\МОСКВА_18\\Балаклавский пр. 16А\\Техничка\\25-Мясной_разруб"]
[139,{"$f":"'[3]Список изделий'!D3119","v":39},{"$f":"'[3]Список изделий'!E3119","v":0},{"$f":"'[3]Список изделий'!F3119","v":0},{"$f":"'[3]Список изделий'!I3119","v":0},{"$f":"'[3]Список изделий'!X3119","v":0},{"$f":"'[3]Список изделий'!Y3119","v":0},{"$f":"'[3]Список изделий'!Z3119","v":0},{"$f":"'[3]Список изделий'!AA3119","v":0},{"$f":"'[3]Список изделий'!AB3119","v":0},{"$f":"'[3]Список изделий'!AC3119","v":"x"},{"$f":"'[3]Список изделий'!AD3119","v":0},{"$f":"'[3]Список изделий'!AE3119","v":"мм"},{"$f":"'[3]Список изделий'!AF3119","v":"00:00:00"},{"$f":"'[3]Список изделий'!AY3119","v":0},{"$f":"'[3]Список изделий'!AZ3119","v":"00:00:00"},-43153,-43153,0,0,{"$f":"'[3]Список изделий'!BR3119","v":0},0,"\\\\SERVER\\Data1\\П\\Перекресток\\2018\\ТЕХНИЧЕСКАЯ ДОКУМЕНТАЦИЯ\\27-Быстро_и_вкусно\\Сборка\\БиВ-комплект.jpg"]
[140,{"$f":"'[3]Список изделий'!D3201","v":40},{"$f":"'[3]Список изделий'!E3201","v":0},{"$f":"'[3]Список изделий'!F3201","v":0},{"$f":"'[3]Список изделий'!I3201","v":0},{"$f":"'[3]Список изделий'!X3201","v":0},{"$f":"'[3]Список изделий'!Y3201","v":0},{"$f":"'[3]Список изделий'!Z3201","v":0},{"$f":"'[3]Список изделий'!AA3201","v":0},{"$f":"'[3]Список изделий'!AB3201","v":0},{"$f":"'[3]Список изделий'!AC3201","v":"x"},{"$f":"'[3]Список изделий'!AD3201","v":0},{"$f":"'[3]Список изделий'!AE3201","v":"мм"},{"$f":"'[3]Список изделий'!AF3201","v":"00:00:00"},{"$f":"'[3]Список изделий'!AY3201","v":0},{"$f":"'[3]Список изделий'!AZ3201","v":"00:00:00"},-43153,-43153,0,0,{"$f":"'[3]Список изделий'!BR3201","v":0},0,0]
[141,{"$f":"'[3]Список изделий'!D3283","v":41},{"$f":"'[3]Список изделий'!E3283","v":0},{"$f":"'[3]Список изделий'!F3283","v":0},{"$f":"'[3]Список изделий'!I3283","v":0},{"$f":"'[3]Список изделий'!X3283","v":0},{"$f":"'[3]Список изделий'!Y3283","v":0},{"$f":"'[3]Список изделий'!Z3283","v":0},{"$f":"'[3]Список изделий'!AA3283","v":0},{"$f":"'[3]Список изделий'!AB3283","v":0},{"$f":"'[3]Список изделий'!AC3283","v":"x"},{"$f":"'[3]Список изделий'!AD3283","v":0},{"$f":"'[3]Список изделий'!AE3283","v":0},{"$f":"'[3]Список изделий'!AF3283","v":"00:00:00"},{"$f":"'[3]Список изделий'!AY3283","v":0},{"$f":"'[3]Список изделий'!AZ3283","v":"00:00:00"},-43153,-43153,null,0,{"$f":"'[3]Список изделий'!BR3283","v":0},0,0]
[142,{"$f":"'[3]Список изделий'!D3365","v":42},{"$f":"'[3]Список изделий'!E3365","v":0},{"$f":"'[3]Список изделий'!F3365","v":0},{"$f":"'[3]Список изделий'!I3365","v":0},{"$f":"'[3]Список изделий'!X3365","v":0},{"$f":"'[3]Список изделий'!Y3365","v":0},{"$f":"'[3]Список изделий'!Z3365","v":0},{"$f":"'[3]Список изделий'!AA3365","v":0},{"$f":"'[3]Список изделий'!AB3365","v":0},{"$f":"'[3]Список изделий'!AC3365","v":"x"},{"$f":"'[3]Список изделий'!AD3365","v":0},{"$f":"'[3]Список изделий'!AE3365","v":0},{"$f":"'[3]Список изделий'!AF3365","v":"00:00:00"},{"$f":"'[3]Список изделий'!AY3365","v":0},{"$f":"'[3]Список изделий'!AZ3365","v":"00:00:00"},-43153,-43153,null,0,{"$f":"'[3]Список изделий'!BR3365","v":0},0,0]
[143,{"$f":"'[3]Список изделий'!D3447","v":43},{"$f":"'[3]Список изделий'!E3447","v":0},{"$f":"'[3]Список изделий'!F3447","v":0},{"$f":"'[3]Список изделий'!I3447","v":0},{"$f":"'[3]Список изделий'!X3447","v":0},{"$f":"'[3]Список изделий'!Y3447","v":0},{"$f":"'[3]Список изделий'!Z3447","v":0},{"$f":"'[3]Список изделий'!AA3447","v":0},{"$f":"'[3]Список изделий'!AB3447","v":0},{"$f":"'[3]Список изделий'!AC3447","v":"x"},{"$f":"'[3]Список изделий'!AD3447","v":0},{"$f":"'[3]Список изделий'!AE3447","v":0},{"$f":"'[3]Список изделий'!AF3447","v":"00:00:00"},{"$f":"'[3]Список изделий'!AY3447","v":0},{"$f":"'[3]Список изделий'!AZ3447","v":"00:00:00"},-43153,-43153,0,0,{"$f":"'[3]Список изделий'!BR3447","v":0},0,"\\\\SERVER\\Data1\\П\\Перекресток\\2018\\МОСКВА_18\\Балаклавский пр. 16А\\Техничка\\36-Служебные_таблички"]
[144,{"$f":"'[3]Список изделий'!D3529","v":44},{"$f":"'[3]Список изделий'!E3529","v":0},{"$f":"'[3]Список изделий'!F3529","v":0},{"$f":"'[3]Список изделий'!I3529","v":0},{"$f":"'[3]Список изделий'!X3529","v":0},{"$f":"'[3]Список изделий'!Y3529","v":0},{"$f":"'[3]Список изделий'!Z3529","v":0},{"$f":"'[3]Список изделий'!AA3529","v":0},{"$f":"'[3]Список изделий'!AB3529","v":0},{"$f":"'[3]Список изделий'!AC3529","v":"x"},{"$f":"'[3]Список изделий'!AD3529","v":0},{"$f":"'[3]Список изделий'!AE3529","v":0},{"$f":"'[3]Список изделий'!AF3529","v":"00:00:00"},{"$f":"'[3]Список изделий'!AY3529","v":0},{"$f":"'[3]Список изделий'!AZ3529","v":"00:00:00"},-43153,-43153,0,0,{"$f":"'[3]Список изделий'!BR3529","v":0},0,0]
[145,{"$f":"'[3]Список изделий'!D3611","v":45},{"$f":"'[3]Список изделий'!E3611","v":0},{"$f":"'[3]Список изделий'!F3611","v":0},{"$f":"'[3]Список изделий'!I3611","v":0},{"$f":"'[3]Список изделий'!X3611","v":0},{"$f":"'[3]Список изделий'!Y3611","v":0},{"$f":"'[3]Список изделий'!Z3611","v":0},{"$f":"'[3]Список изделий'!AA3611","v":0},{"$f":"'[3]Список изделий'!AB3611","v":0},{"$f":"'[3]Список изделий'!AC3611","v":"x"},{"$f":"'[3]Список изделий'!AD3611","v":0},{"$f":"'[3]Список изделий'!AE3611","v":0},{"$f":"'[3]Список изделий'!AF3611","v":"00:00:00"},{"$f":"'[3]Список изделий'!AY3611","v":0},{"$f":"'[3]Список изделий'!AZ3611","v":"00:00:00"},-43153,-43153,0,0,{"$f":"'[3]Список изделий'!BR3611","v":0},0,0]
[1104,{"$f":"'[4]Список изделий'!D249","v":4},{"$f":"'[4]Список изделий'!E249","v":"Пер-Наст-4"},{"$f":"'[4]Список изделий'!F249","v":"Пиктограммы на стену"},{"$f":"'[4]Список изделий'!I249","v":9},{"$f":"'[4]Список изделий'!X249","v":"ГМА"},{"$f":"'[4]Список изделий'!Y249","v":"Микуло"},{"$f":"'[4]Список изделий'!Z249","v":"Закурдаев"},{"$f":"'[4]Список изделий'!AA249","v":"Замотаев"},{"$f":"'[4]Список изделий'!AB249","v":0},{"$f":"'[4]Список изделий'!AC249","v":"x"},{"$f":"'[4]Список изделий'!AD249","v":0},{"$f":"'[4]Список изделий'!AE249","v":0},{"$f":"'[4]Список изделий'!AF249","v":"2018-02-20"},{"$f":"'[4]Список изделий'!AY249","v":8},{"$f":"'[4]Список изделий'!AZ249","v":"2018-02-14"},-16,-8,0,0,{"$f":"'[4]Список изделий'!BR249","v":"\\\\SERVER\\Data1\\П\\Перекресток\\2018\\ОКЕЙ_Перекресток\\Наставников 33\\техничка\\04-Пиктограммы на стену\\Сборка\\04-Пиктограммы на стену.cdr"},0,"\\\\SERVER\\Data1\\П\\Перекресток\\2018\\МОСКВА_18\\Балаклавский пр. 16А\\Техничка\\42-Табличка_Контрольные_Весы"]
[1105,{"$f":"'[4]Список изделий'!D331","v":5},{"$f":"'[4]Список изделий'!E331","v":"Пер-Наст-5"},{"$f":"'[4]Список изделий'!F331","v":"Грифельные доски"},{"$f":"'[4]Список изделий'!I331","v":7},{"$f":"'[4]Список изделий'!X331","v":"ГМА"},{"$f":"'[4]Список изделий'!Y331","v":"Микуло"},{"$f":"'[4]Список изделий'!Z331","v":"Закурдаев"},{"$f":"'[4]Список изделий'!AA331","v":"Замотаев"},{"$f":"'[4]Список изделий'!AB331","v":0},{"$f":"'[4]Список изделий'!AC331","v":"x"},{"$f":"'[4]Список изделий'!AD331","v":0},{"$f":"'[4]Список изделий'!AE331","v":0},{"$f":"'[4]Список изделий'!AF331","v":"2018-02-20"},{"$f":"'[4]Список изделий'!AY331","v":8},{"$f":"'[4]Список изделий'!AZ331","v":"2018-02-14"},-16,-8,0.5,0.5,{"$f":"'[4]Список изделий'!BR331","v":"\\\\SERVER\\Data1\\П\\Перекресток\\2018\\ОКЕЙ_Перекресток\\Наставников 33\\техничка\\05-Грифельные_доски\\Сборка\\Грифельные_Доски_сборка.cdr"},0.5,"\\\\SERVER\\Data1\\П\\Перекресток\\2018\\МОСКВА_18\\Балаклавский пр. 16А\\Техничка\\44-Алкогольные_разделители-200х38"]
[148,{"$f":"'[3]Список изделий'!D3857","v":48},{"$f":"'[3]Список изделий'!E3857","v":0},{"$f":"'[3]Список изделий'!F3857","v":0},{"$f":"'[3]Список изделий'!I3857","v":0},{"$f":"'[3]Список изделий'!X3857","v":0},{"$f":"'[3]Список изделий'!Y3857","v":0},{"$f":"'[3]Список изделий'!Z3857","v":0},{"$f":"'[3]Список изделий'!AA3857","v":0},{"$f":"'[3]Список изделий'!AB3857","v":0},{"$f":"'[3]Список изделий'!AC3857","v":"x"},{"$f":"'[3]Список изделий'!AD3857","v":0},{"$f":"'[3]Список изделий'!AE3857","v":0},{"$f":"'[3]Список изделий'!AF3857","v":"00:00:00"},{"$f":"'[3]Список изделий'!AY3857","v":0},{"$f":"'[3]Список изделий'!AZ3857","v":"00:00:00"},-43153,-43153,0,0,{"$f":"'[3]Список изделий'!BR3857","v":0},0,0]
[149,{"$f":"'[3]Список изделий'!D3939","v":49},{"$f":"'[3]Список изделий'!E3939","v":0},{"$f":"'[3]Список изделий'!F3939","v":0},{"$f":"'[3]Список изделий'!I3939","v":0},{"$f":"'[3]Список изделий'!X3939","v":0},{"$f":"'[3]Список изделий'!Y3939","v":0},{"$f":"'[3]Список изделий'!Z3939","v":0},{"$f":"'[3]Список изделий'!AA3939","v":0},{"$f":"'[3]Список изделий'!AB3939","v":0},{"$f":"'[3]Список изделий'!AC3939","v":"x"},{"$f":"'[3]Список изделий'!AD3939","v":0},{"$f":"'[3]Список изделий'!AE3939","v":0},{"$f":"'[3]Список изделий'!AF3939","v":"00:00:00"},{"$f":"'[3]Список изделий'!AY3939","v":0},{"$f":"'[3]Список изделий'!AZ3939","v":"00:00:00"},-43153,-43153,0,0,{"$f":"'[3]Список изделий'!BR3939","v":0},0,0]
[150,{"$f":"'[3]Список изделий'!D4021","v":50},{"$f":"'[3]Список изделий'!E4021","v":0},{"$f":"'[3]Список изделий'!F4021","v":0},{"$f":"'[3]Список изделий'!I4021","v":0},{"$f":"'[3]Список изделий'!X4021","v":0},{"$f":"'[3]Список изделий'!Y4021","v":0},{"$f":"'[3]Список изделий'!Z4021","v":0},{"$f":"'[3]Список изделий'!AA4021","v":0},{"$f":"'[3]Список изделий'!AB4021","v":0},{"$f":"'[3]Список изделий'!AC4021","v":"x"},{"$f":"'[3]Список изделий'!AD4021","v":0},{"$f":"'[3]Список изделий'!AE4021","v":0},{"$f":"'[3]Список изделий'!AF4021","v":"00:00:00"},{"$f":"'[3]Список изделий'!AY4021","v":0},{"$f":"'[3]Список изделий'!AZ4021","v":"00:00:00"},-43153,-43153,0,0,{"$f":"'[3]Список изделий'!BR4021","v":0},0,0]
[151,{"$f":"'[3]Список изделий'!D4103","v":51},{"$f":"'[3]Список изделий'!E4103","v":0},{"$f":"'[3]Список изделий'!F4103","v":0},{"$f":"'[3]Список изделий'!I4103","v":0},{"$f":"'[3]Список изделий'!X4103","v":0},{"$f":"'[3]Список изделий'!Y4103","v":0},{"$f":"'[3]Список изделий'!Z4103","v":0},{"$f":"'[3]Список изделий'!AA4103","v":0},{"$f":"'[3]Список изделий'!AB4103","v":0},{"$f":"'[3]Список изделий'!AC4103","v":"x"},{"$f":"'[3]Список изделий'!AD4103","v":0},{"$f":"'[3]Список изделий'!AE4103","v":0},{"$f":"'[3]Список изделий'!AF4103","v":"00:00:00"},{"$f":"'[3]Список изделий'!AY4103","v":0},{"$f":"'[3]Список изделий'!AZ4103","v":"00:00:00"},-43153,-43153,0,0,{"$f":"'[3]Список изделий'!BR4103","v":0},0,0]
[152,{"$f":"'[3]Список изделий'!D4185","v":52},{"$f":"'[3]Список изделий'!E4185","v":0},{"$f":"'[3]Список изделий'!F4185","v":0},{"$f":"'[3]Список изделий'!I4185","v":0},{"$f":"'[3]Список изделий'!X4185","v":0},{"$f":"'[3]Список изделий'!Y4185","v":0},{"$f":"'[3]Список изделий'!Z4185","v":0},{"$f":"'[3]Список изделий'!AA4185","v":0},{"$f":"'[3]Список изделий'!AB4185","v":0},{"$f":"'[3]Список изделий'!AC4185","v":"x"},{"$f":"'[3]Список изделий'!AD4185","v":0},{"$f":"'[3]Список изделий'!AE4185","v":0},{"$f":"'[3]Список изделий'!AF4185","v":"00:00:00"},{"$f":"'[3]Список изделий'!AY4185","v":0},{"$f":"'[3]Список изделий'!AZ4185","v":"00:00:00"},-43153,-43153,0,0,{"$f":"'[3]Список изделий'!BR4185","v":0},0,0]
[153,{"$f":"'[3]Список изделий'!D4267","v":53},{"$f":"'[3]Список изделий'!E4267","v":0},{"$f":"'[3]Список изделий'!F4267","v":0},{"$f":"'[3]Список изделий'!I4267","v":0},{"$f":"'[3]Список изделий'!X4267","v":0},{"$f":"'[3]Список изделий'!Y4267","v":0},{"$f":"'[3]Список изделий'!Z4267","v":0},{"$f":"'[3]Список изделий'!AA4267","v":0},{"$f":"'[3]Список изделий'!AB4267","v":0},{"$f":"'[3]Список изделий'!AC4267","v":"x"},{"$f":"'[3]Список изделий'!AD4267","v":0},{"$f":"'[3]Список изделий'!AE4267","v":0},{"$f":"'[3]Список изделий'!AF4267","v":"00:00:00"},{"$f":"'[3]Список изделий'!AY4267","v":0},{"$f":"'[3]Список изделий'!AZ4267","v":"00:00:00"},-43153,-43153,0,0,{"$f":"'[3]Список изделий'!BR4267","v":0},0,0]
[154,{"$f":"'[3]Список изделий'!D4349","v":54},{"$f":"'[3]Список изделий'!E4349","v":0},{"$f":"'[3]Список изделий'!F4349","v":0},{"$f":"'[3]Список изделий'!I4349","v":0},{"$f":"'[3]Список изделий'!X4349","v":0},{"$f":"'[3]Список изделий'!Y4349","v":0},{"$f":"'[3]Список изделий'!Z4349","v":0},{"$f":"'[3]Список изделий'!AA4349","v":0},{"$f":"'[3]Список изделий'!AB4349","v":400},{"$f":"'[3]Список изделий'!AC4349","v":"x"},{"$f":"'[3]Список изделий'!AD4349","v":600},{"$f":"'[3]Список изделий'!AE4349","v":"мм"},{"$f":"'[3]Список изделий'!AF4349","v":"00:00:00"},{"$f":"'[3]Список изделий'!AY4349","v":0},{"$f":"'[3]Список изделий'!AZ4349","v":"00:00:00"},-43153,-43153,0,0,{"$f":"'[3]Список изделий'!BR4349","v":0},0,"\\\\SERVER\\Data1\\П\\Перекресток\\2018\\ТЕХНИЧЕСКАЯ ДОКУМЕНТАЦИЯ\\57-СУПЕРЦЕНА-треугольная(Призма)\\Сборка\\Суперцена-треугольная-сборка.cdr"]
[155,{"$f":"'[3]Список изделий'!D4431","v":55},{"$f":"'[3]Список изделий'!E4431","v":0},{"$f":"'[3]Список изделий'!F4431","v":0},{"$f":"'[3]Список изделий'!I4431","v":0},{"$f":"'[3]Список изделий'!X4431","v":0},{"$f":"'[3]Список изделий'!Y4431","v":0},{"$f":"'[3]Список изделий'!Z4431","v":0},{"$f":"'[3]Список изделий'!AA4431","v":0},{"$f":"'[3]Список изделий'!AB4431","v":400},{"$f":"'[3]Список изделий'!AC4431","v":"x"},{"$f":"'[3]Список изделий'!AD4431","v":600},{"$f":"'[3]Список изделий'!AE4431","v":"мм"},{"$f":"'[3]Список изделий'!AF4431","v":"00:00:00"},{"$f":"'[3]Список изделий'!AY4431","v":0},{"$f":"'[3]Список изделий'!AZ4431","v":"00:00:00"},-43153,-43153,0,0,{"$f":"'[3]Список изделий'!BR4431","v":0},0,0]
[1106,{"$f":"'[4]Список изделий'!D413","v":6},{"$f":"'[4]Список изделий'!E413","v":"Пер-Наст-6"},{"$f":"'[4]Список изделий'!F413","v":"Стикеры \"Суперцена\" на гриф. Доски (задняя часть)"},{"$f":"'[4]Список изделий'!I413","v":7},{"$f":"'[4]Список изделий'!X413","v":"ГМА"},{"$f":"'[4]Список изделий'!Y413","v":"Микуло"},{"$f":"'[4]Список изделий'!Z413","v":"Закурдаев"},{"$f":"'[4]Список изделий'!AA413","v":"Замотаев"},{"$f":"'[4]Список изделий'!AB413","v":0},{"$f":"'[4]Список изделий'!AC413","v":"x"},{"$f":"'[4]Список изделий'!AD413","v":0},{"$f":"'[4]Список изделий'!AE413","v":0},{"$f":"'[4]Список изделий'!AF413","v":"2018-02-20"},{"$f":"'[4]Список изделий'!AY413","v":8},{"$f":"'[4]Список изделий'!AZ413","v":"2018-02-14"},-16,-8,0,0,{"$f":"'[4]Список изделий'!BR413","v":"\\\\SERVER\\Data1\\П\\Перекресток\\2018\\ОКЕЙ_Перекресток\\Наставников 33\\техничка\\06-стикер_СУПЕРЦЕНА_ГД\\Сборка\\ГД_стикер_СЦ-сборка.cdr"},0,0]
[157,{"$f":"'[3]Список изделий'!D4595","v":57},{"$f":"'[3]Список изделий'!E4595","v":0},{"$f":"'[3]Список изделий'!F4595","v":0},{"$f":"'[3]Список изделий'!I4595","v":0},{"$f":"'[3]Список изделий'!X4595","v":0},{"$f":"'[3]Список изделий'!Y4595","v":0},{"$f":"'[3]Список изделий'!Z4595","v":0},{"$f":"'[3]Список изделий'!AA4595","v":0},{"$f":"'[3]Список изделий'!AB4595","v":600},{"$f":"'[3]Список изделий'!AC4595","v":"x"},{"$f":"'[3]Список изделий'!AD4595","v":895},{"$f":"'[3]Список изделий'!AE4595","v":0},{"$f":"'[3]Список изделий'!AF4595","v":"00:00:00"},{"$f":"'[3]Список изделий'!AY4595","v":0},{"$f":"'[3]Список изделий'!AZ4595","v":"00:00:00"},-43153,-43153,0,0,{"$f":"'[3]Список изделий'!BR4595","v":0},0,"\\\\SERVER\\Data1\\П\\Перекресток\\2018\\МОСКВА_18\\Балаклавский пр. 16А\\Техничка\\76-Пилон-660х1600"]
[158,{"$f":"'[3]Список изделий'!D4677","v":58},{"$f":"'[3]Список изделий'!E4677","v":0},{"$f":"'[3]Список изделий'!F4677","v":0},{"$f":"'[3]Список изделий'!I4677","v":0},{"$f":"'[3]Список изделий'!X4677","v":0},{"$f":"'[3]Список изделий'!Y4677","v":0},{"$f":"'[3]Список изделий'!Z4677","v":0},{"$f":"'[3]Список изделий'!AA4677","v":0},{"$f":"'[3]Список изделий'!AB4677","v":618},{"$f":"'[3]Список изделий'!AC4677","v":"x"},{"$f":"'[3]Список изделий'!AD4677","v":925},{"$f":"'[3]Список изделий'!AE4677","v":"мм"},{"$f":"'[3]Список изделий'!AF4677","v":"00:00:00"},{"$f":"'[3]Список изделий'!AY4677","v":0},{"$f":"'[3]Список изделий'!AZ4677","v":"00:00:00"},-43153,-43153,0,0,{"$f":"'[3]Список изделий'!BR4677","v":0},0,"\\\\SERVER\\Data1\\П\\Перекресток\\2018\\МОСКВА_18\\Балаклавский пр. 16А\\Техничка\\77-Бумага_для_пилона"]
[159,{"$f":"'[3]Список изделий'!D4759","v":59},{"$f":"'[3]Список изделий'!E4759","v":0},{"$f":"'[3]Список изделий'!F4759","v":0},{"$f":"'[3]Список изделий'!I4759","v":0},{"$f":"'[3]Список изделий'!X4759","v":0},{"$f":"'[3]Список изделий'!Y4759","v":0},{"$f":"'[3]Список изделий'!Z4759","v":0},{"$f":"'[3]Список изделий'!AA4759","v":0},{"$f":"'[3]Список изделий'!AB4759","v":0},{"$f":"'[3]Список изделий'!AC4759","v":"x"},{"$f":"'[3]Список изделий'!AD4759","v":0},{"$f":"'[3]Список изделий'!AE4759","v":"мм"},{"$f":"'[3]Список изделий'!AF4759","v":"00:00:00"},{"$f":"'[3]Список изделий'!AY4759","v":0},{"$f":"'[3]Список изделий'!AZ4759","v":"00:00:00"},-43153,-43153,0,0,{"$f":"'[3]Список изделий'!BR4759","v":0},0,"\\\\SERVER\\Data1\\П\\Перекресток\\2018\\ТЕХНИЧЕСКАЯ ДОКУМЕНТАЦИЯ\\11-Карман_круглый_двухсторонний_(ПромоКруг)\\Сборка\\Круг_Промо-сборка.cdr"]
[160,{"$f":"'[3]Список изделий'!D4841","v":60},{"$f":"'[3]Список изделий'!E4841","v":0},{"$f":"'[3]Список изделий'!F4841","v":0},{"$f":"'[3]Список изделий'!I4841","v":0},{"$f":"'[3]Список изделий'!X4841","v":0},{"$f":"'[3]Список изделий'!Y4841","v":0},{"$f":"'[3]Список изделий'!Z4841","v":0},{"$f":"'[3]Список изделий'!AA4841","v":0},{"$f":"'[3]Список изделий'!AB4841","v":2550},{"$f":"'[3]Список изделий'!AC4841","v":"x"},{"$f":"'[3]Список изделий'!AD4841","v":"630 х 65"},{"$f":"'[3]Список изделий'!AE4841","v":"мм"},{"$f":"'[3]Список изделий'!AF4841","v":"00:00:00"},{"$f":"'[3]Список изделий'!AY4841","v":0},{"$f":"'[3]Список изделий'!AZ4841","v":"00:00:00"},-43153,-43153,0,0,{"$f":"'[3]Список изделий'!BR4841","v":0},0,"\\\\SERVER\\Data1\\П\\Перекресток\\2018\\ТЕХНИЧЕСКАЯ ДОКУМЕНТАЦИЯ\\58-СУПЕРЦЕНА-одинарная_подвесная\\Сборка\\суперцена_плоская-сборка.cdr"]
[161,{"$f":"'[3]Список изделий'!D4923","v":61},{"$f":"'[3]Список изделий'!E4923","v":0},{"$f":"'[3]Список изделий'!F4923","v":0},{"$f":"'[3]Список изделий'!I4923","v":0},{"$f":"'[3]Список изделий'!X4923","v":0},{"$f":"'[3]Список изделий'!Y4923","v":0},{"$f":"'[3]Список изделий'!Z4923","v":0},{"$f":"'[3]Список изделий'!AA4923","v":0},{"$f":"'[3]Список изделий'!AB4923","v":0},{"$f":"'[3]Список изделий'!AC4923","v":"x"},{"$f":"'[3]Список изделий'!AD4923","v":0},{"$f":"'[3]Список изделий'!AE4923","v":0},{"$f":"'[3]Список изделий'!AF4923","v":"00:00:00"},{"$f":"'[3]Список изделий'!AY4923","v":0},{"$f":"'[3]Список изделий'!AZ4923","v":"00:00:00"},-43153,-43153,0,0,{"$f":"'[3]Список изделий'!BR4923","v":0},0,"\\\\SERVER\\Data1\\П\\Перекресток\\2018\\ТЕХНИЧЕСКАЯ ДОКУМЕНТАЦИЯ\\11-Карман_круглый_двухсторонний_(ПромоКруг)\\Сборка\\Круг_Промо-сборка.cdr"]
[162,{"$f":"'[3]Список изделий'!D5005","v":62},{"$f":"'[3]Список изделий'!E5005","v":0},{"$f":"'[3]Список изделий'!F5005","v":0},{"$f":"'[3]Список изделий'!I5005","v":0},{"$f":"'[3]Список изделий'!X5005","v":0},{"$f":"'[3]Список изделий'!Y5005","v":0},{"$f":"'[3]Список изделий'!Z5005","v":0},{"$f":"'[3]Список изделий'!AA5005","v":0},{"$f":"'[3]Список изделий'!AB5005","v":0},{"$f":"'[3]Список изделий'!AC5005","v":"x"},{"$f":"'[3]Список изделий'!AD5005","v":0},{"$f":"'[3]Список изделий'!AE5005","v":0},{"$f":"'[3]Список изделий'!AF5005","v":"00:00:00"},{"$f":"'[3]Список изделий'!AY5005","v":0},{"$f":"'[3]Список изделий'!AZ5005","v":"00:00:00"},-43153,-43153,0,0,{"$f":"'[3]Список изделий'!BR5005","v":0},0,"\\\\SERVER\\Data1\\П\\Перекресток\\2018\\ТЕХНИЧЕСКАЯ ДОКУМЕНТАЦИЯ\\58-СУПЕРЦЕНА-одинарная_подвесная\\Сборка\\суперцена_плоская-сборка.cdr"]
[163,{"$f":"'[3]Список изделий'!D5087","v":63},{"$f":"'[3]Список изделий'!E5087","v":0},{"$f":"'[3]Список изделий'!F5087","v":0},{"$f":"'[3]Список изделий'!I5087","v":0},{"$f":"'[3]Список изделий'!X5087","v":0},{"$f":"'[3]Список изделий'!Y5087","v":0},{"$f":"'[3]Список изделий'!Z5087","v":0},{"$f":"'[3]Список изделий'!AA5087","v":0},{"$f":"'[3]Список изделий'!AB5087","v":60},{"$f":"'[3]Список изделий'!AC5087","v":"x"},{"$f":"'[3]Список изделий'!AD5087","v":1635},{"$f":"'[3]Список изделий'!AE5087","v":"мм"},{"$f":"'[3]Список изделий'!AF5087","v":"00:00:00"},{"$f":"'[3]Список изделий'!AY5087","v":0},{"$f":"'[3]Список изделий'!AZ5087","v":"00:00:00"},-43153,-43153,0,0,{"$f":"'[3]Список изделий'!BR5087","v":0},0,0]
[164,{"$f":"'[3]Список изделий'!D5169","v":64},{"$f":"'[3]Список изделий'!E5169","v":0},{"$f":"'[3]Список изделий'!F5169","v":0},{"$f":"'[3]Список изделий'!I5169","v":0},{"$f":"'[3]Список изделий'!X5169","v":0},{"$f":"'[3]Список изделий'!Y5169","v":0},{"$f":"'[3]Список изделий'!Z5169","v":0},{"$f":"'[3]Список изделий'!AA5169","v":0},{"$f":"'[3]Список изделий'!AB5169","v":1700},{"$f":"'[3]Список изделий'!AC5169","v":"x"},{"$f":"'[3]Список изделий'!AD5169","v":400},{"$f":"'[3]Список изделий'!AE5169","v":"мм"},{"$f":"'[3]Список изделий'!AF5169","v":"00:00:00"},{"$f":"'[3]Список изделий'!AY5169","v":0},{"$f":"'[3]Список изделий'!AZ5169","v":"00:00:00"},-43153,-43153,0,0,{"$f":"'[3]Список изделий'!BR5169","v":0},0,"\\\\SERVER\\Data1\\П\\Перекресток\\2018\\ТЕХНИЧЕСКАЯ ДОКУМЕНТАЦИЯ\\17-Стикер-задник_ПД_ФРОВ\\Сборка\\стикеры_зад_ПД-ФРОВ-сборка.cdr"]
[165,{"$f":"'[3]Список изделий'!D5251","v":65},{"$f":"'[3]Список изделий'!E5251","v":0},{"$f":"'[3]Список изделий'!F5251","v":0},{"$f":"'[3]Список изделий'!I5251","v":0},{"$f":"'[3]Список изделий'!X5251","v":0},{"$f":"'[3]Список изделий'!Y5251","v":0},{"$f":"'[3]Список изделий'!Z5251","v":0},{"$f":"'[3]Список изделий'!AA5251","v":0},{"$f":"'[3]Список изделий'!AB5251","v":618},{"$f":"'[3]Список изделий'!AC5251","v":"x"},{"$f":"'[3]Список изделий'!AD5251","v":925},{"$f":"'[3]Список изделий'!AE5251","v":"мм"},{"$f":"'[3]Список изделий'!AF5251","v":"00:00:00"},{"$f":"'[3]Список изделий'!AY5251","v":0},{"$f":"'[3]Список изделий'!AZ5251","v":"00:00:00"},-43153,-43153,0,0,{"$f":"'[3]Список изделий'!BR5251","v":0},0,0]
[166,{"$f":"'[3]Список изделий'!D5333","v":66},{"$f":"'[3]Список изделий'!E5333","v":0},{"$f":"'[3]Список изделий'!F5333","v":0},{"$f":"'[3]Список изделий'!I5333","v":0},{"$f":"'[3]Список изделий'!X5333","v":0},{"$f":"'[3]Список изделий'!Y5333","v":0},{"$f":"'[3]Список изделий'!Z5333","v":0},{"$f":"'[3]Список изделий'!AA5333","v":0},{"$f":"'[3]Список изделий'!AB5333","v":1200},{"$f":"'[3]Список изделий'!AC5333","v":"x"},{"$f":"'[3]Список изделий'!AD5333","v":1500},{"$f":"'[3]Список изделий'!AE5333","v":"мм"},{"$f":"'[3]Список изделий'!AF5333","v":"00:00:00"},{"$f":"'[3]Список изделий'!AY5333","v":0},{"$f":"'[3]Список изделий'!AZ5333","v":"00:00:00"},-43153,-43153,0,0,{"$f":"'[3]Список изделий'!BR5333","v":0},0,0]
[167,{"$f":"'[3]Список изделий'!D5415","v":67},{"$f":"'[3]Список изделий'!E5415","v":0},{"$f":"'[3]Список изделий'!F5415","v":0},{"$f":"'[3]Список изделий'!I5415","v":0},{"$f":"'[3]Список изделий'!X5415","v":0},{"$f":"'[3]Список изделий'!Y5415","v":0},{"$f":"'[3]Список изделий'!Z5415","v":0},{"$f":"'[3]Список изделий'!AA5415","v":0},{"$f":"'[3]Список изделий'!AB5415","v":0},{"$f":"'[3]Список изделий'!AC5415","v":"x"},{"$f":"'[3]Список изделий'!AD5415","v":0},{"$f":"'[3]Список изделий'!AE5415","v":"мм"},{"$f":"'[3]Список изделий'!AF5415","v":"00:00:00"},{"$f":"'[3]Список изделий'!AY5415","v":0},{"$f":"'[3]Список изделий'!AZ5415","v":"00:00:00"},-43153,-43153,0,0,{"$f":"'[3]Список изделий'!BR5415","v":0},0,"\\\\SERVER\\Data1\\П\\Перекресток\\2018\\МОСКВА_18\\Балаклавский пр. 16А\\Техничка\\24-холодильник_ИКРА"]
[168,{"$f":"'[3]Список изделий'!D5497","v":68},{"$f":"'[3]Список изделий'!E5497","v":0},{"$f":"'[3]Список изделий'!F5497","v":0},{"$f":"'[3]Список изделий'!I5497","v":0},{"$f":"'[3]Список изделий'!X5497","v":0},{"$f":"'[3]Список изделий'!Y5497","v":0},{"$f":"'[3]Список изделий'!Z5497","v":0},{"$f":"'[3]Список изделий'!AA5497","v":0},{"$f":"'[3]Список изделий'!AB5497","v":0},{"$f":"'[3]Список изделий'!AC5497","v":"x"},{"$f":"'[3]Список изделий'!AD5497","v":0},{"$f":"'[3]Список изделий'!AE5497","v":"мм"},{"$f":"'[3]Список изделий'!AF5497","v":"00:00:00"},{"$f":"'[3]Список изделий'!AY5497","v":0},{"$f":"'[3]Список изделий'!AZ5497","v":"00:00:00"},-43153,-43153,0,0,{"$f":"'[3]Список изделий'!BR5497","v":0},0,"\\\\SERVER\\Data1\\П\\Перекресток\\2018\\МОСКВА_18\\Балаклавский пр. 16А\\Техничка\\25-Мясной_разруб"]
[169,{"$f":"'[3]Список изделий'!D5579","v":69},{"$f":"'[3]Список изделий'!E5579","v":0},{"$f":"'[3]Список изделий'!F5579","v":0},{"$f":"'[3]Список изделий'!I5579","v":0},{"$f":"'[3]Список изделий'!X5579","v":0},{"$f":"'[3]Список изделий'!Y5579","v":0},{"$f":"'[3]Список изделий'!Z5579","v":0},{"$f":"'[3]Список изделий'!AA5579","v":0},{"$f":"'[3]Список изделий'!AB5579","v":0},{"$f":"'[3]Список изделий'!AC5579","v":"x"},{"$f":"'[3]Список изделий'!AD5579","v":0},{"$f":"'[3]Список изделий'!AE5579","v":0},{"$f":"'[3]Список изделий'!AF5579","v":"00:00:00"},{"$f":"'[3]Список изделий'!AY5579","v":0},{"$f":"'[3]Список изделий'!AZ5579","v":"00:00:00"},-43153,-43153,0,0,{"$f":"'[3]Список изделий'!BR5579","v":0},0,"\\\\SERVER\\Data1\\П\\Перекресток\\2018\\ТЕХНИЧЕСКАЯ ДОКУМЕНТАЦИЯ\\27-Быстро_и_вкусно\\Сборка\\БиВ-комплект.jpg"]
[170,{"$f":"'[3]Список изделий'!D5661","v":70},{"$f":"'[3]Список изделий'!E5661","v":0},{"$f":"'[3]Список изделий'!F5661","v":0},{"$f":"'[3]Список изделий'!I5661","v":0},{"$f":"'[3]Список изделий'!X5661","v":0},{"$f":"'[3]Список изделий'!Y5661","v":0},{"$f":"'[3]Список изделий'!Z5661","v":0},{"$f":"'[3]Список изделий'!AA5661","v":0},{"$f":"'[3]Список изделий'!AB5661","v":2800},{"$f":"'[3]Список изделий'!AC5661","v":"x"},{"$f":"'[3]Список изделий'!AD5661","v":1000},{"$f":"'[3]Список изделий'!AE5661","v":"мм"},{"$f":"'[3]Список изделий'!AF5661","v":"00:00:00"},{"$f":"'[3]Список изделий'!AY5661","v":0},{"$f":"'[3]Список изделий'!AZ5661","v":"00:00:00"},-43153,-43153,0,0,{"$f":"'[3]Список изделий'!BR5661","v":0},0,0]
[1107,{"$f":"'[4]Список изделий'!D495","v":7},{"$f":"'[4]Список изделий'!E495","v":"Пер-Наст-7"},{"$f":"'[4]Список изделий'!F495","v":"Потолочные указатели 2хст. 2000х400"},{"$f":"'[4]Список изделий'!I495","v":15},{"$f":"'[4]Список изделий'!X495","v":"ГМА"},{"$f":"'[4]Список изделий'!Y495","v":"Микуло"},{"$f":"'[4]Список изделий'!Z495","v":"Закурдаев"},{"$f":"'[4]Список изделий'!AA495","v":"Замотаев"},{"$f":"'[4]Список изделий'!AB495","v":0},{"$f":"'[4]Список изделий'!AC495","v":"x"},{"$f":"'[4]Список изделий'!AD495","v":0},{"$f":"'[4]Список изделий'!AE495","v":0},{"$f":"'[4]Список изделий'!AF495","v":"2018-02-20"},{"$f":"'[4]Список изделий'!AY495","v":8},{"$f":"'[4]Список изделий'!AZ495","v":"2018-02-14"},-16,-8,1,1,{"$f":"'[4]Список изделий'!BR495","v":"\\\\SERVER\\Data1\\П\\Перекресток\\2018\\ОКЕЙ_Перекресток\\Наставников 33\\техничка\\07-Потолочные_вывески-2000х400\\сборка\\потолочки-2000х400-сборка.cdr"},1,0]
[1109,{"$f":"'[4]Список изделий'!D659","v":9},{"$f":"'[4]Список изделий'!E659","v":"Пер-Наст-9"},{"$f":"'[4]Список изделий'!F659","v":"Имиджи компл (1800х1500--- 2 шт.)"},{"$f":"'[4]Список изделий'!I659","v":2},{"$f":"'[4]Список изделий'!X659","v":"ГМА"},{"$f":"'[4]Список изделий'!Y659","v":"Микуло"},{"$f":"'[4]Список изделий'!Z659","v":"Закурдаев"},{"$f":"'[4]Список изделий'!AA659","v":"Замотаев"},{"$f":"'[4]Список изделий'!AB659","v":0},{"$f":"'[4]Список изделий'!AC659","v":"x"},{"$f":"'[4]Список изделий'!AD659","v":0},{"$f":"'[4]Список изделий'!AE659","v":0},{"$f":"'[4]Список изделий'!AF659","v":"2018-02-20"},{"$f":"'[4]Список изделий'!AY659","v":8},{"$f":"'[4]Список изделий'!AZ659","v":"2018-02-14"},-16,-8,0,0,{"$f":"'[4]Список изделий'!BR659","v":"\\\\SERVER\\Data1\\П\\Перекресток\\2018\\ОКЕЙ_Перекресток\\Наставников 33\\техничка\\09-Имиджи\\Сборка\\имидж_сборка.cdr"},0,0]
[173,{"$f":"'[3]Список изделий'!D5907","v":73},{"$f":"'[3]Список изделий'!E5907","v":0},{"$f":"'[3]Список изделий'!F5907","v":0},{"$f":"'[3]Список изделий'!I5907","v":0},{"$f":"'[3]Список изделий'!X5907","v":0},{"$f":"'[3]Список изделий'!Y5907","v":0},{"$f":"'[3]Список изделий'!Z5907","v":0},{"$f":"'[3]Список изделий'!AA5907","v":0},{"$f":"'[3]Список изделий'!AB5907","v":0},{"$f":"'[3]Список изделий'!AC5907","v":"x"},{"$f":"'[3]Список изделий'!AD5907","v":0},{"$f":"'[3]Список изделий'!AE5907","v":"мм"},{"$f":"'[3]Список изделий'!AF5907","v":"00:00:00"},{"$f":"'[3]Список изделий'!AY5907","v":0},{"$f":"'[3]Список изделий'!AZ5907","v":"00:00:00"},-43153,-43153,0,0,{"$f":"'[3]Список изделий'!BR5907","v":0},0,"\\\\SERVER\\Data1\\П\\Перекресток\\2018\\МОСКВА_18\\Балаклавский пр. 16А\\Техничка\\36-Служебные_таблички"]
[174,{"$f":"'[3]Список изделий'!D5989","v":74},{"$f":"'[3]Список изделий'!E5989","v":0},{"$f":"'[3]Список изделий'!F5989","v":0},{"$f":"'[3]Список изделий'!I5989","v":0},{"$f":"'[3]Список изделий'!X5989","v":0},{"$f":"'[3]Список изделий'!Y5989","v":0},{"$f":"'[3]Список изделий'!Z5989","v":0},{"$f":"'[3]Список изделий'!AA5989","v":0},{"$f":"'[3]Список изделий'!AB5989","v":0},{"$f":"'[3]Список изделий'!AC5989","v":"x"},{"$f":"'[3]Список изделий'!AD5989","v":0},{"$f":"'[3]Список изделий'!AE5989","v":"мм"},{"$f":"'[3]Список изделий'!AF5989","v":"00:00:00"},{"$f":"'[3]Список изделий'!AY5989","v":0},{"$f":"'[3]Список изделий'!AZ5989","v":"00:00:00"},-43153,-43153,0,0,{"$f":"'[3]Список изделий'!BR5989","v":0},0,0]
[175,{"$f":"'[3]Список изделий'!D6071","v":75},{"$f":"'[3]Список изделий'!E6071","v":0},{"$f":"'[3]Список изделий'!F6071","v":0},{"$f":"'[3]Список изделий'!I6071","v":0},{"$f":"'[3]Список изделий'!X6071","v":0},{"$f":"'[3]Список изделий'!Y6071","v":0},{"$f":"'[3]Список изделий'!Z6071","v":0},{"$f":"'[3]Список изделий'!AA6071","v":0},{"$f":"'[3]Список изделий'!AB6071","v":0},{"$f":"'[3]Список изделий'!AC6071","v":"x"},{"$f":"'[3]Список изделий'!AD6071","v":0},{"$f":"'[3]Список изделий'!AE6071","v":"мм"},{"$f":"'[3]Список изделий'!AF6071","v":"00:00:00"},{"$f":"'[3]Список изделий'!AY6071","v":0},{"$f":"'[3]Список изделий'!AZ6071","v":"00:00:00"},-43153,-43153,0,0,{"$f":"'[3]Список изделий'!BR6071","v":0},0,0]
[1110,{"$f":"'[4]Список изделий'!D741","v":10},{"$f":"'[4]Список изделий'!E741","v":"Пер-Наст-10"},{"$f":"'[4]Список изделий'!F741","v":"Карман под бумагу А 1. крепление к стене (к-во предварительное)"},{"$f":"'[4]Список изделий'!I741","v":9},{"$f":"'[4]Список изделий'!X741","v":"ГМА"},{"$f":"'[4]Список изделий'!Y741","v":"Микуло"},{"$f":"'[4]Список изделий'!Z741","v":"Закурдаев"},{"$f":"'[4]Список изделий'!AA741","v":"Замотаев"},{"$f":"'[4]Список изделий'!AB741","v":0},{"$f":"'[4]Список изделий'!AC741","v":"x"},{"$f":"'[4]Список изделий'!AD741","v":0},{"$f":"'[4]Список изделий'!AE741","v":0},{"$f":"'[4]Список изделий'!AF741","v":"2018-02-20"},{"$f":"'[4]Список изделий'!AY741","v":8},{"$f":"'[4]Список изделий'!AZ741","v":"2018-02-14"},-16,-8,0.5,0.5,{"$f":"'[4]Список изделий'!BR741","v":"\\\\SERVER\\Data1\\П\\Перекресток\\2018\\ОКЕЙ_Перекресток\\Наставников 33\\техничка\\10-Карман_под_бумагу_А1\\Сборка\\Карман_А1-сборка.cdr"},0.5,"\\\\SERVER\\Data1\\П\\Перекресток\\2018\\МОСКВА_18\\Балаклавский пр. 16А\\Техничка\\42-Табличка_Контрольные_Весы"]
[1111,{"$f":"'[4]Список изделий'!D823","v":11},{"$f":"'[4]Список изделий'!E823","v":"Пер-Наст-11"},{"$f":"'[4]Список изделий'!F823","v":"Карман круглый двухсторонний (люверс + крючок) (к-во предварительное)"},{"$f":"'[4]Список изделий'!I823","v":16},{"$f":"'[4]Список изделий'!X823","v":"ГМА"},{"$f":"'[4]Список изделий'!Y823","v":"Микуло"},{"$f":"'[4]Список изделий'!Z823","v":"Закурдаев"},{"$f":"'[4]Список изделий'!AA823","v":"Замотаев"},{"$f":"'[4]Список изделий'!AB823","v":0},{"$f":"'[4]Список изделий'!AC823","v":"x"},{"$f":"'[4]Список изделий'!AD823","v":0},{"$f":"'[4]Список изделий'!AE823","v":0},{"$f":"'[4]Список изделий'!AF823","v":"2018-02-20"},{"$f":"'[4]Список изделий'!AY823","v":8},{"$f":"'[4]Список изделий'!AZ823","v":"2018-02-14"},-16,-8,1,1,{"$f":"'[4]Список изделий'!BR823","v":"\\\\SERVER\\Data1\\П\\Перекресток\\2018\\ТЕХНИЧЕСКАЯ ДОКУМЕНТАЦИЯ\\11-Карман_круглый_двухсторонний_(ПромоКруг)\\Сборка\\Круг_Промо-сборка.cdr"},1,"\\\\SERVER\\Data1\\П\\Перекресток\\2018\\МОСКВА_18\\Балаклавский пр. 16А\\Техничка\\44-Алкогольные_разделители-200х38"]
[178,{"$f":"'[3]Список изделий'!D6317","v":78},{"$f":"'[3]Список изделий'!E6317","v":0},{"$f":"'[3]Список изделий'!F6317","v":0},{"$f":"'[3]Список изделий'!I6317","v":0},{"$f":"'[3]Список изделий'!X6317","v":0},{"$f":"'[3]Список изделий'!Y6317","v":0},{"$f":"'[3]Список изделий'!Z6317","v":0},{"$f":"'[3]Список изделий'!AA6317","v":0},{"$f":"'[3]Список изделий'!AB6317","v":0},{"$f":"'[3]Список изделий'!AC6317","v":"x"},{"$f":"'[3]Список изделий'!AD6317","v":0},{"$f":"'[3]Список изделий'!AE6317","v":0},{"$f":"'[3]Список изделий'!AF6317","v":"00:00:00"},{"$f":"'[3]Список изделий'!AY6317","v":0},{"$f":"'[3]Список изделий'!AZ6317","v":"00:00:00"},-43153,-43153,0,0,{"$f":"'[3]Список изделий'!BR6317","v":0},0,0]
[179,{"$f":"'[3]Список изделий'!D6399","v":79},{"$f":"'[3]Список изделий'!E6399","v":0},{"$f":"'[3]Список изделий'!F6399","v":0},{"$f":"'[3]Список изделий'!I6399","v":0},{"$f":"'[3]Список изделий'!X6399","v":0},{"$f":"'[3]Список изделий'!Y6399","v":0},{"$f":"'[3]Список изделий'!Z6399","v":0},{"$f":"'[3]Список изделий'!AA6399","v":0},{"$f":"'[3]Список изделий'!AB6399","v":0},{"$f":"'[3]Список изделий'!AC6399","v":"x"},{"$f":"'[3]Список изделий'!AD6399","v":0},{"$f":"'[3]Список изделий'!AE6399","v":0},{"$f":"'[3]Список изделий'!AF6399","v":"00:00:00"},{"$f":"'[3]Список изделий'!AY6399","v":0},{"$f":"'[3]Список изделий'!AZ6399","v":"00:00:00"},-43153,-43153,0,0,{"$f":"'[3]Список изделий'!BR6399","v":0},0]
[180,{"$f":"'[3]Список изделий'!D6481","v":80},{"$f":"'[3]Список изделий'!E6481","v":0},{"$f":"'[3]Список изделий'!F6481","v":0},{"$f":"'[3]Список изделий'!I6481","v":0},{"$f":"'[3]Список изделий'!X6481","v":0},{"$f":"'[3]Список изделий'!Y6481","v":0},{"$f":"'[3]Список изделий'!Z6481","v":0},{"$f":"'[3]Список изделий'!AA6481","v":0},{"$f":"'[3]Список изделий'!AB6481","v":0},{"$f":"'[3]Список изделий'!AC6481","v":"x"},{"$f":"'[3]Список изделий'!AD6481","v":0},{"$f":"'[3]Список изделий'!AE6481","v":0},{"$f":"'[3]Список изделий'!AF6481","v":"00:00:00"},{"$f":"'[3]Список изделий'!AY6481","v":0},{"$f":"'[3]Список изделий'!AZ6481","v":"00:00:00"},-43153,-43153,0,0,{"$f":"'[3]Список изделий'!BR6481","v":0},0]
[1112,{"$f":"'[4]Список изделий'!D905","v":12},{"$f":"'[4]Список изделий'!E905","v":"Пер-Наст-12"},{"$f":"'[4]Список изделий'!F905","v":"Таблички \"Здесь можно проверить цену\" (комплект 4 шт.) (к-во предварительное)"},{"$f":"'[4]Список изделий'!I905","v":2},{"$f":"'[4]Список изделий'!X905","v":"ГМА"},{"$f":"'[4]Список изделий'!Y905","v":"Микуло"},{"$f":"'[4]Список изделий'!Z905","v":"Закурдаев"},{"$f":"'[4]Список изделий'!AA905","v":"Замотаев"},{"$f":"'[4]Список изделий'!AB905","v":0},{"$f":"'[4]Список изделий'!AC905","v":"x"},{"$f":"'[4]Список изделий'!AD905","v":0},{"$f":"'[4]Список изделий'!AE905","v":0},{"$f":"'[4]Список изделий'!AF905","v":"2018-02-20"},{"$f":"'[4]Список изделий'!AY905","v":8},{"$f":"'[4]Список изделий'!AZ905","v":"2018-02-14"},-16,-8,1,1,{"$f":"'[4]Список изделий'!BR905","v":0},1]
[182,{"$f":"'[3]Список изделий'!D6645","v":82},{"$f":"'[3]Список изделий'!E6645","v":0},{"$f":"'[3]Список изделий'!F6645","v":0},{"$f":"'[3]Список изделий'!I6645","v":0},{"$f":"'[3]Список изделий'!X6645","v":0},{"$f":"'[3]Список изделий'!Y6645","v":0},{"$f":"'[3]Список изделий'!Z6645","v":0},{"$f":"'[3]Список изделий'!AA6645","v":0},{"$f":"'[3]Список изделий'!AB6645","v":0},{"$f":"'[3]Список изделий'!AC6645","v":"x"},{"$f":"'[3]Список изделий'!AD6645","v":0},{"$f":"'[3]Список изделий'!AE6645","v":0},{"$f":"'[3]Список изделий'!AF6645","v":"00:00:00"},{"$f":"'[3]Список изделий'!AY6645","v":0},{"$f":"'[3]Список изделий'!AZ6645","v":"00:00:00"},-43153,-43153,0,0,{"$f":"'[3]Список изделий'!BR6645","v":0},0,0]
[183,{"$f":"'[3]Список изделий'!D6727","v":83},{"$f":"'[3]Список изделий'!E6727","v":0},{"$f":"'[3]Список изделий'!F6727","v":0},{"$f":"'[3]Список изделий'!I6727","v":0},{"$f":"'[3]Список изделий'!X6727","v":0},{"$f":"'[3]Список изделий'!Y6727","v":0},{"$f":"'[3]Список изделий'!Z6727","v":0},{"$f":"'[3]Список изделий'!AA6727","v":0},{"$f":"'[3]Список изделий'!AB6727","v":0},{"$f":"'[3]Список изделий'!AC6727","v":"x"},{"$f":"'[3]Список изделий'!AD6727","v":0},{"$f":"'[3]Список изделий'!AE6727","v":0},{"$f":"'[3]Список изделий'!AF6727","v":"00:00:00"},{"$f":"'[3]Список изделий'!AY6727","v":0},{"$f":"'[3]Список изделий'!AZ6727","v":"00:00:00"},-43153,-43153,0,0,{"$f":"'[3]Список изделий'!BR6727","v":0},0,0]
[184,{"$f":"'[3]Список изделий'!D6809","v":84},{"$f":"'[3]Список изделий'!E6809","v":0},{"$f":"'[3]Список изделий'!F6809","v":0},{"$f":"'[3]Список изделий'!I6809","v":0},{"$f":"'[3]Список изделий'!X6809","v":0},{"$f":"'[3]Список изделий'!Y6809","v":0},{"$f":"'[3]Список изделий'!Z6809","v":0},{"$f":"'[3]Список изделий'!AA6809","v":0},{"$f":"'[3]Список изделий'!AB6809","v":0},{"$f":"'[3]Список изделий'!AC6809","v":"x"},{"$f":"'[3]Список изделий'!AD6809","v":0},{"$f":"'[3]Список изделий'!AE6809","v":0},{"$f":"'[3]Список изделий'!AF6809","v":"00:00:00"},{"$f":"'[3]Список изделий'!AY6809","v":0},{"$f":"'[3]Список изделий'!AZ6809","v":"00:00:00"},-43153,-43153,0,0,{"$f":"'[3]Список изделий'!BR6809","v":0},0,"\\\\SERVER\\Data1\\П\\Перекресток\\2018\\ТЕХНИЧЕСКАЯ ДОКУМЕНТАЦИЯ\\57-СУПЕРЦЕНА-треугольная(Призма)\\Сборка\\Суперцена-треугольная-сборка.cdr"]
[185,{"$f":"'[3]Список изделий'!D6891","v":85},{"$f":"'[3]Список изделий'!E6891","v":0},{"$f":"'[3]Список изделий'!F6891","v":0},{"$f":"'[3]Список изделий'!I6891","v":0},{"$f":"'[3]Список изделий'!X6891","v":0},{"$f":"'[3]Список изделий'!Y6891","v":0},{"$f":"'[3]Список изделий'!Z6891","v":0},{"$f":"'[3]Список изделий'!AA6891","v":0},{"$f":"'[3]Список изделий'!AB6891","v":0},{"$f":"'[3]Список изделий'!AC6891","v":"x"},{"$f":"'[3]Список изделий'!AD6891","v":0},{"$f":"'[3]Список изделий'!AE6891","v":0},{"$f":"'[3]Список изделий'!AF6891","v":"00:00:00"},{"$f":"'[3]Список изделий'!AY6891","v":0},{"$f":"'[3]Список изделий'!AZ6891","v":"00:00:00"},-43153,-43153,0,0,{"$f":"'[3]Список изделий'!BR6891","v":0},0,0]
[1113,{"$f":"'[4]Список изделий'!D987","v":13},{"$f":"'[4]Список изделий'!E987","v":"Пер-Наст-13"},{"$f":"'[4]Список изделий'!F987","v":"Оклейка дверей"},{"$f":"'[4]Список изделий'!I987","v":2},{"$f":"'[4]Список изделий'!X987","v":"ГМА"},{"$f":"'[4]Список изделий'!Y987","v":"Микуло"},{"$f":"'[4]Список изделий'!Z987","v":"Закурдаев"},{"$f":"'[4]Список изделий'!AA987","v":"Замотаев"},{"$f":"'[4]Список изделий'!AB987","v":0},{"$f":"'[4]Список изделий'!AC987","v":"x"},{"$f":"'[4]Список изделий'!AD987","v":0},{"$f":"'[4]Список изделий'!AE987","v":0},{"$f":"'[4]Список изделий'!AF987","v":"2018-02-20"},{"$f":"'[4]Список изделий'!AY987","v":8},{"$f":"'[4]Список изделий'!AZ987","v":"2018-02-14"},-16,-8,0,0,{"$f":"'[4]Список изделий'!BR987","v":"\\\\SERVER\\Data1\\П\\Перекресток\\2018\\ОКЕЙ_Перекресток\\Наставников 33\\техничка\\13-Оклейка_дверей\\Сборка\\Двери-сборка.cdr"},0,0]
[187,{"$f":"'[3]Список изделий'!D7055","v":87},{"$f":"'[3]Список изделий'!E7055","v":0},{"$f":"'[3]Список изделий'!F7055","v":0},{"$f":"'[3]Список изделий'!I7055","v":0},{"$f":"'[3]Список изделий'!X7055","v":0},{"$f":"'[3]Список изделий'!Y7055","v":0},{"$f":"'[3]Список изделий'!Z7055","v":0},{"$f":"'[3]Список изделий'!AA7055","v":0},{"$f":"'[3]Список изделий'!AB7055","v":0},{"$f":"'[3]Список изделий'!AC7055","v":"x"},{"$f":"'[3]Список изделий'!AD7055","v":0},{"$f":"'[3]Список изделий'!AE7055","v":0},{"$f":"'[3]Список изделий'!AF7055","v":"00:00:00"},{"$f":"'[3]Список изделий'!AY7055","v":0},{"$f":"'[3]Список изделий'!AZ7055","v":"00:00:00"},-43153,-43153,0,0,{"$f":"'[3]Список изделий'!BR7055","v":0},0,"\\\\SERVER\\Data1\\П\\Перекресток\\2018\\МОСКВА_18\\Балаклавский пр. 16А\\Техничка\\76-Пилон-660х1600"]
[188,{"$f":"'[3]Список изделий'!D7137","v":88},{"$f":"'[3]Список изделий'!E7137","v":0},{"$f":"'[3]Список изделий'!F7137","v":0},{"$f":"'[3]Список изделий'!I7137","v":0},{"$f":"'[3]Список изделий'!X7137","v":0},{"$f":"'[3]Список изделий'!Y7137","v":0},{"$f":"'[3]Список изделий'!Z7137","v":0},{"$f":"'[3]Список изделий'!AA7137","v":0},{"$f":"'[3]Список изделий'!AB7137","v":0},{"$f":"'[3]Список изделий'!AC7137","v":"x"},{"$f":"'[3]Список изделий'!AD7137","v":0},{"$f":"'[3]Список изделий'!AE7137","v":0},{"$f":"'[3]Список изделий'!AF7137","v":"00:00:00"},{"$f":"'[3]Список изделий'!AY7137","v":0},{"$f":"'[3]Список изделий'!AZ7137","v":"00:00:00"},-43153,-43153,0,0,{"$f":"'[3]Список изделий'!BR7137","v":0},0,"\\\\SERVER\\Data1\\П\\Перекресток\\2018\\МОСКВА_18\\Балаклавский пр. 16А\\Техничка\\77-Бумага_для_пилона"]
[189,{"$f":"'[3]Список изделий'!D7219","v":89},{"$f":"'[3]Список изделий'!E7219","v":0},{"$f":"'[3]Список изделий'!F7219","v":0},{"$f":"'[3]Список изделий'!I7219","v":0},{"$f":"'[3]Список изделий'!X7219","v":0},{"$f":"'[3]Список изделий'!Y7219","v":0},{"$f":"'[3]Список изделий'!Z7219","v":0},{"$f":"'[3]Список изделий'!AA7219","v":0},{"$f":"'[3]Список изделий'!AB7219","v":0},{"$f":"'[3]Список изделий'!AC7219","v":"x"},{"$f":"'[3]Список изделий'!AD7219","v":0},{"$f":"'[3]Список изделий'!AE7219","v":0},{"$f":"'[3]Список изделий'!AF7219","v":"00:00:00"},{"$f":"'[3]Список изделий'!AY7219","v":0},{"$f":"'[3]Список изделий'!AZ7219","v":"00:00:00"},-43153,-43153,0,0,{"$f":"'[3]Список изделий'!BR7219","v":0},0,0]
[190,{"$f":"'[3]Список изделий'!D7301","v":90},{"$f":"'[3]Список изделий'!E7301","v":0},{"$f":"'[3]Список изделий'!F7301","v":0},{"$f":"'[3]Список изделий'!I7301","v":0},{"$f":"'[3]Список изделий'!X7301","v":0},{"$f":"'[3]Список изделий'!Y7301","v":0},{"$f":"'[3]Список изделий'!Z7301","v":0},{"$f":"'[3]Список изделий'!AA7301","v":0},{"$f":"'[3]Список изделий'!AB7301","v":0},{"$f":"'[3]Список изделий'!AC7301","v":"x"},{"$f":"'[3]Список изделий'!AD7301","v":0},{"$f":"'[3]Список изделий'!AE7301","v":0},{"$f":"'[3]Список изделий'!AF7301","v":"00:00:00"},{"$f":"'[3]Список изделий'!AY7301","v":0},{"$f":"'[3]Список изделий'!AZ7301","v":"00:00:00"},-43153,-43153,0,0,{"$f":"'[3]Список изделий'!BR7301","v":0},0,"\\\\SERVER\\Data1\\П\\Перекресток\\2018\\ТЕХНИЧЕСКАЯ ДОКУМЕНТАЦИЯ\\17-Стикер-задник_ПД_ФРОВ\\Сборка\\стикеры_зад_ПД-ФРОВ-сборка.cdr"]
[1117,{"$f":"'[4]Список изделий'!D1315","v":17},{"$f":"'[4]Список изделий'!E1315","v":"Пер-Наст-17"},{"$f":"'[4]Список изделий'!F1315","v":"Стикер на заднюю часть прайсдисплея ФРОВ (2 вида-комплект)(к-во предварительное)"},{"$f":"'[4]Список изделий'!I1315","v":20},{"$f":"'[4]Список изделий'!X1315","v":"ГМА"},{"$f":"'[4]Список изделий'!Y1315","v":"Микуло"},{"$f":"'[4]Список изделий'!Z1315","v":"Закурдаев"},{"$f":"'[4]Список изделий'!AA1315","v":"Замотаев"},{"$f":"'[4]Список изделий'!AB1315","v":0},{"$f":"'[4]Список изделий'!AC1315","v":"x"},{"$f":"'[4]Список изделий'!AD1315","v":0},{"$f":"'[4]Список изделий'!AE1315","v":0},{"$f":"'[4]Список изделий'!AF1315","v":"2018-02-20"},{"$f":"'[4]Список изделий'!AY1315","v":8},{"$f":"'[4]Список изделий'!AZ1315","v":"2018-02-14"},-16,-8,1,1,{"$f":"'[4]Список изделий'!BR1315","v":"\\\\SERVER\\Data1\\П\\Перекресток\\2018\\ТЕХНИЧЕСКАЯ ДОКУМЕНТАЦИЯ\\17-Стикер-задник_ПД_ФРОВ\\Сборка\\стикеры_зад_ПД-ФРОВ-сборка.cdr"},1,0]
[192,{"$f":"'[3]Список изделий'!D7465","v":92},{"$f":"'[3]Список изделий'!E7465","v":0},{"$f":"'[3]Список изделий'!F7465","v":0},{"$f":"'[3]Список изделий'!I7465","v":0},{"$f":"'[3]Список изделий'!X7465","v":0},{"$f":"'[3]Список изделий'!Y7465","v":0},{"$f":"'[3]Список изделий'!Z7465","v":0},{"$f":"'[3]Список изделий'!AA7465","v":0},{"$f":"'[3]Список изделий'!AB7465","v":0},{"$f":"'[3]Список изделий'!AC7465","v":"x"},{"$f":"'[3]Список изделий'!AD7465","v":0},{"$f":"'[3]Список изделий'!AE7465","v":0},{"$f":"'[3]Список изделий'!AF7465","v":"00:00:00"},{"$f":"'[3]Список изделий'!AY7465","v":0},{"$f":"'[3]Список изделий'!AZ7465","v":"00:00:00"},-43153,-43153,0,0,{"$f":"'[3]Список изделий'!BR7465","v":0},0,0]
[193,{"$f":"'[3]Список изделий'!D7547","v":93},{"$f":"'[3]Список изделий'!E7547","v":0},{"$f":"'[3]Список изделий'!F7547","v":0},{"$f":"'[3]Список изделий'!I7547","v":0},{"$f":"'[3]Список изделий'!X7547","v":0},{"$f":"'[3]Список изделий'!Y7547","v":0},{"$f":"'[3]Список изделий'!Z7547","v":0},{"$f":"'[3]Список изделий'!AA7547","v":0},{"$f":"'[3]Список изделий'!AB7547","v":0},{"$f":"'[3]Список изделий'!AC7547","v":"x"},{"$f":"'[3]Список изделий'!AD7547","v":0},{"$f":"'[3]Список изделий'!AE7547","v":0},{"$f":"'[3]Список изделий'!AF7547","v":"00:00:00"},{"$f":"'[3]Список изделий'!AY7547","v":0},{"$f":"'[3]Список изделий'!AZ7547","v":"00:00:00"},-43153,-43153,0,0,{"$f":"'[3]Список изделий'!BR7547","v":0},0,"\\\\SERVER\\Data1\\П\\Перекресток\\2018\\МОСКВА_18\\Балаклавский пр. 16А\\Техничка\\24-холодильник_ИКРА"]
[194,{"$f":"'[3]Список изделий'!D7629","v":94},{"$f":"'[3]Список изделий'!E7629","v":0},{"$f":"'[3]Список изделий'!F7629","v":0},{"$f":"'[3]Список изделий'!I7629","v":0},{"$f":"'[3]Список изделий'!X7629","v":0},{"$f":"'[3]Список изделий'!Y7629","v":0},{"$f":"'[3]Список изделий'!Z7629","v":0},{"$f":"'[3]Список изделий'!AA7629","v":0},{"$f":"'[3]Список изделий'!AB7629","v":0},{"$f":"'[3]Список изделий'!AC7629","v":"x"},{"$f":"'[3]Список изделий'!AD7629","v":0},{"$f":"'[3]Список изделий'!AE7629","v":0},{"$f":"'[3]Список изделий'!AF7629","v":"00:00:00"},{"$f":"'[3]Список изделий'!AY7629","v":0},{"$f":"'[3]Список изделий'!AZ7629","v":"00:00:00"},{"$f":"IF(O196=\"нет в заказе\",\"нет в заказе\",-(TODAY()-(P196-O196)))","v":-43153},{"$f":"IF(Q196=\"нет в заказе\",\"нет взаказе\",-(IF(O196=\"нет в заказе\",\"нет в заказе\",TODAY()-P196)))","v":-43153},0,{"$f":"V196","v":0},{"$f":"'[3]Список изделий'!BR7629","v":0},{"$f":"IF(S196>=0,S196,IF(T196>S196,T196,S196))","v":0},"\\\\SERVER\\Data1\\П\\Перекресток\\2018\\МОСКВА_18\\Балаклавский пр. 16А\\Техничка\\25-Мясной_разруб"]
[195,{"$f":"'[3]Список изделий'!D7711","v":95},{"$f":"'[3]Список изделий'!E7711","v":0},{"$f":"'[3]Список изделий'!F7711","v":0},{"$f":"'[3]Список изделий'!I7711","v":0},{"$f":"'[3]Список изделий'!X7711","v":0},{"$f":"'[3]Список изделий'!Y7711","v":0},{"$f":"'[3]Список изделий'!Z7711","v":0},{"$f":"'[3]Список изделий'!AA7711","v":0},{"$f":"'[3]Список изделий'!AB7711","v":0},{"$f":"'[3]Список изделий'!AC7711","v":"x"},{"$f":"'[3]Список изделий'!AD7711","v":0},{"$f":"'[3]Список изделий'!AE7711","v":0},{"$f":"'[3]Список изделий'!AF7711","v":"00:00:00"},{"$f":"'[3]Список изделий'!AY7711","v":0},{"$f":"'[3]Список изделий'!AZ7711","v":"00:00:00"},-43153,-43153,0,0,{"$f":"'[3]Список изделий'!BR7711","v":0},0,"\\\\SERVER\\Data1\\П\\Перекресток\\2018\\ТЕХНИЧЕСКАЯ ДОКУМЕНТАЦИЯ\\27-Быстро_и_вкусно\\Сборка\\БиВ-комплект.jpg"]
[196,{"$f":"'[3]Список изделий'!D7793","v":96},{"$f":"'[3]Список изделий'!E7793","v":0},{"$f":"'[3]Список изделий'!F7793","v":0},{"$f":"'[3]Список изделий'!I7793","v":0},{"$f":"'[3]Список изделий'!X7793","v":0},{"$f":"'[3]Список изделий'!Y7793","v":0},{"$f":"'[3]Список изделий'!Z7793","v":0},{"$f":"'[3]Список изделий'!AA7793","v":0},{"$f":"'[3]Список изделий'!AB7793","v":0},{"$f":"'[3]Список изделий'!AC7793","v":"x"},{"$f":"'[3]Список изделий'!AD7793","v":0},{"$f":"'[3]Список изделий'!AE7793","v":0},{"$f":"'[3]Список изделий'!AF7793","v":"00:00:00"},{"$f":"'[3]Список изделий'!AY7793","v":0},{"$f":"'[3]Список изделий'!AZ7793","v":"00:00:00"},-43153,-43153,0,0,{"$f":"'[3]Список изделий'!BR7793","v":0},0,0]
[197,{"$f":"'[3]Список изделий'!D7875","v":97},{"$f":"'[3]Список изделий'!E7875","v":0},{"$f":"'[3]Список изделий'!F7875","v":0},{"$f":"'[3]Список изделий'!I7875","v":0},{"$f":"'[3]Список изделий'!X7875","v":0},{"$f":"'[3]Список изделий'!Y7875","v":0},{"$f":"'[3]Список изделий'!Z7875","v":0},{"$f":"'[3]Список изделий'!AA7875","v":0},{"$f":"'[3]Список изделий'!AB7875","v":0},{"$f":"'[3]Список изделий'!AC7875","v":"x"},{"$f":"'[3]Список изделий'!AD7875","v":0},{"$f":"'[3]Список изделий'!AE7875","v":0},{"$f":"'[3]Список изделий'!AF7875","v":"00:00:00"},{"$f":"'[3]Список изделий'!AY7875","v":0},{"$f":"'[3]Список изделий'!AZ7875","v":"00:00:00"},-43153,-43153,0,0,{"$f":"'[3]Список изделий'!BR7875","v":0},0,0]
[198,{"$f":"'[3]Список изделий'!D7957","v":98},{"$f":"'[3]Список изделий'!E7957","v":0},{"$f":"'[3]Список изделий'!F7957","v":0},{"$f":"'[3]Список изделий'!I7957","v":0},{"$f":"'[3]Список изделий'!X7957","v":0},{"$f":"'[3]Список изделий'!Y7957","v":0},{"$f":"'[3]Список изделий'!Z7957","v":0},{"$f":"'[3]Список изделий'!AA7957","v":0},{"$f":"'[3]Список изделий'!AB7957","v":0},{"$f":"'[3]Список изделий'!AC7957","v":"x"},{"$f":"'[3]Список изделий'!AD7957","v":0},{"$f":"'[3]Список изделий'!AE7957","v":0},{"$f":"'[3]Список изделий'!AF7957","v":"00:00:00"},{"$f":"'[3]Список изделий'!AY7957","v":0},{"$f":"'[3]Список изделий'!AZ7957","v":"00:00:00"},-43153,-43153,0,0,{"$f":"'[3]Список изделий'!BR7957","v":0},0,0]
[199,{"$f":"'[3]Список изделий'!D8039","v":99},{"$f":"'[3]Список изделий'!E8039","v":0},{"$f":"'[3]Список изделий'!F8039","v":0},{"$f":"'[3]Список изделий'!I8039","v":0},{"$f":"'[3]Список изделий'!X8039","v":0},{"$f":"'[3]Список изделий'!Y8039","v":0},{"$f":"'[3]Список изделий'!Z8039","v":0},{"$f":"'[3]Список изделий'!AA8039","v":0},{"$f":"'[3]Список изделий'!AB8039","v":0},{"$f":"'[3]Список изделий'!AC8039","v":"x"},{"$f":"'[3]Список изделий'!AD8039","v":0},{"$f":"'[3]Список изделий'!AE8039","v":0},{"$f":"'[3]Список изделий'!AF8039","v":"00:00:00"},{"$f":"'[3]Список изделий'!AY8039","v":0},{"$f":"'[3]Список изделий'!AZ8039","v":"00:00:00"},-43153,-43153,0,0,{"$f":"'[3]Список изделий'!BR8039","v":0},0,"\\\\SERVER\\Data1\\П\\Перекресток\\2018\\МОСКВА_18\\Балаклавский пр. 16А\\Техничка\\36-Служебные_таблички"]
[200,{"$f":"'[3]Список изделий'!D8121","v":100},{"$f":"'[3]Список изделий'!E8121","v":0},{"$f":"'[3]Список изделий'!F8121","v":0},{"$f":"'[3]Список изделий'!I8121","v":0},{"$f":"'[3]Список изделий'!X8121","v":0},{"$f":"'[3]Список изделий'!Y8121","v":0},{"$f":"'[3]Список изделий'!Z8121","v":0},{"$f":"'[3]Список изделий'!AA8121","v":0},{"$f":"'[3]Список изделий'!AB8121","v":0},{"$f":"'[3]Список изделий'!AC8121","v":"x"},{"$f":"'[3]Список изделий'!AD8121","v":0},{"$f":"'[3]Список изделий'!AE8121","v":0},{"$f":"'[3]Список изделий'!AF8121","v":"00:00:00"},{"$f":"'[3]Список изделий'!AY8121","v":0},{"$f":"'[3]Список изделий'!AZ8121","v":"00:00:00"},-43153,-43153,0,0,{"$f":"'[3]Список изделий'!BR8121","v":0},0,0]
[201,{"$f":"'[5]Список изделий'!D3","v":1},{"$f":"'[5]Список изделий'!E3","v":0},{"$f":"'[5]Список изделий'!F3","v":0},{"$f":"'[5]Список изделий'!I3","v":0},{"$f":"'[5]Список изделий'!X3","v":0},{"$f":"'[5]Список изделий'!Y3","v":0},{"$f":"'[5]Список изделий'!Z3","v":0},{"$f":"'[5]Список изделий'!AA3","v":0},{"$f":"'[5]Список изделий'!AB3","v":0},{"$f":"'[5]Список изделий'!AC3","v":"x"},{"$f":"'[5]Список изделий'!AD3","v":0},{"$f":"'[5]Список изделий'!AE3","v":0},{"$f":"'[5]Список изделий'!AF3","v":"00:00:00"},{"$f":"'[5]Список изделий'!AY3","v":0},{"$f":"'[5]Список изделий'!AZ3","v":"00:00:00"},-43153,-43153,null,0,{"$f":"'[5]Список изделий'!BR3","v":0},0,0]
[202,{"$f":"'[5]Список изделий'!D85","v":2},{"$f":"'[5]Список изделий'!E85","v":0},{"$f":"'[5]Список изделий'!F85","v":0},{"$f":"'[5]Список изделий'!I85","v":0},{"$f":"'[5]Список изделий'!X85","v":0},{"$f":"'[5]Список изделий'!Y85","v":0},{"$f":"'[5]Список изделий'!Z85","v":0},{"$f":"'[5]Список изделий'!AA85","v":0},{"$f":"'[5]Список изделий'!AB85","v":0},{"$f":"'[5]Список изделий'!AC85","v":"x"},{"$f":"'[5]Список изделий'!AD85","v":0},{"$f":"'[5]Список изделий'!AE85","v":0},{"$f":"'[5]Список изделий'!AF85","v":"00:00:00"},{"$f":"'[5]Список изделий'!AY85","v":0},{"$f":"'[5]Список изделий'!AZ85","v":"00:00:00"},-43153,-43153,0,0,{"$f":"'[5]Список изделий'!BR85","v":0},0]
[203,{"$f":"'[5]Список изделий'!D167","v":3},{"$f":"'[5]Список изделий'!E167","v":0},{"$f":"'[5]Список изделий'!F167","v":0},{"$f":"'[5]Список изделий'!I167","v":0},{"$f":"'[5]Список изделий'!X167","v":0},{"$f":"'[5]Список изделий'!Y167","v":0},{"$f":"'[5]Список изделий'!Z167","v":0},{"$f":"'[5]Список изделий'!AA167","v":0},{"$f":"'[5]Список изделий'!AB167","v":0},{"$f":"'[5]Список изделий'!AC167","v":"x"},{"$f":"'[5]Список изделий'!AD167","v":0},{"$f":"'[5]Список изделий'!AE167","v":0},{"$f":"'[5]Список изделий'!AF167","v":"00:00:00"},{"$f":"'[5]Список изделий'!AY167","v":0},{"$f":"'[5]Список изделий'!AZ167","v":"00:00:00"},-43153,-43153,0,0,{"$f":"'[5]Список изделий'!BR167","v":0},0,"\\\\SERVER\\Data1\\П\\Перекресток\\2018\\МОСКВА_18\\Балаклавский пр. 16А\\Техничка\\44-Алкогольные_разделители-200х38"]
[204,{"$f":"'[5]Список изделий'!D249","v":4},{"$f":"'[5]Список изделий'!E249","v":0},{"$f":"'[5]Список изделий'!F249","v":0},{"$f":"'[5]Список изделий'!I249","v":0},{"$f":"'[5]Список изделий'!X249","v":0},{"$f":"'[5]Список изделий'!Y249","v":0},{"$f":"'[5]Список изделий'!Z249","v":0},{"$f":"'[5]Список изделий'!AA249","v":0},{"$f":"'[5]Список изделий'!AB249","v":0},{"$f":"'[5]Список изделий'!AC249","v":"x"},{"$f":"'[5]Список изделий'!AD249","v":0},{"$f":"'[5]Список изделий'!AE249","v":0},{"$f":"'[5]Список изделий'!AF249","v":"00:00:00"},{"$f":"'[5]Список изделий'!AY249","v":0},{"$f":"'[5]Список изделий'!AZ249","v":"00:00:00"},-43153,-43153,0,0,{"$f":"'[5]Список изделий'!BR249","v":0},0,0]
[205,{"$f":"'[5]Список изделий'!D331","v":5},{"$f":"'[5]Список изделий'!E331","v":0},{"$f":"'[5]Список изделий'!F331","v":0},{"$f":"'[5]Список изделий'!I331","v":0},{"$f":"'[5]Список изделий'!X331","v":0},{"$f":"'[5]Список изделий'!Y331","v":0},{"$f":"'[5]Список изделий'!Z331","v":0},{"$f":"'[5]Список изделий'!AA331","v":0},{"$f":"'[5]Список изделий'!AB331","v":0},{"$f":"'[5]Список изделий'!AC331","v":"x"},{"$f":"'[5]Список изделий'!AD331","v":0},{"$f":"'[5]Список изделий'!AE331","v":0},{"$f":"'[5]Список изделий'!AF331","v":"00:00:00"},{"$f":"'[5]Список изделий'!AY331","v":0},{"$f":"'[5]Список изделий'!AZ331","v":"00:00:00"},-43153,-43153,0,0,{"$f":"'[5]Список изделий'!BR331","v":0},0]
[206,{"$f":"'[5]Список изделий'!D413","v":6},{"$f":"'[5]Список изделий'!E413","v":0},{"$f":"'[5]Список изделий'!F413","v":0},{"$f":"'[5]Список изделий'!I413","v":0},{"$f":"'[5]Список изделий'!X413","v":0},{"$f":"'[5]Список изделий'!Y413","v":0},{"$f":"'[5]Список изделий'!Z413","v":0},{"$f":"'[5]Список изделий'!AA413","v":0},{"$f":"'[5]Список изделий'!AB413","v":0},{"$f":"'[5]Список изделий'!AC413","v":"x"},{"$f":"'[5]Список изделий'!AD413","v":0},{"$f":"'[5]Список изделий'!AE413","v":0},{"$f":"'[5]Список изделий'!AF413","v":"00:00:00"},{"$f":"'[5]Список изделий'!AY413","v":0},{"$f":"'[5]Список изделий'!AZ413","v":"00:00:00"},-43153,-43153,null,0,{"$f":"'[5]Список изделий'!BR413","v":0},0]
[207,{"$f":"'[5]Список изделий'!D495","v":7},{"$f":"'[5]Список изделий'!E495","v":0},{"$f":"'[5]Список изделий'!F495","v":0},{"$f":"'[5]Список изделий'!I495","v":0},{"$f":"'[5]Список изделий'!X495","v":0},{"$f":"'[5]Список изделий'!Y495","v":0},{"$f":"'[5]Список изделий'!Z495","v":0},{"$f":"'[5]Список изделий'!AA495","v":0},{"$f":"'[5]Список изделий'!AB495","v":0},{"$f":"'[5]Список изделий'!AC495","v":"x"},{"$f":"'[5]Список изделий'!AD495","v":0},{"$f":"'[5]Список изделий'!AE495","v":0},{"$f":"'[5]Список изделий'!AF495","v":"00:00:00"},{"$f":"'[5]Список изделий'!AY495","v":0},{"$f":"'[5]Список изделий'!AZ495","v":"00:00:00"},-43153,-43153,null,0,{"$f":"'[5]Список изделий'!BR495","v":0},0,0]
[208,{"$f":"'[5]Список изделий'!D577","v":8},{"$f":"'[5]Список изделий'!E577","v":0},{"$f":"'[5]Список изделий'!F577","v":0},{"$f":"'[5]Список изделий'!I577","v":0},{"$f":"'[5]Список изделий'!X577","v":0},{"$f":"'[5]Список изделий'!Y577","v":0},{"$f":"'[5]Список изделий'!Z577","v":0},{"$f":"'[5]Список изделий'!AA577","v":0},{"$f":"'[5]Список изделий'!AB577","v":0},{"$f":"'[5]Список изделий'!AC577","v":"x"},{"$f":"'[5]Список изделий'!AD577","v":0},{"$f":"'[5]Список изделий'!AE577","v":0},{"$f":"'[5]Список изделий'!AF577","v":"00:00:00"},{"$f":"'[5]Список изделий'!AY577","v":0},{"$f":"'[5]Список изделий'!AZ577","v":"00:00:00"},-43153,-43153,null,0,{"$f":"'[5]Список изделий'!BR577","v":0},0,0]
[209,{"$f":"'[5]Список изделий'!D659","v":9},{"$f":"'[5]Список изделий'!E659","v":0},{"$f":"'[5]Список изделий'!F659","v":0},{"$f":"'[5]Список изделий'!I659","v":0},{"$f":"'[5]Список изделий'!X659","v":0},{"$f":"'[5]Список изделий'!Y659","v":0},{"$f":"'[5]Список изделий'!Z659","v":0},{"$f":"'[5]Список изделий'!AA659","v":0},{"$f":"'[5]Список изделий'!AB659","v":0},{"$f":"'[5]Список изделий'!AC659","v":"x"},{"$f":"'[5]Список изделий'!AD659","v":0},{"$f":"'[5]Список изделий'!AE659","v":0},{"$f":"'[5]Список изделий'!AF659","v":"00:00:00"},{"$f":"'[5]Список изделий'!AY659","v":0},{"$f":"'[5]Список изделий'!AZ659","v":"00:00:00"},-43153,-43153,null,0,{"$f":"'[5]Список изделий'!BR659","v":0},0,0]
[210,{"$f":"'[5]Список изделий'!D741","v":10},{"$f":"'[5]Список изделий'!E741","v":0},{"$f":"'[5]Список изделий'!F741","v":0},{"$f":"'[5]Список изделий'!I741","v":0},{"$f":"'[5]Список изделий'!X741","v":0},{"$f":"'[5]Список изделий'!Y741","v":0},{"$f":"'[5]Список изделий'!Z741","v":0},{"$f":"'[5]Список изделий'!AA741","v":0},{"$f":"'[5]Список изделий'!AB741","v":0},{"$f":"'[5]Список изделий'!AC741","v":"x"},{"$f":"'[5]Список изделий'!AD741","v":0},{"$f":"'[5]Список изделий'!AE741","v":0},{"$f":"'[5]Список изделий'!AF741","v":"00:00:00"},{"$f":"'[5]Список изделий'!AY741","v":0},{"$f":"'[5]Список изделий'!AZ741","v":"00:00:00"},-43153,-43153,null,0,{"$f":"'[5]Список изделий'!BR741","v":0},0]
[211,{"$f":"'[5]Список изделий'!D823","v":11},{"$f":"'[5]Список изделий'!E823","v":0},{"$f":"'[5]Список изделий'!F823","v":0},{"$f":"'[5]Список изделий'!I823","v":0},{"$f":"'[5]Список изделий'!X823","v":0},{"$f":"'[5]Список изделий'!Y823","v":0},{"$f":"'[5]Список изделий'!Z823","v":0},{"$f":"'[5]Список изделий'!AA823","v":0},{"$f":"'[5]Список изделий'!AB823","v":0},{"$f":"'[5]Список изделий'!AC823","v":"x"},{"$f":"'[5]Список изделий'!AD823","v":0},{"$f":"'[5]Список изделий'!AE823","v":0},{"$f":"'[5]Список изделий'!AF823","v":"00:00:00"},{"$f":"'[5]Список изделий'!AY823","v":0},{"$f":"'[5]Список изделий'!AZ823","v":"00:00:00"},-43153,-43153,null,0,{"$f":"'[5]Список изделий'!BR823","v":0},0]
[212,{"$f":"'[5]Список изделий'!D905","v":12},{"$f":"'[5]Список изделий'!E905","v":0},{"$f":"'[5]Список изделий'!F905","v":0},{"$f":"'[5]Список изделий'!I905","v":0},{"$f":"'[5]Список изделий'!X905","v":0},{"$f":"'[5]Список изделий'!Y905","v":0},{"$f":"'[5]Список изделий'!Z905","v":0},{"$f":"'[5]Список изделий'!AA905","v":0},{"$f":"'[5]Список изделий'!AB905","v":0},{"$f":"'[5]Список изделий'!AC905","v":"x"},{"$f":"'[5]Список изделий'!AD905","v":0},{"$f":"'[5]Список изделий'!AE905","v":0},{"$f":"'[5]Список изделий'!AF905","v":"00:00:00"},{"$f":"'[5]Список изделий'!AY905","v":0},{"$f":"'[5]Список изделий'!AZ905","v":"00:00:00"},-43153,-43153,0,0,{"$f":"'[5]Список изделий'!BR905","v":0},0,0]
[213,{"$f":"'[5]Список изделий'!D987","v":13},{"$f":"'[5]Список изделий'!E987","v":0},{"$f":"'[5]Список изделий'!F987","v":0},{"$f":"'[5]Список изделий'!I987","v":0},{"$f":"'[5]Список изделий'!X987","v":0},{"$f":"'[5]Список изделий'!Y987","v":0},{"$f":"'[5]Список изделий'!Z987","v":0},{"$f":"'[5]Список изделий'!AA987","v":0},{"$f":"'[5]Список изделий'!AB987","v":0},{"$f":"'[5]Список изделий'!AC987","v":"x"},{"$f":"'[5]Список изделий'!AD987","v":0},{"$f":"'[5]Список изделий'!AE987","v":0},{"$f":"'[5]Список изделий'!AF987","v":"00:00:00"},{"$f":"'[5]Список изделий'!AY987","v":0},{"$f":"'[5]Список изделий'!AZ987","v":"00:00:00"},-43153,-43153,0,0,{"$f":"'[5]Список изделий'!BR987","v":0},0,"\\\\SERVER\\Data1\\П\\Перекресток\\2018\\МОСКВА_18\\Балаклавский пр. 16А\\Техничка\\76-Пилон-660х1600"]
[214,{"$f":"'[5]Список изделий'!D1069","v":14},{"$f":"'[5]Список изделий'!E1069","v":0},{"$f":"'[5]Список изделий'!F1069","v":0},{"$f":"'[5]Список изделий'!I1069","v":0},{"$f":"'[5]Список изделий'!X1069","v":0},{"$f":"'[5]Список изделий'!Y1069","v":0},{"$f":"'[5]Список изделий'!Z1069","v":0},{"$f":"'[5]Список изделий'!AA1069","v":0},{"$f":"'[5]Список изделий'!AB1069","v":0},{"$f":"'[5]Список изделий'!AC1069","v":"x"},{"$f":"'[5]Список изделий'!AD1069","v":0},{"$f":"'[5]Список изделий'!AE1069","v":0},{"$f":"'[5]Список изделий'!AF1069","v":"00:00:00"},{"$f":"'[5]Список изделий'!AY1069","v":0},{"$f":"'[5]Список изделий'!AZ1069","v":"00:00:00"},-43153,-43153,0,0,{"$f":"'[5]Список изделий'!BR1069","v":0},0]
[215,{"$f":"'[5]Список изделий'!D1151","v":15},{"$f":"'[5]Список изделий'!E1151","v":0},{"$f":"'[5]Список изделий'!F1151","v":0},{"$f":"'[5]Список изделий'!I1151","v":0},{"$f":"'[5]Список изделий'!X1151","v":0},{"$f":"'[5]Список изделий'!Y1151","v":0},{"$f":"'[5]Список изделий'!Z1151","v":0},{"$f":"'[5]Список изделий'!AA1151","v":0},{"$f":"'[5]Список изделий'!AB1151","v":0},{"$f":"'[5]Список изделий'!AC1151","v":"x"},{"$f":"'[5]Список изделий'!AD1151","v":0},{"$f":"'[5]Список изделий'!AE1151","v":0},{"$f":"'[5]Список изделий'!AF1151","v":"00:00:00"},{"$f":"'[5]Список изделий'!AY1151","v":0},{"$f":"'[5]Список изделий'!AZ1151","v":"00:00:00"},-43153,-43153,0,0,{"$f":"'[5]Список изделий'!BR1151","v":0},0]
[1118,{"$f":"'[4]Список изделий'!D1397","v":18},{"$f":"'[4]Список изделий'!E1397","v":"Пер-Наст-18"},{"$f":"'[4]Список изделий'!F1397","v":"Стикеры на холодильники (оклейка боковин). Пленка или перфорация с ламинацией"},{"$f":"'[4]Список изделий'!I1397","v":15},{"$f":"'[4]Список изделий'!X1397","v":"ГМА"},{"$f":"'[4]Список изделий'!Y1397","v":"Микуло"},{"$f":"'[4]Список изделий'!Z1397","v":"Закурдаев"},{"$f":"'[4]Список изделий'!AA1397","v":"Замотаев"},{"$f":"'[4]Список изделий'!AB1397","v":0},{"$f":"'[4]Список изделий'!AC1397","v":"x"},{"$f":"'[4]Список изделий'!AD1397","v":0},{"$f":"'[4]Список изделий'!AE1397","v":0},{"$f":"'[4]Список изделий'!AF1397","v":"2018-02-20"},{"$f":"'[4]Список изделий'!AY1397","v":8},{"$f":"'[4]Список изделий'!AZ1397","v":"2018-02-14"},-16,-8,0,0,{"$f":"'[4]Список изделий'!BR1397","v":"\\\\SERVER\\Data1\\П\\Перекресток\\2018\\ОКЕЙ_Перекресток\\Наставников 33\\техничка\\18-оклейка_боковин_холодильников\\Сборка\\оклейка_бок_холод-сборка.cdr"},0]
[1119,{"$f":"'[4]Список изделий'!D1479","v":19},{"$f":"'[4]Список изделий'!E1479","v":"Пер-Наст-19"},{"$f":"'[4]Список изделий'!F1479","v":"комплект ПРОТЕУС"},{"$f":"'[4]Список изделий'!I1479","v":1},{"$f":"'[4]Список изделий'!X1479","v":"ГМА"},{"$f":"'[4]Список изделий'!Y1479","v":"Микуло"},{"$f":"'[4]Список изделий'!Z1479","v":"Закурдаев"},{"$f":"'[4]Список изделий'!AA1479","v":"Замотаев"},{"$f":"'[4]Список изделий'!AB1479","v":0},{"$f":"'[4]Список изделий'!AC1479","v":"x"},{"$f":"'[4]Список изделий'!AD1479","v":0},{"$f":"'[4]Список изделий'!AE1479","v":0},{"$f":"'[4]Список изделий'!AF1479","v":"2018-02-20"},{"$f":"'[4]Список изделий'!AY1479","v":8},{"$f":"'[4]Список изделий'!AZ1479","v":"2018-02-14"},-16,-8,0.01,0.01,{"$f":"'[4]Список изделий'!BR1479","v":"\\\\SERVER\\Data1\\П\\Перекресток\\2018\\ОКЕЙ_Перекресток\\Наставников 33\\техничка\\19-Протеус\\Сборка\\протеус_сборка.cdr"},0.01,0]
[1121,{"$f":"'[4]Список изделий'!D1643","v":21},{"$f":"'[4]Список изделий'!E1643","v":"Пер-Наст-21"},{"$f":"'[4]Список изделий'!F1643","v":"Разделители в алкоголь"},{"$f":"'[4]Список изделий'!I1643","v":60},{"$f":"'[4]Список изделий'!X1643","v":"ГМА"},{"$f":"'[4]Список изделий'!Y1643","v":"Микуло"},{"$f":"'[4]Список изделий'!Z1643","v":"Закурдаев"},{"$f":"'[4]Список изделий'!AA1643","v":"Замотаев"},{"$f":"'[4]Список изделий'!AB1643","v":0},{"$f":"'[4]Список изделий'!AC1643","v":"х"},{"$f":"'[4]Список изделий'!AD1643","v":0},{"$f":"'[4]Список изделий'!AE1643","v":0},{"$f":"'[4]Список изделий'!AF1643","v":"2018-02-20"},{"$f":"'[4]Список изделий'!AY1643","v":8},{"$f":"'[4]Список изделий'!AZ1643","v":"2018-02-14"},-16,-8,1,1,{"$f":"'[4]Список изделий'!BR1643","v":0},1]
[1124,{"$f":"'[4]Список изделий'!D1889","v":24},{"$f":"'[4]Список изделий'!E1889","v":"Пер-Наст-24"},{"$f":"'[4]Список изделий'!F1889","v":"Оформление холодильника Икра"},{"$f":"'[4]Список изделий'!I1889","v":1},{"$f":"'[4]Список изделий'!X1889","v":"ГМА"},{"$f":"'[4]Список изделий'!Y1889","v":"Микуло"},{"$f":"'[4]Список изделий'!Z1889","v":"Закурдаев"},{"$f":"'[4]Список изделий'!AA1889","v":"Замотаев"},{"$f":"'[4]Список изделий'!AB1889","v":0},{"$f":"'[4]Список изделий'!AC1889","v":"x"},{"$f":"'[4]Список изделий'!AD1889","v":0},{"$f":"'[4]Список изделий'!AE1889","v":0},{"$f":"'[4]Список изделий'!AF1889","v":"2018-02-20"},{"$f":"'[4]Список изделий'!AY1889","v":8},{"$f":"'[4]Список изделий'!AZ1889","v":"2018-02-14"},-16,-8,0.01,0.01,{"$f":"'[4]Список изделий'!BR1889","v":"\\\\SERVER\\Data1\\П\\Перекресток\\2018\\ОКЕЙ_Перекресток\\Наставников 33\\техничка\\24-холодильник_ИКРА\\Сборка\\Икра_сборка.cdr"},0.01,0]
[220,{"$f":"'[5]Список изделий'!D1561","v":20},{"$f":"'[5]Список изделий'!E1561","v":0},{"$f":"'[5]Список изделий'!F1561","v":0},{"$f":"'[5]Список изделий'!I1561","v":0},{"$f":"'[5]Список изделий'!X1561","v":0},{"$f":"'[5]Список изделий'!Y1561","v":0},{"$f":"'[5]Список изделий'!Z1561","v":0},{"$f":"'[5]Список изделий'!AA1561","v":0},{"$f":"'[5]Список изделий'!AB1561","v":0},{"$f":"'[5]Список изделий'!AC1561","v":"x"},{"$f":"'[5]Список изделий'!AD1561","v":0},{"$f":"'[5]Список изделий'!AE1561","v":0},{"$f":"'[5]Список изделий'!AF1561","v":"00:00:00"},{"$f":"'[5]Список изделий'!AY1561","v":0},{"$f":"'[5]Список изделий'!AZ1561","v":"00:00:00"},-43153,-43153,0,0,{"$f":"'[5]Список изделий'!BR1561","v":0},0,0]
[221,{"$f":"'[5]Список изделий'!D1643","v":21},{"$f":"'[5]Список изделий'!E1643","v":0},{"$f":"'[5]Список изделий'!F1643","v":0},{"$f":"'[5]Список изделий'!I1643","v":0},{"$f":"'[5]Список изделий'!X1643","v":0},{"$f":"'[5]Список изделий'!Y1643","v":0},{"$f":"'[5]Список изделий'!Z1643","v":0},{"$f":"'[5]Список изделий'!AA1643","v":0},{"$f":"'[5]Список изделий'!AB1643","v":0},{"$f":"'[5]Список изделий'!AC1643","v":"x"},{"$f":"'[5]Список изделий'!AD1643","v":0},{"$f":"'[5]Список изделий'!AE1643","v":0},{"$f":"'[5]Список изделий'!AF1643","v":"00:00:00"},{"$f":"'[5]Список изделий'!AY1643","v":0},{"$f":"'[5]Список изделий'!AZ1643","v":"00:00:00"},-43153,-43153,0,0,{"$f":"'[5]Список изделий'!BR1643","v":0},0]
[222,{"$f":"'[5]Список изделий'!D1725","v":22},{"$f":"'[5]Список изделий'!E1725","v":0},{"$f":"'[5]Список изделий'!F1725","v":0},{"$f":"'[5]Список изделий'!I1725","v":0},{"$f":"'[5]Список изделий'!X1725","v":0},{"$f":"'[5]Список изделий'!Y1725","v":0},{"$f":"'[5]Список изделий'!Z1725","v":0},{"$f":"'[5]Список изделий'!AA1725","v":0},{"$f":"'[5]Список изделий'!AB1725","v":0},{"$f":"'[5]Список изделий'!AC1725","v":"x"},{"$f":"'[5]Список изделий'!AD1725","v":0},{"$f":"'[5]Список изделий'!AE1725","v":0},{"$f":"'[5]Список изделий'!AF1725","v":"00:00:00"},{"$f":"'[5]Список изделий'!AY1725","v":0},{"$f":"'[5]Список изделий'!AZ1725","v":"00:00:00"},-43153,-43153,0,0,{"$f":"'[5]Список изделий'!BR1725","v":0},0,"\\\\SERVER\\Data1\\П\\Перекресток\\2018\\МОСКВА_18\\Балаклавский пр. 16А\\Техничка\\25-Мясной_разруб"]
[223,{"$f":"'[5]Список изделий'!D1807","v":23},{"$f":"'[5]Список изделий'!E1807","v":0},{"$f":"'[5]Список изделий'!F1807","v":0},{"$f":"'[5]Список изделий'!I1807","v":0},{"$f":"'[5]Список изделий'!X1807","v":0},{"$f":"'[5]Список изделий'!Y1807","v":0},{"$f":"'[5]Список изделий'!Z1807","v":0},{"$f":"'[5]Список изделий'!AA1807","v":0},{"$f":"'[5]Список изделий'!AB1807","v":0},{"$f":"'[5]Список изделий'!AC1807","v":"x"},{"$f":"'[5]Список изделий'!AD1807","v":0},{"$f":"'[5]Список изделий'!AE1807","v":0},{"$f":"'[5]Список изделий'!AF1807","v":"00:00:00"},{"$f":"'[5]Список изделий'!AY1807","v":0},{"$f":"'[5]Список изделий'!AZ1807","v":"00:00:00"},-43153,-43153,0,0,{"$f":"'[5]Список изделий'!BR1807","v":0},0,"\\\\SERVER\\Data1\\П\\Перекресток\\2018\\ТЕХНИЧЕСКАЯ ДОКУМЕНТАЦИЯ\\27-Быстро_и_вкусно\\Сборка\\БиВ-комплект.jpg"]
[224,{"$f":"'[5]Список изделий'!D1889","v":24},{"$f":"'[5]Список изделий'!E1889","v":0},{"$f":"'[5]Список изделий'!F1889","v":0},{"$f":"'[5]Список изделий'!I1889","v":0},{"$f":"'[5]Список изделий'!X1889","v":0},{"$f":"'[5]Список изделий'!Y1889","v":0},{"$f":"'[5]Список изделий'!Z1889","v":0},{"$f":"'[5]Список изделий'!AA1889","v":0},{"$f":"'[5]Список изделий'!AB1889","v":0},{"$f":"'[5]Список изделий'!AC1889","v":"x"},{"$f":"'[5]Список изделий'!AD1889","v":0},{"$f":"'[5]Список изделий'!AE1889","v":0},{"$f":"'[5]Список изделий'!AF1889","v":"00:00:00"},{"$f":"'[5]Список изделий'!AY1889","v":0},{"$f":"'[5]Список изделий'!AZ1889","v":"00:00:00"},-43153,-43153,0,0,{"$f":"'[5]Список изделий'!BR1889","v":0},0,0]
[225,{"$f":"'[5]Список изделий'!D1971","v":25},{"$f":"'[5]Список изделий'!E1971","v":0},{"$f":"'[5]Список изделий'!F1971","v":0},{"$f":"'[5]Список изделий'!I1971","v":0},{"$f":"'[5]Список изделий'!X1971","v":0},{"$f":"'[5]Список изделий'!Y1971","v":0},{"$f":"'[5]Список изделий'!Z1971","v":0},{"$f":"'[5]Список изделий'!AA1971","v":0},{"$f":"'[5]Список изделий'!AB1971","v":0},{"$f":"'[5]Список изделий'!AC1971","v":"x"},{"$f":"'[5]Список изделий'!AD1971","v":0},{"$f":"'[5]Список изделий'!AE1971","v":0},{"$f":"'[5]Список изделий'!AF1971","v":"00:00:00"},{"$f":"'[5]Список изделий'!AY1971","v":0},{"$f":"'[5]Список изделий'!AZ1971","v":"00:00:00"},-43153,-43153,0,0,{"$f":"'[5]Список изделий'!BR1971","v":0},0,0]
[226,{"$f":"'[5]Список изделий'!D2053","v":26},{"$f":"'[5]Список изделий'!E2053","v":0},{"$f":"'[5]Список изделий'!F2053","v":0},{"$f":"'[5]Список изделий'!I2053","v":0},{"$f":"'[5]Список изделий'!X2053","v":0},{"$f":"'[5]Список изделий'!Y2053","v":0},{"$f":"'[5]Список изделий'!Z2053","v":0},{"$f":"'[5]Список изделий'!AA2053","v":0},{"$f":"'[5]Список изделий'!AB2053","v":0},{"$f":"'[5]Список изделий'!AC2053","v":"x"},{"$f":"'[5]Список изделий'!AD2053","v":0},{"$f":"'[5]Список изделий'!AE2053","v":0},{"$f":"'[5]Список изделий'!AF2053","v":"00:00:00"},{"$f":"'[5]Список изделий'!AY2053","v":0},{"$f":"'[5]Список изделий'!AZ2053","v":"00:00:00"},-43153,-43153,0,0,{"$f":"'[5]Список изделий'!BR2053","v":0},0,0]
[227,{"$f":"'[5]Список изделий'!D2135","v":27},{"$f":"'[5]Список изделий'!E2135","v":0},{"$f":"'[5]Список изделий'!F2135","v":0},{"$f":"'[5]Список изделий'!I2135","v":0},{"$f":"'[5]Список изделий'!X2135","v":0},{"$f":"'[5]Список изделий'!Y2135","v":0},{"$f":"'[5]Список изделий'!Z2135","v":0},{"$f":"'[5]Список изделий'!AA2135","v":0},{"$f":"'[5]Список изделий'!AB2135","v":0},{"$f":"'[5]Список изделий'!AC2135","v":"x"},{"$f":"'[5]Список изделий'!AD2135","v":0},{"$f":"'[5]Список изделий'!AE2135","v":0},{"$f":"'[5]Список изделий'!AF2135","v":"00:00:00"},{"$f":"'[5]Список изделий'!AY2135","v":0},{"$f":"'[5]Список изделий'!AZ2135","v":"00:00:00"},-43153,-43153,0,0,{"$f":"'[5]Список изделий'!BR2135","v":0},0,"\\\\SERVER\\Data1\\П\\Перекресток\\2018\\МОСКВА_18\\Балаклавский пр. 16А\\Техничка\\36-Служебные_таблички"]
[228,{"$f":"'[5]Список изделий'!D2217","v":28},{"$f":"'[5]Список изделий'!E2217","v":0},{"$f":"'[5]Список изделий'!F2217","v":0},{"$f":"'[5]Список изделий'!I2217","v":0},{"$f":"'[5]Список изделий'!X2217","v":0},{"$f":"'[5]Список изделий'!Y2217","v":0},{"$f":"'[5]Список изделий'!Z2217","v":0},{"$f":"'[5]Список изделий'!AA2217","v":0},{"$f":"'[5]Список изделий'!AB2217","v":0},{"$f":"'[5]Список изделий'!AC2217","v":"x"},{"$f":"'[5]Список изделий'!AD2217","v":0},{"$f":"'[5]Список изделий'!AE2217","v":0},{"$f":"'[5]Список изделий'!AF2217","v":"00:00:00"},{"$f":"'[5]Список изделий'!AY2217","v":0},{"$f":"'[5]Список изделий'!AZ2217","v":"00:00:00"},-43153,-43153,0,0,{"$f":"'[5]Список изделий'!BR2217","v":0},0,0]
[229,{"$f":"'[5]Список изделий'!D2299","v":29},{"$f":"'[5]Список изделий'!E2299","v":0},{"$f":"'[5]Список изделий'!F2299","v":0},{"$f":"'[5]Список изделий'!I2299","v":0},{"$f":"'[5]Список изделий'!X2299","v":0},{"$f":"'[5]Список изделий'!Y2299","v":0},{"$f":"'[5]Список изделий'!Z2299","v":0},{"$f":"'[5]Список изделий'!AA2299","v":0},{"$f":"'[5]Список изделий'!AB2299","v":0},{"$f":"'[5]Список изделий'!AC2299","v":"x"},{"$f":"'[5]Список изделий'!AD2299","v":0},{"$f":"'[5]Список изделий'!AE2299","v":0},{"$f":"'[5]Список изделий'!AF2299","v":"00:00:00"},{"$f":"'[5]Список изделий'!AY2299","v":0},{"$f":"'[5]Список изделий'!AZ2299","v":"00:00:00"},-43153,-43153,0,0,{"$f":"'[5]Список изделий'!BR2299","v":0},0,0]
[230,{"$f":"'[5]Список изделий'!D2381","v":30},{"$f":"'[5]Список изделий'!E2381","v":0},{"$f":"'[5]Список изделий'!F2381","v":0},{"$f":"'[5]Список изделий'!I2381","v":0},{"$f":"'[5]Список изделий'!X2381","v":0},{"$f":"'[5]Список изделий'!Y2381","v":0},{"$f":"'[5]Список изделий'!Z2381","v":0},{"$f":"'[5]Список изделий'!AA2381","v":0},{"$f":"'[5]Список изделий'!AB2381","v":0},{"$f":"'[5]Список изделий'!AC2381","v":"x"},{"$f":"'[5]Список изделий'!AD2381","v":0},{"$f":"'[5]Список изделий'!AE2381","v":0},{"$f":"'[5]Список изделий'!AF2381","v":"00:00:00"},{"$f":"'[5]Список изделий'!AY2381","v":0},{"$f":"'[5]Список изделий'!AZ2381","v":"00:00:00"},-43153,-43153,0,0,{"$f":"'[5]Список изделий'!BR2381","v":0},0]
[231,{"$f":"'[5]Список изделий'!D2463","v":31},{"$f":"'[5]Список изделий'!E2463","v":0},{"$f":"'[5]Список изделий'!F2463","v":0},{"$f":"'[5]Список изделий'!I2463","v":0},{"$f":"'[5]Список изделий'!X2463","v":0},{"$f":"'[5]Список изделий'!Y2463","v":0},{"$f":"'[5]Список изделий'!Z2463","v":0},{"$f":"'[5]Список изделий'!AA2463","v":0},{"$f":"'[5]Список изделий'!AB2463","v":0},{"$f":"'[5]Список изделий'!AC2463","v":"x"},{"$f":"'[5]Список изделий'!AD2463","v":0},{"$f":"'[5]Список изделий'!AE2463","v":0},{"$f":"'[5]Список изделий'!AF2463","v":"00:00:00"},{"$f":"'[5]Список изделий'!AY2463","v":0},{"$f":"'[5]Список изделий'!AZ2463","v":"00:00:00"},-43153,-43153,0,0,{"$f":"'[5]Список изделий'!BR2463","v":0},0,"\\\\SERVER\\Data1\\П\\Перекресток\\2018\\МОСКВА_18\\Балаклавский пр. 16А\\Техничка\\44-Алкогольные_разделители-200х38"]
[232,{"$f":"'[5]Список изделий'!D2545","v":32},{"$f":"'[5]Список изделий'!E2545","v":0},{"$f":"'[5]Список изделий'!F2545","v":0},{"$f":"'[5]Список изделий'!I2545","v":0},{"$f":"'[5]Список изделий'!X2545","v":0},{"$f":"'[5]Список изделий'!Y2545","v":0},{"$f":"'[5]Список изделий'!Z2545","v":0},{"$f":"'[5]Список изделий'!AA2545","v":0},{"$f":"'[5]Список изделий'!AB2545","v":0},{"$f":"'[5]Список изделий'!AC2545","v":"x"},{"$f":"'[5]Список изделий'!AD2545","v":0},{"$f":"'[5]Список изделий'!AE2545","v":0},{"$f":"'[5]Список изделий'!AF2545","v":"00:00:00"},{"$f":"'[5]Список изделий'!AY2545","v":0},{"$f":"'[5]Список изделий'!AZ2545","v":"00:00:00"},-43153,-43153,0,0,{"$f":"'[5]Список изделий'!BR2545","v":0},0,0]
[233,{"$f":"'[5]Список изделий'!D2627","v":33},{"$f":"'[5]Список изделий'!E2627","v":0},{"$f":"'[5]Список изделий'!F2627","v":0},{"$f":"'[5]Список изделий'!I2627","v":0},{"$f":"'[5]Список изделий'!X2627","v":0},{"$f":"'[5]Список изделий'!Y2627","v":0},{"$f":"'[5]Список изделий'!Z2627","v":0},{"$f":"'[5]Список изделий'!AA2627","v":0},{"$f":"'[5]Список изделий'!AB2627","v":0},{"$f":"'[5]Список изделий'!AC2627","v":"x"},{"$f":"'[5]Список изделий'!AD2627","v":0},{"$f":"'[5]Список изделий'!AE2627","v":0},{"$f":"'[5]Список изделий'!AF2627","v":"00:00:00"},{"$f":"'[5]Список изделий'!AY2627","v":0},{"$f":"'[5]Список изделий'!AZ2627","v":"00:00:00"},-43153,-43153,0,0,{"$f":"'[5]Список изделий'!BR2627","v":0},0,0]
[234,{"$f":"'[5]Список изделий'!D2709","v":34},{"$f":"'[5]Список изделий'!E2709","v":0},{"$f":"'[5]Список изделий'!F2709","v":0},{"$f":"'[5]Список изделий'!I2709","v":0},{"$f":"'[5]Список изделий'!X2709","v":0},{"$f":"'[5]Список изделий'!Y2709","v":0},{"$f":"'[5]Список изделий'!Z2709","v":0},{"$f":"'[5]Список изделий'!AA2709","v":0},{"$f":"'[5]Список изделий'!AB2709","v":0},{"$f":"'[5]Список изделий'!AC2709","v":"x"},{"$f":"'[5]Список изделий'!AD2709","v":0},{"$f":"'[5]Список изделий'!AE2709","v":0},{"$f":"'[5]Список изделий'!AF2709","v":"00:00:00"},{"$f":"'[5]Список изделий'!AY2709","v":0},{"$f":"'[5]Список изделий'!AZ2709","v":"00:00:00"},-43153,-43153,0,0,{"$f":"'[5]Список изделий'!BR2709","v":0},0,0]
[235,{"$f":"'[5]Список изделий'!D2791","v":35},{"$f":"'[5]Список изделий'!E2791","v":0},{"$f":"'[5]Список изделий'!F2791","v":0},{"$f":"'[5]Список изделий'!I2791","v":0},{"$f":"'[5]Список изделий'!X2791","v":0},{"$f":"'[5]Список изделий'!Y2791","v":0},{"$f":"'[5]Список изделий'!Z2791","v":0},{"$f":"'[5]Список изделий'!AA2791","v":0},{"$f":"'[5]Список изделий'!AB2791","v":0},{"$f":"'[5]Список изделий'!AC2791","v":"x"},{"$f":"'[5]Список изделий'!AD2791","v":0},{"$f":"'[5]Список изделий'!AE2791","v":0},{"$f":"'[5]Список изделий'!AF2791","v":"00:00:00"},{"$f":"'[5]Список изделий'!AY2791","v":0},{"$f":"'[5]Список изделий'!AZ2791","v":"00:00:00"},-43153,-43153,0,0,{"$f":"'[5]Список изделий'!BR2791","v":0},0,0]
[236,{"$f":"'[5]Список изделий'!D2873","v":36},{"$f":"'[5]Список изделий'!E2873","v":0},{"$f":"'[5]Список изделий'!F2873","v":0},{"$f":"'[5]Список изделий'!I2873","v":0},{"$f":"'[5]Список изделий'!X2873","v":0},{"$f":"'[5]Список изделий'!Y2873","v":0},{"$f":"'[5]Список изделий'!Z2873","v":0},{"$f":"'[5]Список изделий'!AA2873","v":0},{"$f":"'[5]Список изделий'!AB2873","v":0},{"$f":"'[5]Список изделий'!AC2873","v":"x"},{"$f":"'[5]Список изделий'!AD2873","v":0},{"$f":"'[5]Список изделий'!AE2873","v":0},{"$f":"'[5]Список изделий'!AF2873","v":"00:00:00"},{"$f":"'[5]Список изделий'!AY2873","v":0},{"$f":"'[5]Список изделий'!AZ2873","v":"00:00:00"},-43153,-43153,0,0,{"$f":"'[5]Список изделий'!BR2873","v":0},0,0]
[237,{"$f":"'[5]Список изделий'!D2955","v":37},{"$f":"'[5]Список изделий'!E2955","v":0},{"$f":"'[5]Список изделий'!F2955","v":0},{"$f":"'[5]Список изделий'!I2955","v":0},{"$f":"'[5]Список изделий'!X2955","v":0},{"$f":"'[5]Список изделий'!Y2955","v":0},{"$f":"'[5]Список изделий'!Z2955","v":0},{"$f":"'[5]Список изделий'!AA2955","v":0},{"$f":"'[5]Список изделий'!AB2955","v":0},{"$f":"'[5]Список изделий'!AC2955","v":"x"},{"$f":"'[5]Список изделий'!AD2955","v":0},{"$f":"'[5]Список изделий'!AE2955","v":0},{"$f":"'[5]Список изделий'!AF2955","v":"00:00:00"},{"$f":"'[5]Список изделий'!AY2955","v":0},{"$f":"'[5]Список изделий'!AZ2955","v":"00:00:00"},-43153,-43153,0,0,{"$f":"'[5]Список изделий'!BR2955","v":0},0,0]
[238,{"$f":"'[5]Список изделий'!D3037","v":38},{"$f":"'[5]Список изделий'!E3037","v":0},{"$f":"'[5]Список изделий'!F3037","v":0},{"$f":"'[5]Список изделий'!I3037","v":0},{"$f":"'[5]Список изделий'!X3037","v":0},{"$f":"'[5]Список изделий'!Y3037","v":0},{"$f":"'[5]Список изделий'!Z3037","v":0},{"$f":"'[5]Список изделий'!AA3037","v":0},{"$f":"'[5]Список изделий'!AB3037","v":0},{"$f":"'[5]Список изделий'!AC3037","v":"x"},{"$f":"'[5]Список изделий'!AD3037","v":0},{"$f":"'[5]Список изделий'!AE3037","v":0},{"$f":"'[5]Список изделий'!AF3037","v":"00:00:00"},{"$f":"'[5]Список изделий'!AY3037","v":0},{"$f":"'[5]Список изделий'!AZ3037","v":"00:00:00"},-43153,-43153,0,0,{"$f":"'[5]Список изделий'!BR3037","v":0},0,"\\\\SERVER\\Data1\\П\\Перекресток\\2018\\ТЕХНИЧЕСКАЯ ДОКУМЕНТАЦИЯ\\57-СУПЕРЦЕНА-треугольная(Призма)\\Сборка\\Суперцена-треугольная-сборка.cdr"]
[239,{"$f":"'[5]Список изделий'!D3119","v":39},{"$f":"'[5]Список изделий'!E3119","v":0},{"$f":"'[5]Список изделий'!F3119","v":0},{"$f":"'[5]Список изделий'!I3119","v":0},{"$f":"'[5]Список изделий'!X3119","v":0},{"$f":"'[5]Список изделий'!Y3119","v":0},{"$f":"'[5]Список изделий'!Z3119","v":0},{"$f":"'[5]Список изделий'!AA3119","v":0},{"$f":"'[5]Список изделий'!AB3119","v":0},{"$f":"'[5]Список изделий'!AC3119","v":"x"},{"$f":"'[5]Список изделий'!AD3119","v":0},{"$f":"'[5]Список изделий'!AE3119","v":0},{"$f":"'[5]Список изделий'!AF3119","v":"00:00:00"},{"$f":"'[5]Список изделий'!AY3119","v":0},{"$f":"'[5]Список изделий'!AZ3119","v":"00:00:00"},-43153,-43153,0,0,{"$f":"'[5]Список изделий'!BR3119","v":0},0,0]
[240,{"$f":"'[5]Список изделий'!D3201","v":40},{"$f":"'[5]Список изделий'!E3201","v":0},{"$f":"'[5]Список изделий'!F3201","v":0},{"$f":"'[5]Список изделий'!I3201","v":0},{"$f":"'[5]Список изделий'!X3201","v":0},{"$f":"'[5]Список изделий'!Y3201","v":0},{"$f":"'[5]Список изделий'!Z3201","v":0},{"$f":"'[5]Список изделий'!AA3201","v":0},{"$f":"'[5]Список изделий'!AB3201","v":0},{"$f":"'[5]Список изделий'!AC3201","v":"x"},{"$f":"'[5]Список изделий'!AD3201","v":0},{"$f":"'[5]Список изделий'!AE3201","v":0},{"$f":"'[5]Список изделий'!AF3201","v":"00:00:00"},{"$f":"'[5]Список изделий'!AY3201","v":0},{"$f":"'[5]Список изделий'!AZ3201","v":"00:00:00"},-43153,-43153,0,0,{"$f":"'[5]Список изделий'!BR3201","v":0},0,0]
[241,{"$f":"'[5]Список изделий'!D3283","v":41},{"$f":"'[5]Список изделий'!E3283","v":0},{"$f":"'[5]Список изделий'!F3283","v":0},{"$f":"'[5]Список изделий'!I3283","v":0},{"$f":"'[5]Список изделий'!X3283","v":0},{"$f":"'[5]Список изделий'!Y3283","v":0},{"$f":"'[5]Список изделий'!Z3283","v":0},{"$f":"'[5]Список изделий'!AA3283","v":0},{"$f":"'[5]Список изделий'!AB3283","v":0},{"$f":"'[5]Список изделий'!AC3283","v":"x"},{"$f":"'[5]Список изделий'!AD3283","v":0},{"$f":"'[5]Список изделий'!AE3283","v":0},{"$f":"'[5]Список изделий'!AF3283","v":"00:00:00"},{"$f":"'[5]Список изделий'!AY3283","v":0},{"$f":"'[5]Список изделий'!AZ3283","v":"00:00:00"},-43153,-43153,0,0,{"$f":"'[5]Список изделий'!BR3283","v":0},0,"\\\\SERVER\\Data1\\П\\Перекресток\\2018\\МОСКВА_18\\Балаклавский пр. 16А\\Техничка\\76-Пилон-660х1600"]
[242,{"$f":"'[5]Список изделий'!D3365","v":42},{"$f":"'[5]Список изделий'!E3365","v":0},{"$f":"'[5]Список изделий'!F3365","v":0},{"$f":"'[5]Список изделий'!I3365","v":0},{"$f":"'[5]Список изделий'!X3365","v":0},{"$f":"'[5]Список изделий'!Y3365","v":0},{"$f":"'[5]Список изделий'!Z3365","v":0},{"$f":"'[5]Список изделий'!AA3365","v":0},{"$f":"'[5]Список изделий'!AB3365","v":0},{"$f":"'[5]Список изделий'!AC3365","v":"x"},{"$f":"'[5]Список изделий'!AD3365","v":0},{"$f":"'[5]Список изделий'!AE3365","v":0},{"$f":"'[5]Список изделий'!AF3365","v":"00:00:00"},{"$f":"'[5]Список изделий'!AY3365","v":0},{"$f":"'[5]Список изделий'!AZ3365","v":"00:00:00"},-43153,-43153,0,0,{"$f":"'[5]Список изделий'!BR3365","v":0},0,"\\\\SERVER\\Data1\\П\\Перекресток\\2018\\МОСКВА_18\\Балаклавский пр. 16А\\Техничка\\77-Бумага_для_пилона"]
[243,{"$f":"'[5]Список изделий'!D3447","v":43},{"$f":"'[5]Список изделий'!E3447","v":0},{"$f":"'[5]Список изделий'!F3447","v":0},{"$f":"'[5]Список изделий'!I3447","v":0},{"$f":"'[5]Список изделий'!X3447","v":0},{"$f":"'[5]Список изделий'!Y3447","v":0},{"$f":"'[5]Список изделий'!Z3447","v":0},{"$f":"'[5]Список изделий'!AA3447","v":0},{"$f":"'[5]Список изделий'!AB3447","v":0},{"$f":"'[5]Список изделий'!AC3447","v":"x"},{"$f":"'[5]Список изделий'!AD3447","v":0},{"$f":"'[5]Список изделий'!AE3447","v":0},{"$f":"'[5]Список изделий'!AF3447","v":"00:00:00"},{"$f":"'[5]Список изделий'!AY3447","v":0},{"$f":"'[5]Список изделий'!AZ3447","v":"00:00:00"},-43153,-43153,0,0,{"$f":"'[5]Список изделий'!BR3447","v":0},0,"\\\\SERVER\\Data1\\П\\Перекресток\\2018\\ТЕХНИЧЕСКАЯ ДОКУМЕНТАЦИЯ\\11-Карман_круглый_двухсторонний_(ПромоКруг)\\Сборка\\Круг_Промо-сборка.cdr"]
[244,{"$f":"'[5]Список изделий'!D3529","v":44},{"$f":"'[5]Список изделий'!E3529","v":0},{"$f":"'[5]Список изделий'!F3529","v":0},{"$f":"'[5]Список изделий'!I3529","v":0},{"$f":"'[5]Список изделий'!X3529","v":0},{"$f":"'[5]Список изделий'!Y3529","v":0},{"$f":"'[5]Список изделий'!Z3529","v":0},{"$f":"'[5]Список изделий'!AA3529","v":0},{"$f":"'[5]Список изделий'!AB3529","v":0},{"$f":"'[5]Список изделий'!AC3529","v":"x"},{"$f":"'[5]Список изделий'!AD3529","v":0},{"$f":"'[5]Список изделий'!AE3529","v":0},{"$f":"'[5]Список изделий'!AF3529","v":"00:00:00"},{"$f":"'[5]Список изделий'!AY3529","v":0},{"$f":"'[5]Список изделий'!AZ3529","v":"00:00:00"},-43153,-43153,0,0,{"$f":"'[5]Список изделий'!BR3529","v":0},0,"\\\\SERVER\\Data1\\П\\Перекресток\\2018\\ТЕХНИЧЕСКАЯ ДОКУМЕНТАЦИЯ\\58-СУПЕРЦЕНА-одинарная_подвесная\\Сборка\\суперцена_плоская-сборка.cdr"]
[245,{"$f":"'[5]Список изделий'!D3611","v":45},{"$f":"'[5]Список изделий'!E3611","v":0},{"$f":"'[5]Список изделий'!F3611","v":0},{"$f":"'[5]Список изделий'!I3611","v":0},{"$f":"'[5]Список изделий'!X3611","v":0},{"$f":"'[5]Список изделий'!Y3611","v":0},{"$f":"'[5]Список изделий'!Z3611","v":0},{"$f":"'[5]Список изделий'!AA3611","v":0},{"$f":"'[5]Список изделий'!AB3611","v":0},{"$f":"'[5]Список изделий'!AC3611","v":"x"},{"$f":"'[5]Список изделий'!AD3611","v":0},{"$f":"'[5]Список изделий'!AE3611","v":0},{"$f":"'[5]Список изделий'!AF3611","v":"00:00:00"},{"$f":"'[5]Список изделий'!AY3611","v":0},{"$f":"'[5]Список изделий'!AZ3611","v":"00:00:00"},-43153,-43153,0,0,{"$f":"'[5]Список изделий'!BR3611","v":0},0,0]
[246,{"$f":"'[5]Список изделий'!D3693","v":46},{"$f":"'[5]Список изделий'!E3693","v":0},{"$f":"'[5]Список изделий'!F3693","v":0},{"$f":"'[5]Список изделий'!I3693","v":0},{"$f":"'[5]Список изделий'!X3693","v":0},{"$f":"'[5]Список изделий'!Y3693","v":0},{"$f":"'[5]Список изделий'!Z3693","v":0},{"$f":"'[5]Список изделий'!AA3693","v":0},{"$f":"'[5]Список изделий'!AB3693","v":0},{"$f":"'[5]Список изделий'!AC3693","v":"x"},{"$f":"'[5]Список изделий'!AD3693","v":0},{"$f":"'[5]Список изделий'!AE3693","v":0},{"$f":"'[5]Список изделий'!AF3693","v":"00:00:00"},{"$f":"'[5]Список изделий'!AY3693","v":0},{"$f":"'[5]Список изделий'!AZ3693","v":"00:00:00"},-43153,-43153,0,0,{"$f":"'[5]Список изделий'!BR3693","v":0},0,"\\\\SERVER\\Data1\\П\\Перекресток\\2018\\ТЕХНИЧЕСКАЯ ДОКУМЕНТАЦИЯ\\17-Стикер-задник_ПД_ФРОВ\\Сборка\\стикеры_зад_ПД-ФРОВ-сборка.cdr"]
[247,{"$f":"'[5]Список изделий'!D3775","v":47},{"$f":"'[5]Список изделий'!E3775","v":0},{"$f":"'[5]Список изделий'!F3775","v":0},{"$f":"'[5]Список изделий'!I3775","v":0},{"$f":"'[5]Список изделий'!X3775","v":0},{"$f":"'[5]Список изделий'!Y3775","v":0},{"$f":"'[5]Список изделий'!Z3775","v":0},{"$f":"'[5]Список изделий'!AA3775","v":0},{"$f":"'[5]Список изделий'!AB3775","v":0},{"$f":"'[5]Список изделий'!AC3775","v":"x"},{"$f":"'[5]Список изделий'!AD3775","v":0},{"$f":"'[5]Список изделий'!AE3775","v":0},{"$f":"'[5]Список изделий'!AF3775","v":"00:00:00"},{"$f":"'[5]Список изделий'!AY3775","v":0},{"$f":"'[5]Список изделий'!AZ3775","v":"00:00:00"},-43153,-43153,0,0,{"$f":"'[5]Список изделий'!BR3775","v":0},0,0]
[248,{"$f":"'[5]Список изделий'!D3857","v":48},{"$f":"'[5]Список изделий'!E3857","v":0},{"$f":"'[5]Список изделий'!F3857","v":0},{"$f":"'[5]Список изделий'!I3857","v":0},{"$f":"'[5]Список изделий'!X3857","v":0},{"$f":"'[5]Список изделий'!Y3857","v":0},{"$f":"'[5]Список изделий'!Z3857","v":0},{"$f":"'[5]Список изделий'!AA3857","v":0},{"$f":"'[5]Список изделий'!AB3857","v":0},{"$f":"'[5]Список изделий'!AC3857","v":"x"},{"$f":"'[5]Список изделий'!AD3857","v":0},{"$f":"'[5]Список изделий'!AE3857","v":0},{"$f":"'[5]Список изделий'!AF3857","v":"00:00:00"},{"$f":"'[5]Список изделий'!AY3857","v":0},{"$f":"'[5]Список изделий'!AZ3857","v":"00:00:00"},-43153,-43153,0,0,{"$f":"'[5]Список изделий'!BR3857","v":0},0,0]
[249,{"$f":"'[5]Список изделий'!D3939","v":49},{"$f":"'[5]Список изделий'!E3939","v":0},{"$f":"'[5]Список изделий'!F3939","v":0},{"$f":"'[5]Список изделий'!I3939","v":0},{"$f":"'[5]Список изделий'!X3939","v":0},{"$f":"'[5]Список изделий'!Y3939","v":0},{"$f":"'[5]Список изделий'!Z3939","v":0},{"$f":"'[5]Список изделий'!AA3939","v":0},{"$f":"'[5]Список изделий'!AB3939","v":0},{"$f":"'[5]Список изделий'!AC3939","v":"x"},{"$f":"'[5]Список изделий'!AD3939","v":0},{"$f":"'[5]Список изделий'!AE3939","v":0},{"$f":"'[5]Список изделий'!AF3939","v":"00:00:00"},{"$f":"'[5]Список изделий'!AY3939","v":0},{"$f":"'[5]Список изделий'!AZ3939","v":"00:00:00"},-43153,-43153,0,0,{"$f":"'[5]Список изделий'!BR3939","v":0},0,"\\\\SERVER\\Data1\\П\\Перекресток\\2018\\МОСКВА_18\\Балаклавский пр. 16А\\Техничка\\24-холодильник_ИКРА"]
[250,{"$f":"'[5]Список изделий'!D4021","v":50},{"$f":"'[5]Список изделий'!E4021","v":0},{"$f":"'[5]Список изделий'!F4021","v":0},{"$f":"'[5]Список изделий'!I4021","v":0},{"$f":"'[5]Список изделий'!X4021","v":0},{"$f":"'[5]Список изделий'!Y4021","v":0},{"$f":"'[5]Список изделий'!Z4021","v":0},{"$f":"'[5]Список изделий'!AA4021","v":0},{"$f":"'[5]Список изделий'!AB4021","v":0},{"$f":"'[5]Список изделий'!AC4021","v":"x"},{"$f":"'[5]Список изделий'!AD4021","v":0},{"$f":"'[5]Список изделий'!AE4021","v":0},{"$f":"'[5]Список изделий'!AF4021","v":"00:00:00"},{"$f":"'[5]Список изделий'!AY4021","v":0},{"$f":"'[5]Список изделий'!AZ4021","v":"00:00:00"},-43153,-43153,0,0,{"$f":"'[5]Список изделий'!BR4021","v":0},0,"\\\\SERVER\\Data1\\П\\Перекресток\\2018\\МОСКВА_18\\Балаклавский пр. 16А\\Техничка\\25-Мясной_разруб"]
[251,{"$f":"'[5]Список изделий'!D4103","v":51},{"$f":"'[5]Список изделий'!E4103","v":0},{"$f":"'[5]Список изделий'!F4103","v":0},{"$f":"'[5]Список изделий'!I4103","v":0},{"$f":"'[5]Список изделий'!X4103","v":0},{"$f":"'[5]Список изделий'!Y4103","v":0},{"$f":"'[5]Список изделий'!Z4103","v":0},{"$f":"'[5]Список изделий'!AA4103","v":0},{"$f":"'[5]Список изделий'!AB4103","v":0},{"$f":"'[5]Список изделий'!AC4103","v":"x"},{"$f":"'[5]Список изделий'!AD4103","v":0},{"$f":"'[5]Список изделий'!AE4103","v":0},{"$f":"'[5]Список изделий'!AF4103","v":"00:00:00"},{"$f":"'[5]Список изделий'!AY4103","v":0},{"$f":"'[5]Список изделий'!AZ4103","v":"00:00:00"},-43153,-43153,0,0,{"$f":"'[5]Список изделий'!BR4103","v":0},0,"\\\\SERVER\\Data1\\П\\Перекресток\\2018\\ТЕХНИЧЕСКАЯ ДОКУМЕНТАЦИЯ\\27-Быстро_и_вкусно\\Сборка\\БиВ-комплект.jpg"]
[252,{"$f":"'[5]Список изделий'!D4185","v":52},{"$f":"'[5]Список изделий'!E4185","v":0},{"$f":"'[5]Список изделий'!F4185","v":0},{"$f":"'[5]Список изделий'!I4185","v":0},{"$f":"'[5]Список изделий'!X4185","v":0},{"$f":"'[5]Список изделий'!Y4185","v":0},{"$f":"'[5]Список изделий'!Z4185","v":0},{"$f":"'[5]Список изделий'!AA4185","v":0},{"$f":"'[5]Список изделий'!AB4185","v":0},{"$f":"'[5]Список изделий'!AC4185","v":"x"},{"$f":"'[5]Список изделий'!AD4185","v":0},{"$f":"'[5]Список изделий'!AE4185","v":0},{"$f":"'[5]Список изделий'!AF4185","v":"00:00:00"},{"$f":"'[5]Список изделий'!AY4185","v":0},{"$f":"'[5]Список изделий'!AZ4185","v":"00:00:00"},-43153,-43153,0,0,{"$f":"'[5]Список изделий'!BR4185","v":0},0,0]
[253,{"$f":"'[5]Список изделий'!D4267","v":53},{"$f":"'[5]Список изделий'!E4267","v":0},{"$f":"'[5]Список изделий'!F4267","v":0},{"$f":"'[5]Список изделий'!I4267","v":0},{"$f":"'[5]Список изделий'!X4267","v":0},{"$f":"'[5]Список изделий'!Y4267","v":0},{"$f":"'[5]Список изделий'!Z4267","v":0},{"$f":"'[5]Список изделий'!AA4267","v":0},{"$f":"'[5]Список изделий'!AB4267","v":0},{"$f":"'[5]Список изделий'!AC4267","v":"x"},{"$f":"'[5]Список изделий'!AD4267","v":0},{"$f":"'[5]Список изделий'!AE4267","v":0},{"$f":"'[5]Список изделий'!AF4267","v":"00:00:00"},{"$f":"'[5]Список изделий'!AY4267","v":0},{"$f":"'[5]Список изделий'!AZ4267","v":"00:00:00"},-43153,-43153,0,0,{"$f":"'[5]Список изделий'!BR4267","v":0},0,0]
[254,{"$f":"'[5]Список изделий'!D4349","v":54},{"$f":"'[5]Список изделий'!E4349","v":0},{"$f":"'[5]Список изделий'!F4349","v":0},{"$f":"'[5]Список изделий'!I4349","v":0},{"$f":"'[5]Список изделий'!X4349","v":0},{"$f":"'[5]Список изделий'!Y4349","v":0},{"$f":"'[5]Список изделий'!Z4349","v":0},{"$f":"'[5]Список изделий'!AA4349","v":0},{"$f":"'[5]Список изделий'!AB4349","v":0},{"$f":"'[5]Список изделий'!AC4349","v":"x"},{"$f":"'[5]Список изделий'!AD4349","v":0},{"$f":"'[5]Список изделий'!AE4349","v":0},{"$f":"'[5]Список изделий'!AF4349","v":"00:00:00"},{"$f":"'[5]Список изделий'!AY4349","v":0},{"$f":"'[5]Список изделий'!AZ4349","v":"00:00:00"},-43153,-43153,0,0,{"$f":"'[5]Список изделий'!BR4349","v":0},0,0]
[255,{"$f":"'[5]Список изделий'!D4431","v":55},{"$f":"'[5]Список изделий'!E4431","v":0},{"$f":"'[5]Список изделий'!F4431","v":0},{"$f":"'[5]Список изделий'!I4431","v":0},{"$f":"'[5]Список изделий'!X4431","v":0},{"$f":"'[5]Список изделий'!Y4431","v":0},{"$f":"'[5]Список изделий'!Z4431","v":0},{"$f":"'[5]Список изделий'!AA4431","v":0},{"$f":"'[5]Список изделий'!AB4431","v":0},{"$f":"'[5]Список изделий'!AC4431","v":"x"},{"$f":"'[5]Список изделий'!AD4431","v":0},{"$f":"'[5]Список изделий'!AE4431","v":0},{"$f":"'[5]Список изделий'!AF4431","v":"00:00:00"},{"$f":"'[5]Список изделий'!AY4431","v":0},{"$f":"'[5]Список изделий'!AZ4431","v":"00:00:00"},-43153,-43153,0,0,{"$f":"'[5]Список изделий'!BR4431","v":0},0,"\\\\SERVER\\Data1\\П\\Перекресток\\2018\\МОСКВА_18\\Балаклавский пр. 16А\\Техничка\\36-Служебные_таблички"]
[256,{"$f":"'[5]Список изделий'!D4513","v":56},{"$f":"'[5]Список изделий'!E4513","v":0},{"$f":"'[5]Список изделий'!F4513","v":0},{"$f":"'[5]Список изделий'!I4513","v":0},{"$f":"'[5]Список изделий'!X4513","v":0},{"$f":"'[5]Список изделий'!Y4513","v":0},{"$f":"'[5]Список изделий'!Z4513","v":0},{"$f":"'[5]Список изделий'!AA4513","v":0},{"$f":"'[5]Список изделий'!AB4513","v":0},{"$f":"'[5]Список изделий'!AC4513","v":"x"},{"$f":"'[5]Список изделий'!AD4513","v":0},{"$f":"'[5]Список изделий'!AE4513","v":0},{"$f":"'[5]Список изделий'!AF4513","v":"00:00:00"},{"$f":"'[5]Список изделий'!AY4513","v":0},{"$f":"'[5]Список изделий'!AZ4513","v":"00:00:00"},-43153,-43153,0,0,{"$f":"'[5]Список изделий'!BR4513","v":0},0,0]
[257,{"$f":"'[5]Список изделий'!D4595","v":57},{"$f":"'[5]Список изделий'!E4595","v":0},{"$f":"'[5]Список изделий'!F4595","v":0},{"$f":"'[5]Список изделий'!I4595","v":0},{"$f":"'[5]Список изделий'!X4595","v":0},{"$f":"'[5]Список изделий'!Y4595","v":0},{"$f":"'[5]Список изделий'!Z4595","v":0},{"$f":"'[5]Список изделий'!AA4595","v":0},{"$f":"'[5]Список изделий'!AB4595","v":0},{"$f":"'[5]Список изделий'!AC4595","v":"x"},{"$f":"'[5]Список изделий'!AD4595","v":0},{"$f":"'[5]Список изделий'!AE4595","v":0},{"$f":"'[5]Список изделий'!AF4595","v":"00:00:00"},{"$f":"'[5]Список изделий'!AY4595","v":0},{"$f":"'[5]Список изделий'!AZ4595","v":"00:00:00"},-43153,-43153,0,0,{"$f":"'[5]Список изделий'!BR4595","v":0},0,0]
[258,{"$f":"'[5]Список изделий'!D4677","v":58},{"$f":"'[5]Список изделий'!E4677","v":0},{"$f":"'[5]Список изделий'!F4677","v":0},{"$f":"'[5]Список изделий'!I4677","v":0},{"$f":"'[5]Список изделий'!X4677","v":0},{"$f":"'[5]Список изделий'!Y4677","v":0},{"$f":"'[5]Список изделий'!Z4677","v":0},{"$f":"'[5]Список изделий'!AA4677","v":0},{"$f":"'[5]Список изделий'!AB4677","v":0},{"$f":"'[5]Список изделий'!AC4677","v":"x"},{"$f":"'[5]Список изделий'!AD4677","v":0},{"$f":"'[5]Список изделий'!AE4677","v":0},{"$f":"'[5]Список изделий'!AF4677","v":"00:00:00"},{"$f":"'[5]Список изделий'!AY4677","v":0},{"$f":"'[5]Список изделий'!AZ4677","v":"00:00:00"},{"$f":"IF(O260=\"нет в заказе\",\"нет в заказе\",-(TODAY()-(P260-O260)))","v":-43153},{"$f":"IF(Q260=\"нет в заказе\",\"нет взаказе\",-(IF(O260=\"нет в заказе\",\"нет в заказе\",TODAY()-P260)))","v":-43153},0,{"$f":"V260","v":0},{"$f":"'[5]Список изделий'!BR4677","v":0},{"$f":"IF(S260>=0,S260,IF(T260>S260,T260,S260))","v":0},"\\\\SERVER\\Data1\\П\\Перекресток\\2018\\МОСКВА_18\\Балаклавский пр. 16А\\Техничка\\42-Табличка_Контрольные_Весы"]
[259,{"$f":"'[5]Список изделий'!D4759","v":59},{"$f":"'[5]Список изделий'!E4759","v":0},{"$f":"'[5]Список изделий'!F4759","v":0},{"$f":"'[5]Список изделий'!I4759","v":0},{"$f":"'[5]Список изделий'!X4759","v":0},{"$f":"'[5]Список изделий'!Y4759","v":0},{"$f":"'[5]Список изделий'!Z4759","v":0},{"$f":"'[5]Список изделий'!AA4759","v":0},{"$f":"'[5]Список изделий'!AB4759","v":0},{"$f":"'[5]Список изделий'!AC4759","v":"x"},{"$f":"'[5]Список изделий'!AD4759","v":0},{"$f":"'[5]Список изделий'!AE4759","v":0},{"$f":"'[5]Список изделий'!AF4759","v":"00:00:00"},{"$f":"'[5]Список изделий'!AY4759","v":0},{"$f":"'[5]Список изделий'!AZ4759","v":"00:00:00"},-43153,-43153,0,0,{"$f":"'[5]Список изделий'!BR4759","v":0},0,"\\\\SERVER\\Data1\\П\\Перекресток\\2018\\МОСКВА_18\\Балаклавский пр. 16А\\Техничка\\44-Алкогольные_разделители-200х38"]
[260,{"$f":"'[5]Список изделий'!D4841","v":60},{"$f":"'[5]Список изделий'!E4841","v":0},{"$f":"'[5]Список изделий'!F4841","v":0},{"$f":"'[5]Список изделий'!I4841","v":0},{"$f":"'[5]Список изделий'!X4841","v":0},{"$f":"'[5]Список изделий'!Y4841","v":0},{"$f":"'[5]Список изделий'!Z4841","v":0},{"$f":"'[5]Список изделий'!AA4841","v":0},{"$f":"'[5]Список изделий'!AB4841","v":0},{"$f":"'[5]Список изделий'!AC4841","v":"x"},{"$f":"'[5]Список изделий'!AD4841","v":0},{"$f":"'[5]Список изделий'!AE4841","v":0},{"$f":"'[5]Список изделий'!AF4841","v":"00:00:00"},{"$f":"'[5]Список изделий'!AY4841","v":0},{"$f":"'[5]Список изделий'!AZ4841","v":"00:00:00"},-43153,-43153,0,0,{"$f":"'[5]Список изделий'!BR4841","v":0},0,0]
[261,{"$f":"'[5]Список изделий'!D4923","v":61},{"$f":"'[5]Список изделий'!E4923","v":0},{"$f":"'[5]Список изделий'!F4923","v":0},{"$f":"'[5]Список изделий'!I4923","v":0},{"$f":"'[5]Список изделий'!X4923","v":0},{"$f":"'[5]Список изделий'!Y4923","v":0},{"$f":"'[5]Список изделий'!Z4923","v":0},{"$f":"'[5]Список изделий'!AA4923","v":0},{"$f":"'[5]Список изделий'!AB4923","v":0},{"$f":"'[5]Список изделий'!AC4923","v":"x"},{"$f":"'[5]Список изделий'!AD4923","v":0},{"$f":"'[5]Список изделий'!AE4923","v":0},{"$f":"'[5]Список изделий'!AF4923","v":"00:00:00"},{"$f":"'[5]Список изделий'!AY4923","v":0},{"$f":"'[5]Список изделий'!AZ4923","v":"00:00:00"},-43153,-43153,0,0,{"$f":"'[5]Список изделий'!BR4923","v":0},0,0]
[262,{"$f":"'[5]Список изделий'!D5005","v":62},{"$f":"'[5]Список изделий'!E5005","v":0},{"$f":"'[5]Список изделий'!F5005","v":0},{"$f":"'[5]Список изделий'!I5005","v":0},{"$f":"'[5]Список изделий'!X5005","v":0},{"$f":"'[5]Список изделий'!Y5005","v":0},{"$f":"'[5]Список изделий'!Z5005","v":0},{"$f":"'[5]Список изделий'!AA5005","v":0},{"$f":"'[5]Список изделий'!AB5005","v":0},{"$f":"'[5]Список изделий'!AC5005","v":"x"},{"$f":"'[5]Список изделий'!AD5005","v":0},{"$f":"'[5]Список изделий'!AE5005","v":0},{"$f":"'[5]Список изделий'!AF5005","v":"00:00:00"},{"$f":"'[5]Список изделий'!AY5005","v":0},{"$f":"'[5]Список изделий'!AZ5005","v":"00:00:00"},-43153,-43153,0,0,{"$f":"'[5]Список изделий'!BR5005","v":0},0,0]
[263,{"$f":"'[5]Список изделий'!D5087","v":63},{"$f":"'[5]Список изделий'!E5087","v":0},{"$f":"'[5]Список изделий'!F5087","v":0},{"$f":"'[5]Список изделий'!I5087","v":0},{"$f":"'[5]Список изделий'!X5087","v":0},{"$f":"'[5]Список изделий'!Y5087","v":0},{"$f":"'[5]Список изделий'!Z5087","v":0},{"$f":"'[5]Список изделий'!AA5087","v":0},{"$f":"'[5]Список изделий'!AB5087","v":0},{"$f":"'[5]Список изделий'!AC5087","v":"x"},{"$f":"'[5]Список изделий'!AD5087","v":0},{"$f":"'[5]Список изделий'!AE5087","v":0},{"$f":"'[5]Список изделий'!AF5087","v":"00:00:00"},{"$f":"'[5]Список изделий'!AY5087","v":0},{"$f":"'[5]Список изделий'!AZ5087","v":"00:00:00"},-43153,-43153,0,0,{"$f":"'[5]Список изделий'!BR5087","v":0},0,0]
[264,{"$f":"'[5]Список изделий'!D5169","v":64},{"$f":"'[5]Список изделий'!E5169","v":0},{"$f":"'[5]Список изделий'!F5169","v":0},{"$f":"'[5]Список изделий'!I5169","v":0},{"$f":"'[5]Список изделий'!X5169","v":0},{"$f":"'[5]Список изделий'!Y5169","v":0},{"$f":"'[5]Список изделий'!Z5169","v":0},{"$f":"'[5]Список изделий'!AA5169","v":0},{"$f":"'[5]Список изделий'!AB5169","v":0},{"$f":"'[5]Список изделий'!AC5169","v":"x"},{"$f":"'[5]Список изделий'!AD5169","v":0},{"$f":"'[5]Список изделий'!AE5169","v":0},{"$f":"'[5]Список изделий'!AF5169","v":"00:00:00"},{"$f":"'[5]Список изделий'!AY5169","v":0},{"$f":"'[5]Список изделий'!AZ5169","v":"00:00:00"},-43153,-43153,0,0,{"$f":"'[5]Список изделий'!BR5169","v":0},0,0]
[265,{"$f":"'[5]Список изделий'!D5251","v":65},{"$f":"'[5]Список изделий'!E5251","v":0},{"$f":"'[5]Список изделий'!F5251","v":0},{"$f":"'[5]Список изделий'!I5251","v":0},{"$f":"'[5]Список изделий'!X5251","v":0},{"$f":"'[5]Список изделий'!Y5251","v":0},{"$f":"'[5]Список изделий'!Z5251","v":0},{"$f":"'[5]Список изделий'!AA5251","v":0},{"$f":"'[5]Список изделий'!AB5251","v":0},{"$f":"'[5]Список изделий'!AC5251","v":"x"},{"$f":"'[5]Список изделий'!AD5251","v":0},{"$f":"'[5]Список изделий'!AE5251","v":0},{"$f":"'[5]Список изделий'!AF5251","v":"00:00:00"},{"$f":"'[5]Список изделий'!AY5251","v":0},{"$f":"'[5]Список изделий'!AZ5251","v":"00:00:00"},-43153,-43153,0,0,{"$f":"'[5]Список изделий'!BR5251","v":0},0,0]
[266,{"$f":"'[5]Список изделий'!D5333","v":66},{"$f":"'[5]Список изделий'!E5333","v":0},{"$f":"'[5]Список изделий'!F5333","v":0},{"$f":"'[5]Список изделий'!I5333","v":0},{"$f":"'[5]Список изделий'!X5333","v":0},{"$f":"'[5]Список изделий'!Y5333","v":0},{"$f":"'[5]Список изделий'!Z5333","v":0},{"$f":"'[5]Список изделий'!AA5333","v":0},{"$f":"'[5]Список изделий'!AB5333","v":0},{"$f":"'[5]Список изделий'!AC5333","v":"x"},{"$f":"'[5]Список изделий'!AD5333","v":0},{"$f":"'[5]Список изделий'!AE5333","v":0},{"$f":"'[5]Список изделий'!AF5333","v":"00:00:00"},{"$f":"'[5]Список изделий'!AY5333","v":0},{"$f":"'[5]Список изделий'!AZ5333","v":"00:00:00"},-43153,-43153,0,0,{"$f":"'[5]Список изделий'!BR5333","v":0},0,"\\\\SERVER\\Data1\\П\\Перекресток\\2018\\ТЕХНИЧЕСКАЯ ДОКУМЕНТАЦИЯ\\57-СУПЕРЦЕНА-треугольная(Призма)\\Сборка\\Суперцена-треугольная-сборка.cdr"]
[267,{"$f":"'[5]Список изделий'!D5415","v":67},{"$f":"'[5]Список изделий'!E5415","v":0},{"$f":"'[5]Список изделий'!F5415","v":0},{"$f":"'[5]Список изделий'!I5415","v":0},{"$f":"'[5]Список изделий'!X5415","v":0},{"$f":"'[5]Список изделий'!Y5415","v":0},{"$f":"'[5]Список изделий'!Z5415","v":0},{"$f":"'[5]Список изделий'!AA5415","v":0},{"$f":"'[5]Список изделий'!AB5415","v":0},{"$f":"'[5]Список изделий'!AC5415","v":"x"},{"$f":"'[5]Список изделий'!AD5415","v":0},{"$f":"'[5]Список изделий'!AE5415","v":0},{"$f":"'[5]Список изделий'!AF5415","v":"00:00:00"},{"$f":"'[5]Список изделий'!AY5415","v":0},{"$f":"'[5]Список изделий'!AZ5415","v":"00:00:00"},-43153,-43153,0,0,{"$f":"'[5]Список изделий'!BR5415","v":0},0,0]
[268,{"$f":"'[5]Список изделий'!D5497","v":68},{"$f":"'[5]Список изделий'!E5497","v":0},{"$f":"'[5]Список изделий'!F5497","v":0},{"$f":"'[5]Список изделий'!I5497","v":0},{"$f":"'[5]Список изделий'!X5497","v":0},{"$f":"'[5]Список изделий'!Y5497","v":0},{"$f":"'[5]Список изделий'!Z5497","v":0},{"$f":"'[5]Список изделий'!AA5497","v":0},{"$f":"'[5]Список изделий'!AB5497","v":0},{"$f":"'[5]Список изделий'!AC5497","v":"x"},{"$f":"'[5]Список изделий'!AD5497","v":0},{"$f":"'[5]Список изделий'!AE5497","v":0},{"$f":"'[5]Список изделий'!AF5497","v":"00:00:00"},{"$f":"'[5]Список изделий'!AY5497","v":0},{"$f":"'[5]Список изделий'!AZ5497","v":"00:00:00"},-43153,-43153,0,0,{"$f":"'[5]Список изделий'!BR5497","v":0},0,0]
[269,{"$f":"'[5]Список изделий'!D5579","v":69},{"$f":"'[5]Список изделий'!E5579","v":0},{"$f":"'[5]Список изделий'!F5579","v":0},{"$f":"'[5]Список изделий'!I5579","v":0},{"$f":"'[5]Список изделий'!X5579","v":0},{"$f":"'[5]Список изделий'!Y5579","v":0},{"$f":"'[5]Список изделий'!Z5579","v":0},{"$f":"'[5]Список изделий'!AA5579","v":0},{"$f":"'[5]Список изделий'!AB5579","v":0},{"$f":"'[5]Список изделий'!AC5579","v":"x"},{"$f":"'[5]Список изделий'!AD5579","v":0},{"$f":"'[5]Список изделий'!AE5579","v":0},{"$f":"'[5]Список изделий'!AF5579","v":"00:00:00"},{"$f":"'[5]Список изделий'!AY5579","v":0},{"$f":"'[5]Список изделий'!AZ5579","v":"00:00:00"},-43153,-43153,0,0,{"$f":"'[5]Список изделий'!BR5579","v":0},0,"\\\\SERVER\\Data1\\П\\Перекресток\\2018\\МОСКВА_18\\Балаклавский пр. 16А\\Техничка\\76-Пилон-660х1600"]
[270,{"$f":"'[5]Список изделий'!D5661","v":70},{"$f":"'[5]Список изделий'!E5661","v":0},{"$f":"'[5]Список изделий'!F5661","v":0},{"$f":"'[5]Список изделий'!I5661","v":0},{"$f":"'[5]Список изделий'!X5661","v":0},{"$f":"'[5]Список изделий'!Y5661","v":0},{"$f":"'[5]Список изделий'!Z5661","v":0},{"$f":"'[5]Список изделий'!AA5661","v":0},{"$f":"'[5]Список изделий'!AB5661","v":0},{"$f":"'[5]Список изделий'!AC5661","v":"x"},{"$f":"'[5]Список изделий'!AD5661","v":0},{"$f":"'[5]Список изделий'!AE5661","v":0},{"$f":"'[5]Список изделий'!AF5661","v":"00:00:00"},{"$f":"'[5]Список изделий'!AY5661","v":0},{"$f":"'[5]Список изделий'!AZ5661","v":"00:00:00"},-43153,-43153,0,0,{"$f":"'[5]Список изделий'!BR5661","v":0},0,"\\\\SERVER\\Data1\\П\\Перекресток\\2018\\МОСКВА_18\\Балаклавский пр. 16А\\Техничка\\77-Бумага_для_пилона"]
[271,{"$f":"'[5]Список изделий'!D5743","v":71},{"$f":"'[5]Список изделий'!E5743","v":0},{"$f":"'[5]Список изделий'!F5743","v":0},{"$f":"'[5]Список изделий'!I5743","v":0},{"$f":"'[5]Список изделий'!X5743","v":0},{"$f":"'[5]Список изделий'!Y5743","v":0},{"$f":"'[5]Список изделий'!Z5743","v":0},{"$f":"'[5]Список изделий'!AA5743","v":0},{"$f":"'[5]Список изделий'!AB5743","v":0},{"$f":"'[5]Список изделий'!AC5743","v":"x"},{"$f":"'[5]Список изделий'!AD5743","v":0},{"$f":"'[5]Список изделий'!AE5743","v":0},{"$f":"'[5]Список изделий'!AF5743","v":"00:00:00"},{"$f":"'[5]Список изделий'!AY5743","v":0},{"$f":"'[5]Список изделий'!AZ5743","v":"00:00:00"},-43153,-43153,0,0,{"$f":"'[5]Список изделий'!BR5743","v":0},0,0]
[272,{"$f":"'[5]Список изделий'!D5825","v":72},{"$f":"'[5]Список изделий'!E5825","v":0},{"$f":"'[5]Список изделий'!F5825","v":0},{"$f":"'[5]Список изделий'!I5825","v":0},{"$f":"'[5]Список изделий'!X5825","v":0},{"$f":"'[5]Список изделий'!Y5825","v":0},{"$f":"'[5]Список изделий'!Z5825","v":0},{"$f":"'[5]Список изделий'!AA5825","v":0},{"$f":"'[5]Список изделий'!AB5825","v":0},{"$f":"'[5]Список изделий'!AC5825","v":"x"},{"$f":"'[5]Список изделий'!AD5825","v":0},{"$f":"'[5]Список изделий'!AE5825","v":0},{"$f":"'[5]Список изделий'!AF5825","v":"00:00:00"},{"$f":"'[5]Список изделий'!AY5825","v":0},{"$f":"'[5]Список изделий'!AZ5825","v":"00:00:00"},-43153,-43153,0,0,{"$f":"'[5]Список изделий'!BR5825","v":0},0,"\\\\SERVER\\Data1\\П\\Перекресток\\2018\\ТЕХНИЧЕСКАЯ ДОКУМЕНТАЦИЯ\\11-Карман_круглый_двухсторонний_(ПромоКруг)\\Сборка\\Круг_Промо-сборка.cdr"]
[273,{"$f":"'[5]Список изделий'!D5907","v":73},{"$f":"'[5]Список изделий'!E5907","v":0},{"$f":"'[5]Список изделий'!F5907","v":0},{"$f":"'[5]Список изделий'!I5907","v":0},{"$f":"'[5]Список изделий'!X5907","v":0},{"$f":"'[5]Список изделий'!Y5907","v":0},{"$f":"'[5]Список изделий'!Z5907","v":0},{"$f":"'[5]Список изделий'!AA5907","v":0},{"$f":"'[5]Список изделий'!AB5907","v":0},{"$f":"'[5]Список изделий'!AC5907","v":"x"},{"$f":"'[5]Список изделий'!AD5907","v":0},{"$f":"'[5]Список изделий'!AE5907","v":0},{"$f":"'[5]Список изделий'!AF5907","v":"00:00:00"},{"$f":"'[5]Список изделий'!AY5907","v":0},{"$f":"'[5]Список изделий'!AZ5907","v":"00:00:00"},-43153,-43153,0,0,{"$f":"'[5]Список изделий'!BR5907","v":0},0,"\\\\SERVER\\Data1\\П\\Перекресток\\2018\\ТЕХНИЧЕСКАЯ ДОКУМЕНТАЦИЯ\\58-СУПЕРЦЕНА-одинарная_подвесная\\Сборка\\суперцена_плоская-сборка.cdr"]
[274,{"$f":"'[5]Список изделий'!D5989","v":74},{"$f":"'[5]Список изделий'!E5989","v":0},{"$f":"'[5]Список изделий'!F5989","v":0},{"$f":"'[5]Список изделий'!I5989","v":0},{"$f":"'[5]Список изделий'!X5989","v":0},{"$f":"'[5]Список изделий'!Y5989","v":0},{"$f":"'[5]Список изделий'!Z5989","v":0},{"$f":"'[5]Список изделий'!AA5989","v":0},{"$f":"'[5]Список изделий'!AB5989","v":0},{"$f":"'[5]Список изделий'!AC5989","v":"x"},{"$f":"'[5]Список изделий'!AD5989","v":0},{"$f":"'[5]Список изделий'!AE5989","v":0},{"$f":"'[5]Список изделий'!AF5989","v":"00:00:00"},{"$f":"'[5]Список изделий'!AY5989","v":0},{"$f":"'[5]Список изделий'!AZ5989","v":"00:00:00"},-43153,-43153,0,0,{"$f":"'[5]Список изделий'!BR5989","v":0},0,0]
[275,{"$f":"'[5]Список изделий'!D6071","v":75},{"$f":"'[5]Список изделий'!E6071","v":0},{"$f":"'[5]Список изделий'!F6071","v":0},{"$f":"'[5]Список изделий'!I6071","v":0},{"$f":"'[5]Список изделий'!X6071","v":0},{"$f":"'[5]Список изделий'!Y6071","v":0},{"$f":"'[5]Список изделий'!Z6071","v":0},{"$f":"'[5]Список изделий'!AA6071","v":0},{"$f":"'[5]Список изделий'!AB6071","v":0},{"$f":"'[5]Список изделий'!AC6071","v":"x"},{"$f":"'[5]Список изделий'!AD6071","v":0},{"$f":"'[5]Список изделий'!AE6071","v":0},{"$f":"'[5]Список изделий'!AF6071","v":"00:00:00"},{"$f":"'[5]Список изделий'!AY6071","v":0},{"$f":"'[5]Список изделий'!AZ6071","v":"00:00:00"},-43153,-43153,0,0,{"$f":"'[5]Список изделий'!BR6071","v":0},0,"\\\\SERVER\\Data1\\П\\Перекресток\\2018\\ТЕХНИЧЕСКАЯ ДОКУМЕНТАЦИЯ\\17-Стикер-задник_ПД_ФРОВ\\Сборка\\стикеры_зад_ПД-ФРОВ-сборка.cdr"]
[276,{"$f":"'[5]Список изделий'!D6153","v":76},{"$f":"'[5]Список изделий'!E6153","v":0},{"$f":"'[5]Список изделий'!F6153","v":0},{"$f":"'[5]Список изделий'!I6153","v":0},{"$f":"'[5]Список изделий'!X6153","v":0},{"$f":"'[5]Список изделий'!Y6153","v":0},{"$f":"'[5]Список изделий'!Z6153","v":0},{"$f":"'[5]Список изделий'!AA6153","v":0},{"$f":"'[5]Список изделий'!AB6153","v":0},{"$f":"'[5]Список изделий'!AC6153","v":"x"},{"$f":"'[5]Список изделий'!AD6153","v":0},{"$f":"'[5]Список изделий'!AE6153","v":0},{"$f":"'[5]Список изделий'!AF6153","v":"00:00:00"},{"$f":"'[5]Список изделий'!AY6153","v":0},{"$f":"'[5]Список изделий'!AZ6153","v":"00:00:00"},-43153,-43153,0,0,{"$f":"'[5]Список изделий'!BR6153","v":0},0,0]
[277,{"$f":"'[5]Список изделий'!D6235","v":77},{"$f":"'[5]Список изделий'!E6235","v":0},{"$f":"'[5]Список изделий'!F6235","v":0},{"$f":"'[5]Список изделий'!I6235","v":0},{"$f":"'[5]Список изделий'!X6235","v":0},{"$f":"'[5]Список изделий'!Y6235","v":0},{"$f":"'[5]Список изделий'!Z6235","v":0},{"$f":"'[5]Список изделий'!AA6235","v":0},{"$f":"'[5]Список изделий'!AB6235","v":0},{"$f":"'[5]Список изделий'!AC6235","v":"x"},{"$f":"'[5]Список изделий'!AD6235","v":0},{"$f":"'[5]Список изделий'!AE6235","v":0},{"$f":"'[5]Список изделий'!AF6235","v":"00:00:00"},{"$f":"'[5]Список изделий'!AY6235","v":0},{"$f":"'[5]Список изделий'!AZ6235","v":"00:00:00"},-43153,-43153,0,0,{"$f":"'[5]Список изделий'!BR6235","v":0},0,0]
[278,{"$f":"'[5]Список изделий'!D6317","v":78},{"$f":"'[5]Список изделий'!E6317","v":0},{"$f":"'[5]Список изделий'!F6317","v":0},{"$f":"'[5]Список изделий'!I6317","v":0},{"$f":"'[5]Список изделий'!X6317","v":0},{"$f":"'[5]Список изделий'!Y6317","v":0},{"$f":"'[5]Список изделий'!Z6317","v":0},{"$f":"'[5]Список изделий'!AA6317","v":0},{"$f":"'[5]Список изделий'!AB6317","v":0},{"$f":"'[5]Список изделий'!AC6317","v":"x"},{"$f":"'[5]Список изделий'!AD6317","v":0},{"$f":"'[5]Список изделий'!AE6317","v":0},{"$f":"'[5]Список изделий'!AF6317","v":"00:00:00"},{"$f":"'[5]Список изделий'!AY6317","v":0},{"$f":"'[5]Список изделий'!AZ6317","v":"00:00:00"},-43153,-43153,0,0,{"$f":"'[5]Список изделий'!BR6317","v":0},0,"\\\\SERVER\\Data1\\П\\Перекресток\\2018\\МОСКВА_18\\Балаклавский пр. 16А\\Техничка\\24-холодильник_ИКРА"]
[279,{"$f":"'[5]Список изделий'!D6399","v":79},{"$f":"'[5]Список изделий'!E6399","v":0},{"$f":"'[5]Список изделий'!F6399","v":0},{"$f":"'[5]Список изделий'!I6399","v":0},{"$f":"'[5]Список изделий'!X6399","v":0},{"$f":"'[5]Список изделий'!Y6399","v":0},{"$f":"'[5]Список изделий'!Z6399","v":0},{"$f":"'[5]Список изделий'!AA6399","v":0},{"$f":"'[5]Список изделий'!AB6399","v":0},{"$f":"'[5]Список изделий'!AC6399","v":"x"},{"$f":"'[5]Список изделий'!AD6399","v":0},{"$f":"'[5]Список изделий'!AE6399","v":0},{"$f":"'[5]Список изделий'!AF6399","v":"00:00:00"},{"$f":"'[5]Список изделий'!AY6399","v":0},{"$f":"'[5]Список изделий'!AZ6399","v":"00:00:00"},-43153,-43153,0,0,{"$f":"'[5]Список изделий'!BR6399","v":0},0,"\\\\SERVER\\Data1\\П\\Перекресток\\2018\\МОСКВА_18\\Балаклавский пр. 16А\\Техничка\\25-Мясной_разруб"]
[280,{"$f":"'[5]Список изделий'!D6481","v":80},{"$f":"'[5]Список изделий'!E6481","v":0},{"$f":"'[5]Список изделий'!F6481","v":0},{"$f":"'[5]Список изделий'!I6481","v":0},{"$f":"'[5]Список изделий'!X6481","v":0},{"$f":"'[5]Список изделий'!Y6481","v":0},{"$f":"'[5]Список изделий'!Z6481","v":0},{"$f":"'[5]Список изделий'!AA6481","v":0},{"$f":"'[5]Список изделий'!AB6481","v":0},{"$f":"'[5]Список изделий'!AC6481","v":"x"},{"$f":"'[5]Список изделий'!AD6481","v":0},{"$f":"'[5]Список изделий'!AE6481","v":0},{"$f":"'[5]Список изделий'!AF6481","v":"00:00:00"},{"$f":"'[5]Список изделий'!AY6481","v":0},{"$f":"'[5]Список изделий'!AZ6481","v":"00:00:00"},-43153,-43153,0,0,{"$f":"'[5]Список изделий'!BR6481","v":0},0,"\\\\SERVER\\Data1\\П\\Перекресток\\2018\\ТЕХНИЧЕСКАЯ ДОКУМЕНТАЦИЯ\\27-Быстро_и_вкусно\\Сборка\\БиВ-комплект.jpg"]
[281,{"$f":"'[5]Список изделий'!D6563","v":81},{"$f":"'[5]Список изделий'!E6563","v":0},{"$f":"'[5]Список изделий'!F6563","v":0},{"$f":"'[5]Список изделий'!I6563","v":0},{"$f":"'[5]Список изделий'!X6563","v":0},{"$f":"'[5]Список изделий'!Y6563","v":0},{"$f":"'[5]Список изделий'!Z6563","v":0},{"$f":"'[5]Список изделий'!AA6563","v":0},{"$f":"'[5]Список изделий'!AB6563","v":0},{"$f":"'[5]Список изделий'!AC6563","v":"x"},{"$f":"'[5]Список изделий'!AD6563","v":0},{"$f":"'[5]Список изделий'!AE6563","v":0},{"$f":"'[5]Список изделий'!AF6563","v":"00:00:00"},{"$f":"'[5]Список изделий'!AY6563","v":0},{"$f":"'[5]Список изделий'!AZ6563","v":"00:00:00"},-43153,-43153,0,0,{"$f":"'[5]Список изделий'!BR6563","v":0},0,0]
[282,{"$f":"'[5]Список изделий'!D6645","v":82},{"$f":"'[5]Список изделий'!E6645","v":0},{"$f":"'[5]Список изделий'!F6645","v":0},{"$f":"'[5]Список изделий'!I6645","v":0},{"$f":"'[5]Список изделий'!X6645","v":0},{"$f":"'[5]Список изделий'!Y6645","v":0},{"$f":"'[5]Список изделий'!Z6645","v":0},{"$f":"'[5]Список изделий'!AA6645","v":0},{"$f":"'[5]Список изделий'!AB6645","v":0},{"$f":"'[5]Список изделий'!AC6645","v":"x"},{"$f":"'[5]Список изделий'!AD6645","v":0},{"$f":"'[5]Список изделий'!AE6645","v":0},{"$f":"'[5]Список изделий'!AF6645","v":"00:00:00"},{"$f":"'[5]Список изделий'!AY6645","v":0},{"$f":"'[5]Список изделий'!AZ6645","v":"00:00:00"},-43153,-43153,0,0,{"$f":"'[5]Список изделий'!BR6645","v":0},0,0]
[283,{"$f":"'[5]Список изделий'!D6727","v":83},{"$f":"'[5]Список изделий'!E6727","v":0},{"$f":"'[5]Список изделий'!F6727","v":0},{"$f":"'[5]Список изделий'!I6727","v":0},{"$f":"'[5]Список изделий'!X6727","v":0},{"$f":"'[5]Список изделий'!Y6727","v":0},{"$f":"'[5]Список изделий'!Z6727","v":0},{"$f":"'[5]Список изделий'!AA6727","v":0},{"$f":"'[5]Список изделий'!AB6727","v":0},{"$f":"'[5]Список изделий'!AC6727","v":"x"},{"$f":"'[5]Список изделий'!AD6727","v":0},{"$f":"'[5]Список изделий'!AE6727","v":0},{"$f":"'[5]Список изделий'!AF6727","v":"00:00:00"},{"$f":"'[5]Список изделий'!AY6727","v":0},{"$f":"'[5]Список изделий'!AZ6727","v":"00:00:00"},-43153,-43153,0,0,{"$f":"'[5]Список изделий'!BR6727","v":0},0,0]
[284,{"$f":"'[5]Список изделий'!D6809","v":84},{"$f":"'[5]Список изделий'!E6809","v":0},{"$f":"'[5]Список изделий'!F6809","v":0},{"$f":"'[5]Список изделий'!I6809","v":0},{"$f":"'[5]Список изделий'!X6809","v":0},{"$f":"'[5]Список изделий'!Y6809","v":0},{"$f":"'[5]Список изделий'!Z6809","v":0},{"$f":"'[5]Список изделий'!AA6809","v":0},{"$f":"'[5]Список изделий'!AB6809","v":0},{"$f":"'[5]Список изделий'!AC6809","v":"x"},{"$f":"'[5]Список изделий'!AD6809","v":0},{"$f":"'[5]Список изделий'!AE6809","v":0},{"$f":"'[5]Список изделий'!AF6809","v":"00:00:00"},{"$f":"'[5]Список изделий'!AY6809","v":0},{"$f":"'[5]Список изделий'!AZ6809","v":"00:00:00"},-43153,-43153,0,0,{"$f":"'[5]Список изделий'!BR6809","v":0},0,"\\\\SERVER\\Data1\\П\\Перекресток\\2018\\МОСКВА_18\\Балаклавский пр. 16А\\Техничка\\36-Служебные_таблички"]
[285,{"$f":"'[5]Список изделий'!D6891","v":85},{"$f":"'[5]Список изделий'!E6891","v":0},{"$f":"'[5]Список изделий'!F6891","v":0},{"$f":"'[5]Список изделий'!I6891","v":0},{"$f":"'[5]Список изделий'!X6891","v":0},{"$f":"'[5]Список изделий'!Y6891","v":0},{"$f":"'[5]Список изделий'!Z6891","v":0},{"$f":"'[5]Список изделий'!AA6891","v":0},{"$f":"'[5]Список изделий'!AB6891","v":0},{"$f":"'[5]Список изделий'!AC6891","v":"x"},{"$f":"'[5]Список изделий'!AD6891","v":0},{"$f":"'[5]Список изделий'!AE6891","v":0},{"$f":"'[5]Список изделий'!AF6891","v":"00:00:00"},{"$f":"'[5]Список изделий'!AY6891","v":0},{"$f":"'[5]Список изделий'!AZ6891","v":"00:00:00"},-43153,-43153,0,0,{"$f":"'[5]Список изделий'!BR6891","v":0},0,0]
[286,{"$f":"'[5]Список изделий'!D6973","v":86},{"$f":"'[5]Список изделий'!E6973","v":0},{"$f":"'[5]Список изделий'!F6973","v":0},{"$f":"'[5]Список изделий'!I6973","v":0},{"$f":"'[5]Список изделий'!X6973","v":0},{"$f":"'[5]Список изделий'!Y6973","v":0},{"$f":"'[5]Список изделий'!Z6973","v":0},{"$f":"'[5]Список изделий'!AA6973","v":0},{"$f":"'[5]Список изделий'!AB6973","v":0},{"$f":"'[5]Список изделий'!AC6973","v":"x"},{"$f":"'[5]Список изделий'!AD6973","v":0},{"$f":"'[5]Список изделий'!AE6973","v":0},{"$f":"'[5]Список изделий'!AF6973","v":"00:00:00"},{"$f":"'[5]Список изделий'!AY6973","v":0},{"$f":"'[5]Список изделий'!AZ6973","v":"00:00:00"},-43153,-43153,0,0,{"$f":"'[5]Список изделий'!BR6973","v":0},0,0]
[287,{"$f":"'[5]Список изделий'!D7055","v":87},{"$f":"'[5]Список изделий'!E7055","v":0},{"$f":"'[5]Список изделий'!F7055","v":0},{"$f":"'[5]Список изделий'!I7055","v":0},{"$f":"'[5]Список изделий'!X7055","v":0},{"$f":"'[5]Список изделий'!Y7055","v":0},{"$f":"'[5]Список изделий'!Z7055","v":0},{"$f":"'[5]Список изделий'!AA7055","v":0},{"$f":"'[5]Список изделий'!AB7055","v":0},{"$f":"'[5]Список изделий'!AC7055","v":"x"},{"$f":"'[5]Список изделий'!AD7055","v":0},{"$f":"'[5]Список изделий'!AE7055","v":0},{"$f":"'[5]Список изделий'!AF7055","v":"00:00:00"},{"$f":"'[5]Список изделий'!AY7055","v":0},{"$f":"'[5]Список изделий'!AZ7055","v":"00:00:00"},-43153,-43153,0,0,{"$f":"'[5]Список изделий'!BR7055","v":0},0,"\\\\SERVER\\Data1\\П\\Перекресток\\2018\\МОСКВА_18\\Балаклавский пр. 16А\\Техничка\\42-Табличка_Контрольные_Весы"]
[288,{"$f":"'[5]Список изделий'!D7137","v":88},{"$f":"'[5]Список изделий'!E7137","v":0},{"$f":"'[5]Список изделий'!F7137","v":0},{"$f":"'[5]Список изделий'!I7137","v":0},{"$f":"'[5]Список изделий'!X7137","v":0},{"$f":"'[5]Список изделий'!Y7137","v":0},{"$f":"'[5]Список изделий'!Z7137","v":0},{"$f":"'[5]Список изделий'!AA7137","v":0},{"$f":"'[5]Список изделий'!AB7137","v":0},{"$f":"'[5]Список изделий'!AC7137","v":"x"},{"$f":"'[5]Список изделий'!AD7137","v":0},{"$f":"'[5]Список изделий'!AE7137","v":0},{"$f":"'[5]Список изделий'!AF7137","v":"00:00:00"},{"$f":"'[5]Список изделий'!AY7137","v":0},{"$f":"'[5]Список изделий'!AZ7137","v":"00:00:00"},-43153,-43153,0,0,{"$f":"'[5]Список изделий'!BR7137","v":0},0,"\\\\SERVER\\Data1\\П\\Перекресток\\2018\\МОСКВА_18\\Балаклавский пр. 16А\\Техничка\\44-Алкогольные_разделители-200х38"]
[289,{"$f":"'[5]Список изделий'!D7219","v":89},{"$f":"'[5]Список изделий'!E7219","v":0},{"$f":"'[5]Список изделий'!F7219","v":0},{"$f":"'[5]Список изделий'!I7219","v":0},{"$f":"'[5]Список изделий'!X7219","v":0},{"$f":"'[5]Список изделий'!Y7219","v":0},{"$f":"'[5]Список изделий'!Z7219","v":0},{"$f":"'[5]Список изделий'!AA7219","v":0},{"$f":"'[5]Список изделий'!AB7219","v":0},{"$f":"'[5]Список изделий'!AC7219","v":"x"},{"$f":"'[5]Список изделий'!AD7219","v":0},{"$f":"'[5]Список изделий'!AE7219","v":0},{"$f":"'[5]Список изделий'!AF7219","v":"00:00:00"},{"$f":"'[5]Список изделий'!AY7219","v":0},{"$f":"'[5]Список изделий'!AZ7219","v":"00:00:00"},-43153,-43153,0,0,{"$f":"'[5]Список изделий'!BR7219","v":0},0,0]
[290,{"$f":"'[5]Список изделий'!D7301","v":90},{"$f":"'[5]Список изделий'!E7301","v":0},{"$f":"'[5]Список изделий'!F7301","v":0},{"$f":"'[5]Список изделий'!I7301","v":0},{"$f":"'[5]Список изделий'!X7301","v":0},{"$f":"'[5]Список изделий'!Y7301","v":0},{"$f":"'[5]Список изделий'!Z7301","v":0},{"$f":"'[5]Список изделий'!AA7301","v":0},{"$f":"'[5]Список изделий'!AB7301","v":0},{"$f":"'[5]Список изделий'!AC7301","v":"x"},{"$f":"'[5]Список изделий'!AD7301","v":0},{"$f":"'[5]Список изделий'!AE7301","v":0},{"$f":"'[5]Список изделий'!AF7301","v":"00:00:00"},{"$f":"'[5]Список изделий'!AY7301","v":0},{"$f":"'[5]Список изделий'!AZ7301","v":"00:00:00"},-43153,-43153,0,0,{"$f":"'[5]Список изделий'!BR7301","v":0},0,0]
[291,{"$f":"'[5]Список изделий'!D7383","v":91},{"$f":"'[5]Список изделий'!E7383","v":0},{"$f":"'[5]Список изделий'!F7383","v":0},{"$f":"'[5]Список изделий'!I7383","v":0},{"$f":"'[5]Список изделий'!X7383","v":0},{"$f":"'[5]Список изделий'!Y7383","v":0},{"$f":"'[5]Список изделий'!Z7383","v":0},{"$f":"'[5]Список изделий'!AA7383","v":0},{"$f":"'[5]Список изделий'!AB7383","v":0},{"$f":"'[5]Список изделий'!AC7383","v":"x"},{"$f":"'[5]Список изделий'!AD7383","v":0},{"$f":"'[5]Список изделий'!AE7383","v":0},{"$f":"'[5]Список изделий'!AF7383","v":"00:00:00"},{"$f":"'[5]Список изделий'!AY7383","v":0},{"$f":"'[5]Список изделий'!AZ7383","v":"00:00:00"},-43153,-43153,0,0,{"$f":"'[5]Список изделий'!BR7383","v":0},0,0]
[292,{"$f":"'[5]Список изделий'!D7465","v":92},{"$f":"'[5]Список изделий'!E7465","v":0},{"$f":"'[5]Список изделий'!F7465","v":0},{"$f":"'[5]Список изделий'!I7465","v":0},{"$f":"'[5]Список изделий'!X7465","v":0},{"$f":"'[5]Список изделий'!Y7465","v":0},{"$f":"'[5]Список изделий'!Z7465","v":0},{"$f":"'[5]Список изделий'!AA7465","v":0},{"$f":"'[5]Список изделий'!AB7465","v":0},{"$f":"'[5]Список изделий'!AC7465","v":"x"},{"$f":"'[5]Список изделий'!AD7465","v":0},{"$f":"'[5]Список изделий'!AE7465","v":0},{"$f":"'[5]Список изделий'!AF7465","v":"00:00:00"},{"$f":"'[5]Список изделий'!AY7465","v":0},{"$f":"'[5]Список изделий'!AZ7465","v":"00:00:00"},-43153,-43153,0,0,{"$f":"'[5]Список изделий'!BR7465","v":0},0,0]
[293,{"$f":"'[5]Список изделий'!D7547","v":93},{"$f":"'[5]Список изделий'!E7547","v":0},{"$f":"'[5]Список изделий'!F7547","v":0},{"$f":"'[5]Список изделий'!I7547","v":0},{"$f":"'[5]Список изделий'!X7547","v":0},{"$f":"'[5]Список изделий'!Y7547","v":0},{"$f":"'[5]Список изделий'!Z7547","v":0},{"$f":"'[5]Список изделий'!AA7547","v":0},{"$f":"'[5]Список изделий'!AB7547","v":0},{"$f":"'[5]Список изделий'!AC7547","v":"x"},{"$f":"'[5]Список изделий'!AD7547","v":0},{"$f":"'[5]Список изделий'!AE7547","v":0},{"$f":"'[5]Список изделий'!AF7547","v":"00:00:00"},{"$f":"'[5]Список изделий'!AY7547","v":0},{"$f":"'[5]Список изделий'!AZ7547","v":"00:00:00"},-43153,-43153,0,0,{"$f":"'[5]Список изделий'!BR7547","v":0},0,0]
[294,{"$f":"'[5]Список изделий'!D7629","v":94},{"$f":"'[5]Список изделий'!E7629","v":0},{"$f":"'[5]Список изделий'!F7629","v":0},{"$f":"'[5]Список изделий'!I7629","v":0},{"$f":"'[5]Список изделий'!X7629","v":0},{"$f":"'[5]Список изделий'!Y7629","v":0},{"$f":"'[5]Список изделий'!Z7629","v":0},{"$f":"'[5]Список изделий'!AA7629","v":0},{"$f":"'[5]Список изделий'!AB7629","v":0},{"$f":"'[5]Список изделий'!AC7629","v":"x"},{"$f":"'[5]Список изделий'!AD7629","v":0},{"$f":"'[5]Список изделий'!AE7629","v":0},{"$f":"'[5]Список изделий'!AF7629","v":"00:00:00"},{"$f":"'[5]Список изделий'!AY7629","v":0},{"$f":"'[5]Список изделий'!AZ7629","v":"00:00:00"},-43153,-43153,0,0,{"$f":"'[5]Список изделий'!BR7629","v":0},0,0]
[295,{"$f":"'[5]Список изделий'!D7711","v":95},{"$f":"'[5]Список изделий'!E7711","v":0},{"$f":"'[5]Список изделий'!F7711","v":0},{"$f":"'[5]Список изделий'!I7711","v":0},{"$f":"'[5]Список изделий'!X7711","v":0},{"$f":"'[5]Список изделий'!Y7711","v":0},{"$f":"'[5]Список изделий'!Z7711","v":0},{"$f":"'[5]Список изделий'!AA7711","v":0},{"$f":"'[5]Список изделий'!AB7711","v":0},{"$f":"'[5]Список изделий'!AC7711","v":"x"},{"$f":"'[5]Список изделий'!AD7711","v":0},{"$f":"'[5]Список изделий'!AE7711","v":0},{"$f":"'[5]Список изделий'!AF7711","v":"00:00:00"},{"$f":"'[5]Список изделий'!AY7711","v":0},{"$f":"'[5]Список изделий'!AZ7711","v":"00:00:00"},-43153,-43153,0,0,{"$f":"'[5]Список изделий'!BR7711","v":0},0,"\\\\SERVER\\Data1\\П\\Перекресток\\2018\\ТЕХНИЧЕСКАЯ ДОКУМЕНТАЦИЯ\\57-СУПЕРЦЕНА-треугольная(Призма)\\Сборка\\Суперцена-треугольная-сборка.cdr"]
[296,{"$f":"'[5]Список изделий'!D7793","v":96},{"$f":"'[5]Список изделий'!E7793","v":0},{"$f":"'[5]Список изделий'!F7793","v":0},{"$f":"'[5]Список изделий'!I7793","v":0},{"$f":"'[5]Список изделий'!X7793","v":0},{"$f":"'[5]Список изделий'!Y7793","v":0},{"$f":"'[5]Список изделий'!Z7793","v":0},{"$f":"'[5]Список изделий'!AA7793","v":0},{"$f":"'[5]Список изделий'!AB7793","v":0},{"$f":"'[5]Список изделий'!AC7793","v":"x"},{"$f":"'[5]Список изделий'!AD7793","v":0},{"$f":"'[5]Список изделий'!AE7793","v":0},{"$f":"'[5]Список изделий'!AF7793","v":"00:00:00"},{"$f":"'[5]Список изделий'!AY7793","v":0},{"$f":"'[5]Список изделий'!AZ7793","v":"00:00:00"},-43153,-43153,0,0,{"$f":"'[5]Список изделий'!BR7793","v":0},0,0]
[297,{"$f":"'[5]Список изделий'!D7875","v":97},{"$f":"'[5]Список изделий'!E7875","v":0},{"$f":"'[5]Список изделий'!F7875","v":0},{"$f":"'[5]Список изделий'!I7875","v":0},{"$f":"'[5]Список изделий'!X7875","v":0},{"$f":"'[5]Список изделий'!Y7875","v":0},{"$f":"'[5]Список изделий'!Z7875","v":0},{"$f":"'[5]Список изделий'!AA7875","v":0},{"$f":"'[5]Список изделий'!AB7875","v":0},{"$f":"'[5]Список изделий'!AC7875","v":"x"},{"$f":"'[5]Список изделий'!AD7875","v":0},{"$f":"'[5]Список изделий'!AE7875","v":0},{"$f":"'[5]Список изделий'!AF7875","v":"00:00:00"},{"$f":"'[5]Список изделий'!AY7875","v":0},{"$f":"'[5]Список изделий'!AZ7875","v":"00:00:00"},-43153,-43153,0,0,{"$f":"'[5]Список изделий'!BR7875","v":0},0,0]
[298,{"$f":"'[5]Список изделий'!D7957","v":98},{"$f":"'[5]Список изделий'!E7957","v":0},{"$f":"'[5]Список изделий'!F7957","v":0},{"$f":"'[5]Список изделий'!I7957","v":0},{"$f":"'[5]Список изделий'!X7957","v":0},{"$f":"'[5]Список изделий'!Y7957","v":0},{"$f":"'[5]Список изделий'!Z7957","v":0},{"$f":"'[5]Список изделий'!AA7957","v":0},{"$f":"'[5]Список изделий'!AB7957","v":0},{"$f":"'[5]Список изделий'!AC7957","v":"x"},{"$f":"'[5]Список изделий'!AD7957","v":0},{"$f":"'[5]Список изделий'!AE7957","v":0},{"$f":"'[5]Список изделий'!AF7957","v":"00:00:00"},{"$f":"'[5]Список изделий'!AY7957","v":0},{"$f":"'[5]Список изделий'!AZ7957","v":"00:00:00"},-43153,-43153,0,0,{"$f":"'[5]Список изделий'!BR7957","v":0},0,"\\\\SERVER\\Data1\\П\\Перекресток\\2018\\МОСКВА_18\\Балаклавский пр. 16А\\Техничка\\76-Пилон-660х1600"]
[299,{"$f":"'[5]Список изделий'!D8039","v":99},{"$f":"'[5]Список изделий'!E8039","v":0},{"$f":"'[5]Список изделий'!F8039","v":0},{"$f":"'[5]Список изделий'!I8039","v":0},{"$f":"'[5]Список изделий'!X8039","v":0},{"$f":"'[5]Список изделий'!Y8039","v":0},{"$f":"'[5]Список изделий'!Z8039","v":0},{"$f":"'[5]Список изделий'!AA8039","v":0},{"$f":"'[5]Список изделий'!AB8039","v":0},{"$f":"'[5]Список изделий'!AC8039","v":"x"},{"$f":"'[5]Список изделий'!AD8039","v":0},{"$f":"'[5]Список изделий'!AE8039","v":0},{"$f":"'[5]Список изделий'!AF8039","v":"00:00:00"},{"$f":"'[5]Список изделий'!AY8039","v":0},{"$f":"'[5]Список изделий'!AZ8039","v":"00:00:00"},-43153,-43153,0,0,{"$f":"'[5]Список изделий'!BR8039","v":0},0,"\\\\SERVER\\Data1\\П\\Перекресток\\2018\\МОСКВА_18\\Балаклавский пр. 16А\\Техничка\\77-Бумага_для_пилона"]
[300,{"$f":"'[5]Список изделий'!D8121","v":100},{"$f":"'[5]Список изделий'!E8121","v":0},{"$f":"'[5]Список изделий'!F8121","v":0},{"$f":"'[5]Список изделий'!I8121","v":0},{"$f":"'[5]Список изделий'!X8121","v":0},{"$f":"'[5]Список изделий'!Y8121","v":0},{"$f":"'[5]Список изделий'!Z8121","v":0},{"$f":"'[5]Список изделий'!AA8121","v":0},{"$f":"'[5]Список изделий'!AB8121","v":0},{"$f":"'[5]Список изделий'!AC8121","v":"x"},{"$f":"'[5]Список изделий'!AD8121","v":0},{"$f":"'[5]Список изделий'!AE8121","v":0},{"$f":"'[5]Список изделий'!AF8121","v":"00:00:00"},{"$f":"'[5]Список изделий'!AY8121","v":0},{"$f":"'[5]Список изделий'!AZ8121","v":"00:00:00"},-43153,-43153,0,0,{"$f":"'[5]Список изделий'!BR8121","v":0},0,"\\\\SERVER\\Data1\\П\\Перекресток\\2018\\ТЕХНИЧЕСКАЯ ДОКУМЕНТАЦИЯ\\11-Карман_круглый_двухсторонний_(ПромоКруг)\\Сборка\\Круг_Промо-сборка.cdr"]
[301,{"$f":"'[6]Список изделий'!D3","v":1},{"$f":"'[6]Список изделий'!E3","v":0},{"$f":"'[6]Список изделий'!F3","v":0},{"$f":"'[6]Список изделий'!I3","v":0},{"$f":"'[6]Список изделий'!X3","v":0},{"$f":"'[6]Список изделий'!Y3","v":0},{"$f":"'[6]Список изделий'!Z3","v":0},{"$f":"'[6]Список изделий'!AA3","v":0},{"$f":"'[6]Список изделий'!AB3","v":0},{"$f":"'[6]Список изделий'!AC3","v":"x"},{"$f":"'[6]Список изделий'!AD3","v":0},{"$f":"'[6]Список изделий'!AE3","v":0},{"$f":"'[6]Список изделий'!AF3","v":"00:00:00"},{"$f":"'[6]Список изделий'!AY3","v":0},{"$f":"'[6]Список изделий'!AZ3","v":"00:00:00"},-43153,-43153,0,0,{"$f":"'[6]Список изделий'!BR3","v":0},0,"\\\\SERVER\\Data1\\П\\Перекресток\\2018\\ТЕХНИЧЕСКАЯ ДОКУМЕНТАЦИЯ\\58-СУПЕРЦЕНА-одинарная_подвесная\\Сборка\\суперцена_плоская-сборка.cdr"]
[302,{"$f":"'[6]Список изделий'!D85","v":2},{"$f":"'[6]Список изделий'!E85","v":0},{"$f":"'[6]Список изделий'!F85","v":0},{"$f":"'[6]Список изделий'!I85","v":0},{"$f":"'[6]Список изделий'!X85","v":0},{"$f":"'[6]Список изделий'!Y85","v":0},{"$f":"'[6]Список изделий'!Z85","v":0},{"$f":"'[6]Список изделий'!AA85","v":0},{"$f":"'[6]Список изделий'!AB85","v":0},{"$f":"'[6]Список изделий'!AC85","v":"x"},{"$f":"'[6]Список изделий'!AD85","v":0},{"$f":"'[6]Список изделий'!AE85","v":0},{"$f":"'[6]Список изделий'!AF85","v":"00:00:00"},{"$f":"'[6]Список изделий'!AY85","v":0},{"$f":"'[6]Список изделий'!AZ85","v":"00:00:00"},-43153,-43153,0,0,{"$f":"'[6]Список изделий'!BR85","v":0},0,0]
[303,{"$f":"'[6]Список изделий'!D167","v":3},{"$f":"'[6]Список изделий'!E167","v":0},{"$f":"'[6]Список изделий'!F167","v":0},{"$f":"'[6]Список изделий'!I167","v":0},{"$f":"'[6]Список изделий'!X167","v":0},{"$f":"'[6]Список изделий'!Y167","v":0},{"$f":"'[6]Список изделий'!Z167","v":0},{"$f":"'[6]Список изделий'!AA167","v":0},{"$f":"'[6]Список изделий'!AB167","v":0},{"$f":"'[6]Список изделий'!AC167","v":"x"},{"$f":"'[6]Список изделий'!AD167","v":0},{"$f":"'[6]Список изделий'!AE167","v":0},{"$f":"'[6]Список изделий'!AF167","v":"00:00:00"},{"$f":"'[6]Список изделий'!AY167","v":0},{"$f":"'[6]Список изделий'!AZ167","v":"00:00:00"},-43153,-43153,0,0,{"$f":"'[6]Список изделий'!BR167","v":0},0,"\\\\SERVER\\Data1\\П\\Перекресток\\2018\\ТЕХНИЧЕСКАЯ ДОКУМЕНТАЦИЯ\\17-Стикер-задник_ПД_ФРОВ\\Сборка\\стикеры_зад_ПД-ФРОВ-сборка.cdr"]
[304,{"$f":"'[6]Список изделий'!D249","v":4},{"$f":"'[6]Список изделий'!E249","v":0},{"$f":"'[6]Список изделий'!F249","v":0},{"$f":"'[6]Список изделий'!I249","v":0},{"$f":"'[6]Список изделий'!X249","v":0},{"$f":"'[6]Список изделий'!Y249","v":0},{"$f":"'[6]Список изделий'!Z249","v":0},{"$f":"'[6]Список изделий'!AA249","v":0},{"$f":"'[6]Список изделий'!AB249","v":0},{"$f":"'[6]Список изделий'!AC249","v":"x"},{"$f":"'[6]Список изделий'!AD249","v":0},{"$f":"'[6]Список изделий'!AE249","v":0},{"$f":"'[6]Список изделий'!AF249","v":"00:00:00"},{"$f":"'[6]Список изделий'!AY249","v":0},{"$f":"'[6]Список изделий'!AZ249","v":"00:00:00"},-43153,-43153,0,0,{"$f":"'[6]Список изделий'!BR249","v":0},0,0]
[305,{"$f":"'[6]Список изделий'!D331","v":5},{"$f":"'[6]Список изделий'!E331","v":0},{"$f":"'[6]Список изделий'!F331","v":0},{"$f":"'[6]Список изделий'!I331","v":0},{"$f":"'[6]Список изделий'!X331","v":0},{"$f":"'[6]Список изделий'!Y331","v":0},{"$f":"'[6]Список изделий'!Z331","v":0},{"$f":"'[6]Список изделий'!AA331","v":0},{"$f":"'[6]Список изделий'!AB331","v":0},{"$f":"'[6]Список изделий'!AC331","v":"x"},{"$f":"'[6]Список изделий'!AD331","v":0},{"$f":"'[6]Список изделий'!AE331","v":0},{"$f":"'[6]Список изделий'!AF331","v":"00:00:00"},{"$f":"'[6]Список изделий'!AY331","v":0},{"$f":"'[6]Список изделий'!AZ331","v":"00:00:00"},-43153,-43153,0,0,{"$f":"'[6]Список изделий'!BR331","v":0},0,0]
[306,{"$f":"'[6]Список изделий'!D413","v":6},{"$f":"'[6]Список изделий'!E413","v":0},{"$f":"'[6]Список изделий'!F413","v":0},{"$f":"'[6]Список изделий'!I413","v":0},{"$f":"'[6]Список изделий'!X413","v":0},{"$f":"'[6]Список изделий'!Y413","v":0},{"$f":"'[6]Список изделий'!Z413","v":0},{"$f":"'[6]Список изделий'!AA413","v":0},{"$f":"'[6]Список изделий'!AB413","v":0},{"$f":"'[6]Список изделий'!AC413","v":"x"},{"$f":"'[6]Список изделий'!AD413","v":0},{"$f":"'[6]Список изделий'!AE413","v":0},{"$f":"'[6]Список изделий'!AF413","v":"00:00:00"},{"$f":"'[6]Список изделий'!AY413","v":0},{"$f":"'[6]Список изделий'!AZ413","v":"00:00:00"},-43153,-43153,0,0,{"$f":"'[6]Список изделий'!BR413","v":0},0,"\\\\SERVER\\Data1\\П\\Перекресток\\2018\\МОСКВА_18\\Балаклавский пр. 16А\\Техничка\\24-холодильник_ИКРА"]
[307,{"$f":"'[6]Список изделий'!D495","v":7},{"$f":"'[6]Список изделий'!E495","v":0},{"$f":"'[6]Список изделий'!F495","v":0},{"$f":"'[6]Список изделий'!I495","v":0},{"$f":"'[6]Список изделий'!X495","v":0},{"$f":"'[6]Список изделий'!Y495","v":0},{"$f":"'[6]Список изделий'!Z495","v":0},{"$f":"'[6]Список изделий'!AA495","v":0},{"$f":"'[6]Список изделий'!AB495","v":0},{"$f":"'[6]Список изделий'!AC495","v":"x"},{"$f":"'[6]Список изделий'!AD495","v":0},{"$f":"'[6]Список изделий'!AE495","v":0},{"$f":"'[6]Список изделий'!AF495","v":"00:00:00"},{"$f":"'[6]Список изделий'!AY495","v":0},{"$f":"'[6]Список изделий'!AZ495","v":"00:00:00"},-43153,-43153,0,0,{"$f":"'[6]Список изделий'!BR495","v":0},0,"\\\\SERVER\\Data1\\П\\Перекресток\\2018\\МОСКВА_18\\Балаклавский пр. 16А\\Техничка\\25-Мясной_разруб"]
[308,{"$f":"'[6]Список изделий'!D577","v":8},{"$f":"'[6]Список изделий'!E577","v":0},{"$f":"'[6]Список изделий'!F577","v":0},{"$f":"'[6]Список изделий'!I577","v":0},{"$f":"'[6]Список изделий'!X577","v":0},{"$f":"'[6]Список изделий'!Y577","v":0},{"$f":"'[6]Список изделий'!Z577","v":0},{"$f":"'[6]Список изделий'!AA577","v":0},{"$f":"'[6]Список изделий'!AB577","v":0},{"$f":"'[6]Список изделий'!AC577","v":"x"},{"$f":"'[6]Список изделий'!AD577","v":0},{"$f":"'[6]Список изделий'!AE577","v":0},{"$f":"'[6]Список изделий'!AF577","v":"00:00:00"},{"$f":"'[6]Список изделий'!AY577","v":0},{"$f":"'[6]Список изделий'!AZ577","v":"00:00:00"},-43153,-43153,0,0,{"$f":"'[6]Список изделий'!BR577","v":0},0,"\\\\SERVER\\Data1\\П\\Перекресток\\2018\\ТЕХНИЧЕСКАЯ ДОКУМЕНТАЦИЯ\\27-Быстро_и_вкусно\\Сборка\\БиВ-комплект.jpg"]
[309,{"$f":"'[6]Список изделий'!D659","v":9},{"$f":"'[6]Список изделий'!E659","v":0},{"$f":"'[6]Список изделий'!F659","v":0},{"$f":"'[6]Список изделий'!I659","v":0},{"$f":"'[6]Список изделий'!X659","v":0},{"$f":"'[6]Список изделий'!Y659","v":0},{"$f":"'[6]Список изделий'!Z659","v":0},{"$f":"'[6]Список изделий'!AA659","v":0},{"$f":"'[6]Список изделий'!AB659","v":0},{"$f":"'[6]Список изделий'!AC659","v":"x"},{"$f":"'[6]Список изделий'!AD659","v":0},{"$f":"'[6]Список изделий'!AE659","v":0},{"$f":"'[6]Список изделий'!AF659","v":"00:00:00"},{"$f":"'[6]Список изделий'!AY659","v":0},{"$f":"'[6]Список изделий'!AZ659","v":"00:00:00"},-43153,-43153,0,0,{"$f":"'[6]Список изделий'!BR659","v":0},0,0]
[310,{"$f":"'[6]Список изделий'!D741","v":10},{"$f":"'[6]Список изделий'!E741","v":0},{"$f":"'[6]Список изделий'!F741","v":0},{"$f":"'[6]Список изделий'!I741","v":0},{"$f":"'[6]Список изделий'!X741","v":0},{"$f":"'[6]Список изделий'!Y741","v":0},{"$f":"'[6]Список изделий'!Z741","v":0},{"$f":"'[6]Список изделий'!AA741","v":0},{"$f":"'[6]Список изделий'!AB741","v":0},{"$f":"'[6]Список изделий'!AC741","v":"x"},{"$f":"'[6]Список изделий'!AD741","v":0},{"$f":"'[6]Список изделий'!AE741","v":0},{"$f":"'[6]Список изделий'!AF741","v":"00:00:00"},{"$f":"'[6]Список изделий'!AY741","v":0},{"$f":"'[6]Список изделий'!AZ741","v":"00:00:00"},-43153,-43153,0,0,{"$f":"'[6]Список изделий'!BR741","v":0},0,0]
[311,{"$f":"'[6]Список изделий'!D823","v":11},{"$f":"'[6]Список изделий'!E823","v":0},{"$f":"'[6]Список изделий'!F823","v":0},{"$f":"'[6]Список изделий'!I823","v":0},{"$f":"'[6]Список изделий'!X823","v":0},{"$f":"'[6]Список изделий'!Y823","v":0},{"$f":"'[6]Список изделий'!Z823","v":0},{"$f":"'[6]Список изделий'!AA823","v":0},{"$f":"'[6]Список изделий'!AB823","v":0},{"$f":"'[6]Список изделий'!AC823","v":"x"},{"$f":"'[6]Список изделий'!AD823","v":0},{"$f":"'[6]Список изделий'!AE823","v":0},{"$f":"'[6]Список изделий'!AF823","v":"00:00:00"},{"$f":"'[6]Список изделий'!AY823","v":0},{"$f":"'[6]Список изделий'!AZ823","v":"00:00:00"},-43153,-43153,0,0,{"$f":"'[6]Список изделий'!BR823","v":0},0,0]
[312,{"$f":"'[6]Список изделий'!D905","v":12},{"$f":"'[6]Список изделий'!E905","v":0},{"$f":"'[6]Список изделий'!F905","v":0},{"$f":"'[6]Список изделий'!I905","v":0},{"$f":"'[6]Список изделий'!X905","v":0},{"$f":"'[6]Список изделий'!Y905","v":0},{"$f":"'[6]Список изделий'!Z905","v":0},{"$f":"'[6]Список изделий'!AA905","v":0},{"$f":"'[6]Список изделий'!AB905","v":0},{"$f":"'[6]Список изделий'!AC905","v":"x"},{"$f":"'[6]Список изделий'!AD905","v":0},{"$f":"'[6]Список изделий'!AE905","v":0},{"$f":"'[6]Список изделий'!AF905","v":"00:00:00"},{"$f":"'[6]Список изделий'!AY905","v":0},{"$f":"'[6]Список изделий'!AZ905","v":"00:00:00"},-43153,-43153,0,0,{"$f":"'[6]Список изделий'!BR905","v":0},0,"\\\\SERVER\\Data1\\П\\Перекресток\\2018\\МОСКВА_18\\Балаклавский пр. 16А\\Техничка\\36-Служебные_таблички"]
[313,{"$f":"'[6]Список изделий'!D987","v":13},{"$f":"'[6]Список изделий'!E987","v":0},{"$f":"'[6]Список изделий'!F987","v":0},{"$f":"'[6]Список изделий'!I987","v":0},{"$f":"'[6]Список изделий'!X987","v":0},{"$f":"'[6]Список изделий'!Y987","v":0},{"$f":"'[6]Список изделий'!Z987","v":0},{"$f":"'[6]Список изделий'!AA987","v":0},{"$f":"'[6]Список изделий'!AB987","v":0},{"$f":"'[6]Список изделий'!AC987","v":"x"},{"$f":"'[6]Список изделий'!AD987","v":0},{"$f":"'[6]Список изделий'!AE987","v":0},{"$f":"'[6]Список изделий'!AF987","v":"00:00:00"},{"$f":"'[6]Список изделий'!AY987","v":0},{"$f":"'[6]Список изделий'!AZ987","v":"00:00:00"},-43153,-43153,0,0,{"$f":"'[6]Список изделий'!BR987","v":0},0,0]
[314,{"$f":"'[6]Список изделий'!D1069","v":14},{"$f":"'[6]Список изделий'!E1069","v":0},{"$f":"'[6]Список изделий'!F1069","v":0},{"$f":"'[6]Список изделий'!I1069","v":0},{"$f":"'[6]Список изделий'!X1069","v":0},{"$f":"'[6]Список изделий'!Y1069","v":0},{"$f":"'[6]Список изделий'!Z1069","v":0},{"$f":"'[6]Список изделий'!AA1069","v":0},{"$f":"'[6]Список изделий'!AB1069","v":0},{"$f":"'[6]Список изделий'!AC1069","v":"x"},{"$f":"'[6]Список изделий'!AD1069","v":0},{"$f":"'[6]Список изделий'!AE1069","v":0},{"$f":"'[6]Список изделий'!AF1069","v":"00:00:00"},{"$f":"'[6]Список изделий'!AY1069","v":0},{"$f":"'[6]Список изделий'!AZ1069","v":"00:00:00"},-43153,-43153,0,0,{"$f":"'[6]Список изделий'!BR1069","v":0},0,0]
[315,{"$f":"'[6]Список изделий'!D1151","v":15},{"$f":"'[6]Список изделий'!E1151","v":0},{"$f":"'[6]Список изделий'!F1151","v":0},{"$f":"'[6]Список изделий'!I1151","v":0},{"$f":"'[6]Список изделий'!X1151","v":0},{"$f":"'[6]Список изделий'!Y1151","v":0},{"$f":"'[6]Список изделий'!Z1151","v":0},{"$f":"'[6]Список изделий'!AA1151","v":0},{"$f":"'[6]Список изделий'!AB1151","v":0},{"$f":"'[6]Список изделий'!AC1151","v":"x"},{"$f":"'[6]Список изделий'!AD1151","v":0},{"$f":"'[6]Список изделий'!AE1151","v":0},{"$f":"'[6]Список изделий'!AF1151","v":"00:00:00"},{"$f":"'[6]Список изделий'!AY1151","v":0},{"$f":"'[6]Список изделий'!AZ1151","v":"00:00:00"},-43153,-43153,0,0,{"$f":"'[6]Список изделий'!BR1151","v":0},0,"\\\\SERVER\\Data1\\П\\Перекресток\\2018\\МОСКВА_18\\Балаклавский пр. 16А\\Техничка\\42-Табличка_Контрольные_Весы"]
[316,{"$f":"'[6]Список изделий'!D1233","v":16},{"$f":"'[6]Список изделий'!E1233","v":0},{"$f":"'[6]Список изделий'!F1233","v":0},{"$f":"'[6]Список изделий'!I1233","v":0},{"$f":"'[6]Список изделий'!X1233","v":0},{"$f":"'[6]Список изделий'!Y1233","v":0},{"$f":"'[6]Список изделий'!Z1233","v":0},{"$f":"'[6]Список изделий'!AA1233","v":0},{"$f":"'[6]Список изделий'!AB1233","v":0},{"$f":"'[6]Список изделий'!AC1233","v":"x"},{"$f":"'[6]Список изделий'!AD1233","v":0},{"$f":"'[6]Список изделий'!AE1233","v":0},{"$f":"'[6]Список изделий'!AF1233","v":"00:00:00"},{"$f":"'[6]Список изделий'!AY1233","v":0},{"$f":"'[6]Список изделий'!AZ1233","v":"00:00:00"},-43153,-43153,0,0,{"$f":"'[6]Список изделий'!BR1233","v":0},0,"\\\\SERVER\\Data1\\П\\Перекресток\\2018\\МОСКВА_18\\Балаклавский пр. 16А\\Техничка\\44-Алкогольные_разделители-200х38"]
[317,{"$f":"'[6]Список изделий'!D1315","v":17},{"$f":"'[6]Список изделий'!E1315","v":0},{"$f":"'[6]Список изделий'!F1315","v":0},{"$f":"'[6]Список изделий'!I1315","v":0},{"$f":"'[6]Список изделий'!X1315","v":0},{"$f":"'[6]Список изделий'!Y1315","v":0},{"$f":"'[6]Список изделий'!Z1315","v":0},{"$f":"'[6]Список изделий'!AA1315","v":0},{"$f":"'[6]Список изделий'!AB1315","v":0},{"$f":"'[6]Список изделий'!AC1315","v":"x"},{"$f":"'[6]Список изделий'!AD1315","v":0},{"$f":"'[6]Список изделий'!AE1315","v":0},{"$f":"'[6]Список изделий'!AF1315","v":"00:00:00"},{"$f":"'[6]Список изделий'!AY1315","v":0},{"$f":"'[6]Список изделий'!AZ1315","v":"00:00:00"},-43153,-43153,0,0,{"$f":"'[6]Список изделий'!BR1315","v":0},0,0]
[318,{"$f":"'[6]Список изделий'!D1397","v":18},{"$f":"'[6]Список изделий'!E1397","v":0},{"$f":"'[6]Список изделий'!F1397","v":0},{"$f":"'[6]Список изделий'!I1397","v":0},{"$f":"'[6]Список изделий'!X1397","v":0},{"$f":"'[6]Список изделий'!Y1397","v":0},{"$f":"'[6]Список изделий'!Z1397","v":0},{"$f":"'[6]Список изделий'!AA1397","v":0},{"$f":"'[6]Список изделий'!AB1397","v":0},{"$f":"'[6]Список изделий'!AC1397","v":"x"},{"$f":"'[6]Список изделий'!AD1397","v":0},{"$f":"'[6]Список изделий'!AE1397","v":0},{"$f":"'[6]Список изделий'!AF1397","v":"00:00:00"},{"$f":"'[6]Список изделий'!AY1397","v":0},{"$f":"'[6]Список изделий'!AZ1397","v":"00:00:00"},-43153,-43153,0,0,{"$f":"'[6]Список изделий'!BR1397","v":0},0,0]
[319,{"$f":"'[6]Список изделий'!D1479","v":19},{"$f":"'[6]Список изделий'!E1479","v":0},{"$f":"'[6]Список изделий'!F1479","v":0},{"$f":"'[6]Список изделий'!I1479","v":0},{"$f":"'[6]Список изделий'!X1479","v":0},{"$f":"'[6]Список изделий'!Y1479","v":0},{"$f":"'[6]Список изделий'!Z1479","v":0},{"$f":"'[6]Список изделий'!AA1479","v":0},{"$f":"'[6]Список изделий'!AB1479","v":0},{"$f":"'[6]Список изделий'!AC1479","v":"x"},{"$f":"'[6]Список изделий'!AD1479","v":0},{"$f":"'[6]Список изделий'!AE1479","v":0},{"$f":"'[6]Список изделий'!AF1479","v":"00:00:00"},{"$f":"'[6]Список изделий'!AY1479","v":0},{"$f":"'[6]Список изделий'!AZ1479","v":"00:00:00"},-43153,-43153,0,0,{"$f":"'[6]Список изделий'!BR1479","v":0},0,0]
[320,{"$f":"'[6]Список изделий'!D1561","v":20},{"$f":"'[6]Список изделий'!E1561","v":0},{"$f":"'[6]Список изделий'!F1561","v":0},{"$f":"'[6]Список изделий'!I1561","v":0},{"$f":"'[6]Список изделий'!X1561","v":0},{"$f":"'[6]Список изделий'!Y1561","v":0},{"$f":"'[6]Список изделий'!Z1561","v":0},{"$f":"'[6]Список изделий'!AA1561","v":0},{"$f":"'[6]Список изделий'!AB1561","v":0},{"$f":"'[6]Список изделий'!AC1561","v":"x"},{"$f":"'[6]Список изделий'!AD1561","v":0},{"$f":"'[6]Список изделий'!AE1561","v":0},{"$f":"'[6]Список изделий'!AF1561","v":"00:00:00"},{"$f":"'[6]Список изделий'!AY1561","v":0},{"$f":"'[6]Список изделий'!AZ1561","v":"00:00:00"},-43153,-43153,0,0,{"$f":"'[6]Список изделий'!BR1561","v":0},0,0]
[321,{"$f":"'[6]Список изделий'!D1643","v":21},{"$f":"'[6]Список изделий'!E1643","v":0},{"$f":"'[6]Список изделий'!F1643","v":0},{"$f":"'[6]Список изделий'!I1643","v":0},{"$f":"'[6]Список изделий'!X1643","v":0},{"$f":"'[6]Список изделий'!Y1643","v":0},{"$f":"'[6]Список изделий'!Z1643","v":0},{"$f":"'[6]Список изделий'!AA1643","v":0},{"$f":"'[6]Список изделий'!AB1643","v":0},{"$f":"'[6]Список изделий'!AC1643","v":"x"},{"$f":"'[6]Список изделий'!AD1643","v":0},{"$f":"'[6]Список изделий'!AE1643","v":0},{"$f":"'[6]Список изделий'!AF1643","v":"00:00:00"},{"$f":"'[6]Список изделий'!AY1643","v":0},{"$f":"'[6]Список изделий'!AZ1643","v":"00:00:00"},-43153,-43153,0,0,{"$f":"'[6]Список изделий'!BR1643","v":0},0,0]
[322,{"$f":"'[6]Список изделий'!D1725","v":22},{"$f":"'[6]Список изделий'!E1725","v":0},{"$f":"'[6]Список изделий'!F1725","v":0},{"$f":"'[6]Список изделий'!I1725","v":0},{"$f":"'[6]Список изделий'!X1725","v":0},{"$f":"'[6]Список изделий'!Y1725","v":0},{"$f":"'[6]Список изделий'!Z1725","v":0},{"$f":"'[6]Список изделий'!AA1725","v":0},{"$f":"'[6]Список изделий'!AB1725","v":0},{"$f":"'[6]Список изделий'!AC1725","v":"x"},{"$f":"'[6]Список изделий'!AD1725","v":0},{"$f":"'[6]Список изделий'!AE1725","v":0},{"$f":"'[6]Список изделий'!AF1725","v":"00:00:00"},{"$f":"'[6]Список изделий'!AY1725","v":0},{"$f":"'[6]Список изделий'!AZ1725","v":"00:00:00"},{"$f":"IF(O324=\"нет в заказе\",\"нет в заказе\",-(TODAY()-(P324-O324)))","v":-43153},{"$f":"IF(Q324=\"нет в заказе\",\"нет взаказе\",-(IF(O324=\"нет в заказе\",\"нет в заказе\",TODAY()-P324)))","v":-43153},0,{"$f":"V324","v":0},{"$f":"'[6]Список изделий'!BR1725","v":0},{"$f":"IF(S324>=0,S324,IF(T324>S324,T324,S324))","v":0},0]
[323,{"$f":"'[6]Список изделий'!D1807","v":23},{"$f":"'[6]Список изделий'!E1807","v":0},{"$f":"'[6]Список изделий'!F1807","v":0},{"$f":"'[6]Список изделий'!I1807","v":0},{"$f":"'[6]Список изделий'!X1807","v":0},{"$f":"'[6]Список изделий'!Y1807","v":0},{"$f":"'[6]Список изделий'!Z1807","v":0},{"$f":"'[6]Список изделий'!AA1807","v":0},{"$f":"'[6]Список изделий'!AB1807","v":0},{"$f":"'[6]Список изделий'!AC1807","v":"x"},{"$f":"'[6]Список изделий'!AD1807","v":0},{"$f":"'[6]Список изделий'!AE1807","v":0},{"$f":"'[6]Список изделий'!AF1807","v":"00:00:00"},{"$f":"'[6]Список изделий'!AY1807","v":0},{"$f":"'[6]Список изделий'!AZ1807","v":"00:00:00"},-43153,-43153,0,0,{"$f":"'[6]Список изделий'!BR1807","v":0},0,"\\\\SERVER\\Data1\\П\\Перекресток\\2018\\ТЕХНИЧЕСКАЯ ДОКУМЕНТАЦИЯ\\57-СУПЕРЦЕНА-треугольная(Призма)\\Сборка\\Суперцена-треугольная-сборка.cdr"]
[324,{"$f":"'[6]Список изделий'!D1889","v":24},{"$f":"'[6]Список изделий'!E1889","v":0},{"$f":"'[6]Список изделий'!F1889","v":0},{"$f":"'[6]Список изделий'!I1889","v":0},{"$f":"'[6]Список изделий'!X1889","v":0},{"$f":"'[6]Список изделий'!Y1889","v":0},{"$f":"'[6]Список изделий'!Z1889","v":0},{"$f":"'[6]Список изделий'!AA1889","v":0},{"$f":"'[6]Список изделий'!AB1889","v":0},{"$f":"'[6]Список изделий'!AC1889","v":"x"},{"$f":"'[6]Список изделий'!AD1889","v":0},{"$f":"'[6]Список изделий'!AE1889","v":0},{"$f":"'[6]Список изделий'!AF1889","v":"00:00:00"},{"$f":"'[6]Список изделий'!AY1889","v":0},{"$f":"'[6]Список изделий'!AZ1889","v":"00:00:00"},-43153,-43153,0,0,{"$f":"'[6]Список изделий'!BR1889","v":0},0,0]
[325,{"$f":"'[6]Список изделий'!D1971","v":25},{"$f":"'[6]Список изделий'!E1971","v":0},{"$f":"'[6]Список изделий'!F1971","v":0},{"$f":"'[6]Список изделий'!I1971","v":0},{"$f":"'[6]Список изделий'!X1971","v":0},{"$f":"'[6]Список изделий'!Y1971","v":0},{"$f":"'[6]Список изделий'!Z1971","v":0},{"$f":"'[6]Список изделий'!AA1971","v":0},{"$f":"'[6]Список изделий'!AB1971","v":0},{"$f":"'[6]Список изделий'!AC1971","v":"x"},{"$f":"'[6]Список изделий'!AD1971","v":0},{"$f":"'[6]Список изделий'!AE1971","v":0},{"$f":"'[6]Список изделий'!AF1971","v":"00:00:00"},{"$f":"'[6]Список изделий'!AY1971","v":0},{"$f":"'[6]Список изделий'!AZ1971","v":"00:00:00"},-43153,-43153,0,0,{"$f":"'[6]Список изделий'!BR1971","v":0},0,0]
[326,{"$f":"'[6]Список изделий'!D2053","v":26},{"$f":"'[6]Список изделий'!E2053","v":0},{"$f":"'[6]Список изделий'!F2053","v":0},{"$f":"'[6]Список изделий'!I2053","v":0},{"$f":"'[6]Список изделий'!X2053","v":0},{"$f":"'[6]Список изделий'!Y2053","v":0},{"$f":"'[6]Список изделий'!Z2053","v":0},{"$f":"'[6]Список изделий'!AA2053","v":0},{"$f":"'[6]Список изделий'!AB2053","v":0},{"$f":"'[6]Список изделий'!AC2053","v":"x"},{"$f":"'[6]Список изделий'!AD2053","v":0},{"$f":"'[6]Список изделий'!AE2053","v":0},{"$f":"'[6]Список изделий'!AF2053","v":"00:00:00"},{"$f":"'[6]Список изделий'!AY2053","v":0},{"$f":"'[6]Список изделий'!AZ2053","v":"00:00:00"},-43153,-43153,0,0,{"$f":"'[6]Список изделий'!BR2053","v":0},0,"\\\\SERVER\\Data1\\П\\Перекресток\\2018\\МОСКВА_18\\Балаклавский пр. 16А\\Техничка\\76-Пилон-660х1600"]
[327,{"$f":"'[6]Список изделий'!D2135","v":27},{"$f":"'[6]Список изделий'!E2135","v":0},{"$f":"'[6]Список изделий'!F2135","v":0},{"$f":"'[6]Список изделий'!I2135","v":0},{"$f":"'[6]Список изделий'!X2135","v":0},{"$f":"'[6]Список изделий'!Y2135","v":0},{"$f":"'[6]Список изделий'!Z2135","v":0},{"$f":"'[6]Список изделий'!AA2135","v":0},{"$f":"'[6]Список изделий'!AB2135","v":0},{"$f":"'[6]Список изделий'!AC2135","v":"x"},{"$f":"'[6]Список изделий'!AD2135","v":0},{"$f":"'[6]Список изделий'!AE2135","v":0},{"$f":"'[6]Список изделий'!AF2135","v":"00:00:00"},{"$f":"'[6]Список изделий'!AY2135","v":0},{"$f":"'[6]Список изделий'!AZ2135","v":"00:00:00"},-43153,-43153,0,0,{"$f":"'[6]Список изделий'!BR2135","v":0},0,"\\\\SERVER\\Data1\\П\\Перекресток\\2018\\МОСКВА_18\\Балаклавский пр. 16А\\Техничка\\77-Бумага_для_пилона"]
[328,{"$f":"'[6]Список изделий'!D2217","v":28},{"$f":"'[6]Список изделий'!E2217","v":0},{"$f":"'[6]Список изделий'!F2217","v":0},{"$f":"'[6]Список изделий'!I2217","v":0},{"$f":"'[6]Список изделий'!X2217","v":0},{"$f":"'[6]Список изделий'!Y2217","v":0},{"$f":"'[6]Список изделий'!Z2217","v":0},{"$f":"'[6]Список изделий'!AA2217","v":0},{"$f":"'[6]Список изделий'!AB2217","v":0},{"$f":"'[6]Список изделий'!AC2217","v":"x"},{"$f":"'[6]Список изделий'!AD2217","v":0},{"$f":"'[6]Список изделий'!AE2217","v":0},{"$f":"'[6]Список изделий'!AF2217","v":"00:00:00"},{"$f":"'[6]Список изделий'!AY2217","v":0},{"$f":"'[6]Список изделий'!AZ2217","v":"00:00:00"},-43153,-43153,0,0,{"$f":"'[6]Список изделий'!BR2217","v":0},0]
[329,{"$f":"'[6]Список изделий'!D2299","v":29},{"$f":"'[6]Список изделий'!E2299","v":0},{"$f":"'[6]Список изделий'!F2299","v":0},{"$f":"'[6]Список изделий'!I2299","v":0},{"$f":"'[6]Список изделий'!X2299","v":0},{"$f":"'[6]Список изделий'!Y2299","v":0},{"$f":"'[6]Список изделий'!Z2299","v":0},{"$f":"'[6]Список изделий'!AA2299","v":0},{"$f":"'[6]Список изделий'!AB2299","v":0},{"$f":"'[6]Список изделий'!AC2299","v":"x"},{"$f":"'[6]Список изделий'!AD2299","v":0},{"$f":"'[6]Список изделий'!AE2299","v":0},{"$f":"'[6]Список изделий'!AF2299","v":"00:00:00"},{"$f":"'[6]Список изделий'!AY2299","v":0},{"$f":"'[6]Список изделий'!AZ2299","v":"00:00:00"},-43153,-43153,0,0,{"$f":"'[6]Список изделий'!BR2299","v":0},0]
[330,{"$f":"'[6]Список изделий'!D2381","v":30},{"$f":"'[6]Список изделий'!E2381","v":0},{"$f":"'[6]Список изделий'!F2381","v":0},{"$f":"'[6]Список изделий'!I2381","v":0},{"$f":"'[6]Список изделий'!X2381","v":0},{"$f":"'[6]Список изделий'!Y2381","v":0},{"$f":"'[6]Список изделий'!Z2381","v":0},{"$f":"'[6]Список изделий'!AA2381","v":0},{"$f":"'[6]Список изделий'!AB2381","v":0},{"$f":"'[6]Список изделий'!AC2381","v":"x"},{"$f":"'[6]Список изделий'!AD2381","v":0},{"$f":"'[6]Список изделий'!AE2381","v":0},{"$f":"'[6]Список изделий'!AF2381","v":"00:00:00"},{"$f":"'[6]Список изделий'!AY2381","v":0},{"$f":"'[6]Список изделий'!AZ2381","v":"00:00:00"},-43153,-43153,0,0,{"$f":"'[6]Список изделий'!BR2381","v":0},0]
[331,{"$f":"'[6]Список изделий'!D2463","v":31},{"$f":"'[6]Список изделий'!E2463","v":0},{"$f":"'[6]Список изделий'!F2463","v":0},{"$f":"'[6]Список изделий'!I2463","v":0},{"$f":"'[6]Список изделий'!X2463","v":0},{"$f":"'[6]Список изделий'!Y2463","v":0},{"$f":"'[6]Список изделий'!Z2463","v":0},{"$f":"'[6]Список изделий'!AA2463","v":0},{"$f":"'[6]Список изделий'!AB2463","v":0},{"$f":"'[6]Список изделий'!AC2463","v":"x"},{"$f":"'[6]Список изделий'!AD2463","v":0},{"$f":"'[6]Список изделий'!AE2463","v":0},{"$f":"'[6]Список изделий'!AF2463","v":"00:00:00"},{"$f":"'[6]Список изделий'!AY2463","v":0},{"$f":"'[6]Список изделий'!AZ2463","v":"00:00:00"},-43153,-43153,0,0,{"$f":"'[6]Список изделий'!BR2463","v":0},0]
[332,{"$f":"'[6]Список изделий'!D2545","v":32},{"$f":"'[6]Список изделий'!E2545","v":0},{"$f":"'[6]Список изделий'!F2545","v":0},{"$f":"'[6]Список изделий'!I2545","v":0},{"$f":"'[6]Список изделий'!X2545","v":0},{"$f":"'[6]Список изделий'!Y2545","v":0},{"$f":"'[6]Список изделий'!Z2545","v":0},{"$f":"'[6]Список изделий'!AA2545","v":0},{"$f":"'[6]Список изделий'!AB2545","v":0},{"$f":"'[6]Список изделий'!AC2545","v":"x"},{"$f":"'[6]Список изделий'!AD2545","v":0},{"$f":"'[6]Список изделий'!AE2545","v":0},{"$f":"'[6]Список изделий'!AF2545","v":"00:00:00"},{"$f":"'[6]Список изделий'!AY2545","v":0},{"$f":"'[6]Список изделий'!AZ2545","v":"00:00:00"},-43153,-43153,0,0,{"$f":"'[6]Список изделий'!BR2545","v":0},0]
[333,{"$f":"'[6]Список изделий'!D2627","v":33},{"$f":"'[6]Список изделий'!E2627","v":0},{"$f":"'[6]Список изделий'!F2627","v":0},{"$f":"'[6]Список изделий'!I2627","v":0},{"$f":"'[6]Список изделий'!X2627","v":0},{"$f":"'[6]Список изделий'!Y2627","v":0},{"$f":"'[6]Список изделий'!Z2627","v":0},{"$f":"'[6]Список изделий'!AA2627","v":0},{"$f":"'[6]Список изделий'!AB2627","v":0},{"$f":"'[6]Список изделий'!AC2627","v":"x"},{"$f":"'[6]Список изделий'!AD2627","v":0},{"$f":"'[6]Список изделий'!AE2627","v":0},{"$f":"'[6]Список изделий'!AF2627","v":"00:00:00"},{"$f":"'[6]Список изделий'!AY2627","v":0},{"$f":"'[6]Список изделий'!AZ2627","v":"00:00:00"},-43153,-43153,0,0,{"$f":"'[6]Список изделий'!BR2627","v":0},0]
[334,{"$f":"'[6]Список изделий'!D2709","v":34},{"$f":"'[6]Список изделий'!E2709","v":0},{"$f":"'[6]Список изделий'!F2709","v":0},{"$f":"'[6]Список изделий'!I2709","v":0},{"$f":"'[6]Список изделий'!X2709","v":0},{"$f":"'[6]Список изделий'!Y2709","v":0},{"$f":"'[6]Список изделий'!Z2709","v":0},{"$f":"'[6]Список изделий'!AA2709","v":0},{"$f":"'[6]Список изделий'!AB2709","v":0},{"$f":"'[6]Список изделий'!AC2709","v":"x"},{"$f":"'[6]Список изделий'!AD2709","v":0},{"$f":"'[6]Список изделий'!AE2709","v":0},{"$f":"'[6]Список изделий'!AF2709","v":"00:00:00"},{"$f":"'[6]Список изделий'!AY2709","v":0},{"$f":"'[6]Список изделий'!AZ2709","v":"00:00:00"},-43153,-43153,0,0,{"$f":"'[6]Список изделий'!BR2709","v":0},0]
[335,{"$f":"'[6]Список изделий'!D2791","v":35},{"$f":"'[6]Список изделий'!E2791","v":0},{"$f":"'[6]Список изделий'!F2791","v":0},{"$f":"'[6]Список изделий'!I2791","v":0},{"$f":"'[6]Список изделий'!X2791","v":0},{"$f":"'[6]Список изделий'!Y2791","v":0},{"$f":"'[6]Список изделий'!Z2791","v":0},{"$f":"'[6]Список изделий'!AA2791","v":0},{"$f":"'[6]Список изделий'!AB2791","v":0},{"$f":"'[6]Список изделий'!AC2791","v":"x"},{"$f":"'[6]Список изделий'!AD2791","v":0},{"$f":"'[6]Список изделий'!AE2791","v":0},{"$f":"'[6]Список изделий'!AF2791","v":"00:00:00"},{"$f":"'[6]Список изделий'!AY2791","v":0},{"$f":"'[6]Список изделий'!AZ2791","v":"00:00:00"},-43153,-43153,0,0,{"$f":"'[6]Список изделий'!BR2791","v":0},0]
[336,{"$f":"'[6]Список изделий'!D2873","v":36},{"$f":"'[6]Список изделий'!E2873","v":0},{"$f":"'[6]Список изделий'!F2873","v":0},{"$f":"'[6]Список изделий'!I2873","v":0},{"$f":"'[6]Список изделий'!X2873","v":0},{"$f":"'[6]Список изделий'!Y2873","v":0},{"$f":"'[6]Список изделий'!Z2873","v":0},{"$f":"'[6]Список изделий'!AA2873","v":0},{"$f":"'[6]Список изделий'!AB2873","v":0},{"$f":"'[6]Список изделий'!AC2873","v":"x"},{"$f":"'[6]Список изделий'!AD2873","v":0},{"$f":"'[6]Список изделий'!AE2873","v":0},{"$f":"'[6]Список изделий'!AF2873","v":"00:00:00"},{"$f":"'[6]Список изделий'!AY2873","v":0},{"$f":"'[6]Список изделий'!AZ2873","v":"00:00:00"},-43153,-43153,0,0,{"$f":"'[6]Список изделий'!BR2873","v":0},0]
[337,{"$f":"'[6]Список изделий'!D2955","v":37},{"$f":"'[6]Список изделий'!E2955","v":0},{"$f":"'[6]Список изделий'!F2955","v":0},{"$f":"'[6]Список изделий'!I2955","v":0},{"$f":"'[6]Список изделий'!X2955","v":0},{"$f":"'[6]Список изделий'!Y2955","v":0},{"$f":"'[6]Список изделий'!Z2955","v":0},{"$f":"'[6]Список изделий'!AA2955","v":0},{"$f":"'[6]Список изделий'!AB2955","v":0},{"$f":"'[6]Список изделий'!AC2955","v":"x"},{"$f":"'[6]Список изделий'!AD2955","v":0},{"$f":"'[6]Список изделий'!AE2955","v":0},{"$f":"'[6]Список изделий'!AF2955","v":"00:00:00"},{"$f":"'[6]Список изделий'!AY2955","v":0},{"$f":"'[6]Список изделий'!AZ2955","v":"00:00:00"},-43153,-43153,0,0,{"$f":"'[6]Список изделий'!BR2955","v":0},0]
[338,{"$f":"'[6]Список изделий'!D3037","v":38},{"$f":"'[6]Список изделий'!E3037","v":0},{"$f":"'[6]Список изделий'!F3037","v":0},{"$f":"'[6]Список изделий'!I3037","v":0},{"$f":"'[6]Список изделий'!X3037","v":0},{"$f":"'[6]Список изделий'!Y3037","v":0},{"$f":"'[6]Список изделий'!Z3037","v":0},{"$f":"'[6]Список изделий'!AA3037","v":0},{"$f":"'[6]Список изделий'!AB3037","v":0},{"$f":"'[6]Список изделий'!AC3037","v":"x"},{"$f":"'[6]Список изделий'!AD3037","v":0},{"$f":"'[6]Список изделий'!AE3037","v":0},{"$f":"'[6]Список изделий'!AF3037","v":"00:00:00"},{"$f":"'[6]Список изделий'!AY3037","v":0},{"$f":"'[6]Список изделий'!AZ3037","v":"00:00:00"},-43153,-43153,0,0,{"$f":"'[6]Список изделий'!BR3037","v":0},0]
[339,{"$f":"'[6]Список изделий'!D3119","v":39},{"$f":"'[6]Список изделий'!E3119","v":0},{"$f":"'[6]Список изделий'!F3119","v":0},{"$f":"'[6]Список изделий'!I3119","v":0},{"$f":"'[6]Список изделий'!X3119","v":0},{"$f":"'[6]Список изделий'!Y3119","v":0},{"$f":"'[6]Список изделий'!Z3119","v":0},{"$f":"'[6]Список изделий'!AA3119","v":0},{"$f":"'[6]Список изделий'!AB3119","v":0},{"$f":"'[6]Список изделий'!AC3119","v":"x"},{"$f":"'[6]Список изделий'!AD3119","v":0},{"$f":"'[6]Список изделий'!AE3119","v":0},{"$f":"'[6]Список изделий'!AF3119","v":"00:00:00"},{"$f":"'[6]Список изделий'!AY3119","v":0},{"$f":"'[6]Список изделий'!AZ3119","v":"00:00:00"},-43153,-43153,0,0,{"$f":"'[6]Список изделий'!BR3119","v":0},0]
[340,{"$f":"'[6]Список изделий'!D3201","v":40},{"$f":"'[6]Список изделий'!E3201","v":0},{"$f":"'[6]Список изделий'!F3201","v":0},{"$f":"'[6]Список изделий'!I3201","v":0},{"$f":"'[6]Список изделий'!X3201","v":0},{"$f":"'[6]Список изделий'!Y3201","v":0},{"$f":"'[6]Список изделий'!Z3201","v":0},{"$f":"'[6]Список изделий'!AA3201","v":0},{"$f":"'[6]Список изделий'!AB3201","v":0},{"$f":"'[6]Список изделий'!AC3201","v":"x"},{"$f":"'[6]Список изделий'!AD3201","v":0},{"$f":"'[6]Список изделий'!AE3201","v":0},{"$f":"'[6]Список изделий'!AF3201","v":"00:00:00"},{"$f":"'[6]Список изделий'!AY3201","v":0},{"$f":"'[6]Список изделий'!AZ3201","v":"00:00:00"},-43153,-43153,0,0,{"$f":"'[6]Список изделий'!BR3201","v":0},0]
[341,{"$f":"'[6]Список изделий'!D3283","v":41},{"$f":"'[6]Список изделий'!E3283","v":0},{"$f":"'[6]Список изделий'!F3283","v":0},{"$f":"'[6]Список изделий'!I3283","v":0},{"$f":"'[6]Список изделий'!X3283","v":0},{"$f":"'[6]Список изделий'!Y3283","v":0},{"$f":"'[6]Список изделий'!Z3283","v":0},{"$f":"'[6]Список изделий'!AA3283","v":0},{"$f":"'[6]Список изделий'!AB3283","v":0},{"$f":"'[6]Список изделий'!AC3283","v":"x"},{"$f":"'[6]Список изделий'!AD3283","v":0},{"$f":"'[6]Список изделий'!AE3283","v":0},{"$f":"'[6]Список изделий'!AF3283","v":"00:00:00"},{"$f":"'[6]Список изделий'!AY3283","v":0},{"$f":"'[6]Список изделий'!AZ3283","v":"00:00:00"},-43153,-43153,0,0,{"$f":"'[6]Список изделий'!BR3283","v":0},0]
[342,{"$f":"'[6]Список изделий'!D3365","v":42},{"$f":"'[6]Список изделий'!E3365","v":0},{"$f":"'[6]Список изделий'!F3365","v":0},{"$f":"'[6]Список изделий'!I3365","v":0},{"$f":"'[6]Список изделий'!X3365","v":0},{"$f":"'[6]Список изделий'!Y3365","v":0},{"$f":"'[6]Список изделий'!Z3365","v":0},{"$f":"'[6]Список изделий'!AA3365","v":0},{"$f":"'[6]Список изделий'!AB3365","v":0},{"$f":"'[6]Список изделий'!AC3365","v":"x"},{"$f":"'[6]Список изделий'!AD3365","v":0},{"$f":"'[6]Список изделий'!AE3365","v":0},{"$f":"'[6]Список изделий'!AF3365","v":"00:00:00"},{"$f":"'[6]Список изделий'!AY3365","v":0},{"$f":"'[6]Список изделий'!AZ3365","v":"00:00:00"},-43153,-43153,0,0,{"$f":"'[6]Список изделий'!BR3365","v":0},0]
[343,{"$f":"'[6]Список изделий'!D3447","v":43},{"$f":"'[6]Список изделий'!E3447","v":0},{"$f":"'[6]Список изделий'!F3447","v":0},{"$f":"'[6]Список изделий'!I3447","v":0},{"$f":"'[6]Список изделий'!X3447","v":0},{"$f":"'[6]Список изделий'!Y3447","v":0},{"$f":"'[6]Список изделий'!Z3447","v":0},{"$f":"'[6]Список изделий'!AA3447","v":0},{"$f":"'[6]Список изделий'!AB3447","v":0},{"$f":"'[6]Список изделий'!AC3447","v":"x"},{"$f":"'[6]Список изделий'!AD3447","v":0},{"$f":"'[6]Список изделий'!AE3447","v":0},{"$f":"'[6]Список изделий'!AF3447","v":"00:00:00"},{"$f":"'[6]Список изделий'!AY3447","v":0},{"$f":"'[6]Список изделий'!AZ3447","v":"00:00:00"},-43153,-43153,0,0,{"$f":"'[6]Список изделий'!BR3447","v":0},0]
[344,{"$f":"'[6]Список изделий'!D3529","v":44},{"$f":"'[6]Список изделий'!E3529","v":0},{"$f":"'[6]Список изделий'!F3529","v":0},{"$f":"'[6]Список изделий'!I3529","v":0},{"$f":"'[6]Список изделий'!X3529","v":0},{"$f":"'[6]Список изделий'!Y3529","v":0},{"$f":"'[6]Список изделий'!Z3529","v":0},{"$f":"'[6]Список изделий'!AA3529","v":0},{"$f":"'[6]Список изделий'!AB3529","v":0},{"$f":"'[6]Список изделий'!AC3529","v":"x"},{"$f":"'[6]Список изделий'!AD3529","v":0},{"$f":"'[6]Список изделий'!AE3529","v":0},{"$f":"'[6]Список изделий'!AF3529","v":"00:00:00"},{"$f":"'[6]Список изделий'!AY3529","v":0},{"$f":"'[6]Список изделий'!AZ3529","v":"00:00:00"},-43153,-43153,0,0,{"$f":"'[6]Список изделий'!BR3529","v":0},0]
[345,{"$f":"'[6]Список изделий'!D3611","v":45},{"$f":"'[6]Список изделий'!E3611","v":0},{"$f":"'[6]Список изделий'!F3611","v":0},{"$f":"'[6]Список изделий'!I3611","v":0},{"$f":"'[6]Список изделий'!X3611","v":0},{"$f":"'[6]Список изделий'!Y3611","v":0},{"$f":"'[6]Список изделий'!Z3611","v":0},{"$f":"'[6]Список изделий'!AA3611","v":0},{"$f":"'[6]Список изделий'!AB3611","v":0},{"$f":"'[6]Список изделий'!AC3611","v":"x"},{"$f":"'[6]Список изделий'!AD3611","v":0},{"$f":"'[6]Список изделий'!AE3611","v":0},{"$f":"'[6]Список изделий'!AF3611","v":"00:00:00"},{"$f":"'[6]Список изделий'!AY3611","v":0},{"$f":"'[6]Список изделий'!AZ3611","v":"00:00:00"},-43153,-43153,0,0,{"$f":"'[6]Список изделий'!BR3611","v":0},0]
[346,{"$f":"'[6]Список изделий'!D3693","v":46},{"$f":"'[6]Список изделий'!E3693","v":0},{"$f":"'[6]Список изделий'!F3693","v":0},{"$f":"'[6]Список изделий'!I3693","v":0},{"$f":"'[6]Список изделий'!X3693","v":0},{"$f":"'[6]Список изделий'!Y3693","v":0},{"$f":"'[6]Список изделий'!Z3693","v":0},{"$f":"'[6]Список изделий'!AA3693","v":0},{"$f":"'[6]Список изделий'!AB3693","v":0},{"$f":"'[6]Список изделий'!AC3693","v":"x"},{"$f":"'[6]Список изделий'!AD3693","v":0},{"$f":"'[6]Список изделий'!AE3693","v":0},{"$f":"'[6]Список изделий'!AF3693","v":"00:00:00"},{"$f":"'[6]Список изделий'!AY3693","v":0},{"$f":"'[6]Список изделий'!AZ3693","v":"00:00:00"},-43153,-43153,0,0,{"$f":"'[6]Список изделий'!BR3693","v":0},0]
[347,{"$f":"'[6]Список изделий'!D3775","v":47},{"$f":"'[6]Список изделий'!E3775","v":0},{"$f":"'[6]Список изделий'!F3775","v":0},{"$f":"'[6]Список изделий'!I3775","v":0},{"$f":"'[6]Список изделий'!X3775","v":0},{"$f":"'[6]Список изделий'!Y3775","v":0},{"$f":"'[6]Список изделий'!Z3775","v":0},{"$f":"'[6]Список изделий'!AA3775","v":0},{"$f":"'[6]Список изделий'!AB3775","v":0},{"$f":"'[6]Список изделий'!AC3775","v":"x"},{"$f":"'[6]Список изделий'!AD3775","v":0},{"$f":"'[6]Список изделий'!AE3775","v":0},{"$f":"'[6]Список изделий'!AF3775","v":"00:00:00"},{"$f":"'[6]Список изделий'!AY3775","v":0},{"$f":"'[6]Список изделий'!AZ3775","v":"00:00:00"},-43153,-43153,0,0,{"$f":"'[6]Список изделий'!BR3775","v":0},0]
[348,{"$f":"'[6]Список изделий'!D3857","v":48},{"$f":"'[6]Список изделий'!E3857","v":0},{"$f":"'[6]Список изделий'!F3857","v":0},{"$f":"'[6]Список изделий'!I3857","v":0},{"$f":"'[6]Список изделий'!X3857","v":0},{"$f":"'[6]Список изделий'!Y3857","v":0},{"$f":"'[6]Список изделий'!Z3857","v":0},{"$f":"'[6]Список изделий'!AA3857","v":0},{"$f":"'[6]Список изделий'!AB3857","v":0},{"$f":"'[6]Список изделий'!AC3857","v":"x"},{"$f":"'[6]Список изделий'!AD3857","v":0},{"$f":"'[6]Список изделий'!AE3857","v":0},{"$f":"'[6]Список изделий'!AF3857","v":"00:00:00"},{"$f":"'[6]Список изделий'!AY3857","v":0},{"$f":"'[6]Список изделий'!AZ3857","v":"00:00:00"},-43153,-43153,0,0,{"$f":"'[6]Список изделий'!BR3857","v":0},0]
[349,{"$f":"'[6]Список изделий'!D3939","v":49},{"$f":"'[6]Список изделий'!E3939","v":0},{"$f":"'[6]Список изделий'!F3939","v":0},{"$f":"'[6]Список изделий'!I3939","v":0},{"$f":"'[6]Список изделий'!X3939","v":0},{"$f":"'[6]Список изделий'!Y3939","v":0},{"$f":"'[6]Список изделий'!Z3939","v":0},{"$f":"'[6]Список изделий'!AA3939","v":0},{"$f":"'[6]Список изделий'!AB3939","v":0},{"$f":"'[6]Список изделий'!AC3939","v":"x"},{"$f":"'[6]Список изделий'!AD3939","v":0},{"$f":"'[6]Список изделий'!AE3939","v":0},{"$f":"'[6]Список изделий'!AF3939","v":"00:00:00"},{"$f":"'[6]Список изделий'!AY3939","v":0},{"$f":"'[6]Список изделий'!AZ3939","v":"00:00:00"},-43153,-43153,0,0,{"$f":"'[6]Список изделий'!BR3939","v":0},0]
[350,{"$f":"'[6]Список изделий'!D4021","v":50},{"$f":"'[6]Список изделий'!E4021","v":0},{"$f":"'[6]Список изделий'!F4021","v":0},{"$f":"'[6]Список изделий'!I4021","v":0},{"$f":"'[6]Список изделий'!X4021","v":0},{"$f":"'[6]Список изделий'!Y4021","v":0},{"$f":"'[6]Список изделий'!Z4021","v":0},{"$f":"'[6]Список изделий'!AA4021","v":0},{"$f":"'[6]Список изделий'!AB4021","v":0},{"$f":"'[6]Список изделий'!AC4021","v":"x"},{"$f":"'[6]Список изделий'!AD4021","v":0},{"$f":"'[6]Список изделий'!AE4021","v":0},{"$f":"'[6]Список изделий'!AF4021","v":"00:00:00"},{"$f":"'[6]Список изделий'!AY4021","v":0},{"$f":"'[6]Список изделий'!AZ4021","v":"00:00:00"},-43153,-43153,0,0,{"$f":"'[6]Список изделий'!BR4021","v":0},0]
[351,{"$f":"'[6]Список изделий'!D4103","v":51},{"$f":"'[6]Список изделий'!E4103","v":0},{"$f":"'[6]Список изделий'!F4103","v":0},{"$f":"'[6]Список изделий'!I4103","v":0},{"$f":"'[6]Список изделий'!X4103","v":0},{"$f":"'[6]Список изделий'!Y4103","v":0},{"$f":"'[6]Список изделий'!Z4103","v":0},{"$f":"'[6]Список изделий'!AA4103","v":0},{"$f":"'[6]Список изделий'!AB4103","v":0},{"$f":"'[6]Список изделий'!AC4103","v":"x"},{"$f":"'[6]Список изделий'!AD4103","v":0},{"$f":"'[6]Список изделий'!AE4103","v":0},{"$f":"'[6]Список изделий'!AF4103","v":"00:00:00"},{"$f":"'[6]Список изделий'!AY4103","v":0},{"$f":"'[6]Список изделий'!AZ4103","v":"00:00:00"},-43153,-43153,0,0,{"$f":"'[6]Список изделий'!BR4103","v":0},0]
[352,{"$f":"'[6]Список изделий'!D4185","v":52},{"$f":"'[6]Список изделий'!E4185","v":0},{"$f":"'[6]Список изделий'!F4185","v":0},{"$f":"'[6]Список изделий'!I4185","v":0},{"$f":"'[6]Список изделий'!X4185","v":0},{"$f":"'[6]Список изделий'!Y4185","v":0},{"$f":"'[6]Список изделий'!Z4185","v":0},{"$f":"'[6]Список изделий'!AA4185","v":0},{"$f":"'[6]Список изделий'!AB4185","v":0},{"$f":"'[6]Список изделий'!AC4185","v":"x"},{"$f":"'[6]Список изделий'!AD4185","v":0},{"$f":"'[6]Список изделий'!AE4185","v":0},{"$f":"'[6]Список изделий'!AF4185","v":"00:00:00"},{"$f":"'[6]Список изделий'!AY4185","v":0},{"$f":"'[6]Список изделий'!AZ4185","v":"00:00:00"},-43153,-43153,0,0,{"$f":"'[6]Список изделий'!BR4185","v":0},0]
[353,{"$f":"'[6]Список изделий'!D4267","v":53},{"$f":"'[6]Список изделий'!E4267","v":0},{"$f":"'[6]Список изделий'!F4267","v":0},{"$f":"'[6]Список изделий'!I4267","v":0},{"$f":"'[6]Список изделий'!X4267","v":0},{"$f":"'[6]Список изделий'!Y4267","v":0},{"$f":"'[6]Список изделий'!Z4267","v":0},{"$f":"'[6]Список изделий'!AA4267","v":0},{"$f":"'[6]Список изделий'!AB4267","v":0},{"$f":"'[6]Список изделий'!AC4267","v":"x"},{"$f":"'[6]Список изделий'!AD4267","v":0},{"$f":"'[6]Список изделий'!AE4267","v":0},{"$f":"'[6]Список изделий'!AF4267","v":"00:00:00"},{"$f":"'[6]Список изделий'!AY4267","v":0},{"$f":"'[6]Список изделий'!AZ4267","v":"00:00:00"},-43153,-43153,0,0,{"$f":"'[6]Список изделий'!BR4267","v":0},0]
[354,{"$f":"'[6]Список изделий'!D4349","v":54},{"$f":"'[6]Список изделий'!E4349","v":0},{"$f":"'[6]Список изделий'!F4349","v":0},{"$f":"'[6]Список изделий'!I4349","v":0},{"$f":"'[6]Список изделий'!X4349","v":0},{"$f":"'[6]Список изделий'!Y4349","v":0},{"$f":"'[6]Список изделий'!Z4349","v":0},{"$f":"'[6]Список изделий'!AA4349","v":0},{"$f":"'[6]Список изделий'!AB4349","v":0},{"$f":"'[6]Список изделий'!AC4349","v":"x"},{"$f":"'[6]Список изделий'!AD4349","v":0},{"$f":"'[6]Список изделий'!AE4349","v":0},{"$f":"'[6]Список изделий'!AF4349","v":"00:00:00"},{"$f":"'[6]Список изделий'!AY4349","v":0},{"$f":"'[6]Список изделий'!AZ4349","v":"00:00:00"},-43153,-43153,0,0,{"$f":"'[6]Список изделий'!BR4349","v":0},0]
[355,{"$f":"'[6]Список изделий'!D4431","v":55},{"$f":"'[6]Список изделий'!E4431","v":0},{"$f":"'[6]Список изделий'!F4431","v":0},{"$f":"'[6]Список изделий'!I4431","v":0},{"$f":"'[6]Список изделий'!X4431","v":0},{"$f":"'[6]Список изделий'!Y4431","v":0},{"$f":"'[6]Список изделий'!Z4431","v":0},{"$f":"'[6]Список изделий'!AA4431","v":0},{"$f":"'[6]Список изделий'!AB4431","v":0},{"$f":"'[6]Список изделий'!AC4431","v":"x"},{"$f":"'[6]Список изделий'!AD4431","v":0},{"$f":"'[6]Список изделий'!AE4431","v":0},{"$f":"'[6]Список изделий'!AF4431","v":"00:00:00"},{"$f":"'[6]Список изделий'!AY4431","v":0},{"$f":"'[6]Список изделий'!AZ4431","v":"00:00:00"},-43153,-43153,0,0,{"$f":"'[6]Список изделий'!BR4431","v":0},0]
[356,{"$f":"'[6]Список изделий'!D4513","v":56},{"$f":"'[6]Список изделий'!E4513","v":0},{"$f":"'[6]Список изделий'!F4513","v":0},{"$f":"'[6]Список изделий'!I4513","v":0},{"$f":"'[6]Список изделий'!X4513","v":0},{"$f":"'[6]Список изделий'!Y4513","v":0},{"$f":"'[6]Список изделий'!Z4513","v":0},{"$f":"'[6]Список изделий'!AA4513","v":0},{"$f":"'[6]Список изделий'!AB4513","v":0},{"$f":"'[6]Список изделий'!AC4513","v":"x"},{"$f":"'[6]Список изделий'!AD4513","v":0},{"$f":"'[6]Список изделий'!AE4513","v":0},{"$f":"'[6]Список изделий'!AF4513","v":"00:00:00"},{"$f":"'[6]Список изделий'!AY4513","v":0},{"$f":"'[6]Список изделий'!AZ4513","v":"00:00:00"},-43153,-43153,0,0,{"$f":"'[6]Список изделий'!BR4513","v":0},0]
[357,{"$f":"'[6]Список изделий'!D4595","v":57},{"$f":"'[6]Список изделий'!E4595","v":0},{"$f":"'[6]Список изделий'!F4595","v":0},{"$f":"'[6]Список изделий'!I4595","v":0},{"$f":"'[6]Список изделий'!X4595","v":0},{"$f":"'[6]Список изделий'!Y4595","v":0},{"$f":"'[6]Список изделий'!Z4595","v":0},{"$f":"'[6]Список изделий'!AA4595","v":0},{"$f":"'[6]Список изделий'!AB4595","v":0},{"$f":"'[6]Список изделий'!AC4595","v":"x"},{"$f":"'[6]Список изделий'!AD4595","v":0},{"$f":"'[6]Список изделий'!AE4595","v":0},{"$f":"'[6]Список изделий'!AF4595","v":"00:00:00"},{"$f":"'[6]Список изделий'!AY4595","v":0},{"$f":"'[6]Список изделий'!AZ4595","v":"00:00:00"},-43153,-43153,0,0,{"$f":"'[6]Список изделий'!BR4595","v":0},0]
[358,{"$f":"'[6]Список изделий'!D4677","v":58},{"$f":"'[6]Список изделий'!E4677","v":0},{"$f":"'[6]Список изделий'!F4677","v":0},{"$f":"'[6]Список изделий'!I4677","v":0},{"$f":"'[6]Список изделий'!X4677","v":0},{"$f":"'[6]Список изделий'!Y4677","v":0},{"$f":"'[6]Список изделий'!Z4677","v":0},{"$f":"'[6]Список изделий'!AA4677","v":0},{"$f":"'[6]Список изделий'!AB4677","v":0},{"$f":"'[6]Список изделий'!AC4677","v":"x"},{"$f":"'[6]Список изделий'!AD4677","v":0},{"$f":"'[6]Список изделий'!AE4677","v":0},{"$f":"'[6]Список изделий'!AF4677","v":"00:00:00"},{"$f":"'[6]Список изделий'!AY4677","v":0},{"$f":"'[6]Список изделий'!AZ4677","v":"00:00:00"},-43153,-43153,0,0,{"$f":"'[6]Список изделий'!BR4677","v":0},0]
[359,{"$f":"'[6]Список изделий'!D4759","v":59},{"$f":"'[6]Список изделий'!E4759","v":0},{"$f":"'[6]Список изделий'!F4759","v":0},{"$f":"'[6]Список изделий'!I4759","v":0},{"$f":"'[6]Список изделий'!X4759","v":0},{"$f":"'[6]Список изделий'!Y4759","v":0},{"$f":"'[6]Список изделий'!Z4759","v":0},{"$f":"'[6]Список изделий'!AA4759","v":0},{"$f":"'[6]Список изделий'!AB4759","v":0},{"$f":"'[6]Список изделий'!AC4759","v":"x"},{"$f":"'[6]Список изделий'!AD4759","v":0},{"$f":"'[6]Список изделий'!AE4759","v":0},{"$f":"'[6]Список изделий'!AF4759","v":"00:00:00"},{"$f":"'[6]Список изделий'!AY4759","v":0},{"$f":"'[6]Список изделий'!AZ4759","v":"00:00:00"},-43153,-43153,0,0,{"$f":"'[6]Список изделий'!BR4759","v":0},0]
[360,{"$f":"'[6]Список изделий'!D4841","v":60},{"$f":"'[6]Список изделий'!E4841","v":0},{"$f":"'[6]Список изделий'!F4841","v":0},{"$f":"'[6]Список изделий'!I4841","v":0},{"$f":"'[6]Список изделий'!X4841","v":0},{"$f":"'[6]Список изделий'!Y4841","v":0},{"$f":"'[6]Список изделий'!Z4841","v":0},{"$f":"'[6]Список изделий'!AA4841","v":0},{"$f":"'[6]Список изделий'!AB4841","v":0},{"$f":"'[6]Список изделий'!AC4841","v":"x"},{"$f":"'[6]Список изделий'!AD4841","v":0},{"$f":"'[6]Список изделий'!AE4841","v":0},{"$f":"'[6]Список изделий'!AF4841","v":"00:00:00"},{"$f":"'[6]Список изделий'!AY4841","v":0},{"$f":"'[6]Список изделий'!AZ4841","v":"00:00:00"},-43153,-43153,0,0,{"$f":"'[6]Список изделий'!BR4841","v":0},0]
[361,{"$f":"'[6]Список изделий'!D4923","v":61},{"$f":"'[6]Список изделий'!E4923","v":0},{"$f":"'[6]Список изделий'!F4923","v":0},{"$f":"'[6]Список изделий'!I4923","v":0},{"$f":"'[6]Список изделий'!X4923","v":0},{"$f":"'[6]Список изделий'!Y4923","v":0},{"$f":"'[6]Список изделий'!Z4923","v":0},{"$f":"'[6]Список изделий'!AA4923","v":0},{"$f":"'[6]Список изделий'!AB4923","v":0},{"$f":"'[6]Список изделий'!AC4923","v":"x"},{"$f":"'[6]Список изделий'!AD4923","v":0},{"$f":"'[6]Список изделий'!AE4923","v":0},{"$f":"'[6]Список изделий'!AF4923","v":"00:00:00"},{"$f":"'[6]Список изделий'!AY4923","v":0},{"$f":"'[6]Список изделий'!AZ4923","v":"00:00:00"},-43153,-43153,0,0,{"$f":"'[6]Список изделий'!BR4923","v":0},0]
[362,{"$f":"'[6]Список изделий'!D5005","v":62},{"$f":"'[6]Список изделий'!E5005","v":0},{"$f":"'[6]Список изделий'!F5005","v":0},{"$f":"'[6]Список изделий'!I5005","v":0},{"$f":"'[6]Список изделий'!X5005","v":0},{"$f":"'[6]Список изделий'!Y5005","v":0},{"$f":"'[6]Список изделий'!Z5005","v":0},{"$f":"'[6]Список изделий'!AA5005","v":0},{"$f":"'[6]Список изделий'!AB5005","v":0},{"$f":"'[6]Список изделий'!AC5005","v":"x"},{"$f":"'[6]Список изделий'!AD5005","v":0},{"$f":"'[6]Список изделий'!AE5005","v":0},{"$f":"'[6]Список изделий'!AF5005","v":"00:00:00"},{"$f":"'[6]Список изделий'!AY5005","v":0},{"$f":"'[6]Список изделий'!AZ5005","v":"00:00:00"},-43153,-43153,0,0,{"$f":"'[6]Список изделий'!BR5005","v":0},0]
[363,{"$f":"'[6]Список изделий'!D5087","v":63},{"$f":"'[6]Список изделий'!E5087","v":0},{"$f":"'[6]Список изделий'!F5087","v":0},{"$f":"'[6]Список изделий'!I5087","v":0},{"$f":"'[6]Список изделий'!X5087","v":0},{"$f":"'[6]Список изделий'!Y5087","v":0},{"$f":"'[6]Список изделий'!Z5087","v":0},{"$f":"'[6]Список изделий'!AA5087","v":0},{"$f":"'[6]Список изделий'!AB5087","v":0},{"$f":"'[6]Список изделий'!AC5087","v":"x"},{"$f":"'[6]Список изделий'!AD5087","v":0},{"$f":"'[6]Список изделий'!AE5087","v":0},{"$f":"'[6]Список изделий'!AF5087","v":"00:00:00"},{"$f":"'[6]Список изделий'!AY5087","v":0},{"$f":"'[6]Список изделий'!AZ5087","v":"00:00:00"},-43153,-43153,0,0,{"$f":"'[6]Список изделий'!BR5087","v":0},0]
[364,{"$f":"'[6]Список изделий'!D5169","v":64},{"$f":"'[6]Список изделий'!E5169","v":0},{"$f":"'[6]Список изделий'!F5169","v":0},{"$f":"'[6]Список изделий'!I5169","v":0},{"$f":"'[6]Список изделий'!X5169","v":0},{"$f":"'[6]Список изделий'!Y5169","v":0},{"$f":"'[6]Список изделий'!Z5169","v":0},{"$f":"'[6]Список изделий'!AA5169","v":0},{"$f":"'[6]Список изделий'!AB5169","v":0},{"$f":"'[6]Список изделий'!AC5169","v":"x"},{"$f":"'[6]Список изделий'!AD5169","v":0},{"$f":"'[6]Список изделий'!AE5169","v":0},{"$f":"'[6]Список изделий'!AF5169","v":"00:00:00"},{"$f":"'[6]Список изделий'!AY5169","v":0},{"$f":"'[6]Список изделий'!AZ5169","v":"00:00:00"},-43153,-43153,0,0,{"$f":"'[6]Список изделий'!BR5169","v":0},0]
[365,{"$f":"'[6]Список изделий'!D5251","v":65},{"$f":"'[6]Список изделий'!E5251","v":0},{"$f":"'[6]Список изделий'!F5251","v":0},{"$f":"'[6]Список изделий'!I5251","v":0},{"$f":"'[6]Список изделий'!X5251","v":0},{"$f":"'[6]Список изделий'!Y5251","v":0},{"$f":"'[6]Список изделий'!Z5251","v":0},{"$f":"'[6]Список изделий'!AA5251","v":0},{"$f":"'[6]Список изделий'!AB5251","v":0},{"$f":"'[6]Список изделий'!AC5251","v":"x"},{"$f":"'[6]Список изделий'!AD5251","v":0},{"$f":"'[6]Список изделий'!AE5251","v":0},{"$f":"'[6]Список изделий'!AF5251","v":"00:00:00"},{"$f":"'[6]Список изделий'!AY5251","v":0},{"$f":"'[6]Список изделий'!AZ5251","v":"00:00:00"},-43153,-43153,0,0,{"$f":"'[6]Список изделий'!BR5251","v":0},0]
[366,{"$f":"'[6]Список изделий'!D5333","v":66},{"$f":"'[6]Список изделий'!E5333","v":0},{"$f":"'[6]Список изделий'!F5333","v":0},{"$f":"'[6]Список изделий'!I5333","v":0},{"$f":"'[6]Список изделий'!X5333","v":0},{"$f":"'[6]Список изделий'!Y5333","v":0},{"$f":"'[6]Список изделий'!Z5333","v":0},{"$f":"'[6]Список изделий'!AA5333","v":0},{"$f":"'[6]Список изделий'!AB5333","v":0},{"$f":"'[6]Список изделий'!AC5333","v":"x"},{"$f":"'[6]Список изделий'!AD5333","v":0},{"$f":"'[6]Список изделий'!AE5333","v":0},{"$f":"'[6]Список изделий'!AF5333","v":"00:00:00"},{"$f":"'[6]Список изделий'!AY5333","v":0},{"$f":"'[6]Список изделий'!AZ5333","v":"00:00:00"},-43153,-43153,0,0,{"$f":"'[6]Список изделий'!BR5333","v":0},0]
[367,{"$f":"'[6]Список изделий'!D5415","v":67},{"$f":"'[6]Список изделий'!E5415","v":0},{"$f":"'[6]Список изделий'!F5415","v":0},{"$f":"'[6]Список изделий'!I5415","v":0},{"$f":"'[6]Список изделий'!X5415","v":0},{"$f":"'[6]Список изделий'!Y5415","v":0},{"$f":"'[6]Список изделий'!Z5415","v":0},{"$f":"'[6]Список изделий'!AA5415","v":0},{"$f":"'[6]Список изделий'!AB5415","v":0},{"$f":"'[6]Список изделий'!AC5415","v":"x"},{"$f":"'[6]Список изделий'!AD5415","v":0},{"$f":"'[6]Список изделий'!AE5415","v":0},{"$f":"'[6]Список изделий'!AF5415","v":"00:00:00"},{"$f":"'[6]Список изделий'!AY5415","v":0},{"$f":"'[6]Список изделий'!AZ5415","v":"00:00:00"},-43153,-43153,0,0,{"$f":"'[6]Список изделий'!BR5415","v":0},0]
[368,{"$f":"'[6]Список изделий'!D5497","v":68},{"$f":"'[6]Список изделий'!E5497","v":0},{"$f":"'[6]Список изделий'!F5497","v":0},{"$f":"'[6]Список изделий'!I5497","v":0},{"$f":"'[6]Список изделий'!X5497","v":0},{"$f":"'[6]Список изделий'!Y5497","v":0},{"$f":"'[6]Список изделий'!Z5497","v":0},{"$f":"'[6]Список изделий'!AA5497","v":0},{"$f":"'[6]Список изделий'!AB5497","v":0},{"$f":"'[6]Список изделий'!AC5497","v":"x"},{"$f":"'[6]Список изделий'!AD5497","v":0},{"$f":"'[6]Список изделий'!AE5497","v":0},{"$f":"'[6]Список изделий'!AF5497","v":"00:00:00"},{"$f":"'[6]Список изделий'!AY5497","v":0},{"$f":"'[6]Список изделий'!AZ5497","v":"00:00:00"},-43153,-43153,0,0,{"$f":"'[6]Список изделий'!BR5497","v":0},0]
[369,{"$f":"'[6]Список изделий'!D5579","v":69},{"$f":"'[6]Список изделий'!E5579","v":0},{"$f":"'[6]Список изделий'!F5579","v":0},{"$f":"'[6]Список изделий'!I5579","v":0},{"$f":"'[6]Список изделий'!X5579","v":0},{"$f":"'[6]Список изделий'!Y5579","v":0},{"$f":"'[6]Список изделий'!Z5579","v":0},{"$f":"'[6]Список изделий'!AA5579","v":0},{"$f":"'[6]Список изделий'!AB5579","v":0},{"$f":"'[6]Список изделий'!AC5579","v":"x"},{"$f":"'[6]Список изделий'!AD5579","v":0},{"$f":"'[6]Список изделий'!AE5579","v":0},{"$f":"'[6]Список изделий'!AF5579","v":"00:00:00"},{"$f":"'[6]Список изделий'!AY5579","v":0},{"$f":"'[6]Список изделий'!AZ5579","v":"00:00:00"},-43153,-43153,0,0,{"$f":"'[6]Список изделий'!BR5579","v":0},0]
[370,{"$f":"'[6]Список изделий'!D5661","v":70},{"$f":"'[6]Список изделий'!E5661","v":0},{"$f":"'[6]Список изделий'!F5661","v":0},{"$f":"'[6]Список изделий'!I5661","v":0},{"$f":"'[6]Список изделий'!X5661","v":0},{"$f":"'[6]Список изделий'!Y5661","v":0},{"$f":"'[6]Список изделий'!Z5661","v":0},{"$f":"'[6]Список изделий'!AA5661","v":0},{"$f":"'[6]Список изделий'!AB5661","v":0},{"$f":"'[6]Список изделий'!AC5661","v":"x"},{"$f":"'[6]Список изделий'!AD5661","v":0},{"$f":"'[6]Список изделий'!AE5661","v":0},{"$f":"'[6]Список изделий'!AF5661","v":"00:00:00"},{"$f":"'[6]Список изделий'!AY5661","v":0},{"$f":"'[6]Список изделий'!AZ5661","v":"00:00:00"},-43153,-43153,0,0,{"$f":"'[6]Список изделий'!BR5661","v":0},0]
[371,{"$f":"'[6]Список изделий'!D5743","v":71},{"$f":"'[6]Список изделий'!E5743","v":0},{"$f":"'[6]Список изделий'!F5743","v":0},{"$f":"'[6]Список изделий'!I5743","v":0},{"$f":"'[6]Список изделий'!X5743","v":0},{"$f":"'[6]Список изделий'!Y5743","v":0},{"$f":"'[6]Список изделий'!Z5743","v":0},{"$f":"'[6]Список изделий'!AA5743","v":0},{"$f":"'[6]Список изделий'!AB5743","v":0},{"$f":"'[6]Список изделий'!AC5743","v":"x"},{"$f":"'[6]Список изделий'!AD5743","v":0},{"$f":"'[6]Список изделий'!AE5743","v":0},{"$f":"'[6]Список изделий'!AF5743","v":"00:00:00"},{"$f":"'[6]Список изделий'!AY5743","v":0},{"$f":"'[6]Список изделий'!AZ5743","v":"00:00:00"},-43153,-43153,0,0,{"$f":"'[6]Список изделий'!BR5743","v":0},0]
[372,{"$f":"'[6]Список изделий'!D5825","v":72},{"$f":"'[6]Список изделий'!E5825","v":0},{"$f":"'[6]Список изделий'!F5825","v":0},{"$f":"'[6]Список изделий'!I5825","v":0},{"$f":"'[6]Список изделий'!X5825","v":0},{"$f":"'[6]Список изделий'!Y5825","v":0},{"$f":"'[6]Список изделий'!Z5825","v":0},{"$f":"'[6]Список изделий'!AA5825","v":0},{"$f":"'[6]Список изделий'!AB5825","v":0},{"$f":"'[6]Список изделий'!AC5825","v":"x"},{"$f":"'[6]Список изделий'!AD5825","v":0},{"$f":"'[6]Список изделий'!AE5825","v":0},{"$f":"'[6]Список изделий'!AF5825","v":"00:00:00"},{"$f":"'[6]Список изделий'!AY5825","v":0},{"$f":"'[6]Список изделий'!AZ5825","v":"00:00:00"},-43153,-43153,0,0,{"$f":"'[6]Список изделий'!BR5825","v":0},0]
[373,{"$f":"'[6]Список изделий'!D5907","v":73},{"$f":"'[6]Список изделий'!E5907","v":0},{"$f":"'[6]Список изделий'!F5907","v":0},{"$f":"'[6]Список изделий'!I5907","v":0},{"$f":"'[6]Список изделий'!X5907","v":0},{"$f":"'[6]Список изделий'!Y5907","v":0},{"$f":"'[6]Список изделий'!Z5907","v":0},{"$f":"'[6]Список изделий'!AA5907","v":0},{"$f":"'[6]Список изделий'!AB5907","v":0},{"$f":"'[6]Список изделий'!AC5907","v":"x"},{"$f":"'[6]Список изделий'!AD5907","v":0},{"$f":"'[6]Список изделий'!AE5907","v":0},{"$f":"'[6]Список изделий'!AF5907","v":"00:00:00"},{"$f":"'[6]Список изделий'!AY5907","v":0},{"$f":"'[6]Список изделий'!AZ5907","v":"00:00:00"},-43153,-43153,0,0,{"$f":"'[6]Список изделий'!BR5907","v":0},0]
[374,{"$f":"'[6]Список изделий'!D5989","v":74},{"$f":"'[6]Список изделий'!E5989","v":0},{"$f":"'[6]Список изделий'!F5989","v":0},{"$f":"'[6]Список изделий'!I5989","v":0},{"$f":"'[6]Список изделий'!X5989","v":0},{"$f":"'[6]Список изделий'!Y5989","v":0},{"$f":"'[6]Список изделий'!Z5989","v":0},{"$f":"'[6]Список изделий'!AA5989","v":0},{"$f":"'[6]Список изделий'!AB5989","v":0},{"$f":"'[6]Список изделий'!AC5989","v":"x"},{"$f":"'[6]Список изделий'!AD5989","v":0},{"$f":"'[6]Список изделий'!AE5989","v":0},{"$f":"'[6]Список изделий'!AF5989","v":"00:00:00"},{"$f":"'[6]Список изделий'!AY5989","v":0},{"$f":"'[6]Список изделий'!AZ5989","v":"00:00:00"},-43153,-43153,0,0,{"$f":"'[6]Список изделий'!BR5989","v":0},0]
[375,{"$f":"'[6]Список изделий'!D6071","v":75},{"$f":"'[6]Список изделий'!E6071","v":0},{"$f":"'[6]Список изделий'!F6071","v":0},{"$f":"'[6]Список изделий'!I6071","v":0},{"$f":"'[6]Список изделий'!X6071","v":0},{"$f":"'[6]Список изделий'!Y6071","v":0},{"$f":"'[6]Список изделий'!Z6071","v":0},{"$f":"'[6]Список изделий'!AA6071","v":0},{"$f":"'[6]Список изделий'!AB6071","v":0},{"$f":"'[6]Список изделий'!AC6071","v":"x"},{"$f":"'[6]Список изделий'!AD6071","v":0},{"$f":"'[6]Список изделий'!AE6071","v":0},{"$f":"'[6]Список изделий'!AF6071","v":"00:00:00"},{"$f":"'[6]Список изделий'!AY6071","v":0},{"$f":"'[6]Список изделий'!AZ6071","v":"00:00:00"},-43153,-43153,0,0,{"$f":"'[6]Список изделий'!BR6071","v":0},0]
[376,{"$f":"'[6]Список изделий'!D6153","v":76},{"$f":"'[6]Список изделий'!E6153","v":0},{"$f":"'[6]Список изделий'!F6153","v":0},{"$f":"'[6]Список изделий'!I6153","v":0},{"$f":"'[6]Список изделий'!X6153","v":0},{"$f":"'[6]Список изделий'!Y6153","v":0},{"$f":"'[6]Список изделий'!Z6153","v":0},{"$f":"'[6]Список изделий'!AA6153","v":0},{"$f":"'[6]Список изделий'!AB6153","v":0},{"$f":"'[6]Список изделий'!AC6153","v":"x"},{"$f":"'[6]Список изделий'!AD6153","v":0},{"$f":"'[6]Список изделий'!AE6153","v":0},{"$f":"'[6]Список изделий'!AF6153","v":"00:00:00"},{"$f":"'[6]Список изделий'!AY6153","v":0},{"$f":"'[6]Список изделий'!AZ6153","v":"00:00:00"},-43153,-43153,0,0,{"$f":"'[6]Список изделий'!BR6153","v":0},0]
[377,{"$f":"'[6]Список изделий'!D6235","v":77},{"$f":"'[6]Список изделий'!E6235","v":0},{"$f":"'[6]Список изделий'!F6235","v":0},{"$f":"'[6]Список изделий'!I6235","v":0},{"$f":"'[6]Список изделий'!X6235","v":0},{"$f":"'[6]Список изделий'!Y6235","v":0},{"$f":"'[6]Список изделий'!Z6235","v":0},{"$f":"'[6]Список изделий'!AA6235","v":0},{"$f":"'[6]Список изделий'!AB6235","v":0},{"$f":"'[6]Список изделий'!AC6235","v":"x"},{"$f":"'[6]Список изделий'!AD6235","v":0},{"$f":"'[6]Список изделий'!AE6235","v":0},{"$f":"'[6]Список изделий'!AF6235","v":"00:00:00"},{"$f":"'[6]Список изделий'!AY6235","v":0},{"$f":"'[6]Список изделий'!AZ6235","v":"00:00:00"},-43153,-43153,0,0,{"$f":"'[6]Список изделий'!BR6235","v":0},0]
[378,{"$f":"'[6]Список изделий'!D6317","v":78},{"$f":"'[6]Список изделий'!E6317","v":0},{"$f":"'[6]Список изделий'!F6317","v":0},{"$f":"'[6]Список изделий'!I6317","v":0},{"$f":"'[6]Список изделий'!X6317","v":0},{"$f":"'[6]Список изделий'!Y6317","v":0},{"$f":"'[6]Список изделий'!Z6317","v":0},{"$f":"'[6]Список изделий'!AA6317","v":0},{"$f":"'[6]Список изделий'!AB6317","v":0},{"$f":"'[6]Список изделий'!AC6317","v":"x"},{"$f":"'[6]Список изделий'!AD6317","v":0},{"$f":"'[6]Список изделий'!AE6317","v":0},{"$f":"'[6]Список изделий'!AF6317","v":"00:00:00"},{"$f":"'[6]Список изделий'!AY6317","v":0},{"$f":"'[6]Список изделий'!AZ6317","v":"00:00:00"},-43153,-43153,0,0,{"$f":"'[6]Список изделий'!BR6317","v":0},0]
[379,{"$f":"'[6]Список изделий'!D6399","v":79},{"$f":"'[6]Список изделий'!E6399","v":0},{"$f":"'[6]Список изделий'!F6399","v":0},{"$f":"'[6]Список изделий'!I6399","v":0},{"$f":"'[6]Список изделий'!X6399","v":0},{"$f":"'[6]Список изделий'!Y6399","v":0},{"$f":"'[6]Список изделий'!Z6399","v":0},{"$f":"'[6]Список изделий'!AA6399","v":0},{"$f":"'[6]Список изделий'!AB6399","v":0},{"$f":"'[6]Список изделий'!AC6399","v":"x"},{"$f":"'[6]Список изделий'!AD6399","v":0},{"$f":"'[6]Список изделий'!AE6399","v":0},{"$f":"'[6]Список изделий'!AF6399","v":"00:00:00"},{"$f":"'[6]Список изделий'!AY6399","v":0},{"$f":"'[6]Список изделий'!AZ6399","v":"00:00:00"},-43153,-43153,0,0,{"$f":"'[6]Список изделий'!BR6399","v":0},0]
[380,{"$f":"'[6]Список изделий'!D6481","v":80},{"$f":"'[6]Список изделий'!E6481","v":0},{"$f":"'[6]Список изделий'!F6481","v":0},{"$f":"'[6]Список изделий'!I6481","v":0},{"$f":"'[6]Список изделий'!X6481","v":0},{"$f":"'[6]Список изделий'!Y6481","v":0},{"$f":"'[6]Список изделий'!Z6481","v":0},{"$f":"'[6]Список изделий'!AA6481","v":0},{"$f":"'[6]Список изделий'!AB6481","v":0},{"$f":"'[6]Список изделий'!AC6481","v":"x"},{"$f":"'[6]Список изделий'!AD6481","v":0},{"$f":"'[6]Список изделий'!AE6481","v":0},{"$f":"'[6]Список изделий'!AF6481","v":"00:00:00"},{"$f":"'[6]Список изделий'!AY6481","v":0},{"$f":"'[6]Список изделий'!AZ6481","v":"00:00:00"},-43153,-43153,0,0,{"$f":"'[6]Список изделий'!BR6481","v":0},0,"\\\\SERVER\\Data1\\П\\Перекресток\\2018\\Энергетиков 8\\техничка\\03-Световые_вывески_отделов"]
[381,{"$f":"'[6]Список изделий'!D6563","v":81},{"$f":"'[6]Список изделий'!E6563","v":0},{"$f":"'[6]Список изделий'!F6563","v":0},{"$f":"'[6]Список изделий'!I6563","v":0},{"$f":"'[6]Список изделий'!X6563","v":0},{"$f":"'[6]Список изделий'!Y6563","v":0},{"$f":"'[6]Список изделий'!Z6563","v":0},{"$f":"'[6]Список изделий'!AA6563","v":0},{"$f":"'[6]Список изделий'!AB6563","v":0},{"$f":"'[6]Список изделий'!AC6563","v":"x"},{"$f":"'[6]Список изделий'!AD6563","v":0},{"$f":"'[6]Список изделий'!AE6563","v":0},{"$f":"'[6]Список изделий'!AF6563","v":"00:00:00"},{"$f":"'[6]Список изделий'!AY6563","v":0},{"$f":"'[6]Список изделий'!AZ6563","v":"00:00:00"},-43153,-43153,0,0,{"$f":"'[6]Список изделий'!BR6563","v":0},0]
[382,{"$f":"'[6]Список изделий'!D6645","v":82},{"$f":"'[6]Список изделий'!E6645","v":0},{"$f":"'[6]Список изделий'!F6645","v":0},{"$f":"'[6]Список изделий'!I6645","v":0},{"$f":"'[6]Список изделий'!X6645","v":0},{"$f":"'[6]Список изделий'!Y6645","v":0},{"$f":"'[6]Список изделий'!Z6645","v":0},{"$f":"'[6]Список изделий'!AA6645","v":0},{"$f":"'[6]Список изделий'!AB6645","v":0},{"$f":"'[6]Список изделий'!AC6645","v":"x"},{"$f":"'[6]Список изделий'!AD6645","v":0},{"$f":"'[6]Список изделий'!AE6645","v":0},{"$f":"'[6]Список изделий'!AF6645","v":"00:00:00"},{"$f":"'[6]Список изделий'!AY6645","v":0},{"$f":"'[6]Список изделий'!AZ6645","v":"00:00:00"},-43153,-43153,0,0,{"$f":"'[6]Список изделий'!BR6645","v":0},0]
[383,{"$f":"'[6]Список изделий'!D6727","v":83},{"$f":"'[6]Список изделий'!E6727","v":0},{"$f":"'[6]Список изделий'!F6727","v":0},{"$f":"'[6]Список изделий'!I6727","v":0},{"$f":"'[6]Список изделий'!X6727","v":0},{"$f":"'[6]Список изделий'!Y6727","v":0},{"$f":"'[6]Список изделий'!Z6727","v":0},{"$f":"'[6]Список изделий'!AA6727","v":0},{"$f":"'[6]Список изделий'!AB6727","v":0},{"$f":"'[6]Список изделий'!AC6727","v":"x"},{"$f":"'[6]Список изделий'!AD6727","v":0},{"$f":"'[6]Список изделий'!AE6727","v":0},{"$f":"'[6]Список изделий'!AF6727","v":"00:00:00"},{"$f":"'[6]Список изделий'!AY6727","v":0},{"$f":"'[6]Список изделий'!AZ6727","v":"00:00:00"},-43153,-43153,0,0,{"$f":"'[6]Список изделий'!BR6727","v":0},0]
[384,{"$f":"'[6]Список изделий'!D6809","v":84},{"$f":"'[6]Список изделий'!E6809","v":0},{"$f":"'[6]Список изделий'!F6809","v":0},{"$f":"'[6]Список изделий'!I6809","v":0},{"$f":"'[6]Список изделий'!X6809","v":0},{"$f":"'[6]Список изделий'!Y6809","v":0},{"$f":"'[6]Список изделий'!Z6809","v":0},{"$f":"'[6]Список изделий'!AA6809","v":0},{"$f":"'[6]Список изделий'!AB6809","v":0},{"$f":"'[6]Список изделий'!AC6809","v":"x"},{"$f":"'[6]Список изделий'!AD6809","v":0},{"$f":"'[6]Список изделий'!AE6809","v":0},{"$f":"'[6]Список изделий'!AF6809","v":"00:00:00"},{"$f":"'[6]Список изделий'!AY6809","v":0},{"$f":"'[6]Список изделий'!AZ6809","v":"00:00:00"},-43153,-43153,0,0,{"$f":"'[6]Список изделий'!BR6809","v":0},0]
[385,{"$f":"'[6]Список изделий'!D6891","v":85},{"$f":"'[6]Список изделий'!E6891","v":0},{"$f":"'[6]Список изделий'!F6891","v":0},{"$f":"'[6]Список изделий'!I6891","v":0},{"$f":"'[6]Список изделий'!X6891","v":0},{"$f":"'[6]Список изделий'!Y6891","v":0},{"$f":"'[6]Список изделий'!Z6891","v":0},{"$f":"'[6]Список изделий'!AA6891","v":0},{"$f":"'[6]Список изделий'!AB6891","v":0},{"$f":"'[6]Список изделий'!AC6891","v":"x"},{"$f":"'[6]Список изделий'!AD6891","v":0},{"$f":"'[6]Список изделий'!AE6891","v":0},{"$f":"'[6]Список изделий'!AF6891","v":"00:00:00"},{"$f":"'[6]Список изделий'!AY6891","v":0},{"$f":"'[6]Список изделий'!AZ6891","v":"00:00:00"},-43153,-43153,0,0,{"$f":"'[6]Список изделий'!BR6891","v":0},0]
[386,{"$f":"'[6]Список изделий'!D6973","v":86},{"$f":"'[6]Список изделий'!E6973","v":0},{"$f":"'[6]Список изделий'!F6973","v":0},{"$f":"'[6]Список изделий'!I6973","v":0},{"$f":"'[6]Список изделий'!X6973","v":0},{"$f":"'[6]Список изделий'!Y6973","v":0},{"$f":"'[6]Список изделий'!Z6973","v":0},{"$f":"'[6]Список изделий'!AA6973","v":0},{"$f":"'[6]Список изделий'!AB6973","v":0},{"$f":"'[6]Список изделий'!AC6973","v":"x"},{"$f":"'[6]Список изделий'!AD6973","v":0},{"$f":"'[6]Список изделий'!AE6973","v":0},{"$f":"'[6]Список изделий'!AF6973","v":"00:00:00"},{"$f":"'[6]Список изделий'!AY6973","v":0},{"$f":"'[6]Список изделий'!AZ6973","v":"00:00:00"},{"$f":"IF(O388=\"нет в заказе\",\"нет в заказе\",-(TODAY()-(P388-O388)))","v":-43153},{"$f":"IF(Q388=\"нет в заказе\",\"нет взаказе\",-(IF(O388=\"нет в заказе\",\"нет в заказе\",TODAY()-P388)))","v":-43153},0,{"$f":"V388","v":0},{"$f":"'[6]Список изделий'!BR6973","v":0},{"$f":"IF(S388>=0,S388,IF(T388>S388,T388,S388))","v":0}]
[387,{"$f":"'[6]Список изделий'!D7055","v":87},{"$f":"'[6]Список изделий'!E7055","v":0},{"$f":"'[6]Список изделий'!F7055","v":0},{"$f":"'[6]Список изделий'!I7055","v":0},{"$f":"'[6]Список изделий'!X7055","v":0},{"$f":"'[6]Список изделий'!Y7055","v":0},{"$f":"'[6]Список изделий'!Z7055","v":0},{"$f":"'[6]Список изделий'!AA7055","v":0},{"$f":"'[6]Список изделий'!AB7055","v":0},{"$f":"'[6]Список изделий'!AC7055","v":"x"},{"$f":"'[6]Список изделий'!AD7055","v":0},{"$f":"'[6]Список изделий'!AE7055","v":0},{"$f":"'[6]Список изделий'!AF7055","v":"00:00:00"},{"$f":"'[6]Список изделий'!AY7055","v":0},{"$f":"'[6]Список изделий'!AZ7055","v":"00:00:00"},-43153,-43153,0,0,{"$f":"'[6]Список изделий'!BR7055","v":0},0]
[388,{"$f":"'[6]Список изделий'!D7137","v":88},{"$f":"'[6]Список изделий'!E7137","v":0},{"$f":"'[6]Список изделий'!F7137","v":0},{"$f":"'[6]Список изделий'!I7137","v":0},{"$f":"'[6]Список изделий'!X7137","v":0},{"$f":"'[6]Список изделий'!Y7137","v":0},{"$f":"'[6]Список изделий'!Z7137","v":0},{"$f":"'[6]Список изделий'!AA7137","v":0},{"$f":"'[6]Список изделий'!AB7137","v":0},{"$f":"'[6]Список изделий'!AC7137","v":"x"},{"$f":"'[6]Список изделий'!AD7137","v":0},{"$f":"'[6]Список изделий'!AE7137","v":0},{"$f":"'[6]Список изделий'!AF7137","v":"00:00:00"},{"$f":"'[6]Список изделий'!AY7137","v":0},{"$f":"'[6]Список изделий'!AZ7137","v":"00:00:00"},-43153,-43153,0,0,{"$f":"'[6]Список изделий'!BR7137","v":0},0]
[389,{"$f":"'[6]Список изделий'!D7219","v":89},{"$f":"'[6]Список изделий'!E7219","v":0},{"$f":"'[6]Список изделий'!F7219","v":0},{"$f":"'[6]Список изделий'!I7219","v":0},{"$f":"'[6]Список изделий'!X7219","v":0},{"$f":"'[6]Список изделий'!Y7219","v":0},{"$f":"'[6]Список изделий'!Z7219","v":0},{"$f":"'[6]Список изделий'!AA7219","v":0},{"$f":"'[6]Список изделий'!AB7219","v":0},{"$f":"'[6]Список изделий'!AC7219","v":"x"},{"$f":"'[6]Список изделий'!AD7219","v":0},{"$f":"'[6]Список изделий'!AE7219","v":0},{"$f":"'[6]Список изделий'!AF7219","v":"00:00:00"},{"$f":"'[6]Список изделий'!AY7219","v":0},{"$f":"'[6]Список изделий'!AZ7219","v":"00:00:00"},-43153,-43153,0,0,{"$f":"'[6]Список изделий'!BR7219","v":0},0]
[390,{"$f":"'[6]Список изделий'!D7301","v":90},{"$f":"'[6]Список изделий'!E7301","v":0},{"$f":"'[6]Список изделий'!F7301","v":0},{"$f":"'[6]Список изделий'!I7301","v":0},{"$f":"'[6]Список изделий'!X7301","v":0},{"$f":"'[6]Список изделий'!Y7301","v":0},{"$f":"'[6]Список изделий'!Z7301","v":0},{"$f":"'[6]Список изделий'!AA7301","v":0},{"$f":"'[6]Список изделий'!AB7301","v":0},{"$f":"'[6]Список изделий'!AC7301","v":"x"},{"$f":"'[6]Список изделий'!AD7301","v":0},{"$f":"'[6]Список изделий'!AE7301","v":0},{"$f":"'[6]Список изделий'!AF7301","v":"00:00:00"},{"$f":"'[6]Список изделий'!AY7301","v":0},{"$f":"'[6]Список изделий'!AZ7301","v":"00:00:00"},-43153,-43153,0,0,{"$f":"'[6]Список изделий'!BR7301","v":0},0]
[391,{"$f":"'[6]Список изделий'!D7383","v":91},{"$f":"'[6]Список изделий'!E7383","v":0},{"$f":"'[6]Список изделий'!F7383","v":0},{"$f":"'[6]Список изделий'!I7383","v":0},{"$f":"'[6]Список изделий'!X7383","v":0},{"$f":"'[6]Список изделий'!Y7383","v":0},{"$f":"'[6]Список изделий'!Z7383","v":0},{"$f":"'[6]Список изделий'!AA7383","v":0},{"$f":"'[6]Список изделий'!AB7383","v":0},{"$f":"'[6]Список изделий'!AC7383","v":"x"},{"$f":"'[6]Список изделий'!AD7383","v":0},{"$f":"'[6]Список изделий'!AE7383","v":0},{"$f":"'[6]Список изделий'!AF7383","v":"00:00:00"},{"$f":"'[6]Список изделий'!AY7383","v":0},{"$f":"'[6]Список изделий'!AZ7383","v":"00:00:00"},-43153,-43153,0,0,{"$f":"'[6]Список изделий'!BR7383","v":0},0]
[392,{"$f":"'[6]Список изделий'!D7465","v":92},{"$f":"'[6]Список изделий'!E7465","v":0},{"$f":"'[6]Список изделий'!F7465","v":0},{"$f":"'[6]Список изделий'!I7465","v":0},{"$f":"'[6]Список изделий'!X7465","v":0},{"$f":"'[6]Список изделий'!Y7465","v":0},{"$f":"'[6]Список изделий'!Z7465","v":0},{"$f":"'[6]Список изделий'!AA7465","v":0},{"$f":"'[6]Список изделий'!AB7465","v":0},{"$f":"'[6]Список изделий'!AC7465","v":"x"},{"$f":"'[6]Список изделий'!AD7465","v":0},{"$f":"'[6]Список изделий'!AE7465","v":0},{"$f":"'[6]Список изделий'!AF7465","v":"00:00:00"},{"$f":"'[6]Список изделий'!AY7465","v":0},{"$f":"'[6]Список изделий'!AZ7465","v":"00:00:00"},-43153,-43153,0,0,{"$f":"'[6]Список изделий'!BR7465","v":0},0]
[393,{"$f":"'[6]Список изделий'!D7547","v":93},{"$f":"'[6]Список изделий'!E7547","v":0},{"$f":"'[6]Список изделий'!F7547","v":0},{"$f":"'[6]Список изделий'!I7547","v":0},{"$f":"'[6]Список изделий'!X7547","v":0},{"$f":"'[6]Список изделий'!Y7547","v":0},{"$f":"'[6]Список изделий'!Z7547","v":0},{"$f":"'[6]Список изделий'!AA7547","v":0},{"$f":"'[6]Список изделий'!AB7547","v":0},{"$f":"'[6]Список изделий'!AC7547","v":"x"},{"$f":"'[6]Список изделий'!AD7547","v":0},{"$f":"'[6]Список изделий'!AE7547","v":0},{"$f":"'[6]Список изделий'!AF7547","v":"00:00:00"},{"$f":"'[6]Список изделий'!AY7547","v":0},{"$f":"'[6]Список изделий'!AZ7547","v":"00:00:00"},-43153,-43153,0,0,{"$f":"'[6]Список изделий'!BR7547","v":0},0]
[394,{"$f":"'[6]Список изделий'!D7629","v":94},{"$f":"'[6]Список изделий'!E7629","v":0},{"$f":"'[6]Список изделий'!F7629","v":0},{"$f":"'[6]Список изделий'!I7629","v":0},{"$f":"'[6]Список изделий'!X7629","v":0},{"$f":"'[6]Список изделий'!Y7629","v":0},{"$f":"'[6]Список изделий'!Z7629","v":0},{"$f":"'[6]Список изделий'!AA7629","v":0},{"$f":"'[6]Список изделий'!AB7629","v":0},{"$f":"'[6]Список изделий'!AC7629","v":"x"},{"$f":"'[6]Список изделий'!AD7629","v":0},{"$f":"'[6]Список изделий'!AE7629","v":0},{"$f":"'[6]Список изделий'!AF7629","v":"00:00:00"},{"$f":"'[6]Список изделий'!AY7629","v":0},{"$f":"'[6]Список изделий'!AZ7629","v":"00:00:00"},-43153,-43153,0,0,{"$f":"'[6]Список изделий'!BR7629","v":0},0]
[395,{"$f":"'[6]Список изделий'!D7711","v":95},{"$f":"'[6]Список изделий'!E7711","v":0},{"$f":"'[6]Список изделий'!F7711","v":0},{"$f":"'[6]Список изделий'!I7711","v":0},{"$f":"'[6]Список изделий'!X7711","v":0},{"$f":"'[6]Список изделий'!Y7711","v":0},{"$f":"'[6]Список изделий'!Z7711","v":0},{"$f":"'[6]Список изделий'!AA7711","v":0},{"$f":"'[6]Список изделий'!AB7711","v":0},{"$f":"'[6]Список изделий'!AC7711","v":"x"},{"$f":"'[6]Список изделий'!AD7711","v":0},{"$f":"'[6]Список изделий'!AE7711","v":0},{"$f":"'[6]Список изделий'!AF7711","v":"00:00:00"},{"$f":"'[6]Список изделий'!AY7711","v":0},{"$f":"'[6]Список изделий'!AZ7711","v":"00:00:00"},-43153,-43153,0,0,{"$f":"'[6]Список изделий'!BR7711","v":0},0]
[396,{"$f":"'[6]Список изделий'!D7793","v":96},{"$f":"'[6]Список изделий'!E7793","v":0},{"$f":"'[6]Список изделий'!F7793","v":0},{"$f":"'[6]Список изделий'!I7793","v":0},{"$f":"'[6]Список изделий'!X7793","v":0},{"$f":"'[6]Список изделий'!Y7793","v":0},{"$f":"'[6]Список изделий'!Z7793","v":0},{"$f":"'[6]Список изделий'!AA7793","v":0},{"$f":"'[6]Список изделий'!AB7793","v":0},{"$f":"'[6]Список изделий'!AC7793","v":"x"},{"$f":"'[6]Список изделий'!AD7793","v":0},{"$f":"'[6]Список изделий'!AE7793","v":0},{"$f":"'[6]Список изделий'!AF7793","v":"00:00:00"},{"$f":"'[6]Список изделий'!AY7793","v":0},{"$f":"'[6]Список изделий'!AZ7793","v":"00:00:00"},-43153,-43153,0,0,{"$f":"'[6]Список изделий'!BR7793","v":0},0]
[397,{"$f":"'[6]Список изделий'!D7875","v":97},{"$f":"'[6]Список изделий'!E7875","v":0},{"$f":"'[6]Список изделий'!F7875","v":0},{"$f":"'[6]Список изделий'!I7875","v":0},{"$f":"'[6]Список изделий'!X7875","v":0},{"$f":"'[6]Список изделий'!Y7875","v":0},{"$f":"'[6]Список изделий'!Z7875","v":0},{"$f":"'[6]Список изделий'!AA7875","v":0},{"$f":"'[6]Список изделий'!AB7875","v":0},{"$f":"'[6]Список изделий'!AC7875","v":"x"},{"$f":"'[6]Список изделий'!AD7875","v":0},{"$f":"'[6]Список изделий'!AE7875","v":0},{"$f":"'[6]Список изделий'!AF7875","v":"00:00:00"},{"$f":"'[6]Список изделий'!AY7875","v":0},{"$f":"'[6]Список изделий'!AZ7875","v":"00:00:00"},-43153,-43153,0,0,{"$f":"'[6]Список изделий'!BR7875","v":0},0]
[398,{"$f":"'[6]Список изделий'!D7957","v":98},{"$f":"'[6]Список изделий'!E7957","v":0},{"$f":"'[6]Список изделий'!F7957","v":0},{"$f":"'[6]Список изделий'!I7957","v":0},{"$f":"'[6]Список изделий'!X7957","v":0},{"$f":"'[6]Список изделий'!Y7957","v":0},{"$f":"'[6]Список изделий'!Z7957","v":0},{"$f":"'[6]Список изделий'!AA7957","v":0},{"$f":"'[6]Список изделий'!AB7957","v":0},{"$f":"'[6]Список изделий'!AC7957","v":"x"},{"$f":"'[6]Список изделий'!AD7957","v":0},{"$f":"'[6]Список изделий'!AE7957","v":0},{"$f":"'[6]Список изделий'!AF7957","v":"00:00:00"},{"$f":"'[6]Список изделий'!AY7957","v":0},{"$f":"'[6]Список изделий'!AZ7957","v":"00:00:00"},-43153,-43153,0,0,{"$f":"'[6]Список изделий'!BR7957","v":0},0]
[399,{"$f":"'[6]Список изделий'!D8039","v":99},{"$f":"'[6]Список изделий'!E8039","v":0},{"$f":"'[6]Список изделий'!F8039","v":0},{"$f":"'[6]Список изделий'!I8039","v":0},{"$f":"'[6]Список изделий'!X8039","v":0},{"$f":"'[6]Список изделий'!Y8039","v":0},{"$f":"'[6]Список изделий'!Z8039","v":0},{"$f":"'[6]Список изделий'!AA8039","v":0},{"$f":"'[6]Список изделий'!AB8039","v":0},{"$f":"'[6]Список изделий'!AC8039","v":"x"},{"$f":"'[6]Список изделий'!AD8039","v":0},{"$f":"'[6]Список изделий'!AE8039","v":0},{"$f":"'[6]Список изделий'!AF8039","v":"00:00:00"},{"$f":"'[6]Список изделий'!AY8039","v":0},{"$f":"'[6]Список изделий'!AZ8039","v":"00:00:00"},-43153,-43153,0,0,{"$f":"'[6]Список изделий'!BR8039","v":0},0]
[400,{"$f":"'[6]Список изделий'!D8121","v":100},{"$f":"'[6]Список изделий'!E8121","v":0},{"$f":"'[6]Список изделий'!F8121","v":0},{"$f":"'[6]Список изделий'!I8121","v":0},{"$f":"'[6]Список изделий'!X8121","v":0},{"$f":"'[6]Список изделий'!Y8121","v":0},{"$f":"'[6]Список изделий'!Z8121","v":0},{"$f":"'[6]Список изделий'!AA8121","v":0},{"$f":"'[6]Список изделий'!AB8121","v":0},{"$f":"'[6]Список изделий'!AC8121","v":"x"},{"$f":"'[6]Список изделий'!AD8121","v":0},{"$f":"'[6]Список изделий'!AE8121","v":0},{"$f":"'[6]Список изделий'!AF8121","v":"00:00:00"},{"$f":"'[6]Список изделий'!AY8121","v":0},{"$f":"'[6]Список изделий'!AZ8121","v":"00:00:00"},-43153,-43153,0,0,{"$f":"'[6]Список изделий'!BR8121","v":0},0]
[401,{"$f":"'[7]Список изделий'!D3","v":1},{"$f":"'[7]Список изделий'!E3","v":0},{"$f":"'[7]Список изделий'!F3","v":0},{"$f":"'[7]Список изделий'!I3","v":0},{"$f":"'[7]Список изделий'!X3","v":0},{"$f":"'[7]Список изделий'!Y3","v":0},{"$f":"'[7]Список изделий'!Z3","v":0},{"$f":"'[7]Список изделий'!AA3","v":0},{"$f":"'[7]Список изделий'!AB3","v":0},{"$f":"'[7]Список изделий'!AC3","v":"x"},{"$f":"'[7]Список изделий'!AD3","v":0},{"$f":"'[7]Список изделий'!AE3","v":0},{"$f":"'[7]Список изделий'!AF3","v":"00:00:00"},{"$f":"'[7]Список изделий'!AY3","v":0},{"$f":"'[7]Список изделий'!AZ3","v":"00:00:00"},-43153,-43153,0,0,{"$f":"'[7]Список изделий'!BR3","v":0},0]
[402,{"$f":"'[7]Список изделий'!D85","v":2},{"$f":"'[7]Список изделий'!E85","v":0},{"$f":"'[7]Список изделий'!F85","v":0},{"$f":"'[7]Список изделий'!I85","v":0},{"$f":"'[7]Список изделий'!X85","v":0},{"$f":"'[7]Список изделий'!Y85","v":0},{"$f":"'[7]Список изделий'!Z85","v":0},{"$f":"'[7]Список изделий'!AA85","v":0},{"$f":"'[7]Список изделий'!AB85","v":0},{"$f":"'[7]Список изделий'!AC85","v":"x"},{"$f":"'[7]Список изделий'!AD85","v":0},{"$f":"'[7]Список изделий'!AE85","v":0},{"$f":"'[7]Список изделий'!AF85","v":"00:00:00"},{"$f":"'[7]Список изделий'!AY85","v":0},{"$f":"'[7]Список изделий'!AZ85","v":"00:00:00"},-43153,-43153,0,0,{"$f":"'[7]Список изделий'!BR85","v":0},0]
[403,{"$f":"'[7]Список изделий'!D167","v":3},{"$f":"'[7]Список изделий'!E167","v":0},{"$f":"'[7]Список изделий'!F167","v":0},{"$f":"'[7]Список изделий'!I167","v":0},{"$f":"'[7]Список изделий'!X167","v":0},{"$f":"'[7]Список изделий'!Y167","v":0},{"$f":"'[7]Список изделий'!Z167","v":0},{"$f":"'[7]Список изделий'!AA167","v":0},{"$f":"'[7]Список изделий'!AB167","v":0},{"$f":"'[7]Список изделий'!AC167","v":"x"},{"$f":"'[7]Список изделий'!AD167","v":0},{"$f":"'[7]Список изделий'!AE167","v":0},{"$f":"'[7]Список изделий'!AF167","v":"00:00:00"},{"$f":"'[7]Список изделий'!AY167","v":0},{"$f":"'[7]Список изделий'!AZ167","v":"00:00:00"},-43153,-43153,0,0,{"$f":"'[7]Список изделий'!BR167","v":0},0]
[404,{"$f":"'[7]Список изделий'!D249","v":4},{"$f":"'[7]Список изделий'!E249","v":0},{"$f":"'[7]Список изделий'!F249","v":0},{"$f":"'[7]Список изделий'!I249","v":0},{"$f":"'[7]Список изделий'!X249","v":0},{"$f":"'[7]Список изделий'!Y249","v":0},{"$f":"'[7]Список изделий'!Z249","v":0},{"$f":"'[7]Список изделий'!AA249","v":0},{"$f":"'[7]Список изделий'!AB249","v":0},{"$f":"'[7]Список изделий'!AC249","v":"x"},{"$f":"'[7]Список изделий'!AD249","v":0},{"$f":"'[7]Список изделий'!AE249","v":0},{"$f":"'[7]Список изделий'!AF249","v":"00:00:00"},{"$f":"'[7]Список изделий'!AY249","v":0},{"$f":"'[7]Список изделий'!AZ249","v":"00:00:00"},-43153,-43153,0,0,{"$f":"'[7]Список изделий'!BR249","v":0},0]
[405,{"$f":"'[7]Список изделий'!D331","v":5},{"$f":"'[7]Список изделий'!E331","v":0},{"$f":"'[7]Список изделий'!F331","v":0},{"$f":"'[7]Список изделий'!I331","v":0},{"$f":"'[7]Список изделий'!X331","v":0},{"$f":"'[7]Список изделий'!Y331","v":0},{"$f":"'[7]Список изделий'!Z331","v":0},{"$f":"'[7]Список изделий'!AA331","v":0},{"$f":"'[7]Список изделий'!AB331","v":0},{"$f":"'[7]Список изделий'!AC331","v":"x"},{"$f":"'[7]Список изделий'!AD331","v":0},{"$f":"'[7]Список изделий'!AE331","v":0},{"$f":"'[7]Список изделий'!AF331","v":"00:00:00"},{"$f":"'[7]Список изделий'!AY331","v":0},{"$f":"'[7]Список изделий'!AZ331","v":"00:00:00"},-43153,-43153,0,0,{"$f":"'[7]Список изделий'!BR331","v":0},0]
[406,{"$f":"'[7]Список изделий'!D413","v":6},{"$f":"'[7]Список изделий'!E413","v":0},{"$f":"'[7]Список изделий'!F413","v":0},{"$f":"'[7]Список изделий'!I413","v":0},{"$f":"'[7]Список изделий'!X413","v":0},{"$f":"'[7]Список изделий'!Y413","v":0},{"$f":"'[7]Список изделий'!Z413","v":0},{"$f":"'[7]Список изделий'!AA413","v":0},{"$f":"'[7]Список изделий'!AB413","v":0},{"$f":"'[7]Список изделий'!AC413","v":"x"},{"$f":"'[7]Список изделий'!AD413","v":0},{"$f":"'[7]Список изделий'!AE413","v":0},{"$f":"'[7]Список изделий'!AF413","v":"00:00:00"},{"$f":"'[7]Список изделий'!AY413","v":0},{"$f":"'[7]Список изделий'!AZ413","v":"00:00:00"},-43153,-43153,0,0,{"$f":"'[7]Список изделий'!BR413","v":0},0]
[407,{"$f":"'[7]Список изделий'!D495","v":7},{"$f":"'[7]Список изделий'!E495","v":0},{"$f":"'[7]Список изделий'!F495","v":0},{"$f":"'[7]Список изделий'!I495","v":0},{"$f":"'[7]Список изделий'!X495","v":0},{"$f":"'[7]Список изделий'!Y495","v":0},{"$f":"'[7]Список изделий'!Z495","v":0},{"$f":"'[7]Список изделий'!AA495","v":0},{"$f":"'[7]Список изделий'!AB495","v":0},{"$f":"'[7]Список изделий'!AC495","v":"x"},{"$f":"'[7]Список изделий'!AD495","v":0},{"$f":"'[7]Список изделий'!AE495","v":0},{"$f":"'[7]Список изделий'!AF495","v":"00:00:00"},{"$f":"'[7]Список изделий'!AY495","v":0},{"$f":"'[7]Список изделий'!AZ495","v":"00:00:00"},-43153,-43153,0,0,{"$f":"'[7]Список изделий'!BR495","v":0},0]
[408,{"$f":"'[7]Список изделий'!D577","v":8},{"$f":"'[7]Список изделий'!E577","v":0},{"$f":"'[7]Список изделий'!F577","v":0},{"$f":"'[7]Список изделий'!I577","v":0},{"$f":"'[7]Список изделий'!X577","v":0},{"$f":"'[7]Список изделий'!Y577","v":0},{"$f":"'[7]Список изделий'!Z577","v":0},{"$f":"'[7]Список изделий'!AA577","v":0},{"$f":"'[7]Список изделий'!AB577","v":0},{"$f":"'[7]Список изделий'!AC577","v":"x"},{"$f":"'[7]Список изделий'!AD577","v":0},{"$f":"'[7]Список изделий'!AE577","v":0},{"$f":"'[7]Список изделий'!AF577","v":"00:00:00"},{"$f":"'[7]Список изделий'!AY577","v":0},{"$f":"'[7]Список изделий'!AZ577","v":"00:00:00"},-43153,-43153,0,0,{"$f":"'[7]Список изделий'!BR577","v":0},0]
[409,{"$f":"'[7]Список изделий'!D659","v":9},{"$f":"'[7]Список изделий'!E659","v":0},{"$f":"'[7]Список изделий'!F659","v":0},{"$f":"'[7]Список изделий'!I659","v":0},{"$f":"'[7]Список изделий'!X659","v":0},{"$f":"'[7]Список изделий'!Y659","v":0},{"$f":"'[7]Список изделий'!Z659","v":0},{"$f":"'[7]Список изделий'!AA659","v":0},{"$f":"'[7]Список изделий'!AB659","v":0},{"$f":"'[7]Список изделий'!AC659","v":"x"},{"$f":"'[7]Список изделий'!AD659","v":0},{"$f":"'[7]Список изделий'!AE659","v":0},{"$f":"'[7]Список изделий'!AF659","v":"00:00:00"},{"$f":"'[7]Список изделий'!AY659","v":0},{"$f":"'[7]Список изделий'!AZ659","v":"00:00:00"},-43153,-43153,0,0,{"$f":"'[7]Список изделий'!BR659","v":0},0]
[410,{"$f":"'[7]Список изделий'!D741","v":10},{"$f":"'[7]Список изделий'!E741","v":0},{"$f":"'[7]Список изделий'!F741","v":0},{"$f":"'[7]Список изделий'!I741","v":0},{"$f":"'[7]Список изделий'!X741","v":0},{"$f":"'[7]Список изделий'!Y741","v":0},{"$f":"'[7]Список изделий'!Z741","v":0},{"$f":"'[7]Список изделий'!AA741","v":0},{"$f":"'[7]Список изделий'!AB741","v":0},{"$f":"'[7]Список изделий'!AC741","v":"x"},{"$f":"'[7]Список изделий'!AD741","v":0},{"$f":"'[7]Список изделий'!AE741","v":0},{"$f":"'[7]Список изделий'!AF741","v":"00:00:00"},{"$f":"'[7]Список изделий'!AY741","v":0},{"$f":"'[7]Список изделий'!AZ741","v":"00:00:00"},-43153,-43153,0,0,{"$f":"'[7]Список изделий'!BR741","v":0},0]
[411,{"$f":"'[7]Список изделий'!D823","v":11},{"$f":"'[7]Список изделий'!E823","v":0},{"$f":"'[7]Список изделий'!F823","v":0},{"$f":"'[7]Список изделий'!I823","v":0},{"$f":"'[7]Список изделий'!X823","v":0},{"$f":"'[7]Список изделий'!Y823","v":0},{"$f":"'[7]Список изделий'!Z823","v":0},{"$f":"'[7]Список изделий'!AA823","v":0},{"$f":"'[7]Список изделий'!AB823","v":0},{"$f":"'[7]Список изделий'!AC823","v":"x"},{"$f":"'[7]Список изделий'!AD823","v":0},{"$f":"'[7]Список изделий'!AE823","v":0},{"$f":"'[7]Список изделий'!AF823","v":"00:00:00"},{"$f":"'[7]Список изделий'!AY823","v":0},{"$f":"'[7]Список изделий'!AZ823","v":"00:00:00"},-43153,-43153,0,0,{"$f":"'[7]Список изделий'!BR823","v":0},0]
[412,{"$f":"'[7]Список изделий'!D905","v":12},{"$f":"'[7]Список изделий'!E905","v":0},{"$f":"'[7]Список изделий'!F905","v":0},{"$f":"'[7]Список изделий'!I905","v":0},{"$f":"'[7]Список изделий'!X905","v":0},{"$f":"'[7]Список изделий'!Y905","v":0},{"$f":"'[7]Список изделий'!Z905","v":0},{"$f":"'[7]Список изделий'!AA905","v":0},{"$f":"'[7]Список изделий'!AB905","v":0},{"$f":"'[7]Список изделий'!AC905","v":"x"},{"$f":"'[7]Список изделий'!AD905","v":0},{"$f":"'[7]Список изделий'!AE905","v":0},{"$f":"'[7]Список изделий'!AF905","v":"00:00:00"},{"$f":"'[7]Список изделий'!AY905","v":0},{"$f":"'[7]Список изделий'!AZ905","v":"00:00:00"},-43153,-43153,0,0,{"$f":"'[7]Список изделий'!BR905","v":0},0]
[413,{"$f":"'[7]Список изделий'!D987","v":13},{"$f":"'[7]Список изделий'!E987","v":0},{"$f":"'[7]Список изделий'!F987","v":0},{"$f":"'[7]Список изделий'!I987","v":0},{"$f":"'[7]Список изделий'!X987","v":0},{"$f":"'[7]Список изделий'!Y987","v":0},{"$f":"'[7]Список изделий'!Z987","v":0},{"$f":"'[7]Список изделий'!AA987","v":0},{"$f":"'[7]Список изделий'!AB987","v":0},{"$f":"'[7]Список изделий'!AC987","v":"x"},{"$f":"'[7]Список изделий'!AD987","v":0},{"$f":"'[7]Список изделий'!AE987","v":0},{"$f":"'[7]Список изделий'!AF987","v":"00:00:00"},{"$f":"'[7]Список изделий'!AY987","v":0},{"$f":"'[7]Список изделий'!AZ987","v":"00:00:00"},-43153,-43153,0,0,{"$f":"'[7]Список изделий'!BR987","v":0},0]
[414,{"$f":"'[7]Список изделий'!D1069","v":14},{"$f":"'[7]Список изделий'!E1069","v":0},{"$f":"'[7]Список изделий'!F1069","v":0},{"$f":"'[7]Список изделий'!I1069","v":0},{"$f":"'[7]Список изделий'!X1069","v":0},{"$f":"'[7]Список изделий'!Y1069","v":0},{"$f":"'[7]Список изделий'!Z1069","v":0},{"$f":"'[7]Список изделий'!AA1069","v":0},{"$f":"'[7]Список изделий'!AB1069","v":0},{"$f":"'[7]Список изделий'!AC1069","v":"x"},{"$f":"'[7]Список изделий'!AD1069","v":0},{"$f":"'[7]Список изделий'!AE1069","v":0},{"$f":"'[7]Список изделий'!AF1069","v":"00:00:00"},{"$f":"'[7]Список изделий'!AY1069","v":0},{"$f":"'[7]Список изделий'!AZ1069","v":"00:00:00"},-43153,-43153,0,0,{"$f":"'[7]Список изделий'!BR1069","v":0},0]
[415,{"$f":"'[7]Список изделий'!D1151","v":15},{"$f":"'[7]Список изделий'!E1151","v":0},{"$f":"'[7]Список изделий'!F1151","v":0},{"$f":"'[7]Список изделий'!I1151","v":0},{"$f":"'[7]Список изделий'!X1151","v":0},{"$f":"'[7]Список изделий'!Y1151","v":0},{"$f":"'[7]Список изделий'!Z1151","v":0},{"$f":"'[7]Список изделий'!AA1151","v":0},{"$f":"'[7]Список изделий'!AB1151","v":0},{"$f":"'[7]Список изделий'!AC1151","v":"x"},{"$f":"'[7]Список изделий'!AD1151","v":0},{"$f":"'[7]Список изделий'!AE1151","v":0},{"$f":"'[7]Список изделий'!AF1151","v":"00:00:00"},{"$f":"'[7]Список изделий'!AY1151","v":0},{"$f":"'[7]Список изделий'!AZ1151","v":"00:00:00"},-43153,-43153,0,0,{"$f":"'[7]Список изделий'!BR1151","v":0},0]
[416,{"$f":"'[7]Список изделий'!D1233","v":16},{"$f":"'[7]Список изделий'!E1233","v":0},{"$f":"'[7]Список изделий'!F1233","v":0},{"$f":"'[7]Список изделий'!I1233","v":0},{"$f":"'[7]Список изделий'!X1233","v":0},{"$f":"'[7]Список изделий'!Y1233","v":0},{"$f":"'[7]Список изделий'!Z1233","v":0},{"$f":"'[7]Список изделий'!AA1233","v":0},{"$f":"'[7]Список изделий'!AB1233","v":0},{"$f":"'[7]Список изделий'!AC1233","v":"x"},{"$f":"'[7]Список изделий'!AD1233","v":0},{"$f":"'[7]Список изделий'!AE1233","v":0},{"$f":"'[7]Список изделий'!AF1233","v":"00:00:00"},{"$f":"'[7]Список изделий'!AY1233","v":0},{"$f":"'[7]Список изделий'!AZ1233","v":"00:00:00"},-43153,-43153,0,0,{"$f":"'[7]Список изделий'!BR1233","v":0},0]
[417,{"$f":"'[7]Список изделий'!D1315","v":17},{"$f":"'[7]Список изделий'!E1315","v":0},{"$f":"'[7]Список изделий'!F1315","v":0},{"$f":"'[7]Список изделий'!I1315","v":0},{"$f":"'[7]Список изделий'!X1315","v":0},{"$f":"'[7]Список изделий'!Y1315","v":0},{"$f":"'[7]Список изделий'!Z1315","v":0},{"$f":"'[7]Список изделий'!AA1315","v":0},{"$f":"'[7]Список изделий'!AB1315","v":0},{"$f":"'[7]Список изделий'!AC1315","v":"x"},{"$f":"'[7]Список изделий'!AD1315","v":0},{"$f":"'[7]Список изделий'!AE1315","v":0},{"$f":"'[7]Список изделий'!AF1315","v":"00:00:00"},{"$f":"'[7]Список изделий'!AY1315","v":0},{"$f":"'[7]Список изделий'!AZ1315","v":"00:00:00"},-43153,-43153,0,0,{"$f":"'[7]Список изделий'!BR1315","v":0},0]
[418,{"$f":"'[7]Список изделий'!D1397","v":18},{"$f":"'[7]Список изделий'!E1397","v":0},{"$f":"'[7]Список изделий'!F1397","v":0},{"$f":"'[7]Список изделий'!I1397","v":0},{"$f":"'[7]Список изделий'!X1397","v":0},{"$f":"'[7]Список изделий'!Y1397","v":0},{"$f":"'[7]Список изделий'!Z1397","v":0},{"$f":"'[7]Список изделий'!AA1397","v":0},{"$f":"'[7]Список изделий'!AB1397","v":0},{"$f":"'[7]Список изделий'!AC1397","v":"x"},{"$f":"'[7]Список изделий'!AD1397","v":0},{"$f":"'[7]Список изделий'!AE1397","v":0},{"$f":"'[7]Список изделий'!AF1397","v":"00:00:00"},{"$f":"'[7]Список изделий'!AY1397","v":0},{"$f":"'[7]Список изделий'!AZ1397","v":"00:00:00"},-43153,-43153,0,0,{"$f":"'[7]Список изделий'!BR1397","v":0},0]
[419,{"$f":"'[7]Список изделий'!D1479","v":19},{"$f":"'[7]Список изделий'!E1479","v":0},{"$f":"'[7]Список изделий'!F1479","v":0},{"$f":"'[7]Список изделий'!I1479","v":0},{"$f":"'[7]Список изделий'!X1479","v":0},{"$f":"'[7]Список изделий'!Y1479","v":0},{"$f":"'[7]Список изделий'!Z1479","v":0},{"$f":"'[7]Список изделий'!AA1479","v":0},{"$f":"'[7]Список изделий'!AB1479","v":0},{"$f":"'[7]Список изделий'!AC1479","v":"x"},{"$f":"'[7]Список изделий'!AD1479","v":0},{"$f":"'[7]Список изделий'!AE1479","v":0},{"$f":"'[7]Список изделий'!AF1479","v":"00:00:00"},{"$f":"'[7]Список изделий'!AY1479","v":0},{"$f":"'[7]Список изделий'!AZ1479","v":"00:00:00"},-43153,-43153,0,0,{"$f":"'[7]Список изделий'!BR1479","v":0},0]
[420,{"$f":"'[7]Список изделий'!D1561","v":20},{"$f":"'[7]Список изделий'!E1561","v":0},{"$f":"'[7]Список изделий'!F1561","v":0},{"$f":"'[7]Список изделий'!I1561","v":0},{"$f":"'[7]Список изделий'!X1561","v":0},{"$f":"'[7]Список изделий'!Y1561","v":0},{"$f":"'[7]Список изделий'!Z1561","v":0},{"$f":"'[7]Список изделий'!AA1561","v":0},{"$f":"'[7]Список изделий'!AB1561","v":0},{"$f":"'[7]Список изделий'!AC1561","v":"x"},{"$f":"'[7]Список изделий'!AD1561","v":0},{"$f":"'[7]Список изделий'!AE1561","v":0},{"$f":"'[7]Список изделий'!AF1561","v":"00:00:00"},{"$f":"'[7]Список изделий'!AY1561","v":0},{"$f":"'[7]Список изделий'!AZ1561","v":"00:00:00"},-43153,-43153,0,0,{"$f":"'[7]Список изделий'!BR1561","v":0},0]
[421,{"$f":"'[7]Список изделий'!D1643","v":21},{"$f":"'[7]Список изделий'!E1643","v":0},{"$f":"'[7]Список изделий'!F1643","v":0},{"$f":"'[7]Список изделий'!I1643","v":0},{"$f":"'[7]Список изделий'!X1643","v":0},{"$f":"'[7]Список изделий'!Y1643","v":0},{"$f":"'[7]Список изделий'!Z1643","v":0},{"$f":"'[7]Список изделий'!AA1643","v":0},{"$f":"'[7]Список изделий'!AB1643","v":0},{"$f":"'[7]Список изделий'!AC1643","v":"x"},{"$f":"'[7]Список изделий'!AD1643","v":0},{"$f":"'[7]Список изделий'!AE1643","v":0},{"$f":"'[7]Список изделий'!AF1643","v":"00:00:00"},{"$f":"'[7]Список изделий'!AY1643","v":0},{"$f":"'[7]Список изделий'!AZ1643","v":"00:00:00"},-43153,-43153,0,0,{"$f":"'[7]Список изделий'!BR1643","v":0},0]
[422,{"$f":"'[7]Список изделий'!D1725","v":22},{"$f":"'[7]Список изделий'!E1725","v":0},{"$f":"'[7]Список изделий'!F1725","v":0},{"$f":"'[7]Список изделий'!I1725","v":0},{"$f":"'[7]Список изделий'!X1725","v":0},{"$f":"'[7]Список изделий'!Y1725","v":0},{"$f":"'[7]Список изделий'!Z1725","v":0},{"$f":"'[7]Список изделий'!AA1725","v":0},{"$f":"'[7]Список изделий'!AB1725","v":0},{"$f":"'[7]Список изделий'!AC1725","v":"x"},{"$f":"'[7]Список изделий'!AD1725","v":0},{"$f":"'[7]Список изделий'!AE1725","v":0},{"$f":"'[7]Список изделий'!AF1725","v":"00:00:00"},{"$f":"'[7]Список изделий'!AY1725","v":0},{"$f":"'[7]Список изделий'!AZ1725","v":"00:00:00"},-43153,-43153,0,0,{"$f":"'[7]Список изделий'!BR1725","v":0},0]
[423,{"$f":"'[7]Список изделий'!D1807","v":23},{"$f":"'[7]Список изделий'!E1807","v":0},{"$f":"'[7]Список изделий'!F1807","v":0},{"$f":"'[7]Список изделий'!I1807","v":0},{"$f":"'[7]Список изделий'!X1807","v":0},{"$f":"'[7]Список изделий'!Y1807","v":0},{"$f":"'[7]Список изделий'!Z1807","v":0},{"$f":"'[7]Список изделий'!AA1807","v":0},{"$f":"'[7]Список изделий'!AB1807","v":0},{"$f":"'[7]Список изделий'!AC1807","v":"x"},{"$f":"'[7]Список изделий'!AD1807","v":0},{"$f":"'[7]Список изделий'!AE1807","v":0},{"$f":"'[7]Список изделий'!AF1807","v":"00:00:00"},{"$f":"'[7]Список изделий'!AY1807","v":0},{"$f":"'[7]Список изделий'!AZ1807","v":"00:00:00"},-43153,-43153,0,0,{"$f":"'[7]Список изделий'!BR1807","v":0},0]
[424,{"$f":"'[7]Список изделий'!D1889","v":24},{"$f":"'[7]Список изделий'!E1889","v":0},{"$f":"'[7]Список изделий'!F1889","v":0},{"$f":"'[7]Список изделий'!I1889","v":0},{"$f":"'[7]Список изделий'!X1889","v":0},{"$f":"'[7]Список изделий'!Y1889","v":0},{"$f":"'[7]Список изделий'!Z1889","v":0},{"$f":"'[7]Список изделий'!AA1889","v":0},{"$f":"'[7]Список изделий'!AB1889","v":0},{"$f":"'[7]Список изделий'!AC1889","v":"x"},{"$f":"'[7]Список изделий'!AD1889","v":0},{"$f":"'[7]Список изделий'!AE1889","v":0},{"$f":"'[7]Список изделий'!AF1889","v":"00:00:00"},{"$f":"'[7]Список изделий'!AY1889","v":0},{"$f":"'[7]Список изделий'!AZ1889","v":"00:00:00"},-43153,-43153,0,0,{"$f":"'[7]Список изделий'!BR1889","v":0},0]
[425,{"$f":"'[7]Список изделий'!D1971","v":25},{"$f":"'[7]Список изделий'!E1971","v":0},{"$f":"'[7]Список изделий'!F1971","v":0},{"$f":"'[7]Список изделий'!I1971","v":0},{"$f":"'[7]Список изделий'!X1971","v":0},{"$f":"'[7]Список изделий'!Y1971","v":0},{"$f":"'[7]Список изделий'!Z1971","v":0},{"$f":"'[7]Список изделий'!AA1971","v":0},{"$f":"'[7]Список изделий'!AB1971","v":0},{"$f":"'[7]Список изделий'!AC1971","v":"x"},{"$f":"'[7]Список изделий'!AD1971","v":0},{"$f":"'[7]Список изделий'!AE1971","v":0},{"$f":"'[7]Список изделий'!AF1971","v":"00:00:00"},{"$f":"'[7]Список изделий'!AY1971","v":0},{"$f":"'[7]Список изделий'!AZ1971","v":"00:00:00"},-43153,-43153,0,0,{"$f":"'[7]Список изделий'!BR1971","v":0},0]
[426,{"$f":"'[7]Список изделий'!D2053","v":26},{"$f":"'[7]Список изделий'!E2053","v":0},{"$f":"'[7]Список изделий'!F2053","v":0},{"$f":"'[7]Список изделий'!I2053","v":0},{"$f":"'[7]Список изделий'!X2053","v":0},{"$f":"'[7]Список изделий'!Y2053","v":0},{"$f":"'[7]Список изделий'!Z2053","v":0},{"$f":"'[7]Список изделий'!AA2053","v":0},{"$f":"'[7]Список изделий'!AB2053","v":0},{"$f":"'[7]Список изделий'!AC2053","v":"x"},{"$f":"'[7]Список изделий'!AD2053","v":0},{"$f":"'[7]Список изделий'!AE2053","v":0},{"$f":"'[7]Список изделий'!AF2053","v":"00:00:00"},{"$f":"'[7]Список изделий'!AY2053","v":0},{"$f":"'[7]Список изделий'!AZ2053","v":"00:00:00"},-43153,-43153,0,0,{"$f":"'[7]Список изделий'!BR2053","v":0},0]
[427,{"$f":"'[7]Список изделий'!D2135","v":27},{"$f":"'[7]Список изделий'!E2135","v":0},{"$f":"'[7]Список изделий'!F2135","v":0},{"$f":"'[7]Список изделий'!I2135","v":0},{"$f":"'[7]Список изделий'!X2135","v":0},{"$f":"'[7]Список изделий'!Y2135","v":0},{"$f":"'[7]Список изделий'!Z2135","v":0},{"$f":"'[7]Список изделий'!AA2135","v":0},{"$f":"'[7]Список изделий'!AB2135","v":0},{"$f":"'[7]Список изделий'!AC2135","v":"x"},{"$f":"'[7]Список изделий'!AD2135","v":0},{"$f":"'[7]Список изделий'!AE2135","v":0},{"$f":"'[7]Список изделий'!AF2135","v":"00:00:00"},{"$f":"'[7]Список изделий'!AY2135","v":0},{"$f":"'[7]Список изделий'!AZ2135","v":"00:00:00"},-43153,-43153,0,0,{"$f":"'[7]Список изделий'!BR2135","v":0},0]
[428,{"$f":"'[7]Список изделий'!D2217","v":28},{"$f":"'[7]Список изделий'!E2217","v":0},{"$f":"'[7]Список изделий'!F2217","v":0},{"$f":"'[7]Список изделий'!I2217","v":0},{"$f":"'[7]Список изделий'!X2217","v":0},{"$f":"'[7]Список изделий'!Y2217","v":0},{"$f":"'[7]Список изделий'!Z2217","v":0},{"$f":"'[7]Список изделий'!AA2217","v":0},{"$f":"'[7]Список изделий'!AB2217","v":0},{"$f":"'[7]Список изделий'!AC2217","v":"x"},{"$f":"'[7]Список изделий'!AD2217","v":0},{"$f":"'[7]Список изделий'!AE2217","v":0},{"$f":"'[7]Список изделий'!AF2217","v":"00:00:00"},{"$f":"'[7]Список изделий'!AY2217","v":0},{"$f":"'[7]Список изделий'!AZ2217","v":"00:00:00"},-43153,-43153,0,0,{"$f":"'[7]Список изделий'!BR2217","v":0},0]
[429,{"$f":"'[7]Список изделий'!D2299","v":29},{"$f":"'[7]Список изделий'!E2299","v":0},{"$f":"'[7]Список изделий'!F2299","v":0},{"$f":"'[7]Список изделий'!I2299","v":0},{"$f":"'[7]Список изделий'!X2299","v":0},{"$f":"'[7]Список изделий'!Y2299","v":0},{"$f":"'[7]Список изделий'!Z2299","v":0},{"$f":"'[7]Список изделий'!AA2299","v":0},{"$f":"'[7]Список изделий'!AB2299","v":0},{"$f":"'[7]Список изделий'!AC2299","v":"x"},{"$f":"'[7]Список изделий'!AD2299","v":0},{"$f":"'[7]Список изделий'!AE2299","v":0},{"$f":"'[7]Список изделий'!AF2299","v":"00:00:00"},{"$f":"'[7]Список изделий'!AY2299","v":0},{"$f":"'[7]Список изделий'!AZ2299","v":"00:00:00"},-43153,-43153,0,0,{"$f":"'[7]Список изделий'!BR2299","v":0},0]
[430,{"$f":"'[7]Список изделий'!D2381","v":30},{"$f":"'[7]Список изделий'!E2381","v":0},{"$f":"'[7]Список изделий'!F2381","v":0},{"$f":"'[7]Список изделий'!I2381","v":0},{"$f":"'[7]Список изделий'!X2381","v":0},{"$f":"'[7]Список изделий'!Y2381","v":0},{"$f":"'[7]Список изделий'!Z2381","v":0},{"$f":"'[7]Список изделий'!AA2381","v":0},{"$f":"'[7]Список изделий'!AB2381","v":0},{"$f":"'[7]Список изделий'!AC2381","v":"x"},{"$f":"'[7]Список изделий'!AD2381","v":0},{"$f":"'[7]Список изделий'!AE2381","v":0},{"$f":"'[7]Список изделий'!AF2381","v":"00:00:00"},{"$f":"'[7]Список изделий'!AY2381","v":0},{"$f":"'[7]Список изделий'!AZ2381","v":"00:00:00"},-43153,-43153,0,0,{"$f":"'[7]Список изделий'!BR2381","v":0},0]
[431,{"$f":"'[7]Список изделий'!D2463","v":31},{"$f":"'[7]Список изделий'!E2463","v":0},{"$f":"'[7]Список изделий'!F2463","v":0},{"$f":"'[7]Список изделий'!I2463","v":0},{"$f":"'[7]Список изделий'!X2463","v":0},{"$f":"'[7]Список изделий'!Y2463","v":0},{"$f":"'[7]Список изделий'!Z2463","v":0},{"$f":"'[7]Список изделий'!AA2463","v":0},{"$f":"'[7]Список изделий'!AB2463","v":0},{"$f":"'[7]Список изделий'!AC2463","v":"x"},{"$f":"'[7]Список изделий'!AD2463","v":0},{"$f":"'[7]Список изделий'!AE2463","v":0},{"$f":"'[7]Список изделий'!AF2463","v":"00:00:00"},{"$f":"'[7]Список изделий'!AY2463","v":0},{"$f":"'[7]Список изделий'!AZ2463","v":"00:00:00"},-43153,-43153,0,0,{"$f":"'[7]Список изделий'!BR2463","v":0},0]
[432,{"$f":"'[7]Список изделий'!D2545","v":32},{"$f":"'[7]Список изделий'!E2545","v":0},{"$f":"'[7]Список изделий'!F2545","v":0},{"$f":"'[7]Список изделий'!I2545","v":0},{"$f":"'[7]Список изделий'!X2545","v":0},{"$f":"'[7]Список изделий'!Y2545","v":0},{"$f":"'[7]Список изделий'!Z2545","v":0},{"$f":"'[7]Список изделий'!AA2545","v":0},{"$f":"'[7]Список изделий'!AB2545","v":0},{"$f":"'[7]Список изделий'!AC2545","v":"x"},{"$f":"'[7]Список изделий'!AD2545","v":0},{"$f":"'[7]Список изделий'!AE2545","v":0},{"$f":"'[7]Список изделий'!AF2545","v":"00:00:00"},{"$f":"'[7]Список изделий'!AY2545","v":0},{"$f":"'[7]Список изделий'!AZ2545","v":"00:00:00"},-43153,-43153,0,0,{"$f":"'[7]Список изделий'!BR2545","v":0},0]
[433,{"$f":"'[7]Список изделий'!D2627","v":33},{"$f":"'[7]Список изделий'!E2627","v":0},{"$f":"'[7]Список изделий'!F2627","v":0},{"$f":"'[7]Список изделий'!I2627","v":0},{"$f":"'[7]Список изделий'!X2627","v":0},{"$f":"'[7]Список изделий'!Y2627","v":0},{"$f":"'[7]Список изделий'!Z2627","v":0},{"$f":"'[7]Список изделий'!AA2627","v":0},{"$f":"'[7]Список изделий'!AB2627","v":0},{"$f":"'[7]Список изделий'!AC2627","v":"x"},{"$f":"'[7]Список изделий'!AD2627","v":0},{"$f":"'[7]Список изделий'!AE2627","v":0},{"$f":"'[7]Список изделий'!AF2627","v":"00:00:00"},{"$f":"'[7]Список изделий'!AY2627","v":0},{"$f":"'[7]Список изделий'!AZ2627","v":"00:00:00"},-43153,-43153,0,0,{"$f":"'[7]Список изделий'!BR2627","v":0},0]
[434,{"$f":"'[7]Список изделий'!D2709","v":34},{"$f":"'[7]Список изделий'!E2709","v":0},{"$f":"'[7]Список изделий'!F2709","v":0},{"$f":"'[7]Список изделий'!I2709","v":0},{"$f":"'[7]Список изделий'!X2709","v":0},{"$f":"'[7]Список изделий'!Y2709","v":0},{"$f":"'[7]Список изделий'!Z2709","v":0},{"$f":"'[7]Список изделий'!AA2709","v":0},{"$f":"'[7]Список изделий'!AB2709","v":0},{"$f":"'[7]Список изделий'!AC2709","v":"x"},{"$f":"'[7]Список изделий'!AD2709","v":0},{"$f":"'[7]Список изделий'!AE2709","v":0},{"$f":"'[7]Список изделий'!AF2709","v":"00:00:00"},{"$f":"'[7]Список изделий'!AY2709","v":0},{"$f":"'[7]Список изделий'!AZ2709","v":"00:00:00"},-43153,-43153,0,0,{"$f":"'[7]Список изделий'!BR2709","v":0},0]
[435,{"$f":"'[7]Список изделий'!D2791","v":35},{"$f":"'[7]Список изделий'!E2791","v":0},{"$f":"'[7]Список изделий'!F2791","v":0},{"$f":"'[7]Список изделий'!I2791","v":0},{"$f":"'[7]Список изделий'!X2791","v":0},{"$f":"'[7]Список изделий'!Y2791","v":0},{"$f":"'[7]Список изделий'!Z2791","v":0},{"$f":"'[7]Список изделий'!AA2791","v":0},{"$f":"'[7]Список изделий'!AB2791","v":0},{"$f":"'[7]Список изделий'!AC2791","v":"x"},{"$f":"'[7]Список изделий'!AD2791","v":0},{"$f":"'[7]Список изделий'!AE2791","v":0},{"$f":"'[7]Список изделий'!AF2791","v":"00:00:00"},{"$f":"'[7]Список изделий'!AY2791","v":0},{"$f":"'[7]Список изделий'!AZ2791","v":"00:00:00"},-43153,-43153,0,0,{"$f":"'[7]Список изделий'!BR2791","v":0},0]
[436,{"$f":"'[7]Список изделий'!D2873","v":36},{"$f":"'[7]Список изделий'!E2873","v":0},{"$f":"'[7]Список изделий'!F2873","v":0},{"$f":"'[7]Список изделий'!I2873","v":0},{"$f":"'[7]Список изделий'!X2873","v":0},{"$f":"'[7]Список изделий'!Y2873","v":0},{"$f":"'[7]Список изделий'!Z2873","v":0},{"$f":"'[7]Список изделий'!AA2873","v":0},{"$f":"'[7]Список изделий'!AB2873","v":0},{"$f":"'[7]Список изделий'!AC2873","v":"x"},{"$f":"'[7]Список изделий'!AD2873","v":0},{"$f":"'[7]Список изделий'!AE2873","v":0},{"$f":"'[7]Список изделий'!AF2873","v":"00:00:00"},{"$f":"'[7]Список изделий'!AY2873","v":0},{"$f":"'[7]Список изделий'!AZ2873","v":"00:00:00"},-43153,-43153,0,0,{"$f":"'[7]Список изделий'!BR2873","v":0},0]
[437,{"$f":"'[7]Список изделий'!D2955","v":37},{"$f":"'[7]Список изделий'!E2955","v":0},{"$f":"'[7]Список изделий'!F2955","v":0},{"$f":"'[7]Список изделий'!I2955","v":0},{"$f":"'[7]Список изделий'!X2955","v":0},{"$f":"'[7]Список изделий'!Y2955","v":0},{"$f":"'[7]Список изделий'!Z2955","v":0},{"$f":"'[7]Список изделий'!AA2955","v":0},{"$f":"'[7]Список изделий'!AB2955","v":0},{"$f":"'[7]Список изделий'!AC2955","v":"x"},{"$f":"'[7]Список изделий'!AD2955","v":0},{"$f":"'[7]Список изделий'!AE2955","v":0},{"$f":"'[7]Список изделий'!AF2955","v":"00:00:00"},{"$f":"'[7]Список изделий'!AY2955","v":0},{"$f":"'[7]Список изделий'!AZ2955","v":"00:00:00"},-43153,-43153,0,0,{"$f":"'[7]Список изделий'!BR2955","v":0},0]
[438,{"$f":"'[7]Список изделий'!D3037","v":38},{"$f":"'[7]Список изделий'!E3037","v":0},{"$f":"'[7]Список изделий'!F3037","v":0},{"$f":"'[7]Список изделий'!I3037","v":0},{"$f":"'[7]Список изделий'!X3037","v":0},{"$f":"'[7]Список изделий'!Y3037","v":0},{"$f":"'[7]Список изделий'!Z3037","v":0},{"$f":"'[7]Список изделий'!AA3037","v":0},{"$f":"'[7]Список изделий'!AB3037","v":0},{"$f":"'[7]Список изделий'!AC3037","v":"x"},{"$f":"'[7]Список изделий'!AD3037","v":0},{"$f":"'[7]Список изделий'!AE3037","v":0},{"$f":"'[7]Список изделий'!AF3037","v":"00:00:00"},{"$f":"'[7]Список изделий'!AY3037","v":0},{"$f":"'[7]Список изделий'!AZ3037","v":"00:00:00"},-43153,-43153,0,0,{"$f":"'[7]Список изделий'!BR3037","v":0},0]
[439,{"$f":"'[7]Список изделий'!D3119","v":39},{"$f":"'[7]Список изделий'!E3119","v":0},{"$f":"'[7]Список изделий'!F3119","v":0},{"$f":"'[7]Список изделий'!I3119","v":0},{"$f":"'[7]Список изделий'!X3119","v":0},{"$f":"'[7]Список изделий'!Y3119","v":0},{"$f":"'[7]Список изделий'!Z3119","v":0},{"$f":"'[7]Список изделий'!AA3119","v":0},{"$f":"'[7]Список изделий'!AB3119","v":0},{"$f":"'[7]Список изделий'!AC3119","v":"x"},{"$f":"'[7]Список изделий'!AD3119","v":0},{"$f":"'[7]Список изделий'!AE3119","v":0},{"$f":"'[7]Список изделий'!AF3119","v":"00:00:00"},{"$f":"'[7]Список изделий'!AY3119","v":0},{"$f":"'[7]Список изделий'!AZ3119","v":"00:00:00"},-43153,-43153,0,0,{"$f":"'[7]Список изделий'!BR3119","v":0},0]
[440,{"$f":"'[7]Список изделий'!D3201","v":40},{"$f":"'[7]Список изделий'!E3201","v":0},{"$f":"'[7]Список изделий'!F3201","v":0},{"$f":"'[7]Список изделий'!I3201","v":0},{"$f":"'[7]Список изделий'!X3201","v":0},{"$f":"'[7]Список изделий'!Y3201","v":0},{"$f":"'[7]Список изделий'!Z3201","v":0},{"$f":"'[7]Список изделий'!AA3201","v":0},{"$f":"'[7]Список изделий'!AB3201","v":0},{"$f":"'[7]Список изделий'!AC3201","v":"x"},{"$f":"'[7]Список изделий'!AD3201","v":0},{"$f":"'[7]Список изделий'!AE3201","v":0},{"$f":"'[7]Список изделий'!AF3201","v":"00:00:00"},{"$f":"'[7]Список изделий'!AY3201","v":0},{"$f":"'[7]Список изделий'!AZ3201","v":"00:00:00"},-43153,-43153,0,0,{"$f":"'[7]Список изделий'!BR3201","v":0},0]
[441,{"$f":"'[7]Список изделий'!D3283","v":41},{"$f":"'[7]Список изделий'!E3283","v":0},{"$f":"'[7]Список изделий'!F3283","v":0},{"$f":"'[7]Список изделий'!I3283","v":0},{"$f":"'[7]Список изделий'!X3283","v":0},{"$f":"'[7]Список изделий'!Y3283","v":0},{"$f":"'[7]Список изделий'!Z3283","v":0},{"$f":"'[7]Список изделий'!AA3283","v":0},{"$f":"'[7]Список изделий'!AB3283","v":0},{"$f":"'[7]Список изделий'!AC3283","v":"x"},{"$f":"'[7]Список изделий'!AD3283","v":0},{"$f":"'[7]Список изделий'!AE3283","v":0},{"$f":"'[7]Список изделий'!AF3283","v":"00:00:00"},{"$f":"'[7]Список изделий'!AY3283","v":0},{"$f":"'[7]Список изделий'!AZ3283","v":"00:00:00"},-43153,-43153,0,0,{"$f":"'[7]Список изделий'!BR3283","v":0},0]
[442,{"$f":"'[7]Список изделий'!D3365","v":42},{"$f":"'[7]Список изделий'!E3365","v":0},{"$f":"'[7]Список изделий'!F3365","v":0},{"$f":"'[7]Список изделий'!I3365","v":0},{"$f":"'[7]Список изделий'!X3365","v":0},{"$f":"'[7]Список изделий'!Y3365","v":0},{"$f":"'[7]Список изделий'!Z3365","v":0},{"$f":"'[7]Список изделий'!AA3365","v":0},{"$f":"'[7]Список изделий'!AB3365","v":0},{"$f":"'[7]Список изделий'!AC3365","v":"x"},{"$f":"'[7]Список изделий'!AD3365","v":0},{"$f":"'[7]Список изделий'!AE3365","v":0},{"$f":"'[7]Список изделий'!AF3365","v":"00:00:00"},{"$f":"'[7]Список изделий'!AY3365","v":0},{"$f":"'[7]Список изделий'!AZ3365","v":"00:00:00"},-43153,-43153,0,0,{"$f":"'[7]Список изделий'!BR3365","v":0},0]
[443,{"$f":"'[7]Список изделий'!D3447","v":43},{"$f":"'[7]Список изделий'!E3447","v":0},{"$f":"'[7]Список изделий'!F3447","v":0},{"$f":"'[7]Список изделий'!I3447","v":0},{"$f":"'[7]Список изделий'!X3447","v":0},{"$f":"'[7]Список изделий'!Y3447","v":0},{"$f":"'[7]Список изделий'!Z3447","v":0},{"$f":"'[7]Список изделий'!AA3447","v":0},{"$f":"'[7]Список изделий'!AB3447","v":0},{"$f":"'[7]Список изделий'!AC3447","v":"x"},{"$f":"'[7]Список изделий'!AD3447","v":0},{"$f":"'[7]Список изделий'!AE3447","v":0},{"$f":"'[7]Список изделий'!AF3447","v":"00:00:00"},{"$f":"'[7]Список изделий'!AY3447","v":0},{"$f":"'[7]Список изделий'!AZ3447","v":"00:00:00"},-43153,-43153,0,0,{"$f":"'[7]Список изделий'!BR3447","v":0},0]
[444,{"$f":"'[7]Список изделий'!D3529","v":44},{"$f":"'[7]Список изделий'!E3529","v":0},{"$f":"'[7]Список изделий'!F3529","v":0},{"$f":"'[7]Список изделий'!I3529","v":0},{"$f":"'[7]Список изделий'!X3529","v":0},{"$f":"'[7]Список изделий'!Y3529","v":0},{"$f":"'[7]Список изделий'!Z3529","v":0},{"$f":"'[7]Список изделий'!AA3529","v":0},{"$f":"'[7]Список изделий'!AB3529","v":0},{"$f":"'[7]Список изделий'!AC3529","v":"x"},{"$f":"'[7]Список изделий'!AD3529","v":0},{"$f":"'[7]Список изделий'!AE3529","v":0},{"$f":"'[7]Список изделий'!AF3529","v":"00:00:00"},{"$f":"'[7]Список изделий'!AY3529","v":0},{"$f":"'[7]Список изделий'!AZ3529","v":"00:00:00"},-43153,-43153,0,0,{"$f":"'[7]Список изделий'!BR3529","v":0},0]
[445,{"$f":"'[7]Список изделий'!D3611","v":45},{"$f":"'[7]Список изделий'!E3611","v":0},{"$f":"'[7]Список изделий'!F3611","v":0},{"$f":"'[7]Список изделий'!I3611","v":0},{"$f":"'[7]Список изделий'!X3611","v":0},{"$f":"'[7]Список изделий'!Y3611","v":0},{"$f":"'[7]Список изделий'!Z3611","v":0},{"$f":"'[7]Список изделий'!AA3611","v":0},{"$f":"'[7]Список изделий'!AB3611","v":0},{"$f":"'[7]Список изделий'!AC3611","v":"x"},{"$f":"'[7]Список изделий'!AD3611","v":0},{"$f":"'[7]Список изделий'!AE3611","v":0},{"$f":"'[7]Список изделий'!AF3611","v":"00:00:00"},{"$f":"'[7]Список изделий'!AY3611","v":0},{"$f":"'[7]Список изделий'!AZ3611","v":"00:00:00"},-43153,-43153,0,0,{"$f":"'[7]Список изделий'!BR3611","v":0},0]
[446,{"$f":"'[7]Список изделий'!D3693","v":46},{"$f":"'[7]Список изделий'!E3693","v":0},{"$f":"'[7]Список изделий'!F3693","v":0},{"$f":"'[7]Список изделий'!I3693","v":0},{"$f":"'[7]Список изделий'!X3693","v":0},{"$f":"'[7]Список изделий'!Y3693","v":0},{"$f":"'[7]Список изделий'!Z3693","v":0},{"$f":"'[7]Список изделий'!AA3693","v":0},{"$f":"'[7]Список изделий'!AB3693","v":0},{"$f":"'[7]Список изделий'!AC3693","v":"x"},{"$f":"'[7]Список изделий'!AD3693","v":0},{"$f":"'[7]Список изделий'!AE3693","v":0},{"$f":"'[7]Список изделий'!AF3693","v":"00:00:00"},{"$f":"'[7]Список изделий'!AY3693","v":0},{"$f":"'[7]Список изделий'!AZ3693","v":"00:00:00"},-43153,-43153,0,0,{"$f":"'[7]Список изделий'!BR3693","v":0},0]
[447,{"$f":"'[7]Список изделий'!D3775","v":47},{"$f":"'[7]Список изделий'!E3775","v":0},{"$f":"'[7]Список изделий'!F3775","v":0},{"$f":"'[7]Список изделий'!I3775","v":0},{"$f":"'[7]Список изделий'!X3775","v":0},{"$f":"'[7]Список изделий'!Y3775","v":0},{"$f":"'[7]Список изделий'!Z3775","v":0},{"$f":"'[7]Список изделий'!AA3775","v":0},{"$f":"'[7]Список изделий'!AB3775","v":0},{"$f":"'[7]Список изделий'!AC3775","v":"x"},{"$f":"'[7]Список изделий'!AD3775","v":0},{"$f":"'[7]Список изделий'!AE3775","v":0},{"$f":"'[7]Список изделий'!AF3775","v":"00:00:00"},{"$f":"'[7]Список изделий'!AY3775","v":0},{"$f":"'[7]Список изделий'!AZ3775","v":"00:00:00"},-43153,-43153,0,0,{"$f":"'[7]Список изделий'!BR3775","v":0},0]
[448,{"$f":"'[7]Список изделий'!D3857","v":48},{"$f":"'[7]Список изделий'!E3857","v":0},{"$f":"'[7]Список изделий'!F3857","v":0},{"$f":"'[7]Список изделий'!I3857","v":0},{"$f":"'[7]Список изделий'!X3857","v":0},{"$f":"'[7]Список изделий'!Y3857","v":0},{"$f":"'[7]Список изделий'!Z3857","v":0},{"$f":"'[7]Список изделий'!AA3857","v":0},{"$f":"'[7]Список изделий'!AB3857","v":0},{"$f":"'[7]Список изделий'!AC3857","v":"x"},{"$f":"'[7]Список изделий'!AD3857","v":0},{"$f":"'[7]Список изделий'!AE3857","v":0},{"$f":"'[7]Список изделий'!AF3857","v":"00:00:00"},{"$f":"'[7]Список изделий'!AY3857","v":0},{"$f":"'[7]Список изделий'!AZ3857","v":"00:00:00"},-43153,-43153,0,0,{"$f":"'[7]Список изделий'!BR3857","v":0},0]
[449,{"$f":"'[7]Список изделий'!D3939","v":49},{"$f":"'[7]Список изделий'!E3939","v":0},{"$f":"'[7]Список изделий'!F3939","v":0},{"$f":"'[7]Список изделий'!I3939","v":0},{"$f":"'[7]Список изделий'!X3939","v":0},{"$f":"'[7]Список изделий'!Y3939","v":0},{"$f":"'[7]Список изделий'!Z3939","v":0},{"$f":"'[7]Список изделий'!AA3939","v":0},{"$f":"'[7]Список изделий'!AB3939","v":0},{"$f":"'[7]Список изделий'!AC3939","v":"x"},{"$f":"'[7]Список изделий'!AD3939","v":0},{"$f":"'[7]Список изделий'!AE3939","v":0},{"$f":"'[7]Список изделий'!AF3939","v":"00:00:00"},{"$f":"'[7]Список изделий'!AY3939","v":0},{"$f":"'[7]Список изделий'!AZ3939","v":"00:00:00"},-43153,-43153,0,0,{"$f":"'[7]Список изделий'!BR3939","v":0},0]
[450,{"$f":"'[7]Список изделий'!D4021","v":50},{"$f":"'[7]Список изделий'!E4021","v":0},{"$f":"'[7]Список изделий'!F4021","v":0},{"$f":"'[7]Список изделий'!I4021","v":0},{"$f":"'[7]Список изделий'!X4021","v":0},{"$f":"'[7]Список изделий'!Y4021","v":0},{"$f":"'[7]Список изделий'!Z4021","v":0},{"$f":"'[7]Список изделий'!AA4021","v":0},{"$f":"'[7]Список изделий'!AB4021","v":0},{"$f":"'[7]Список изделий'!AC4021","v":"x"},{"$f":"'[7]Список изделий'!AD4021","v":0},{"$f":"'[7]Список изделий'!AE4021","v":0},{"$f":"'[7]Список изделий'!AF4021","v":"00:00:00"},{"$f":"'[7]Список изделий'!AY4021","v":0},{"$f":"'[7]Список изделий'!AZ4021","v":"00:00:00"},{"$f":"IF(O452=\"нет в заказе\",\"нет в заказе\",-(TODAY()-(P452-O452)))","v":-43153},{"$f":"IF(Q452=\"нет в заказе\",\"нет взаказе\",-(IF(O452=\"нет в заказе\",\"нет в заказе\",TODAY()-P452)))","v":-43153},0,{"$f":"V452","v":0},{"$f":"'[7]Список изделий'!BR4021","v":0},{"$f":"IF(S452>=0,S452,IF(T452>S452,T452,S452))","v":0}]
[451,{"$f":"'[7]Список изделий'!D4103","v":51},{"$f":"'[7]Список изделий'!E4103","v":0},{"$f":"'[7]Список изделий'!F4103","v":0},{"$f":"'[7]Список изделий'!I4103","v":0},{"$f":"'[7]Список изделий'!X4103","v":0},{"$f":"'[7]Список изделий'!Y4103","v":0},{"$f":"'[7]Список изделий'!Z4103","v":0},{"$f":"'[7]Список изделий'!AA4103","v":0},{"$f":"'[7]Список изделий'!AB4103","v":0},{"$f":"'[7]Список изделий'!AC4103","v":"x"},{"$f":"'[7]Список изделий'!AD4103","v":0},{"$f":"'[7]Список изделий'!AE4103","v":0},{"$f":"'[7]Список изделий'!AF4103","v":"00:00:00"},{"$f":"'[7]Список изделий'!AY4103","v":0},{"$f":"'[7]Список изделий'!AZ4103","v":"00:00:00"},-43153,-43153,0,0,{"$f":"'[7]Список изделий'!BR4103","v":0},0]
[452,{"$f":"'[7]Список изделий'!D4185","v":52},{"$f":"'[7]Список изделий'!E4185","v":0},{"$f":"'[7]Список изделий'!F4185","v":0},{"$f":"'[7]Список изделий'!I4185","v":0},{"$f":"'[7]Список изделий'!X4185","v":0},{"$f":"'[7]Список изделий'!Y4185","v":0},{"$f":"'[7]Список изделий'!Z4185","v":0},{"$f":"'[7]Список изделий'!AA4185","v":0},{"$f":"'[7]Список изделий'!AB4185","v":0},{"$f":"'[7]Список изделий'!AC4185","v":"x"},{"$f":"'[7]Список изделий'!AD4185","v":0},{"$f":"'[7]Список изделий'!AE4185","v":0},{"$f":"'[7]Список изделий'!AF4185","v":"00:00:00"},{"$f":"'[7]Список изделий'!AY4185","v":0},{"$f":"'[7]Список изделий'!AZ4185","v":"00:00:00"},-43153,-43153,0,0,{"$f":"'[7]Список изделий'!BR4185","v":0},0]
[453,{"$f":"'[7]Список изделий'!D4267","v":53},{"$f":"'[7]Список изделий'!E4267","v":0},{"$f":"'[7]Список изделий'!F4267","v":0},{"$f":"'[7]Список изделий'!I4267","v":0},{"$f":"'[7]Список изделий'!X4267","v":0},{"$f":"'[7]Список изделий'!Y4267","v":0},{"$f":"'[7]Список изделий'!Z4267","v":0},{"$f":"'[7]Список изделий'!AA4267","v":0},{"$f":"'[7]Список изделий'!AB4267","v":0},{"$f":"'[7]Список изделий'!AC4267","v":"x"},{"$f":"'[7]Список изделий'!AD4267","v":0},{"$f":"'[7]Список изделий'!AE4267","v":0},{"$f":"'[7]Список изделий'!AF4267","v":"00:00:00"},{"$f":"'[7]Список изделий'!AY4267","v":0},{"$f":"'[7]Список изделий'!AZ4267","v":"00:00:00"},-43153,-43153,0,0,{"$f":"'[7]Список изделий'!BR4267","v":0},0]
[454,{"$f":"'[7]Список изделий'!D4349","v":54},{"$f":"'[7]Список изделий'!E4349","v":0},{"$f":"'[7]Список изделий'!F4349","v":0},{"$f":"'[7]Список изделий'!I4349","v":0},{"$f":"'[7]Список изделий'!X4349","v":0},{"$f":"'[7]Список изделий'!Y4349","v":0},{"$f":"'[7]Список изделий'!Z4349","v":0},{"$f":"'[7]Список изделий'!AA4349","v":0},{"$f":"'[7]Список изделий'!AB4349","v":0},{"$f":"'[7]Список изделий'!AC4349","v":"x"},{"$f":"'[7]Список изделий'!AD4349","v":0},{"$f":"'[7]Список изделий'!AE4349","v":0},{"$f":"'[7]Список изделий'!AF4349","v":"00:00:00"},{"$f":"'[7]Список изделий'!AY4349","v":0},{"$f":"'[7]Список изделий'!AZ4349","v":"00:00:00"},-43153,-43153,0,0,{"$f":"'[7]Список изделий'!BR4349","v":0},0]
[455,{"$f":"'[7]Список изделий'!D4431","v":55},{"$f":"'[7]Список изделий'!E4431","v":0},{"$f":"'[7]Список изделий'!F4431","v":0},{"$f":"'[7]Список изделий'!I4431","v":0},{"$f":"'[7]Список изделий'!X4431","v":0},{"$f":"'[7]Список изделий'!Y4431","v":0},{"$f":"'[7]Список изделий'!Z4431","v":0},{"$f":"'[7]Список изделий'!AA4431","v":0},{"$f":"'[7]Список изделий'!AB4431","v":0},{"$f":"'[7]Список изделий'!AC4431","v":"x"},{"$f":"'[7]Список изделий'!AD4431","v":0},{"$f":"'[7]Список изделий'!AE4431","v":0},{"$f":"'[7]Список изделий'!AF4431","v":"00:00:00"},{"$f":"'[7]Список изделий'!AY4431","v":0},{"$f":"'[7]Список изделий'!AZ4431","v":"00:00:00"},-43153,-43153,0,0,{"$f":"'[7]Список изделий'!BR4431","v":0},0]
[456,{"$f":"'[7]Список изделий'!D4513","v":56},{"$f":"'[7]Список изделий'!E4513","v":0},{"$f":"'[7]Список изделий'!F4513","v":0},{"$f":"'[7]Список изделий'!I4513","v":0},{"$f":"'[7]Список изделий'!X4513","v":0},{"$f":"'[7]Список изделий'!Y4513","v":0},{"$f":"'[7]Список изделий'!Z4513","v":0},{"$f":"'[7]Список изделий'!AA4513","v":0},{"$f":"'[7]Список изделий'!AB4513","v":0},{"$f":"'[7]Список изделий'!AC4513","v":"x"},{"$f":"'[7]Список изделий'!AD4513","v":0},{"$f":"'[7]Список изделий'!AE4513","v":0},{"$f":"'[7]Список изделий'!AF4513","v":"00:00:00"},{"$f":"'[7]Список изделий'!AY4513","v":0},{"$f":"'[7]Список изделий'!AZ4513","v":"00:00:00"},-43153,-43153,0,0,{"$f":"'[7]Список изделий'!BR4513","v":0},0]
[457,{"$f":"'[7]Список изделий'!D4595","v":57},{"$f":"'[7]Список изделий'!E4595","v":0},{"$f":"'[7]Список изделий'!F4595","v":0},{"$f":"'[7]Список изделий'!I4595","v":0},{"$f":"'[7]Список изделий'!X4595","v":0},{"$f":"'[7]Список изделий'!Y4595","v":0},{"$f":"'[7]Список изделий'!Z4595","v":0},{"$f":"'[7]Список изделий'!AA4595","v":0},{"$f":"'[7]Список изделий'!AB4595","v":0},{"$f":"'[7]Список изделий'!AC4595","v":"x"},{"$f":"'[7]Список изделий'!AD4595","v":0},{"$f":"'[7]Список изделий'!AE4595","v":0},{"$f":"'[7]Список изделий'!AF4595","v":"00:00:00"},{"$f":"'[7]Список изделий'!AY4595","v":0},{"$f":"'[7]Список изделий'!AZ4595","v":"00:00:00"},-43153,-43153,0,0,{"$f":"'[7]Список изделий'!BR4595","v":0},0]
[458,{"$f":"'[7]Список изделий'!D4677","v":58},{"$f":"'[7]Список изделий'!E4677","v":0},{"$f":"'[7]Список изделий'!F4677","v":0},{"$f":"'[7]Список изделий'!I4677","v":0},{"$f":"'[7]Список изделий'!X4677","v":0},{"$f":"'[7]Список изделий'!Y4677","v":0},{"$f":"'[7]Список изделий'!Z4677","v":0},{"$f":"'[7]Список изделий'!AA4677","v":0},{"$f":"'[7]Список изделий'!AB4677","v":0},{"$f":"'[7]Список изделий'!AC4677","v":"x"},{"$f":"'[7]Список изделий'!AD4677","v":0},{"$f":"'[7]Список изделий'!AE4677","v":0},{"$f":"'[7]Список изделий'!AF4677","v":"00:00:00"},{"$f":"'[7]Список изделий'!AY4677","v":0},{"$f":"'[7]Список изделий'!AZ4677","v":"00:00:00"},-43153,-43153,0,0,{"$f":"'[7]Список изделий'!BR4677","v":0},0]
[459,{"$f":"'[7]Список изделий'!D4759","v":59},{"$f":"'[7]Список изделий'!E4759","v":0},{"$f":"'[7]Список изделий'!F4759","v":0},{"$f":"'[7]Список изделий'!I4759","v":0},{"$f":"'[7]Список изделий'!X4759","v":0},{"$f":"'[7]Список изделий'!Y4759","v":0},{"$f":"'[7]Список изделий'!Z4759","v":0},{"$f":"'[7]Список изделий'!AA4759","v":0},{"$f":"'[7]Список изделий'!AB4759","v":0},{"$f":"'[7]Список изделий'!AC4759","v":"x"},{"$f":"'[7]Список изделий'!AD4759","v":0},{"$f":"'[7]Список изделий'!AE4759","v":0},{"$f":"'[7]Список изделий'!AF4759","v":"00:00:00"},{"$f":"'[7]Список изделий'!AY4759","v":0},{"$f":"'[7]Список изделий'!AZ4759","v":"00:00:00"},-43153,-43153,0,0,{"$f":"'[7]Список изделий'!BR4759","v":0},0]
[460,{"$f":"'[7]Список изделий'!D4841","v":60},{"$f":"'[7]Список изделий'!E4841","v":0},{"$f":"'[7]Список изделий'!F4841","v":0},{"$f":"'[7]Список изделий'!I4841","v":0},{"$f":"'[7]Список изделий'!X4841","v":0},{"$f":"'[7]Список изделий'!Y4841","v":0},{"$f":"'[7]Список изделий'!Z4841","v":0},{"$f":"'[7]Список изделий'!AA4841","v":0},{"$f":"'[7]Список изделий'!AB4841","v":0},{"$f":"'[7]Список изделий'!AC4841","v":"x"},{"$f":"'[7]Список изделий'!AD4841","v":0},{"$f":"'[7]Список изделий'!AE4841","v":0},{"$f":"'[7]Список изделий'!AF4841","v":"00:00:00"},{"$f":"'[7]Список изделий'!AY4841","v":0},{"$f":"'[7]Список изделий'!AZ4841","v":"00:00:00"},-43153,-43153,0,0,{"$f":"'[7]Список изделий'!BR4841","v":0},0]
[461,{"$f":"'[7]Список изделий'!D4923","v":61},{"$f":"'[7]Список изделий'!E4923","v":0},{"$f":"'[7]Список изделий'!F4923","v":0},{"$f":"'[7]Список изделий'!I4923","v":0},{"$f":"'[7]Список изделий'!X4923","v":0},{"$f":"'[7]Список изделий'!Y4923","v":0},{"$f":"'[7]Список изделий'!Z4923","v":0},{"$f":"'[7]Список изделий'!AA4923","v":0},{"$f":"'[7]Список изделий'!AB4923","v":0},{"$f":"'[7]Список изделий'!AC4923","v":"x"},{"$f":"'[7]Список изделий'!AD4923","v":0},{"$f":"'[7]Список изделий'!AE4923","v":0},{"$f":"'[7]Список изделий'!AF4923","v":"00:00:00"},{"$f":"'[7]Список изделий'!AY4923","v":0},{"$f":"'[7]Список изделий'!AZ4923","v":"00:00:00"},-43153,-43153,0,0,{"$f":"'[7]Список изделий'!BR4923","v":0},0]
[462,{"$f":"'[7]Список изделий'!D5005","v":62},{"$f":"'[7]Список изделий'!E5005","v":0},{"$f":"'[7]Список изделий'!F5005","v":0},{"$f":"'[7]Список изделий'!I5005","v":0},{"$f":"'[7]Список изделий'!X5005","v":0},{"$f":"'[7]Список изделий'!Y5005","v":0},{"$f":"'[7]Список изделий'!Z5005","v":0},{"$f":"'[7]Список изделий'!AA5005","v":0},{"$f":"'[7]Список изделий'!AB5005","v":0},{"$f":"'[7]Список изделий'!AC5005","v":"x"},{"$f":"'[7]Список изделий'!AD5005","v":0},{"$f":"'[7]Список изделий'!AE5005","v":0},{"$f":"'[7]Список изделий'!AF5005","v":"00:00:00"},{"$f":"'[7]Список изделий'!AY5005","v":0},{"$f":"'[7]Список изделий'!AZ5005","v":"00:00:00"},-43153,-43153,0,0,{"$f":"'[7]Список изделий'!BR5005","v":0},0]
[463,{"$f":"'[7]Список изделий'!D5087","v":63},{"$f":"'[7]Список изделий'!E5087","v":0},{"$f":"'[7]Список изделий'!F5087","v":0},{"$f":"'[7]Список изделий'!I5087","v":0},{"$f":"'[7]Список изделий'!X5087","v":0},{"$f":"'[7]Список изделий'!Y5087","v":0},{"$f":"'[7]Список изделий'!Z5087","v":0},{"$f":"'[7]Список изделий'!AA5087","v":0},{"$f":"'[7]Список изделий'!AB5087","v":0},{"$f":"'[7]Список изделий'!AC5087","v":"x"},{"$f":"'[7]Список изделий'!AD5087","v":0},{"$f":"'[7]Список изделий'!AE5087","v":0},{"$f":"'[7]Список изделий'!AF5087","v":"00:00:00"},{"$f":"'[7]Список изделий'!AY5087","v":0},{"$f":"'[7]Список изделий'!AZ5087","v":"00:00:00"},-43153,-43153,0,0,{"$f":"'[7]Список изделий'!BR5087","v":0},0]
[464,{"$f":"'[7]Список изделий'!D5169","v":64},{"$f":"'[7]Список изделий'!E5169","v":0},{"$f":"'[7]Список изделий'!F5169","v":0},{"$f":"'[7]Список изделий'!I5169","v":0},{"$f":"'[7]Список изделий'!X5169","v":0},{"$f":"'[7]Список изделий'!Y5169","v":0},{"$f":"'[7]Список изделий'!Z5169","v":0},{"$f":"'[7]Список изделий'!AA5169","v":0},{"$f":"'[7]Список изделий'!AB5169","v":0},{"$f":"'[7]Список изделий'!AC5169","v":"x"},{"$f":"'[7]Список изделий'!AD5169","v":0},{"$f":"'[7]Список изделий'!AE5169","v":0},{"$f":"'[7]Список изделий'!AF5169","v":"00:00:00"},{"$f":"'[7]Список изделий'!AY5169","v":0},{"$f":"'[7]Список изделий'!AZ5169","v":"00:00:00"},-43153,-43153,0,0,{"$f":"'[7]Список изделий'!BR5169","v":0},0]
[465,{"$f":"'[7]Список изделий'!D5251","v":65},{"$f":"'[7]Список изделий'!E5251","v":0},{"$f":"'[7]Список изделий'!F5251","v":0},{"$f":"'[7]Список изделий'!I5251","v":0},{"$f":"'[7]Список изделий'!X5251","v":0},{"$f":"'[7]Список изделий'!Y5251","v":0},{"$f":"'[7]Список изделий'!Z5251","v":0},{"$f":"'[7]Список изделий'!AA5251","v":0},{"$f":"'[7]Список изделий'!AB5251","v":0},{"$f":"'[7]Список изделий'!AC5251","v":"x"},{"$f":"'[7]Список изделий'!AD5251","v":0},{"$f":"'[7]Список изделий'!AE5251","v":0},{"$f":"'[7]Список изделий'!AF5251","v":"00:00:00"},{"$f":"'[7]Список изделий'!AY5251","v":0},{"$f":"'[7]Список изделий'!AZ5251","v":"00:00:00"},-43153,-43153,0,0,{"$f":"'[7]Список изделий'!BR5251","v":0},0]
[466,{"$f":"'[7]Список изделий'!D5333","v":66},{"$f":"'[7]Список изделий'!E5333","v":0},{"$f":"'[7]Список изделий'!F5333","v":0},{"$f":"'[7]Список изделий'!I5333","v":0},{"$f":"'[7]Список изделий'!X5333","v":0},{"$f":"'[7]Список изделий'!Y5333","v":0},{"$f":"'[7]Список изделий'!Z5333","v":0},{"$f":"'[7]Список изделий'!AA5333","v":0},{"$f":"'[7]Список изделий'!AB5333","v":0},{"$f":"'[7]Список изделий'!AC5333","v":"x"},{"$f":"'[7]Список изделий'!AD5333","v":0},{"$f":"'[7]Список изделий'!AE5333","v":0},{"$f":"'[7]Список изделий'!AF5333","v":"00:00:00"},{"$f":"'[7]Список изделий'!AY5333","v":0},{"$f":"'[7]Список изделий'!AZ5333","v":"00:00:00"},-43153,-43153,0,0,{"$f":"'[7]Список изделий'!BR5333","v":0},0]
[467,{"$f":"'[7]Список изделий'!D5415","v":67},{"$f":"'[7]Список изделий'!E5415","v":0},{"$f":"'[7]Список изделий'!F5415","v":0},{"$f":"'[7]Список изделий'!I5415","v":0},{"$f":"'[7]Список изделий'!X5415","v":0},{"$f":"'[7]Список изделий'!Y5415","v":0},{"$f":"'[7]Список изделий'!Z5415","v":0},{"$f":"'[7]Список изделий'!AA5415","v":0},{"$f":"'[7]Список изделий'!AB5415","v":0},{"$f":"'[7]Список изделий'!AC5415","v":"x"},{"$f":"'[7]Список изделий'!AD5415","v":0},{"$f":"'[7]Список изделий'!AE5415","v":0},{"$f":"'[7]Список изделий'!AF5415","v":"00:00:00"},{"$f":"'[7]Список изделий'!AY5415","v":0},{"$f":"'[7]Список изделий'!AZ5415","v":"00:00:00"},-43153,-43153,0,0,{"$f":"'[7]Список изделий'!BR5415","v":0},0]
[468,{"$f":"'[7]Список изделий'!D5497","v":68},{"$f":"'[7]Список изделий'!E5497","v":0},{"$f":"'[7]Список изделий'!F5497","v":0},{"$f":"'[7]Список изделий'!I5497","v":0},{"$f":"'[7]Список изделий'!X5497","v":0},{"$f":"'[7]Список изделий'!Y5497","v":0},{"$f":"'[7]Список изделий'!Z5497","v":0},{"$f":"'[7]Список изделий'!AA5497","v":0},{"$f":"'[7]Список изделий'!AB5497","v":0},{"$f":"'[7]Список изделий'!AC5497","v":"x"},{"$f":"'[7]Список изделий'!AD5497","v":0},{"$f":"'[7]Список изделий'!AE5497","v":0},{"$f":"'[7]Список изделий'!AF5497","v":"00:00:00"},{"$f":"'[7]Список изделий'!AY5497","v":0},{"$f":"'[7]Список изделий'!AZ5497","v":"00:00:00"},-43153,-43153,0,0,{"$f":"'[7]Список изделий'!BR5497","v":0},0]
[469,{"$f":"'[7]Список изделий'!D5579","v":69},{"$f":"'[7]Список изделий'!E5579","v":0},{"$f":"'[7]Список изделий'!F5579","v":0},{"$f":"'[7]Список изделий'!I5579","v":0},{"$f":"'[7]Список изделий'!X5579","v":0},{"$f":"'[7]Список изделий'!Y5579","v":0},{"$f":"'[7]Список изделий'!Z5579","v":0},{"$f":"'[7]Список изделий'!AA5579","v":0},{"$f":"'[7]Список изделий'!AB5579","v":0},{"$f":"'[7]Список изделий'!AC5579","v":"x"},{"$f":"'[7]Список изделий'!AD5579","v":0},{"$f":"'[7]Список изделий'!AE5579","v":0},{"$f":"'[7]Список изделий'!AF5579","v":"00:00:00"},{"$f":"'[7]Список изделий'!AY5579","v":0},{"$f":"'[7]Список изделий'!AZ5579","v":"00:00:00"},-43153,-43153,0,0,{"$f":"'[7]Список изделий'!BR5579","v":0},0]
[470,{"$f":"'[7]Список изделий'!D5661","v":70},{"$f":"'[7]Список изделий'!E5661","v":0},{"$f":"'[7]Список изделий'!F5661","v":0},{"$f":"'[7]Список изделий'!I5661","v":0},{"$f":"'[7]Список изделий'!X5661","v":0},{"$f":"'[7]Список изделий'!Y5661","v":0},{"$f":"'[7]Список изделий'!Z5661","v":0},{"$f":"'[7]Список изделий'!AA5661","v":0},{"$f":"'[7]Список изделий'!AB5661","v":0},{"$f":"'[7]Список изделий'!AC5661","v":"x"},{"$f":"'[7]Список изделий'!AD5661","v":0},{"$f":"'[7]Список изделий'!AE5661","v":0},{"$f":"'[7]Список изделий'!AF5661","v":"00:00:00"},{"$f":"'[7]Список изделий'!AY5661","v":0},{"$f":"'[7]Список изделий'!AZ5661","v":"00:00:00"},-43153,-43153,0,0,{"$f":"'[7]Список изделий'!BR5661","v":0},0]
[471,{"$f":"'[7]Список изделий'!D5743","v":71},{"$f":"'[7]Список изделий'!E5743","v":0},{"$f":"'[7]Список изделий'!F5743","v":0},{"$f":"'[7]Список изделий'!I5743","v":0},{"$f":"'[7]Список изделий'!X5743","v":0},{"$f":"'[7]Список изделий'!Y5743","v":0},{"$f":"'[7]Список изделий'!Z5743","v":0},{"$f":"'[7]Список изделий'!AA5743","v":0},{"$f":"'[7]Список изделий'!AB5743","v":0},{"$f":"'[7]Список изделий'!AC5743","v":"x"},{"$f":"'[7]Список изделий'!AD5743","v":0},{"$f":"'[7]Список изделий'!AE5743","v":0},{"$f":"'[7]Список изделий'!AF5743","v":"00:00:00"},{"$f":"'[7]Список изделий'!AY5743","v":0},{"$f":"'[7]Список изделий'!AZ5743","v":"00:00:00"},-43153,-43153,0,0,{"$f":"'[7]Список изделий'!BR5743","v":0},0]
[472,{"$f":"'[7]Список изделий'!D5825","v":72},{"$f":"'[7]Список изделий'!E5825","v":0},{"$f":"'[7]Список изделий'!F5825","v":0},{"$f":"'[7]Список изделий'!I5825","v":0},{"$f":"'[7]Список изделий'!X5825","v":0},{"$f":"'[7]Список изделий'!Y5825","v":0},{"$f":"'[7]Список изделий'!Z5825","v":0},{"$f":"'[7]Список изделий'!AA5825","v":0},{"$f":"'[7]Список изделий'!AB5825","v":0},{"$f":"'[7]Список изделий'!AC5825","v":"x"},{"$f":"'[7]Список изделий'!AD5825","v":0},{"$f":"'[7]Список изделий'!AE5825","v":0},{"$f":"'[7]Список изделий'!AF5825","v":"00:00:00"},{"$f":"'[7]Список изделий'!AY5825","v":0},{"$f":"'[7]Список изделий'!AZ5825","v":"00:00:00"},-43153,-43153,0,0,{"$f":"'[7]Список изделий'!BR5825","v":0},0]
[473,{"$f":"'[7]Список изделий'!D5907","v":73},{"$f":"'[7]Список изделий'!E5907","v":0},{"$f":"'[7]Список изделий'!F5907","v":0},{"$f":"'[7]Список изделий'!I5907","v":0},{"$f":"'[7]Список изделий'!X5907","v":0},{"$f":"'[7]Список изделий'!Y5907","v":0},{"$f":"'[7]Список изделий'!Z5907","v":0},{"$f":"'[7]Список изделий'!AA5907","v":0},{"$f":"'[7]Список изделий'!AB5907","v":0},{"$f":"'[7]Список изделий'!AC5907","v":"x"},{"$f":"'[7]Список изделий'!AD5907","v":0},{"$f":"'[7]Список изделий'!AE5907","v":0},{"$f":"'[7]Список изделий'!AF5907","v":"00:00:00"},{"$f":"'[7]Список изделий'!AY5907","v":0},{"$f":"'[7]Список изделий'!AZ5907","v":"00:00:00"},-43153,-43153,0,0,{"$f":"'[7]Список изделий'!BR5907","v":0},0]
[474,{"$f":"'[7]Список изделий'!D5989","v":74},{"$f":"'[7]Список изделий'!E5989","v":0},{"$f":"'[7]Список изделий'!F5989","v":0},{"$f":"'[7]Список изделий'!I5989","v":0},{"$f":"'[7]Список изделий'!X5989","v":0},{"$f":"'[7]Список изделий'!Y5989","v":0},{"$f":"'[7]Список изделий'!Z5989","v":0},{"$f":"'[7]Список изделий'!AA5989","v":0},{"$f":"'[7]Список изделий'!AB5989","v":0},{"$f":"'[7]Список изделий'!AC5989","v":"x"},{"$f":"'[7]Список изделий'!AD5989","v":0},{"$f":"'[7]Список изделий'!AE5989","v":0},{"$f":"'[7]Список изделий'!AF5989","v":"00:00:00"},{"$f":"'[7]Список изделий'!AY5989","v":0},{"$f":"'[7]Список изделий'!AZ5989","v":"00:00:00"},-43153,-43153,0,0,{"$f":"'[7]Список изделий'!BR5989","v":0},0]
[475,{"$f":"'[7]Список изделий'!D6071","v":75},{"$f":"'[7]Список изделий'!E6071","v":0},{"$f":"'[7]Список изделий'!F6071","v":0},{"$f":"'[7]Список изделий'!I6071","v":0},{"$f":"'[7]Список изделий'!X6071","v":0},{"$f":"'[7]Список изделий'!Y6071","v":0},{"$f":"'[7]Список изделий'!Z6071","v":0},{"$f":"'[7]Список изделий'!AA6071","v":0},{"$f":"'[7]Список изделий'!AB6071","v":0},{"$f":"'[7]Список изделий'!AC6071","v":"x"},{"$f":"'[7]Список изделий'!AD6071","v":0},{"$f":"'[7]Список изделий'!AE6071","v":0},{"$f":"'[7]Список изделий'!AF6071","v":"00:00:00"},{"$f":"'[7]Список изделий'!AY6071","v":0},{"$f":"'[7]Список изделий'!AZ6071","v":"00:00:00"},-43153,-43153,0,0,{"$f":"'[7]Список изделий'!BR6071","v":0},0]
[476,{"$f":"'[7]Список изделий'!D6153","v":76},{"$f":"'[7]Список изделий'!E6153","v":0},{"$f":"'[7]Список изделий'!F6153","v":0},{"$f":"'[7]Список изделий'!I6153","v":0},{"$f":"'[7]Список изделий'!X6153","v":0},{"$f":"'[7]Список изделий'!Y6153","v":0},{"$f":"'[7]Список изделий'!Z6153","v":0},{"$f":"'[7]Список изделий'!AA6153","v":0},{"$f":"'[7]Список изделий'!AB6153","v":0},{"$f":"'[7]Список изделий'!AC6153","v":"x"},{"$f":"'[7]Список изделий'!AD6153","v":0},{"$f":"'[7]Список изделий'!AE6153","v":0},{"$f":"'[7]Список изделий'!AF6153","v":"00:00:00"},{"$f":"'[7]Список изделий'!AY6153","v":0},{"$f":"'[7]Список изделий'!AZ6153","v":"00:00:00"},-43153,-43153,0,0,{"$f":"'[7]Список изделий'!BR6153","v":0},0]
[477,{"$f":"'[7]Список изделий'!D6235","v":77},{"$f":"'[7]Список изделий'!E6235","v":0},{"$f":"'[7]Список изделий'!F6235","v":0},{"$f":"'[7]Список изделий'!I6235","v":0},{"$f":"'[7]Список изделий'!X6235","v":0},{"$f":"'[7]Список изделий'!Y6235","v":0},{"$f":"'[7]Список изделий'!Z6235","v":0},{"$f":"'[7]Список изделий'!AA6235","v":0},{"$f":"'[7]Список изделий'!AB6235","v":0},{"$f":"'[7]Список изделий'!AC6235","v":"x"},{"$f":"'[7]Список изделий'!AD6235","v":0},{"$f":"'[7]Список изделий'!AE6235","v":0},{"$f":"'[7]Список изделий'!AF6235","v":"00:00:00"},{"$f":"'[7]Список изделий'!AY6235","v":0},{"$f":"'[7]Список изделий'!AZ6235","v":"00:00:00"},-43153,-43153,0,0,{"$f":"'[7]Список изделий'!BR6235","v":0},0]
[478,{"$f":"'[7]Список изделий'!D6317","v":78},{"$f":"'[7]Список изделий'!E6317","v":0},{"$f":"'[7]Список изделий'!F6317","v":0},{"$f":"'[7]Список изделий'!I6317","v":0},{"$f":"'[7]Список изделий'!X6317","v":0},{"$f":"'[7]Список изделий'!Y6317","v":0},{"$f":"'[7]Список изделий'!Z6317","v":0},{"$f":"'[7]Список изделий'!AA6317","v":0},{"$f":"'[7]Список изделий'!AB6317","v":0},{"$f":"'[7]Список изделий'!AC6317","v":"x"},{"$f":"'[7]Список изделий'!AD6317","v":0},{"$f":"'[7]Список изделий'!AE6317","v":0},{"$f":"'[7]Список изделий'!AF6317","v":"00:00:00"},{"$f":"'[7]Список изделий'!AY6317","v":0},{"$f":"'[7]Список изделий'!AZ6317","v":"00:00:00"},-43153,-43153,0,0,{"$f":"'[7]Список изделий'!BR6317","v":0},0]
[479,{"$f":"'[7]Список изделий'!D6399","v":79},{"$f":"'[7]Список изделий'!E6399","v":0},{"$f":"'[7]Список изделий'!F6399","v":0},{"$f":"'[7]Список изделий'!I6399","v":0},{"$f":"'[7]Список изделий'!X6399","v":0},{"$f":"'[7]Список изделий'!Y6399","v":0},{"$f":"'[7]Список изделий'!Z6399","v":0},{"$f":"'[7]Список изделий'!AA6399","v":0},{"$f":"'[7]Список изделий'!AB6399","v":0},{"$f":"'[7]Список изделий'!AC6399","v":"x"},{"$f":"'[7]Список изделий'!AD6399","v":0},{"$f":"'[7]Список изделий'!AE6399","v":0},{"$f":"'[7]Список изделий'!AF6399","v":"00:00:00"},{"$f":"'[7]Список изделий'!AY6399","v":0},{"$f":"'[7]Список изделий'!AZ6399","v":"00:00:00"},-43153,-43153,0,0,{"$f":"'[7]Список изделий'!BR6399","v":0},0]
[480,{"$f":"'[7]Список изделий'!D6481","v":80},{"$f":"'[7]Список изделий'!E6481","v":0},{"$f":"'[7]Список изделий'!F6481","v":0},{"$f":"'[7]Список изделий'!I6481","v":0},{"$f":"'[7]Список изделий'!X6481","v":0},{"$f":"'[7]Список изделий'!Y6481","v":0},{"$f":"'[7]Список изделий'!Z6481","v":0},{"$f":"'[7]Список изделий'!AA6481","v":0},{"$f":"'[7]Список изделий'!AB6481","v":0},{"$f":"'[7]Список изделий'!AC6481","v":"x"},{"$f":"'[7]Список изделий'!AD6481","v":0},{"$f":"'[7]Список изделий'!AE6481","v":0},{"$f":"'[7]Список изделий'!AF6481","v":"00:00:00"},{"$f":"'[7]Список изделий'!AY6481","v":0},{"$f":"'[7]Список изделий'!AZ6481","v":"00:00:00"},-43153,-43153,0,0,{"$f":"'[7]Список изделий'!BR6481","v":0},0]
[481,{"$f":"'[7]Список изделий'!D6563","v":81},{"$f":"'[7]Список изделий'!E6563","v":0},{"$f":"'[7]Список изделий'!F6563","v":0},{"$f":"'[7]Список изделий'!I6563","v":0},{"$f":"'[7]Список изделий'!X6563","v":0},{"$f":"'[7]Список изделий'!Y6563","v":0},{"$f":"'[7]Список изделий'!Z6563","v":0},{"$f":"'[7]Список изделий'!AA6563","v":0},{"$f":"'[7]Список изделий'!AB6563","v":0},{"$f":"'[7]Список изделий'!AC6563","v":"x"},{"$f":"'[7]Список изделий'!AD6563","v":0},{"$f":"'[7]Список изделий'!AE6563","v":0},{"$f":"'[7]Список изделий'!AF6563","v":"00:00:00"},{"$f":"'[7]Список изделий'!AY6563","v":0},{"$f":"'[7]Список изделий'!AZ6563","v":"00:00:00"},-43153,-43153,0,0,{"$f":"'[7]Список изделий'!BR6563","v":0},0]
[482,{"$f":"'[7]Список изделий'!D6645","v":82},{"$f":"'[7]Список изделий'!E6645","v":0},{"$f":"'[7]Список изделий'!F6645","v":0},{"$f":"'[7]Список изделий'!I6645","v":0},{"$f":"'[7]Список изделий'!X6645","v":0},{"$f":"'[7]Список изделий'!Y6645","v":0},{"$f":"'[7]Список изделий'!Z6645","v":0},{"$f":"'[7]Список изделий'!AA6645","v":0},{"$f":"'[7]Список изделий'!AB6645","v":0},{"$f":"'[7]Список изделий'!AC6645","v":"x"},{"$f":"'[7]Список изделий'!AD6645","v":0},{"$f":"'[7]Список изделий'!AE6645","v":0},{"$f":"'[7]Список изделий'!AF6645","v":"00:00:00"},{"$f":"'[7]Список изделий'!AY6645","v":0},{"$f":"'[7]Список изделий'!AZ6645","v":"00:00:00"},-43153,-43153,0,0,{"$f":"'[7]Список изделий'!BR6645","v":0},0]
[483,{"$f":"'[7]Список изделий'!D6727","v":83},{"$f":"'[7]Список изделий'!E6727","v":0},{"$f":"'[7]Список изделий'!F6727","v":0},{"$f":"'[7]Список изделий'!I6727","v":0},{"$f":"'[7]Список изделий'!X6727","v":0},{"$f":"'[7]Список изделий'!Y6727","v":0},{"$f":"'[7]Список изделий'!Z6727","v":0},{"$f":"'[7]Список изделий'!AA6727","v":0},{"$f":"'[7]Список изделий'!AB6727","v":0},{"$f":"'[7]Список изделий'!AC6727","v":"x"},{"$f":"'[7]Список изделий'!AD6727","v":0},{"$f":"'[7]Список изделий'!AE6727","v":0},{"$f":"'[7]Список изделий'!AF6727","v":"00:00:00"},{"$f":"'[7]Список изделий'!AY6727","v":0},{"$f":"'[7]Список изделий'!AZ6727","v":"00:00:00"},-43153,-43153,0,0,{"$f":"'[7]Список изделий'!BR6727","v":0},0]
[484,{"$f":"'[7]Список изделий'!D6809","v":84},{"$f":"'[7]Список изделий'!E6809","v":0},{"$f":"'[7]Список изделий'!F6809","v":0},{"$f":"'[7]Список изделий'!I6809","v":0},{"$f":"'[7]Список изделий'!X6809","v":0},{"$f":"'[7]Список изделий'!Y6809","v":0},{"$f":"'[7]Список изделий'!Z6809","v":0},{"$f":"'[7]Список изделий'!AA6809","v":0},{"$f":"'[7]Список изделий'!AB6809","v":0},{"$f":"'[7]Список изделий'!AC6809","v":"x"},{"$f":"'[7]Список изделий'!AD6809","v":0},{"$f":"'[7]Список изделий'!AE6809","v":0},{"$f":"'[7]Список изделий'!AF6809","v":"00:00:00"},{"$f":"'[7]Список изделий'!AY6809","v":0},{"$f":"'[7]Список изделий'!AZ6809","v":"00:00:00"},-43153,-43153,0,0,{"$f":"'[7]Список изделий'!BR6809","v":0},0]
[485,{"$f":"'[7]Список изделий'!D6891","v":85},{"$f":"'[7]Список изделий'!E6891","v":0},{"$f":"'[7]Список изделий'!F6891","v":0},{"$f":"'[7]Список изделий'!I6891","v":0},{"$f":"'[7]Список изделий'!X6891","v":0},{"$f":"'[7]Список изделий'!Y6891","v":0},{"$f":"'[7]Список изделий'!Z6891","v":0},{"$f":"'[7]Список изделий'!AA6891","v":0},{"$f":"'[7]Список изделий'!AB6891","v":0},{"$f":"'[7]Список изделий'!AC6891","v":"x"},{"$f":"'[7]Список изделий'!AD6891","v":0},{"$f":"'[7]Список изделий'!AE6891","v":0},{"$f":"'[7]Список изделий'!AF6891","v":"00:00:00"},{"$f":"'[7]Список изделий'!AY6891","v":0},{"$f":"'[7]Список изделий'!AZ6891","v":"00:00:00"},-43153,-43153,0,0,{"$f":"'[7]Список изделий'!BR6891","v":0},0]
[486,{"$f":"'[7]Список изделий'!D6973","v":86},{"$f":"'[7]Список изделий'!E6973","v":0},{"$f":"'[7]Список изделий'!F6973","v":0},{"$f":"'[7]Список изделий'!I6973","v":0},{"$f":"'[7]Список изделий'!X6973","v":0},{"$f":"'[7]Список изделий'!Y6973","v":0},{"$f":"'[7]Список изделий'!Z6973","v":0},{"$f":"'[7]Список изделий'!AA6973","v":0},{"$f":"'[7]Список изделий'!AB6973","v":0},{"$f":"'[7]Список изделий'!AC6973","v":"x"},{"$f":"'[7]Список изделий'!AD6973","v":0},{"$f":"'[7]Список изделий'!AE6973","v":0},{"$f":"'[7]Список изделий'!AF6973","v":"00:00:00"},{"$f":"'[7]Список изделий'!AY6973","v":0},{"$f":"'[7]Список изделий'!AZ6973","v":"00:00:00"},-43153,-43153,0,0,{"$f":"'[7]Список изделий'!BR6973","v":0},0]
[487,{"$f":"'[7]Список изделий'!D7055","v":87},{"$f":"'[7]Список изделий'!E7055","v":0},{"$f":"'[7]Список изделий'!F7055","v":0},{"$f":"'[7]Список изделий'!I7055","v":0},{"$f":"'[7]Список изделий'!X7055","v":0},{"$f":"'[7]Список изделий'!Y7055","v":0},{"$f":"'[7]Список изделий'!Z7055","v":0},{"$f":"'[7]Список изделий'!AA7055","v":0},{"$f":"'[7]Список изделий'!AB7055","v":0},{"$f":"'[7]Список изделий'!AC7055","v":"x"},{"$f":"'[7]Список изделий'!AD7055","v":0},{"$f":"'[7]Список изделий'!AE7055","v":0},{"$f":"'[7]Список изделий'!AF7055","v":"00:00:00"},{"$f":"'[7]Список изделий'!AY7055","v":0},{"$f":"'[7]Список изделий'!AZ7055","v":"00:00:00"},-43153,-43153,0,0,{"$f":"'[7]Список изделий'!BR7055","v":0},0]
[488,{"$f":"'[7]Список изделий'!D7137","v":88},{"$f":"'[7]Список изделий'!E7137","v":0},{"$f":"'[7]Список изделий'!F7137","v":0},{"$f":"'[7]Список изделий'!I7137","v":0},{"$f":"'[7]Список изделий'!X7137","v":0},{"$f":"'[7]Список изделий'!Y7137","v":0},{"$f":"'[7]Список изделий'!Z7137","v":0},{"$f":"'[7]Список изделий'!AA7137","v":0},{"$f":"'[7]Список изделий'!AB7137","v":0},{"$f":"'[7]Список изделий'!AC7137","v":"x"},{"$f":"'[7]Список изделий'!AD7137","v":0},{"$f":"'[7]Список изделий'!AE7137","v":0},{"$f":"'[7]Список изделий'!AF7137","v":"00:00:00"},{"$f":"'[7]Список изделий'!AY7137","v":0},{"$f":"'[7]Список изделий'!AZ7137","v":"00:00:00"},-43153,-43153,0,0,{"$f":"'[7]Список изделий'!BR7137","v":0},0]
[489,{"$f":"'[7]Список изделий'!D7219","v":89},{"$f":"'[7]Список изделий'!E7219","v":0},{"$f":"'[7]Список изделий'!F7219","v":0},{"$f":"'[7]Список изделий'!I7219","v":0},{"$f":"'[7]Список изделий'!X7219","v":0},{"$f":"'[7]Список изделий'!Y7219","v":0},{"$f":"'[7]Список изделий'!Z7219","v":0},{"$f":"'[7]Список изделий'!AA7219","v":0},{"$f":"'[7]Список изделий'!AB7219","v":0},{"$f":"'[7]Список изделий'!AC7219","v":"x"},{"$f":"'[7]Список изделий'!AD7219","v":0},{"$f":"'[7]Список изделий'!AE7219","v":0},{"$f":"'[7]Список изделий'!AF7219","v":"00:00:00"},{"$f":"'[7]Список изделий'!AY7219","v":0},{"$f":"'[7]Список изделий'!AZ7219","v":"00:00:00"},-43153,-43153,0,0,{"$f":"'[7]Список изделий'!BR7219","v":0},0]
[490,{"$f":"'[7]Список изделий'!D7301","v":90},{"$f":"'[7]Список изделий'!E7301","v":0},{"$f":"'[7]Список изделий'!F7301","v":0},{"$f":"'[7]Список изделий'!I7301","v":0},{"$f":"'[7]Список изделий'!X7301","v":0},{"$f":"'[7]Список изделий'!Y7301","v":0},{"$f":"'[7]Список изделий'!Z7301","v":0},{"$f":"'[7]Список изделий'!AA7301","v":0},{"$f":"'[7]Список изделий'!AB7301","v":0},{"$f":"'[7]Список изделий'!AC7301","v":"x"},{"$f":"'[7]Список изделий'!AD7301","v":0},{"$f":"'[7]Список изделий'!AE7301","v":0},{"$f":"'[7]Список изделий'!AF7301","v":"00:00:00"},{"$f":"'[7]Список изделий'!AY7301","v":0},{"$f":"'[7]Список изделий'!AZ7301","v":"00:00:00"},-43153,-43153,0,0,{"$f":"'[7]Список изделий'!BR7301","v":0},0]
[491,{"$f":"'[7]Список изделий'!D7383","v":91},{"$f":"'[7]Список изделий'!E7383","v":0},{"$f":"'[7]Список изделий'!F7383","v":0},{"$f":"'[7]Список изделий'!I7383","v":0},{"$f":"'[7]Список изделий'!X7383","v":0},{"$f":"'[7]Список изделий'!Y7383","v":0},{"$f":"'[7]Список изделий'!Z7383","v":0},{"$f":"'[7]Список изделий'!AA7383","v":0},{"$f":"'[7]Список изделий'!AB7383","v":0},{"$f":"'[7]Список изделий'!AC7383","v":"x"},{"$f":"'[7]Список изделий'!AD7383","v":0},{"$f":"'[7]Список изделий'!AE7383","v":0},{"$f":"'[7]Список изделий'!AF7383","v":"00:00:00"},{"$f":"'[7]Список изделий'!AY7383","v":0},{"$f":"'[7]Список изделий'!AZ7383","v":"00:00:00"},-43153,-43153,0,0,{"$f":"'[7]Список изделий'!BR7383","v":0},0]
[492,{"$f":"'[7]Список изделий'!D7465","v":92},{"$f":"'[7]Список изделий'!E7465","v":0},{"$f":"'[7]Список изделий'!F7465","v":0},{"$f":"'[7]Список изделий'!I7465","v":0},{"$f":"'[7]Список изделий'!X7465","v":0},{"$f":"'[7]Список изделий'!Y7465","v":0},{"$f":"'[7]Список изделий'!Z7465","v":0},{"$f":"'[7]Список изделий'!AA7465","v":0},{"$f":"'[7]Список изделий'!AB7465","v":0},{"$f":"'[7]Список изделий'!AC7465","v":"x"},{"$f":"'[7]Список изделий'!AD7465","v":0},{"$f":"'[7]Список изделий'!AE7465","v":0},{"$f":"'[7]Список изделий'!AF7465","v":"00:00:00"},{"$f":"'[7]Список изделий'!AY7465","v":0},{"$f":"'[7]Список изделий'!AZ7465","v":"00:00:00"},-43153,-43153,0,0,{"$f":"'[7]Список изделий'!BR7465","v":0},0]
[493,{"$f":"'[7]Список изделий'!D7547","v":93},{"$f":"'[7]Список изделий'!E7547","v":0},{"$f":"'[7]Список изделий'!F7547","v":0},{"$f":"'[7]Список изделий'!I7547","v":0},{"$f":"'[7]Список изделий'!X7547","v":0},{"$f":"'[7]Список изделий'!Y7547","v":0},{"$f":"'[7]Список изделий'!Z7547","v":0},{"$f":"'[7]Список изделий'!AA7547","v":0},{"$f":"'[7]Список изделий'!AB7547","v":0},{"$f":"'[7]Список изделий'!AC7547","v":"x"},{"$f":"'[7]Список изделий'!AD7547","v":0},{"$f":"'[7]Список изделий'!AE7547","v":0},{"$f":"'[7]Список изделий'!AF7547","v":"00:00:00"},{"$f":"'[7]Список изделий'!AY7547","v":0},{"$f":"'[7]Список изделий'!AZ7547","v":"00:00:00"},-43153,-43153,0,0,{"$f":"'[7]Список изделий'!BR7547","v":0},0]
[494,{"$f":"'[7]Список изделий'!D7629","v":94},{"$f":"'[7]Список изделий'!E7629","v":0},{"$f":"'[7]Список изделий'!F7629","v":0},{"$f":"'[7]Список изделий'!I7629","v":0},{"$f":"'[7]Список изделий'!X7629","v":0},{"$f":"'[7]Список изделий'!Y7629","v":0},{"$f":"'[7]Список изделий'!Z7629","v":0},{"$f":"'[7]Список изделий'!AA7629","v":0},{"$f":"'[7]Список изделий'!AB7629","v":0},{"$f":"'[7]Список изделий'!AC7629","v":"x"},{"$f":"'[7]Список изделий'!AD7629","v":0},{"$f":"'[7]Список изделий'!AE7629","v":0},{"$f":"'[7]Список изделий'!AF7629","v":"00:00:00"},{"$f":"'[7]Список изделий'!AY7629","v":0},{"$f":"'[7]Список изделий'!AZ7629","v":"00:00:00"},-43153,-43153,0,0,{"$f":"'[7]Список изделий'!BR7629","v":0},0]
[495,{"$f":"'[7]Список изделий'!D7711","v":95},{"$f":"'[7]Список изделий'!E7711","v":0},{"$f":"'[7]Список изделий'!F7711","v":0},{"$f":"'[7]Список изделий'!I7711","v":0},{"$f":"'[7]Список изделий'!X7711","v":0},{"$f":"'[7]Список изделий'!Y7711","v":0},{"$f":"'[7]Список изделий'!Z7711","v":0},{"$f":"'[7]Список изделий'!AA7711","v":0},{"$f":"'[7]Список изделий'!AB7711","v":0},{"$f":"'[7]Список изделий'!AC7711","v":"x"},{"$f":"'[7]Список изделий'!AD7711","v":0},{"$f":"'[7]Список изделий'!AE7711","v":0},{"$f":"'[7]Список изделий'!AF7711","v":"00:00:00"},{"$f":"'[7]Список изделий'!AY7711","v":0},{"$f":"'[7]Список изделий'!AZ7711","v":"00:00:00"},-43153,-43153,0,0,{"$f":"'[7]Список изделий'!BR7711","v":0},0]
[496,{"$f":"'[7]Список изделий'!D7793","v":96},{"$f":"'[7]Список изделий'!E7793","v":0},{"$f":"'[7]Список изделий'!F7793","v":0},{"$f":"'[7]Список изделий'!I7793","v":0},{"$f":"'[7]Список изделий'!X7793","v":0},{"$f":"'[7]Список изделий'!Y7793","v":0},{"$f":"'[7]Список изделий'!Z7793","v":0},{"$f":"'[7]Список изделий'!AA7793","v":0},{"$f":"'[7]Список изделий'!AB7793","v":0},{"$f":"'[7]Список изделий'!AC7793","v":"x"},{"$f":"'[7]Список изделий'!AD7793","v":0},{"$f":"'[7]Список изделий'!AE7793","v":0},{"$f":"'[7]Список изделий'!AF7793","v":"00:00:00"},{"$f":"'[7]Список изделий'!AY7793","v":0},{"$f":"'[7]Список изделий'!AZ7793","v":"00:00:00"},-43153,-43153,0,0,{"$f":"'[7]Список изделий'!BR7793","v":0},0]
[497,{"$f":"'[7]Список изделий'!D7875","v":97},{"$f":"'[7]Список изделий'!E7875","v":0},{"$f":"'[7]Список изделий'!F7875","v":0},{"$f":"'[7]Список изделий'!I7875","v":0},{"$f":"'[7]Список изделий'!X7875","v":0},{"$f":"'[7]Список изделий'!Y7875","v":0},{"$f":"'[7]Список изделий'!Z7875","v":0},{"$f":"'[7]Список изделий'!AA7875","v":0},{"$f":"'[7]Список изделий'!AB7875","v":0},{"$f":"'[7]Список изделий'!AC7875","v":"x"},{"$f":"'[7]Список изделий'!AD7875","v":0},{"$f":"'[7]Список изделий'!AE7875","v":0},{"$f":"'[7]Список изделий'!AF7875","v":"00:00:00"},{"$f":"'[7]Список изделий'!AY7875","v":0},{"$f":"'[7]Список изделий'!AZ7875","v":"00:00:00"},-43153,-43153,0,0,{"$f":"'[7]Список изделий'!BR7875","v":0},0]
[498,{"$f":"'[7]Список изделий'!D7957","v":98},{"$f":"'[7]Список изделий'!E7957","v":0},{"$f":"'[7]Список изделий'!F7957","v":0},{"$f":"'[7]Список изделий'!I7957","v":0},{"$f":"'[7]Список изделий'!X7957","v":0},{"$f":"'[7]Список изделий'!Y7957","v":0},{"$f":"'[7]Список изделий'!Z7957","v":0},{"$f":"'[7]Список изделий'!AA7957","v":0},{"$f":"'[7]Список изделий'!AB7957","v":0},{"$f":"'[7]Список изделий'!AC7957","v":"x"},{"$f":"'[7]Список изделий'!AD7957","v":0},{"$f":"'[7]Список изделий'!AE7957","v":0},{"$f":"'[7]Список изделий'!AF7957","v":"00:00:00"},{"$f":"'[7]Список изделий'!AY7957","v":0},{"$f":"'[7]Список изделий'!AZ7957","v":"00:00:00"},-43153,-43153,0,0,{"$f":"'[7]Список изделий'!BR7957","v":0},0]
[499,{"$f":"'[7]Список изделий'!D8039","v":99},{"$f":"'[7]Список изделий'!E8039","v":0},{"$f":"'[7]Список изделий'!F8039","v":0},{"$f":"'[7]Список изделий'!I8039","v":0},{"$f":"'[7]Список изделий'!X8039","v":0},{"$f":"'[7]Список изделий'!Y8039","v":0},{"$f":"'[7]Список изделий'!Z8039","v":0},{"$f":"'[7]Список изделий'!AA8039","v":0},{"$f":"'[7]Список изделий'!AB8039","v":0},{"$f":"'[7]Список изделий'!AC8039","v":"x"},{"$f":"'[7]Список изделий'!AD8039","v":0},{"$f":"'[7]Список изделий'!AE8039","v":0},{"$f":"'[7]Список изделий'!AF8039","v":"00:00:00"},{"$f":"'[7]Список изделий'!AY8039","v":0},{"$f":"'[7]Список изделий'!AZ8039","v":"00:00:00"},-43153,-43153,0,0,{"$f":"'[7]Список изделий'!BR8039","v":0},0]
[500,{"$f":"'[7]Список изделий'!D8121","v":100},{"$f":"'[7]Список изделий'!E8121","v":0},{"$f":"'[7]Список изделий'!F8121","v":0},{"$f":"'[7]Список изделий'!I8121","v":0},{"$f":"'[7]Список изделий'!X8121","v":0},{"$f":"'[7]Список изделий'!Y8121","v":0},{"$f":"'[7]Список изделий'!Z8121","v":0},{"$f":"'[7]Список изделий'!AA8121","v":0},{"$f":"'[7]Список изделий'!AB8121","v":0},{"$f":"'[7]Список изделий'!AC8121","v":"x"},{"$f":"'[7]Список изделий'!AD8121","v":0},{"$f":"'[7]Список изделий'!AE8121","v":0},{"$f":"'[7]Список изделий'!AF8121","v":"00:00:00"},{"$f":"'[7]Список изделий'!AY8121","v":0},{"$f":"'[7]Список изделий'!AZ8121","v":"00:00:00"},-43153,-43153,0,0,{"$f":"'[7]Список изделий'!BR8121","v":0},0]
[501,{"$f":"'[8]Список изделий'!D3","v":1},{"$f":"'[8]Список изделий'!E3","v":0},{"$f":"'[8]Список изделий'!F3","v":"Фризы настенные "},{"$f":"'[8]Список изделий'!I3","v":0},{"$f":"'[8]Список изделий'!X3","v":0},{"$f":"'[8]Список изделий'!Y3","v":0},{"$f":"'[8]Список изделий'!Z3","v":0},{"$f":"'[8]Список изделий'!AA3","v":0},{"$f":"'[8]Список изделий'!AB3","v":0},{"$f":"'[8]Список изделий'!AC3","v":0},{"$f":"'[8]Список изделий'!AD3","v":0},{"$f":"'[8]Список изделий'!AE3","v":0},{"$f":"'[8]Список изделий'!AF3","v":"00:00:00"},{"$f":"'[8]Список изделий'!AY3","v":0},{"$f":"'[8]Список изделий'!AZ3","v":"00:00:00"},-43153,-43153,0,0,{"$f":"'[8]Список изделий'!BR3","v":"\\\\SERVER\\Data1\\П\\Перекресток\\2018\\ОКЕЙ_Перекресток\\Парашютная 46\\проект\\фризы потолочки.cdr"},0]
[502,{"$f":"'[8]Список изделий'!D85","v":2},{"$f":"'[8]Список изделий'!E85","v":0},{"$f":"'[8]Список изделий'!F85","v":"Фризы подвесные двухсторонние"},{"$f":"'[8]Список изделий'!I85","v":0},{"$f":"'[8]Список изделий'!X85","v":0},{"$f":"'[8]Список изделий'!Y85","v":0},{"$f":"'[8]Список изделий'!Z85","v":0},{"$f":"'[8]Список изделий'!AA85","v":0},{"$f":"'[8]Список изделий'!AB85","v":0},{"$f":"'[8]Список изделий'!AC85","v":"x"},{"$f":"'[8]Список изделий'!AD85","v":0},{"$f":"'[8]Список изделий'!AE85","v":0},{"$f":"'[8]Список изделий'!AF85","v":"00:00:00"},{"$f":"'[8]Список изделий'!AY85","v":0},{"$f":"'[8]Список изделий'!AZ85","v":"00:00:00"},-43153,-43153,0,0,{"$f":"'[8]Список изделий'!BR85","v":"\\\\SERVER\\Data1\\П\\Перекресток\\2018\\ОКЕЙ_Перекресток\\Парашютная 46\\проект\\фризы потолочки.cdr"},0]
[503,{"$f":"'[8]Список изделий'!D167","v":3},{"$f":"'[8]Список изделий'!E167","v":0},{"$f":"'[8]Список изделий'!F167","v":"Световые вывески клееные"},{"$f":"'[8]Список изделий'!I167","v":0},{"$f":"'[8]Список изделий'!X167","v":0},{"$f":"'[8]Список изделий'!Y167","v":0},{"$f":"'[8]Список изделий'!Z167","v":0},{"$f":"'[8]Список изделий'!AA167","v":0},{"$f":"'[8]Список изделий'!AB167","v":0},{"$f":"'[8]Список изделий'!AC167","v":"x"},{"$f":"'[8]Список изделий'!AD167","v":0},{"$f":"'[8]Список изделий'!AE167","v":0},{"$f":"'[8]Список изделий'!AF167","v":"00:00:00"},{"$f":"'[8]Список изделий'!AY167","v":0},{"$f":"'[8]Список изделий'!AZ167","v":"00:00:00"},-43153,-43153,0,0,{"$f":"'[8]Список изделий'!BR167","v":"\\\\SERVER\\Data1\\П\\Перекресток\\2018\\ОКЕЙ_Перекресток\\Парашютная 46\\техничка\\03-Световые_вывески_отделов\\Сборка\\буквы отделов 350\\световые вывески высота 350 бок 3 мм.cdr"},0]
[504,{"$f":"'[8]Список изделий'!D249","v":4},{"$f":"'[8]Список изделий'!E249","v":0},{"$f":"'[8]Список изделий'!F249","v":"Пиктограммы на стену"},{"$f":"'[8]Список изделий'!I249","v":0},{"$f":"'[8]Список изделий'!X249","v":0},{"$f":"'[8]Список изделий'!Y249","v":0},{"$f":"'[8]Список изделий'!Z249","v":0},{"$f":"'[8]Список изделий'!AA249","v":0},{"$f":"'[8]Список изделий'!AB249","v":0},{"$f":"'[8]Список изделий'!AC249","v":"x"},{"$f":"'[8]Список изделий'!AD249","v":0},{"$f":"'[8]Список изделий'!AE249","v":0},{"$f":"'[8]Список изделий'!AF249","v":"00:00:00"},{"$f":"'[8]Список изделий'!AY249","v":0},{"$f":"'[8]Список изделий'!AZ249","v":"00:00:00"},-43153,-43153,0,0,{"$f":"'[8]Список изделий'!BR249","v":0},0]
[505,{"$f":"'[8]Список изделий'!D331","v":5},{"$f":"'[8]Список изделий'!E331","v":0},{"$f":"'[8]Список изделий'!F331","v":"Грифельные доски"},{"$f":"'[8]Список изделий'!I331","v":0},{"$f":"'[8]Список изделий'!X331","v":0},{"$f":"'[8]Список изделий'!Y331","v":0},{"$f":"'[8]Список изделий'!Z331","v":0},{"$f":"'[8]Список изделий'!AA331","v":0},{"$f":"'[8]Список изделий'!AB331","v":0},{"$f":"'[8]Список изделий'!AC331","v":"x"},{"$f":"'[8]Список изделий'!AD331","v":0},{"$f":"'[8]Список изделий'!AE331","v":0},{"$f":"'[8]Список изделий'!AF331","v":"00:00:00"},{"$f":"'[8]Список изделий'!AY331","v":0},{"$f":"'[8]Список изделий'!AZ331","v":"00:00:00"},-43153,-43153,0,0,{"$f":"'[8]Список изделий'!BR331","v":0},0]
[506,{"$f":"'[8]Список изделий'!D413","v":6},{"$f":"'[8]Список изделий'!E413","v":0},{"$f":"'[8]Список изделий'!F413","v":"Стикеры \"Суперцена\" на гриф. Доски (задняя часть)"},{"$f":"'[8]Список изделий'!I413","v":0},{"$f":"'[8]Список изделий'!X413","v":0},{"$f":"'[8]Список изделий'!Y413","v":0},{"$f":"'[8]Список изделий'!Z413","v":0},{"$f":"'[8]Список изделий'!AA413","v":0},{"$f":"'[8]Список изделий'!AB413","v":0},{"$f":"'[8]Список изделий'!AC413","v":"x"},{"$f":"'[8]Список изделий'!AD413","v":0},{"$f":"'[8]Список изделий'!AE413","v":0},{"$f":"'[8]Список изделий'!AF413","v":"00:00:00"},{"$f":"'[8]Список изделий'!AY413","v":0},{"$f":"'[8]Список изделий'!AZ413","v":"00:00:00"},-43153,-43153,0,0,{"$f":"'[8]Список изделий'!BR413","v":0},0]
[507,{"$f":"'[8]Список изделий'!D495","v":7},{"$f":"'[8]Список изделий'!E495","v":0},{"$f":"'[8]Список изделий'!F495","v":"Потолочные указатели 2хст. 2000х400"},{"$f":"'[8]Список изделий'!I495","v":0},{"$f":"'[8]Список изделий'!X495","v":0},{"$f":"'[8]Список изделий'!Y495","v":0},{"$f":"'[8]Список изделий'!Z495","v":0},{"$f":"'[8]Список изделий'!AA495","v":0},{"$f":"'[8]Список изделий'!AB495","v":0},{"$f":"'[8]Список изделий'!AC495","v":"x"},{"$f":"'[8]Список изделий'!AD495","v":0},{"$f":"'[8]Список изделий'!AE495","v":0},{"$f":"'[8]Список изделий'!AF495","v":"00:00:00"},{"$f":"'[8]Список изделий'!AY495","v":0},{"$f":"'[8]Список изделий'!AZ495","v":"00:00:00"},-43153,-43153,0,0,{"$f":"'[8]Список изделий'!BR495","v":"\\\\SERVER\\Data1\\П\\Перекресток\\2018\\ОКЕЙ_Перекресток\\Парашютная 46\\техничка\\07-Потолочные_вывески-2000х400"},0]
[508,{"$f":"'[8]Список изделий'!D577","v":8},{"$f":"'[8]Список изделий'!E577","v":0},{"$f":"'[8]Список изделий'!F577","v":"Потолочные указатели 2хст. 1500х300"},{"$f":"'[8]Список изделий'!I577","v":0},{"$f":"'[8]Список изделий'!X577","v":0},{"$f":"'[8]Список изделий'!Y577","v":0},{"$f":"'[8]Список изделий'!Z577","v":0},{"$f":"'[8]Список изделий'!AA577","v":0},{"$f":"'[8]Список изделий'!AB577","v":0},{"$f":"'[8]Список изделий'!AC577","v":"x"},{"$f":"'[8]Список изделий'!AD577","v":0},{"$f":"'[8]Список изделий'!AE577","v":0},{"$f":"'[8]Список изделий'!AF577","v":"00:00:00"},{"$f":"'[8]Список изделий'!AY577","v":0},{"$f":"'[8]Список изделий'!AZ577","v":"00:00:00"},-43153,-43153,0,0,{"$f":"'[8]Список изделий'!BR577","v":0},0]
[509,{"$f":"'[8]Список изделий'!D659","v":9},{"$f":"'[8]Список изделий'!E659","v":0},{"$f":"'[8]Список изделий'!F659","v":"Имиджи"},{"$f":"'[8]Список изделий'!I659","v":0},{"$f":"'[8]Список изделий'!X659","v":0},{"$f":"'[8]Список изделий'!Y659","v":0},{"$f":"'[8]Список изделий'!Z659","v":0},{"$f":"'[8]Список изделий'!AA659","v":0},{"$f":"'[8]Список изделий'!AB659","v":0},{"$f":"'[8]Список изделий'!AC659","v":"x"},{"$f":"'[8]Список изделий'!AD659","v":0},{"$f":"'[8]Список изделий'!AE659","v":0},{"$f":"'[8]Список изделий'!AF659","v":"00:00:00"},{"$f":"'[8]Список изделий'!AY659","v":0},{"$f":"'[8]Список изделий'!AZ659","v":"00:00:00"},-43153,-43153,0,0,{"$f":"'[8]Список изделий'!BR659","v":0},0]
[510,{"$f":"'[8]Список изделий'!D741","v":10},{"$f":"'[8]Список изделий'!E741","v":0},{"$f":"'[8]Список изделий'!F741","v":"Карман под бумагу А 1. крепление к стене (к-во предварительное)"},{"$f":"'[8]Список изделий'!I741","v":0},{"$f":"'[8]Список изделий'!X741","v":0},{"$f":"'[8]Список изделий'!Y741","v":0},{"$f":"'[8]Список изделий'!Z741","v":0},{"$f":"'[8]Список изделий'!AA741","v":0},{"$f":"'[8]Список изделий'!AB741","v":0},{"$f":"'[8]Список изделий'!AC741","v":"x"},{"$f":"'[8]Список изделий'!AD741","v":0},{"$f":"'[8]Список изделий'!AE741","v":0},{"$f":"'[8]Список изделий'!AF741","v":"00:00:00"},{"$f":"'[8]Список изделий'!AY741","v":0},{"$f":"'[8]Список изделий'!AZ741","v":"00:00:00"},-43153,-43153,0,0,{"$f":"'[8]Список изделий'!BR741","v":"\\\\SERVER\\Data1\\П\\Перекресток\\2018\\ТЕХНИЧЕСКАЯ ДОКУМЕНТАЦИЯ\\10-Карман_под_бумагу_А1\\Сборка\\Карман_А1-сборка.cdr"},0]
[511,{"$f":"'[8]Список изделий'!D823","v":11},{"$f":"'[8]Список изделий'!E823","v":0},{"$f":"'[8]Список изделий'!F823","v":"Карман круглый двухсторонний (люверс + крючок) (к-во предварительное)"},{"$f":"'[8]Список изделий'!I823","v":0},{"$f":"'[8]Список изделий'!X823","v":0},{"$f":"'[8]Список изделий'!Y823","v":0},{"$f":"'[8]Список изделий'!Z823","v":0},{"$f":"'[8]Список изделий'!AA823","v":0},{"$f":"'[8]Список изделий'!AB823","v":0},{"$f":"'[8]Список изделий'!AC823","v":"x"},{"$f":"'[8]Список изделий'!AD823","v":0},{"$f":"'[8]Список изделий'!AE823","v":0},{"$f":"'[8]Список изделий'!AF823","v":"00:00:00"},{"$f":"'[8]Список изделий'!AY823","v":0},{"$f":"'[8]Список изделий'!AZ823","v":"00:00:00"},-43153,-43153,0,0,{"$f":"'[8]Список изделий'!BR823","v":"\\\\SERVER\\Data1\\П\\Перекресток\\2018\\ТЕХНИЧЕСКАЯ ДОКУМЕНТАЦИЯ\\11-Карман_круглый_двухсторонний_(ПромоКруг)\\Сборка\\Круг_Промо-сборка.cdr"},0]
[512,{"$f":"'[8]Список изделий'!D905","v":12},{"$f":"'[8]Список изделий'!E905","v":0},{"$f":"'[8]Список изделий'!F905","v":"Таблички \"Здесь можно проверить цену\" (комплект 4 шт.) (к-во предварительное)"},{"$f":"'[8]Список изделий'!I905","v":0},{"$f":"'[8]Список изделий'!X905","v":0},{"$f":"'[8]Список изделий'!Y905","v":0},{"$f":"'[8]Список изделий'!Z905","v":0},{"$f":"'[8]Список изделий'!AA905","v":0},{"$f":"'[8]Список изделий'!AB905","v":0},{"$f":"'[8]Список изделий'!AC905","v":"x"},{"$f":"'[8]Список изделий'!AD905","v":0},{"$f":"'[8]Список изделий'!AE905","v":0},{"$f":"'[8]Список изделий'!AF905","v":"00:00:00"},{"$f":"'[8]Список изделий'!AY905","v":0},{"$f":"'[8]Список изделий'!AZ905","v":"00:00:00"},-43153,-43153,0,0,{"$f":"'[8]Список изделий'!BR905","v":0},0]
[513,{"$f":"'[8]Список изделий'!D987","v":13},{"$f":"'[8]Список изделий'!E987","v":0},{"$f":"'[8]Список изделий'!F987","v":"Оклейка дверей"},{"$f":"'[8]Список изделий'!I987","v":0},{"$f":"'[8]Список изделий'!X987","v":0},{"$f":"'[8]Список изделий'!Y987","v":0},{"$f":"'[8]Список изделий'!Z987","v":0},{"$f":"'[8]Список изделий'!AA987","v":0},{"$f":"'[8]Список изделий'!AB987","v":0},{"$f":"'[8]Список изделий'!AC987","v":"x"},{"$f":"'[8]Список изделий'!AD987","v":0},{"$f":"'[8]Список изделий'!AE987","v":0},{"$f":"'[8]Список изделий'!AF987","v":"00:00:00"},{"$f":"'[8]Список изделий'!AY987","v":0},{"$f":"'[8]Список изделий'!AZ987","v":"00:00:00"},-43153,-43153,0,0,{"$f":"'[8]Список изделий'!BR987","v":"\\\\SERVER\\Data1\\П\\Перекресток\\2018\\ОКЕЙ_Перекресток\\Парашютная 46\\техничка\\13-Оклейка_дверей"},0]
[514,{"$f":"'[8]Список изделий'!D1069","v":14},{"$f":"'[8]Список изделий'!E1069","v":0},{"$f":"'[8]Список изделий'!F1069","v":"Стикеры на боковую часть холодильника Мороженое"},{"$f":"'[8]Список изделий'!I1069","v":0},{"$f":"'[8]Список изделий'!X1069","v":0},{"$f":"'[8]Список изделий'!Y1069","v":0},{"$f":"'[8]Список изделий'!Z1069","v":0},{"$f":"'[8]Список изделий'!AA1069","v":0},{"$f":"'[8]Список изделий'!AB1069","v":0},{"$f":"'[8]Список изделий'!AC1069","v":"x"},{"$f":"'[8]Список изделий'!AD1069","v":0},{"$f":"'[8]Список изделий'!AE1069","v":0},{"$f":"'[8]Список изделий'!AF1069","v":"00:00:00"},{"$f":"'[8]Список изделий'!AY1069","v":0},{"$f":"'[8]Список изделий'!AZ1069","v":"00:00:00"},{"$f":"IF(O516=\"нет в заказе\",\"нет в заказе\",-(TODAY()-(P516-O516)))","v":-43153},{"$f":"IF(Q516=\"нет в заказе\",\"нет взаказе\",-(IF(O516=\"нет в заказе\",\"нет в заказе\",TODAY()-P516)))","v":-43153},0,{"$f":"V516","v":0},{"$f":"'[8]Список изделий'!BR1069","v":0},{"$f":"IF(S516>=0,S516,IF(T516>S516,T516,S516))","v":0}]
[515,{"$f":"'[8]Список изделий'!D1151","v":15},{"$f":"'[8]Список изделий'!E1151","v":0},{"$f":"'[8]Список изделий'!F1151","v":"Оклейка Лаваля"},{"$f":"'[8]Список изделий'!I1151","v":0},{"$f":"'[8]Список изделий'!X1151","v":0},{"$f":"'[8]Список изделий'!Y1151","v":0},{"$f":"'[8]Список изделий'!Z1151","v":0},{"$f":"'[8]Список изделий'!AA1151","v":0},{"$f":"'[8]Список изделий'!AB1151","v":0},{"$f":"'[8]Список изделий'!AC1151","v":"x"},{"$f":"'[8]Список изделий'!AD1151","v":0},{"$f":"'[8]Список изделий'!AE1151","v":0},{"$f":"'[8]Список изделий'!AF1151","v":"00:00:00"},{"$f":"'[8]Список изделий'!AY1151","v":0},{"$f":"'[8]Список изделий'!AZ1151","v":"00:00:00"},-43153,-43153,0,0,{"$f":"'[8]Список изделий'!BR1151","v":0},0]
[516,{"$f":"'[8]Список изделий'!D1233","v":16},{"$f":"'[8]Список изделий'!E1233","v":0},{"$f":"'[8]Список изделий'!F1233","v":"Подготовка поверхности. Очистка, обезжиривание."},{"$f":"'[8]Список изделий'!I1233","v":0},{"$f":"'[8]Список изделий'!X1233","v":0},{"$f":"'[8]Список изделий'!Y1233","v":0},{"$f":"'[8]Список изделий'!Z1233","v":0},{"$f":"'[8]Список изделий'!AA1233","v":0},{"$f":"'[8]Список изделий'!AB1233","v":0},{"$f":"'[8]Список изделий'!AC1233","v":"x"},{"$f":"'[8]Список изделий'!AD1233","v":0},{"$f":"'[8]Список изделий'!AE1233","v":0},{"$f":"'[8]Список изделий'!AF1233","v":"00:00:00"},{"$f":"'[8]Список изделий'!AY1233","v":0},{"$f":"'[8]Список изделий'!AZ1233","v":"00:00:00"},-43153,-43153,0,0,{"$f":"'[8]Список изделий'!BR1233","v":0},0]
[517,{"$f":"'[8]Список изделий'!D1315","v":17},{"$f":"'[8]Список изделий'!E1315","v":0},{"$f":"'[8]Список изделий'!F1315","v":"Стикер на заднюю часть прайсдисплея ФРОВ (2 вида-комплект)(к-во предварительное)"},{"$f":"'[8]Список изделий'!I1315","v":0},{"$f":"'[8]Список изделий'!X1315","v":0},{"$f":"'[8]Список изделий'!Y1315","v":0},{"$f":"'[8]Список изделий'!Z1315","v":0},{"$f":"'[8]Список изделий'!AA1315","v":0},{"$f":"'[8]Список изделий'!AB1315","v":0},{"$f":"'[8]Список изделий'!AC1315","v":"x"},{"$f":"'[8]Список изделий'!AD1315","v":0},{"$f":"'[8]Список изделий'!AE1315","v":0},{"$f":"'[8]Список изделий'!AF1315","v":"00:00:00"},{"$f":"'[8]Список изделий'!AY1315","v":0},{"$f":"'[8]Список изделий'!AZ1315","v":"00:00:00"},-43153,-43153,0,0,{"$f":"'[8]Список изделий'!BR1315","v":"\\\\SERVER\\Data1\\П\\Перекресток\\2018\\ТЕХНИЧЕСКАЯ ДОКУМЕНТАЦИЯ\\17-Стикер-задник_ПД_ФРОВ\\Сборка\\стикеры_зад_ПД-ФРОВ-сборка.cdr"},0]
[518,{"$f":"'[8]Список изделий'!D1397","v":18},{"$f":"'[8]Список изделий'!E1397","v":0},{"$f":"'[8]Список изделий'!F1397","v":"Стикеры на холодильники (оклейка боковин). Пленка или перфорация с ламинацией"},{"$f":"'[8]Список изделий'!I1397","v":0},{"$f":"'[8]Список изделий'!X1397","v":0},{"$f":"'[8]Список изделий'!Y1397","v":0},{"$f":"'[8]Список изделий'!Z1397","v":0},{"$f":"'[8]Список изделий'!AA1397","v":0},{"$f":"'[8]Список изделий'!AB1397","v":0},{"$f":"'[8]Список изделий'!AC1397","v":"x"},{"$f":"'[8]Список изделий'!AD1397","v":0},{"$f":"'[8]Список изделий'!AE1397","v":0},{"$f":"'[8]Список изделий'!AF1397","v":"00:00:00"},{"$f":"'[8]Список изделий'!AY1397","v":0},{"$f":"'[8]Список изделий'!AZ1397","v":"00:00:00"},-43153,-43153,0,0,{"$f":"'[8]Список изделий'!BR1397","v":0},0]
[519,{"$f":"'[8]Список изделий'!D1479","v":19},{"$f":"'[8]Список изделий'!E1479","v":0},{"$f":"'[8]Список изделий'!F1479","v":" протеус ОКЕЙ"},{"$f":"'[8]Список изделий'!I1479","v":0},{"$f":"'[8]Список изделий'!X1479","v":0},{"$f":"'[8]Список изделий'!Y1479","v":0},{"$f":"'[8]Список изделий'!Z1479","v":0},{"$f":"'[8]Список изделий'!AA1479","v":0},{"$f":"'[8]Список изделий'!AB1479","v":0},{"$f":"'[8]Список изделий'!AC1479","v":"x"},{"$f":"'[8]Список изделий'!AD1479","v":0},{"$f":"'[8]Список изделий'!AE1479","v":0},{"$f":"'[8]Список изделий'!AF1479","v":"00:00:00"},{"$f":"'[8]Список изделий'!AY1479","v":0},{"$f":"'[8]Список изделий'!AZ1479","v":"00:00:00"},-43153,-43153,0,0,{"$f":"'[8]Список изделий'!BR1479","v":"\\\\SERVER\\Data1\\П\\Перекресток\\2018\\ОКЕЙ_Перекресток\\Парашютная 46\\техничка\\19-Протеус"},0]
[520,{"$f":"'[8]Список изделий'!D1561","v":20},{"$f":"'[8]Список изделий'!E1561","v":0},{"$f":"'[8]Список изделий'!F1561","v":"V-обр. делители на морозильную камеру"},{"$f":"'[8]Список изделий'!I1561","v":0},{"$f":"'[8]Список изделий'!X1561","v":0},{"$f":"'[8]Список изделий'!Y1561","v":0},{"$f":"'[8]Список изделий'!Z1561","v":0},{"$f":"'[8]Список изделий'!AA1561","v":0},{"$f":"'[8]Список изделий'!AB1561","v":0},{"$f":"'[8]Список изделий'!AC1561","v":"x"},{"$f":"'[8]Список изделий'!AD1561","v":0},{"$f":"'[8]Список изделий'!AE1561","v":0},{"$f":"'[8]Список изделий'!AF1561","v":"00:00:00"},{"$f":"'[8]Список изделий'!AY1561","v":0},{"$f":"'[8]Список изделий'!AZ1561","v":"00:00:00"},-43153,-43153,0,0,{"$f":"'[8]Список изделий'!BR1561","v":0},0]
[521,{"$f":"'[8]Список изделий'!D1643","v":21},{"$f":"'[8]Список изделий'!E1643","v":0},{"$f":"'[8]Список изделий'!F1643","v":"Разделители в алкоголь"},{"$f":"'[8]Список изделий'!I1643","v":0},{"$f":"'[8]Список изделий'!X1643","v":0},{"$f":"'[8]Список изделий'!Y1643","v":0},{"$f":"'[8]Список изделий'!Z1643","v":0},{"$f":"'[8]Список изделий'!AA1643","v":0},{"$f":"'[8]Список изделий'!AB1643","v":0},{"$f":"'[8]Список изделий'!AC1643","v":"х"},{"$f":"'[8]Список изделий'!AD1643","v":0},{"$f":"'[8]Список изделий'!AE1643","v":0},{"$f":"'[8]Список изделий'!AF1643","v":"00:00:00"},{"$f":"'[8]Список изделий'!AY1643","v":0},{"$f":"'[8]Список изделий'!AZ1643","v":"00:00:00"},-43153,-43153,0,0,{"$f":"'[8]Список изделий'!BR1643","v":0},0]
[522,{"$f":"'[8]Список изделий'!D1725","v":22},{"$f":"'[8]Список изделий'!E1725","v":0},{"$f":"'[8]Список изделий'!F1725","v":"Входной фриз"},{"$f":"'[8]Список изделий'!I1725","v":0},{"$f":"'[8]Список изделий'!X1725","v":0},{"$f":"'[8]Список изделий'!Y1725","v":0},{"$f":"'[8]Список изделий'!Z1725","v":0},{"$f":"'[8]Список изделий'!AA1725","v":0},{"$f":"'[8]Список изделий'!AB1725","v":0},{"$f":"'[8]Список изделий'!AC1725","v":"x"},{"$f":"'[8]Список изделий'!AD1725","v":0},{"$f":"'[8]Список изделий'!AE1725","v":0},{"$f":"'[8]Список изделий'!AF1725","v":"00:00:00"},{"$f":"'[8]Список изделий'!AY1725","v":0},{"$f":"'[8]Список изделий'!AZ1725","v":"00:00:00"},-43153,-43153,0,0,{"$f":"'[8]Список изделий'!BR1725","v":0},0]
[523,{"$f":"'[8]Список изделий'!D1807","v":23},{"$f":"'[8]Список изделий'!E1807","v":0},{"$f":"'[8]Список изделий'!F1807","v":"Входной фриз закатка обратной стороны"},{"$f":"'[8]Список изделий'!I1807","v":0},{"$f":"'[8]Список изделий'!X1807","v":0},{"$f":"'[8]Список изделий'!Y1807","v":0},{"$f":"'[8]Список изделий'!Z1807","v":0},{"$f":"'[8]Список изделий'!AA1807","v":0},{"$f":"'[8]Список изделий'!AB1807","v":0},{"$f":"'[8]Список изделий'!AC1807","v":"x"},{"$f":"'[8]Список изделий'!AD1807","v":0},{"$f":"'[8]Список изделий'!AE1807","v":0},{"$f":"'[8]Список изделий'!AF1807","v":"00:00:00"},{"$f":"'[8]Список изделий'!AY1807","v":0},{"$f":"'[8]Список изделий'!AZ1807","v":"00:00:00"},-43153,-43153,0,0,{"$f":"'[8]Список изделий'!BR1807","v":0},0]
[524,{"$f":"'[8]Список изделий'!D1889","v":24},{"$f":"'[8]Список изделий'!E1889","v":0},{"$f":"'[8]Список изделий'!F1889","v":"Оформление холодильника Икра"},{"$f":"'[8]Список изделий'!I1889","v":0},{"$f":"'[8]Список изделий'!X1889","v":0},{"$f":"'[8]Список изделий'!Y1889","v":0},{"$f":"'[8]Список изделий'!Z1889","v":0},{"$f":"'[8]Список изделий'!AA1889","v":0},{"$f":"'[8]Список изделий'!AB1889","v":0},{"$f":"'[8]Список изделий'!AC1889","v":"x"},{"$f":"'[8]Список изделий'!AD1889","v":0},{"$f":"'[8]Список изделий'!AE1889","v":0},{"$f":"'[8]Список изделий'!AF1889","v":"00:00:00"},{"$f":"'[8]Список изделий'!AY1889","v":0},{"$f":"'[8]Список изделий'!AZ1889","v":"00:00:00"},-43153,-43153,0,0,{"$f":"'[8]Список изделий'!BR1889","v":0},0]
[525,{"$f":"'[8]Список изделий'!D1971","v":25},{"$f":"'[8]Список изделий'!E1971","v":0},{"$f":"'[8]Список изделий'!F1971","v":"Оформление Мясной Разруб"},{"$f":"'[8]Список изделий'!I1971","v":0},{"$f":"'[8]Список изделий'!X1971","v":0},{"$f":"'[8]Список изделий'!Y1971","v":0},{"$f":"'[8]Список изделий'!Z1971","v":0},{"$f":"'[8]Список изделий'!AA1971","v":0},{"$f":"'[8]Список изделий'!AB1971","v":0},{"$f":"'[8]Список изделий'!AC1971","v":"x"},{"$f":"'[8]Список изделий'!AD1971","v":0},{"$f":"'[8]Список изделий'!AE1971","v":0},{"$f":"'[8]Список изделий'!AF1971","v":"00:00:00"},{"$f":"'[8]Список изделий'!AY1971","v":0},{"$f":"'[8]Список изделий'!AZ1971","v":"00:00:00"},-43153,-43153,0,0,{"$f":"'[8]Список изделий'!BR1971","v":0},0]
[526,{"$f":"'[8]Список изделий'!D2053","v":26},{"$f":"'[8]Список изделий'!E2053","v":0},{"$f":"'[8]Список изделий'!F2053","v":"Оформление Фиксики"},{"$f":"'[8]Список изделий'!I2053","v":0},{"$f":"'[8]Список изделий'!X2053","v":0},{"$f":"'[8]Список изделий'!Y2053","v":0},{"$f":"'[8]Список изделий'!Z2053","v":0},{"$f":"'[8]Список изделий'!AA2053","v":0},{"$f":"'[8]Список изделий'!AB2053","v":0},{"$f":"'[8]Список изделий'!AC2053","v":"x"},{"$f":"'[8]Список изделий'!AD2053","v":0},{"$f":"'[8]Список изделий'!AE2053","v":0},{"$f":"'[8]Список изделий'!AF2053","v":"00:00:00"},{"$f":"'[8]Список изделий'!AY2053","v":0},{"$f":"'[8]Список изделий'!AZ2053","v":"00:00:00"},-43153,-43153,0,0,{"$f":"'[8]Список изделий'!BR2053","v":0},0]
[527,{"$f":"'[8]Список изделий'!D2135","v":27},{"$f":"'[8]Список изделий'!E2135","v":0},{"$f":"'[8]Список изделий'!F2135","v":"Оформление отдела Быстро и вкусно"},{"$f":"'[8]Список изделий'!I2135","v":0},{"$f":"'[8]Список изделий'!X2135","v":0},{"$f":"'[8]Список изделий'!Y2135","v":0},{"$f":"'[8]Список изделий'!Z2135","v":0},{"$f":"'[8]Список изделий'!AA2135","v":0},{"$f":"'[8]Список изделий'!AB2135","v":0},{"$f":"'[8]Список изделий'!AC2135","v":"x"},{"$f":"'[8]Список изделий'!AD2135","v":0},{"$f":"'[8]Список изделий'!AE2135","v":0},{"$f":"'[8]Список изделий'!AF2135","v":"00:00:00"},{"$f":"'[8]Список изделий'!AY2135","v":0},{"$f":"'[8]Список изделий'!AZ2135","v":"00:00:00"},-43153,-43153,0,0,{"$f":"'[8]Список изделий'!BR2135","v":"\\\\SERVER\\Data1\\П\\Перекресток\\2018\\ТЕХНИЧЕСКАЯ ДОКУМЕНТАЦИЯ\\27-Быстро_и_вкусно\\Сборка\\БиВ-комплект.jpg"},0]
[528,{"$f":"'[8]Список изделий'!D2217","v":28},{"$f":"'[8]Список изделий'!E2217","v":0},{"$f":"'[8]Список изделий'!F2217","v":"Стойка деревянная \"Перекресток\" с крючками"},{"$f":"'[8]Список изделий'!I2217","v":0},{"$f":"'[8]Список изделий'!X2217","v":0},{"$f":"'[8]Список изделий'!Y2217","v":0},{"$f":"'[8]Список изделий'!Z2217","v":0},{"$f":"'[8]Список изделий'!AA2217","v":0},{"$f":"'[8]Список изделий'!AB2217","v":0},{"$f":"'[8]Список изделий'!AC2217","v":"x"},{"$f":"'[8]Список изделий'!AD2217","v":0},{"$f":"'[8]Список изделий'!AE2217","v":0},{"$f":"'[8]Список изделий'!AF2217","v":"00:00:00"},{"$f":"'[8]Список изделий'!AY2217","v":0},{"$f":"'[8]Список изделий'!AZ2217","v":"00:00:00"},-43153,-43153,0,0,{"$f":"'[8]Список изделий'!BR2217","v":0},0]
[529,{"$f":"'[8]Список изделий'!D2299","v":29},{"$f":"'[8]Список изделий'!E2299","v":0},{"$f":"'[8]Список изделий'!F2299","v":"Фриз стеллажный 2хст. Объемный \"Конфеты\""},{"$f":"'[8]Список изделий'!I2299","v":0},{"$f":"'[8]Список изделий'!X2299","v":0},{"$f":"'[8]Список изделий'!Y2299","v":0},{"$f":"'[8]Список изделий'!Z2299","v":0},{"$f":"'[8]Список изделий'!AA2299","v":0},{"$f":"'[8]Список изделий'!AB2299","v":0},{"$f":"'[8]Список изделий'!AC2299","v":"x"},{"$f":"'[8]Список изделий'!AD2299","v":0},{"$f":"'[8]Список изделий'!AE2299","v":0},{"$f":"'[8]Список изделий'!AF2299","v":"00:00:00"},{"$f":"'[8]Список изделий'!AY2299","v":0},{"$f":"'[8]Список изделий'!AZ2299","v":"00:00:00"},-43153,-43153,0,0,{"$f":"'[8]Список изделий'!BR2299","v":0},0]
[530,{"$f":"'[8]Список изделий'!D2381","v":30},{"$f":"'[8]Список изделий'!E2381","v":0},{"$f":"'[8]Список изделий'!F2381","v":"Оформление отдела Детство"},{"$f":"'[8]Список изделий'!I2381","v":0},{"$f":"'[8]Список изделий'!X2381","v":0},{"$f":"'[8]Список изделий'!Y2381","v":0},{"$f":"'[8]Список изделий'!Z2381","v":0},{"$f":"'[8]Список изделий'!AA2381","v":0},{"$f":"'[8]Список изделий'!AB2381","v":0},{"$f":"'[8]Список изделий'!AC2381","v":"x"},{"$f":"'[8]Список изделий'!AD2381","v":0},{"$f":"'[8]Список изделий'!AE2381","v":0},{"$f":"'[8]Список изделий'!AF2381","v":"00:00:00"},{"$f":"'[8]Список изделий'!AY2381","v":0},{"$f":"'[8]Список изделий'!AZ2381","v":"00:00:00"},-43153,-43153,0,0,{"$f":"'[8]Список изделий'!BR2381","v":"\\\\SERVER\\Data1\\П\\Перекресток\\2018\\ОКЕЙ_Перекресток\\Парашютная 46\\техничка\\30-Отдел_Детство"},0]
[531,{"$f":"'[8]Список изделий'!D2463","v":31},{"$f":"'[8]Список изделий'!E2463","v":0},{"$f":"'[8]Список изделий'!F2463","v":"Подвес на 3 кармана в проходы между касс (комплект с пп печатью)"},{"$f":"'[8]Список изделий'!I2463","v":0},{"$f":"'[8]Список изделий'!X2463","v":0},{"$f":"'[8]Список изделий'!Y2463","v":0},{"$f":"'[8]Список изделий'!Z2463","v":0},{"$f":"'[8]Список изделий'!AA2463","v":0},{"$f":"'[8]Список изделий'!AB2463","v":0},{"$f":"'[8]Список изделий'!AC2463","v":"x"},{"$f":"'[8]Список изделий'!AD2463","v":0},{"$f":"'[8]Список изделий'!AE2463","v":0},{"$f":"'[8]Список изделий'!AF2463","v":"00:00:00"},{"$f":"'[8]Список изделий'!AY2463","v":0},{"$f":"'[8]Список изделий'!AZ2463","v":"00:00:00"},-43153,-43153,0,0,{"$f":"'[8]Список изделий'!BR2463","v":0},0]
[532,{"$f":"'[8]Список изделий'!D2545","v":32},{"$f":"'[8]Список изделий'!E2545","v":0},{"$f":"'[8]Список изделий'!F2545","v":"Световая вывеска Клевер Перекресток СУПЕРМАРКЕТ  на входном фризе"},{"$f":"'[8]Список изделий'!I2545","v":0},{"$f":"'[8]Список изделий'!X2545","v":0},{"$f":"'[8]Список изделий'!Y2545","v":0},{"$f":"'[8]Список изделий'!Z2545","v":0},{"$f":"'[8]Список изделий'!AA2545","v":0},{"$f":"'[8]Список изделий'!AB2545","v":0},{"$f":"'[8]Список изделий'!AC2545","v":"x"},{"$f":"'[8]Список изделий'!AD2545","v":0},{"$f":"'[8]Список изделий'!AE2545","v":0},{"$f":"'[8]Список изделий'!AF2545","v":"00:00:00"},{"$f":"'[8]Список изделий'!AY2545","v":0},{"$f":"'[8]Список изделий'!AZ2545","v":"00:00:00"},-43153,-43153,0,0,{"$f":"'[8]Список изделий'!BR2545","v":0},0]
[533,{"$f":"'[8]Список изделий'!D2627","v":33},{"$f":"'[8]Список изделий'!E2627","v":0},{"$f":"'[8]Список изделий'!F2627","v":"Проектно-конструкторская документация для светового короба"},{"$f":"'[8]Список изделий'!I2627","v":0},{"$f":"'[8]Список изделий'!X2627","v":0},{"$f":"'[8]Список изделий'!Y2627","v":0},{"$f":"'[8]Список изделий'!Z2627","v":0},{"$f":"'[8]Список изделий'!AA2627","v":0},{"$f":"'[8]Список изделий'!AB2627","v":0},{"$f":"'[8]Список изделий'!AC2627","v":"x"},{"$f":"'[8]Список изделий'!AD2627","v":0},{"$f":"'[8]Список изделий'!AE2627","v":0},{"$f":"'[8]Список изделий'!AF2627","v":"00:00:00"},{"$f":"'[8]Список изделий'!AY2627","v":0},{"$f":"'[8]Список изделий'!AZ2627","v":"00:00:00"},-43153,-43153,0,0,{"$f":"'[8]Список изделий'!BR2627","v":0},0]
[534,{"$f":"'[8]Список изделий'!D2709","v":34},{"$f":"'[8]Список изделий'!E2709","v":0},{"$f":"'[8]Список изделий'!F2709","v":"Электропроект для светового короба"},{"$f":"'[8]Список изделий'!I2709","v":0},{"$f":"'[8]Список изделий'!X2709","v":0},{"$f":"'[8]Список изделий'!Y2709","v":0},{"$f":"'[8]Список изделий'!Z2709","v":0},{"$f":"'[8]Список изделий'!AA2709","v":0},{"$f":"'[8]Список изделий'!AB2709","v":0},{"$f":"'[8]Список изделий'!AC2709","v":"x"},{"$f":"'[8]Список изделий'!AD2709","v":0},{"$f":"'[8]Список изделий'!AE2709","v":0},{"$f":"'[8]Список изделий'!AF2709","v":"00:00:00"},{"$f":"'[8]Список изделий'!AY2709","v":0},{"$f":"'[8]Список изделий'!AZ2709","v":"00:00:00"},-43153,-43153,0,0,{"$f":"'[8]Список изделий'!BR2709","v":0},0]
[535,{"$f":"'[8]Список изделий'!D2791","v":35},{"$f":"'[8]Список изделий'!E2791","v":0},{"$f":"'[8]Список изделий'!F2791","v":"Баннеры (Праздник 7500х2400) и  (Праздник 570х2400)"},{"$f":"'[8]Список изделий'!I2791","v":0},{"$f":"'[8]Список изделий'!X2791","v":0},{"$f":"'[8]Список изделий'!Y2791","v":0},{"$f":"'[8]Список изделий'!Z2791","v":0},{"$f":"'[8]Список изделий'!AA2791","v":0},{"$f":"'[8]Список изделий'!AB2791","v":0},{"$f":"'[8]Список изделий'!AC2791","v":"x"},{"$f":"'[8]Список изделий'!AD2791","v":0},{"$f":"'[8]Список изделий'!AE2791","v":0},{"$f":"'[8]Список изделий'!AF2791","v":"00:00:00"},{"$f":"'[8]Список изделий'!AY2791","v":0},{"$f":"'[8]Список изделий'!AZ2791","v":"00:00:00"},-43153,-43153,0,0,{"$f":"'[8]Список изделий'!BR2791","v":0},0]
[536,{"$f":"'[8]Список изделий'!D2873","v":36},{"$f":"'[8]Список изделий'!E2873","v":0},{"$f":"'[8]Список изделий'!F2873","v":"Служебные таблички"},{"$f":"'[8]Список изделий'!I2873","v":0},{"$f":"'[8]Список изделий'!X2873","v":0},{"$f":"'[8]Список изделий'!Y2873","v":0},{"$f":"'[8]Список изделий'!Z2873","v":0},{"$f":"'[8]Список изделий'!AA2873","v":0},{"$f":"'[8]Список изделий'!AB2873","v":0},{"$f":"'[8]Список изделий'!AC2873","v":"x"},{"$f":"'[8]Список изделий'!AD2873","v":0},{"$f":"'[8]Список изделий'!AE2873","v":0},{"$f":"'[8]Список изделий'!AF2873","v":"00:00:00"},{"$f":"'[8]Список изделий'!AY2873","v":0},{"$f":"'[8]Список изделий'!AZ2873","v":"00:00:00"},-43153,-43153,0,0,{"$f":"'[8]Список изделий'!BR2873","v":0},0]
[537,{"$f":"'[8]Список изделий'!D2955","v":37},{"$f":"'[8]Список изделий'!E2955","v":0},{"$f":"'[8]Список изделий'!F2955","v":"Монтаж скайтреков"},{"$f":"'[8]Список изделий'!I2955","v":0},{"$f":"'[8]Список изделий'!X2955","v":0},{"$f":"'[8]Список изделий'!Y2955","v":0},{"$f":"'[8]Список изделий'!Z2955","v":0},{"$f":"'[8]Список изделий'!AA2955","v":0},{"$f":"'[8]Список изделий'!AB2955","v":0},{"$f":"'[8]Список изделий'!AC2955","v":"x"},{"$f":"'[8]Список изделий'!AD2955","v":0},{"$f":"'[8]Список изделий'!AE2955","v":0},{"$f":"'[8]Список изделий'!AF2955","v":"00:00:00"},{"$f":"'[8]Список изделий'!AY2955","v":0},{"$f":"'[8]Список изделий'!AZ2955","v":"00:00:00"},-43153,-43153,0,0,{"$f":"'[8]Список изделий'!BR2955","v":0},0]
[538,{"$f":"'[8]Список изделий'!D3037","v":38},{"$f":"'[8]Список изделий'!E3037","v":0},{"$f":"'[8]Список изделий'!F3037","v":"Стикер Номер кассы (комплект из 2 шт.)"},{"$f":"'[8]Список изделий'!I3037","v":0},{"$f":"'[8]Список изделий'!X3037","v":0},{"$f":"'[8]Список изделий'!Y3037","v":0},{"$f":"'[8]Список изделий'!Z3037","v":0},{"$f":"'[8]Список изделий'!AA3037","v":0},{"$f":"'[8]Список изделий'!AB3037","v":0},{"$f":"'[8]Список изделий'!AC3037","v":"x"},{"$f":"'[8]Список изделий'!AD3037","v":0},{"$f":"'[8]Список изделий'!AE3037","v":0},{"$f":"'[8]Список изделий'!AF3037","v":"00:00:00"},{"$f":"'[8]Список изделий'!AY3037","v":0},{"$f":"'[8]Список изделий'!AZ3037","v":"00:00:00"},-43153,-43153,0,0,{"$f":"'[8]Список изделий'!BR3037","v":0},0]
[539,{"$f":"'[8]Список изделий'!D3119","v":39},{"$f":"'[8]Список изделий'!E3119","v":0},{"$f":"'[8]Список изделий'!F3119","v":"Фризы стеллажные \"Хлеб\" плоский двухсторонний"},{"$f":"'[8]Список изделий'!I3119","v":0},{"$f":"'[8]Список изделий'!X3119","v":0},{"$f":"'[8]Список изделий'!Y3119","v":0},{"$f":"'[8]Список изделий'!Z3119","v":0},{"$f":"'[8]Список изделий'!AA3119","v":0},{"$f":"'[8]Список изделий'!AB3119","v":0},{"$f":"'[8]Список изделий'!AC3119","v":"x"},{"$f":"'[8]Список изделий'!AD3119","v":0},{"$f":"'[8]Список изделий'!AE3119","v":0},{"$f":"'[8]Список изделий'!AF3119","v":"00:00:00"},{"$f":"'[8]Список изделий'!AY3119","v":0},{"$f":"'[8]Список изделий'!AZ3119","v":"00:00:00"},-43153,-43153,0,0,{"$f":"'[8]Список изделий'!BR3119","v":0},0]
[540,{"$f":"'[8]Список изделий'!D3201","v":40},{"$f":"'[8]Список изделий'!E3201","v":0},{"$f":"'[8]Список изделий'!F3201","v":"Информационные стенды"},{"$f":"'[8]Список изделий'!I3201","v":0},{"$f":"'[8]Список изделий'!X3201","v":0},{"$f":"'[8]Список изделий'!Y3201","v":0},{"$f":"'[8]Список изделий'!Z3201","v":0},{"$f":"'[8]Список изделий'!AA3201","v":0},{"$f":"'[8]Список изделий'!AB3201","v":0},{"$f":"'[8]Список изделий'!AC3201","v":"x"},{"$f":"'[8]Список изделий'!AD3201","v":0},{"$f":"'[8]Список изделий'!AE3201","v":0},{"$f":"'[8]Список изделий'!AF3201","v":"00:00:00"},{"$f":"'[8]Список изделий'!AY3201","v":0},{"$f":"'[8]Список изделий'!AZ3201","v":"00:00:00"},-43153,-43153,0,0,{"$f":"'[8]Список изделий'!BR3201","v":0},0]
[541,{"$f":"'[8]Список изделий'!D3283","v":41},{"$f":"'[8]Список изделий'!E3283","v":0},{"$f":"'[8]Список изделий'!F3283","v":"Таблички весы \"Как взвесить\""},{"$f":"'[8]Список изделий'!I3283","v":0},{"$f":"'[8]Список изделий'!X3283","v":0},{"$f":"'[8]Список изделий'!Y3283","v":0},{"$f":"'[8]Список изделий'!Z3283","v":0},{"$f":"'[8]Список изделий'!AA3283","v":0},{"$f":"'[8]Список изделий'!AB3283","v":0},{"$f":"'[8]Список изделий'!AC3283","v":"x"},{"$f":"'[8]Список изделий'!AD3283","v":0},{"$f":"'[8]Список изделий'!AE3283","v":0},{"$f":"'[8]Список изделий'!AF3283","v":"00:00:00"},{"$f":"'[8]Список изделий'!AY3283","v":0},{"$f":"'[8]Список изделий'!AZ3283","v":"00:00:00"},-43153,-43153,0,0,{"$f":"'[8]Список изделий'!BR3283","v":0},0]
[542,{"$f":"'[8]Список изделий'!D3365","v":42},{"$f":"'[8]Список изделий'!E3365","v":0},{"$f":"'[8]Список изделий'!F3365","v":"Табличка Контрольные весы"},{"$f":"'[8]Список изделий'!I3365","v":0},{"$f":"'[8]Список изделий'!X3365","v":0},{"$f":"'[8]Список изделий'!Y3365","v":0},{"$f":"'[8]Список изделий'!Z3365","v":0},{"$f":"'[8]Список изделий'!AA3365","v":0},{"$f":"'[8]Список изделий'!AB3365","v":0},{"$f":"'[8]Список изделий'!AC3365","v":"x"},{"$f":"'[8]Список изделий'!AD3365","v":0},{"$f":"'[8]Список изделий'!AE3365","v":0},{"$f":"'[8]Список изделий'!AF3365","v":"00:00:00"},{"$f":"'[8]Список изделий'!AY3365","v":0},{"$f":"'[8]Список изделий'!AZ3365","v":"00:00:00"},-43153,-43153,0,0,{"$f":"'[8]Список изделий'!BR3365","v":0},0]
[543,{"$f":"'[8]Список изделий'!D3447","v":43},{"$f":"'[8]Список изделий'!E3447","v":0},{"$f":"'[8]Список изделий'!F3447","v":"штендер ЧАШКА"},{"$f":"'[8]Список изделий'!I3447","v":0},{"$f":"'[8]Список изделий'!X3447","v":0},{"$f":"'[8]Список изделий'!Y3447","v":0},{"$f":"'[8]Список изделий'!Z3447","v":0},{"$f":"'[8]Список изделий'!AA3447","v":0},{"$f":"'[8]Список изделий'!AB3447","v":0},{"$f":"'[8]Список изделий'!AC3447","v":"x"},{"$f":"'[8]Список изделий'!AD3447","v":0},{"$f":"'[8]Список изделий'!AE3447","v":0},{"$f":"'[8]Список изделий'!AF3447","v":"00:00:00"},{"$f":"'[8]Список изделий'!AY3447","v":0},{"$f":"'[8]Список изделий'!AZ3447","v":"00:00:00"},-43153,-43153,0,0,{"$f":"'[8]Список изделий'!BR3447","v":0},0]
[544,{"$f":"'[8]Список изделий'!D3529","v":44},{"$f":"'[8]Список изделий'!E3529","v":0},{"$f":"'[8]Список изделий'!F3529","v":"Алкогольные_разделители-200х38"},{"$f":"'[8]Список изделий'!I3529","v":0},{"$f":"'[8]Список изделий'!X3529","v":0},{"$f":"'[8]Список изделий'!Y3529","v":0},{"$f":"'[8]Список изделий'!Z3529","v":0},{"$f":"'[8]Список изделий'!AA3529","v":0},{"$f":"'[8]Список изделий'!AB3529","v":0},{"$f":"'[8]Список изделий'!AC3529","v":"x"},{"$f":"'[8]Список изделий'!AD3529","v":0},{"$f":"'[8]Список изделий'!AE3529","v":0},{"$f":"'[8]Список изделий'!AF3529","v":"00:00:00"},{"$f":"'[8]Список изделий'!AY3529","v":0},{"$f":"'[8]Список изделий'!AZ3529","v":"00:00:00"},-43153,-43153,0,0,{"$f":"'[8]Список изделий'!BR3529","v":"\\\\SERVER\\Data1\\П\\Перекресток\\2018\\ОКЕЙ_Перекресток\\Парашютная 46\\техничка\\44-Алкогольные_разделители-200х38"},0]
[545,{"$f":"'[8]Список изделий'!D3611","v":45},{"$f":"'[8]Список изделий'!E3611","v":0},{"$f":"'[8]Список изделий'!F3611","v":"навигация"},{"$f":"'[8]Список изделий'!I3611","v":0},{"$f":"'[8]Список изделий'!X3611","v":0},{"$f":"'[8]Список изделий'!Y3611","v":0},{"$f":"'[8]Список изделий'!Z3611","v":0},{"$f":"'[8]Список изделий'!AA3611","v":0},{"$f":"'[8]Список изделий'!AB3611","v":0},{"$f":"'[8]Список изделий'!AC3611","v":"x"},{"$f":"'[8]Список изделий'!AD3611","v":0},{"$f":"'[8]Список изделий'!AE3611","v":0},{"$f":"'[8]Список изделий'!AF3611","v":"00:00:00"},{"$f":"'[8]Список изделий'!AY3611","v":0},{"$f":"'[8]Список изделий'!AZ3611","v":"00:00:00"},-43153,-43153,0,0,{"$f":"'[8]Список изделий'!BR3611","v":0},0]
[546,{"$f":"'[8]Список изделий'!D3693","v":46},{"$f":"'[8]Список изделий'!E3693","v":0},{"$f":"'[8]Список изделий'!F3693","v":"Табличка двухст. \"Суперцена\" для подвеса к ценникодержателю ФРОВ"},{"$f":"'[8]Список изделий'!I3693","v":0},{"$f":"'[8]Список изделий'!X3693","v":0},{"$f":"'[8]Список изделий'!Y3693","v":0},{"$f":"'[8]Список изделий'!Z3693","v":0},{"$f":"'[8]Список изделий'!AA3693","v":0},{"$f":"'[8]Список изделий'!AB3693","v":0},{"$f":"'[8]Список изделий'!AC3693","v":"x"},{"$f":"'[8]Список изделий'!AD3693","v":0},{"$f":"'[8]Список изделий'!AE3693","v":0},{"$f":"'[8]Список изделий'!AF3693","v":"00:00:00"},{"$f":"'[8]Список изделий'!AY3693","v":0},{"$f":"'[8]Список изделий'!AZ3693","v":"00:00:00"},-43153,-43153,0,0,{"$f":"'[8]Список изделий'!BR3693","v":0},0]
[547,{"$f":"'[8]Список изделий'!D3775","v":47},{"$f":"'[8]Список изделий'!E3775","v":0},{"$f":"'[8]Список изделий'!F3775","v":"Доска РТО"},{"$f":"'[8]Список изделий'!I3775","v":0},{"$f":"'[8]Список изделий'!X3775","v":0},{"$f":"'[8]Список изделий'!Y3775","v":0},{"$f":"'[8]Список изделий'!Z3775","v":0},{"$f":"'[8]Список изделий'!AA3775","v":0},{"$f":"'[8]Список изделий'!AB3775","v":0},{"$f":"'[8]Список изделий'!AC3775","v":"x"},{"$f":"'[8]Список изделий'!AD3775","v":0},{"$f":"'[8]Список изделий'!AE3775","v":0},{"$f":"'[8]Список изделий'!AF3775","v":"00:00:00"},{"$f":"'[8]Список изделий'!AY3775","v":0},{"$f":"'[8]Список изделий'!AZ3775","v":"00:00:00"},-43153,-43153,0,0,{"$f":"'[8]Список изделий'!BR3775","v":0},0]
[548,{"$f":"'[8]Список изделий'!D3857","v":48},{"$f":"'[8]Список изделий'!E3857","v":0},{"$f":"'[8]Список изделий'!F3857","v":"Вывеска \"запрещающие знаки\" подвесная двусторонняя"},{"$f":"'[8]Список изделий'!I3857","v":0},{"$f":"'[8]Список изделий'!X3857","v":0},{"$f":"'[8]Список изделий'!Y3857","v":0},{"$f":"'[8]Список изделий'!Z3857","v":0},{"$f":"'[8]Список изделий'!AA3857","v":0},{"$f":"'[8]Список изделий'!AB3857","v":0},{"$f":"'[8]Список изделий'!AC3857","v":"x"},{"$f":"'[8]Список изделий'!AD3857","v":0},{"$f":"'[8]Список изделий'!AE3857","v":0},{"$f":"'[8]Список изделий'!AF3857","v":"00:00:00"},{"$f":"'[8]Список изделий'!AY3857","v":0},{"$f":"'[8]Список изделий'!AZ3857","v":"00:00:00"},-43153,-43153,0,0,{"$f":"'[8]Список изделий'!BR3857","v":0},0]
[549,{"$f":"'[8]Список изделий'!D3939","v":49},{"$f":"'[8]Список изделий'!E3939","v":0},{"$f":"'[8]Список изделий'!F3939","v":"Вывеска \"камеры хранения\""},{"$f":"'[8]Список изделий'!I3939","v":0},{"$f":"'[8]Список изделий'!X3939","v":0},{"$f":"'[8]Список изделий'!Y3939","v":0},{"$f":"'[8]Список изделий'!Z3939","v":0},{"$f":"'[8]Список изделий'!AA3939","v":0},{"$f":"'[8]Список изделий'!AB3939","v":0},{"$f":"'[8]Список изделий'!AC3939","v":"x"},{"$f":"'[8]Список изделий'!AD3939","v":0},{"$f":"'[8]Список изделий'!AE3939","v":0},{"$f":"'[8]Список изделий'!AF3939","v":"00:00:00"},{"$f":"'[8]Список изделий'!AY3939","v":0},{"$f":"'[8]Список изделий'!AZ3939","v":"00:00:00"},-43153,-43153,0,0,{"$f":"'[8]Список изделий'!BR3939","v":0},0]
[550,{"$f":"'[8]Список изделий'!D4021","v":50},{"$f":"'[8]Список изделий'!E4021","v":0},{"$f":"'[8]Список изделий'!F4021","v":"Вывеска \"Улыбнитесь\" двухсторонняя подвесная"},{"$f":"'[8]Список изделий'!I4021","v":0},{"$f":"'[8]Список изделий'!X4021","v":0},{"$f":"'[8]Список изделий'!Y4021","v":0},{"$f":"'[8]Список изделий'!Z4021","v":0},{"$f":"'[8]Список изделий'!AA4021","v":0},{"$f":"'[8]Список изделий'!AB4021","v":0},{"$f":"'[8]Список изделий'!AC4021","v":"x"},{"$f":"'[8]Список изделий'!AD4021","v":0},{"$f":"'[8]Список изделий'!AE4021","v":0},{"$f":"'[8]Список изделий'!AF4021","v":"00:00:00"},{"$f":"'[8]Список изделий'!AY4021","v":0},{"$f":"'[8]Список изделий'!AZ4021","v":"00:00:00"},-43153,-43153,0,0,{"$f":"'[8]Список изделий'!BR4021","v":0},0]
[551,{"$f":"'[8]Список изделий'!D4103","v":51},{"$f":"'[8]Список изделий'!E4103","v":0},{"$f":"'[8]Список изделий'!F4103","v":"Имиджи на колонны"},{"$f":"'[8]Список изделий'!I4103","v":0},{"$f":"'[8]Список изделий'!X4103","v":0},{"$f":"'[8]Список изделий'!Y4103","v":0},{"$f":"'[8]Список изделий'!Z4103","v":0},{"$f":"'[8]Список изделий'!AA4103","v":0},{"$f":"'[8]Список изделий'!AB4103","v":0},{"$f":"'[8]Список изделий'!AC4103","v":"x"},{"$f":"'[8]Список изделий'!AD4103","v":0},{"$f":"'[8]Список изделий'!AE4103","v":0},{"$f":"'[8]Список изделий'!AF4103","v":"00:00:00"},{"$f":"'[8]Список изделий'!AY4103","v":0},{"$f":"'[8]Список изделий'!AZ4103","v":"00:00:00"},-43153,-43153,0,0,{"$f":"'[8]Список изделий'!BR4103","v":0},0]
[552,{"$f":"'[8]Список изделий'!D4185","v":52},{"$f":"'[8]Список изделий'!E4185","v":0},{"$f":"'[8]Список изделий'!F4185","v":"Оформление дополнительного оборудования"},{"$f":"'[8]Список изделий'!I4185","v":0},{"$f":"'[8]Список изделий'!X4185","v":0},{"$f":"'[8]Список изделий'!Y4185","v":0},{"$f":"'[8]Список изделий'!Z4185","v":0},{"$f":"'[8]Список изделий'!AA4185","v":0},{"$f":"'[8]Список изделий'!AB4185","v":0},{"$f":"'[8]Список изделий'!AC4185","v":"x"},{"$f":"'[8]Список изделий'!AD4185","v":0},{"$f":"'[8]Список изделий'!AE4185","v":0},{"$f":"'[8]Список изделий'!AF4185","v":"00:00:00"},{"$f":"'[8]Список изделий'!AY4185","v":0},{"$f":"'[8]Список изделий'!AZ4185","v":"00:00:00"},-43153,-43153,0,0,{"$f":"'[8]Список изделий'!BR4185","v":"\\\\SERVER\\Data1\\П\\Перекресток\\2018\\ОКЕЙ_Перекресток\\Парашютная 46\\техничка\\52-оформление_доп_оборудования"},0]
[553,{"$f":"'[8]Список изделий'!D4267","v":53},{"$f":"'[8]Список изделий'!E4267","v":0},{"$f":"'[8]Список изделий'!F4267","v":"Табличка \"А4\", \"Весы для весовых конфет\" двухсторонняя подвесная"},{"$f":"'[8]Список изделий'!I4267","v":0},{"$f":"'[8]Список изделий'!X4267","v":0},{"$f":"'[8]Список изделий'!Y4267","v":0},{"$f":"'[8]Список изделий'!Z4267","v":0},{"$f":"'[8]Список изделий'!AA4267","v":0},{"$f":"'[8]Список изделий'!AB4267","v":0},{"$f":"'[8]Список изделий'!AC4267","v":"x"},{"$f":"'[8]Список изделий'!AD4267","v":0},{"$f":"'[8]Список изделий'!AE4267","v":0},{"$f":"'[8]Список изделий'!AF4267","v":"00:00:00"},{"$f":"'[8]Список изделий'!AY4267","v":0},{"$f":"'[8]Список изделий'!AZ4267","v":"00:00:00"},-43153,-43153,0,0,{"$f":"'[8]Список изделий'!BR4267","v":0},0]
[554,{"$f":"'[8]Список изделий'!D4349","v":54},{"$f":"'[8]Список изделий'!E4349","v":0},{"$f":"'[8]Список изделий'!F4349","v":"Стикер \"режим работ \" 24 часа"},{"$f":"'[8]Список изделий'!I4349","v":0},{"$f":"'[8]Список изделий'!X4349","v":0},{"$f":"'[8]Список изделий'!Y4349","v":0},{"$f":"'[8]Список изделий'!Z4349","v":0},{"$f":"'[8]Список изделий'!AA4349","v":0},{"$f":"'[8]Список изделий'!AB4349","v":0},{"$f":"'[8]Список изделий'!AC4349","v":"x"},{"$f":"'[8]Список изделий'!AD4349","v":0},{"$f":"'[8]Список изделий'!AE4349","v":0},{"$f":"'[8]Список изделий'!AF4349","v":"00:00:00"},{"$f":"'[8]Список изделий'!AY4349","v":0},{"$f":"'[8]Список изделий'!AZ4349","v":"00:00:00"},-43153,-43153,0,0,{"$f":"'[8]Список изделий'!BR4349","v":0},0]
[555,{"$f":"'[8]Список изделий'!D4431","v":55},{"$f":"'[8]Список изделий'!E4431","v":0},{"$f":"'[8]Список изделий'!F4431","v":"Табличка \"режим работы\" 24 часа"},{"$f":"'[8]Список изделий'!I4431","v":0},{"$f":"'[8]Список изделий'!X4431","v":0},{"$f":"'[8]Список изделий'!Y4431","v":0},{"$f":"'[8]Список изделий'!Z4431","v":0},{"$f":"'[8]Список изделий'!AA4431","v":0},{"$f":"'[8]Список изделий'!AB4431","v":0},{"$f":"'[8]Список изделий'!AC4431","v":"x"},{"$f":"'[8]Список изделий'!AD4431","v":0},{"$f":"'[8]Список изделий'!AE4431","v":0},{"$f":"'[8]Список изделий'!AF4431","v":"00:00:00"},{"$f":"'[8]Список изделий'!AY4431","v":0},{"$f":"'[8]Список изделий'!AZ4431","v":"00:00:00"},-43153,-43153,0,0,{"$f":"'[8]Список изделий'!BR4431","v":0},0]
[556,{"$f":"'[8]Список изделий'!D4513","v":56},{"$f":"'[8]Список изделий'!E4513","v":0},{"$f":"'[8]Список изделий'!F4513","v":"Вывеска-тележки - ВТ"},{"$f":"'[8]Список изделий'!I4513","v":0},{"$f":"'[8]Список изделий'!X4513","v":0},{"$f":"'[8]Список изделий'!Y4513","v":0},{"$f":"'[8]Список изделий'!Z4513","v":0},{"$f":"'[8]Список изделий'!AA4513","v":0},{"$f":"'[8]Список изделий'!AB4513","v":0},{"$f":"'[8]Список изделий'!AC4513","v":"x"},{"$f":"'[8]Список изделий'!AD4513","v":0},{"$f":"'[8]Список изделий'!AE4513","v":0},{"$f":"'[8]Список изделий'!AF4513","v":"00:00:00"},{"$f":"'[8]Список изделий'!AY4513","v":0},{"$f":"'[8]Список изделий'!AZ4513","v":"00:00:00"},-43153,-43153,0,0,{"$f":"'[8]Список изделий'!BR4513","v":0},0]
[557,{"$f":"'[8]Список изделий'!D4595","v":57},{"$f":"'[8]Список изделий'!E4595","v":0},{"$f":"'[8]Список изделий'!F4595","v":"Конструкции \"Суперцена\" треугольная (к-во предварительно)"},{"$f":"'[8]Список изделий'!I4595","v":0},{"$f":"'[8]Список изделий'!X4595","v":0},{"$f":"'[8]Список изделий'!Y4595","v":0},{"$f":"'[8]Список изделий'!Z4595","v":0},{"$f":"'[8]Список изделий'!AA4595","v":0},{"$f":"'[8]Список изделий'!AB4595","v":0},{"$f":"'[8]Список изделий'!AC4595","v":"x"},{"$f":"'[8]Список изделий'!AD4595","v":0},{"$f":"'[8]Список изделий'!AE4595","v":0},{"$f":"'[8]Список изделий'!AF4595","v":"00:00:00"},{"$f":"'[8]Список изделий'!AY4595","v":0},{"$f":"'[8]Список изделий'!AZ4595","v":"00:00:00"},-43153,-43153,0,0,{"$f":"'[8]Список изделий'!BR4595","v":"\\\\SERVER\\Data1\\П\\Перекресток\\2018\\ТЕХНИЧЕСКАЯ ДОКУМЕНТАЦИЯ\\57-СУПЕРЦЕНА-треугольная(Призма)\\Сборка\\Суперцена-треугольная-сборка.cdr"},0]
[558,{"$f":"'[8]Список изделий'!D4677","v":58},{"$f":"'[8]Список изделий'!E4677","v":0},{"$f":"'[8]Список изделий'!F4677","v":"Конструкция \"Суперцена\" одинарная, один карман, подвесная к-во предварительное"},{"$f":"'[8]Список изделий'!I4677","v":0},{"$f":"'[8]Список изделий'!X4677","v":0},{"$f":"'[8]Список изделий'!Y4677","v":0},{"$f":"'[8]Список изделий'!Z4677","v":0},{"$f":"'[8]Список изделий'!AA4677","v":0},{"$f":"'[8]Список изделий'!AB4677","v":0},{"$f":"'[8]Список изделий'!AC4677","v":"x"},{"$f":"'[8]Список изделий'!AD4677","v":0},{"$f":"'[8]Список изделий'!AE4677","v":0},{"$f":"'[8]Список изделий'!AF4677","v":"00:00:00"},{"$f":"'[8]Список изделий'!AY4677","v":0},{"$f":"'[8]Список изделий'!AZ4677","v":"00:00:00"},-43153,-43153,0,0,{"$f":"'[8]Список изделий'!BR4677","v":"\\\\SERVER\\Data1\\П\\Перекресток\\2018\\ТЕХНИЧЕСКАЯ ДОКУМЕНТАЦИЯ\\58-СУПЕРЦЕНА-одинарная_подвесная\\Сборка\\суперцена_плоская-сборка.cdr"},0]
[559,{"$f":"'[8]Список изделий'!D4759","v":59},{"$f":"'[8]Список изделий'!E4759","v":0},{"$f":"'[8]Список изделий'!F4759","v":"Стикеры \"Суперцена\", на карманы (треугольные конструкции)"},{"$f":"'[8]Список изделий'!I4759","v":0},{"$f":"'[8]Список изделий'!X4759","v":0},{"$f":"'[8]Список изделий'!Y4759","v":0},{"$f":"'[8]Список изделий'!Z4759","v":0},{"$f":"'[8]Список изделий'!AA4759","v":0},{"$f":"'[8]Список изделий'!AB4759","v":0},{"$f":"'[8]Список изделий'!AC4759","v":"x"},{"$f":"'[8]Список изделий'!AD4759","v":0},{"$f":"'[8]Список изделий'!AE4759","v":0},{"$f":"'[8]Список изделий'!AF4759","v":"00:00:00"},{"$f":"'[8]Список изделий'!AY4759","v":0},{"$f":"'[8]Список изделий'!AZ4759","v":"00:00:00"},-43153,-43153,0,0,{"$f":"'[8]Список изделий'!BR4759","v":0},0]
[560,{"$f":"'[8]Список изделий'!D4841","v":60},{"$f":"'[8]Список изделий'!E4841","v":0},{"$f":"'[8]Список изделий'!F4841","v":" Фриз стеллажный объемный. Двухсторонний СУПЕРЦЕНА. Обратная сторона - имитация стелажного фриза Товары для дома Красота уход"},{"$f":"'[8]Список изделий'!I4841","v":0},{"$f":"'[8]Список изделий'!X4841","v":0},{"$f":"'[8]Список изделий'!Y4841","v":0},{"$f":"'[8]Список изделий'!Z4841","v":0},{"$f":"'[8]Список изделий'!AA4841","v":0},{"$f":"'[8]Список изделий'!AB4841","v":0},{"$f":"'[8]Список изделий'!AC4841","v":"x"},{"$f":"'[8]Список изделий'!AD4841","v":0},{"$f":"'[8]Список изделий'!AE4841","v":0},{"$f":"'[8]Список изделий'!AF4841","v":"00:00:00"},{"$f":"'[8]Список изделий'!AY4841","v":0},{"$f":"'[8]Список изделий'!AZ4841","v":"00:00:00"},-43153,-43153,0,0,{"$f":"'[8]Список изделий'!BR4841","v":0},0]
[561,{"$f":"'[8]Список изделий'!D4923","v":61},{"$f":"'[8]Список изделий'!E4923","v":0},{"$f":"'[8]Список изделий'!F4923","v":"Подвес кассы на трубе 20х20 (двухсторонний) (к-во предварительно)"},{"$f":"'[8]Список изделий'!I4923","v":0},{"$f":"'[8]Список изделий'!X4923","v":0},{"$f":"'[8]Список изделий'!Y4923","v":0},{"$f":"'[8]Список изделий'!Z4923","v":0},{"$f":"'[8]Список изделий'!AA4923","v":0},{"$f":"'[8]Список изделий'!AB4923","v":0},{"$f":"'[8]Список изделий'!AC4923","v":"x"},{"$f":"'[8]Список изделий'!AD4923","v":0},{"$f":"'[8]Список изделий'!AE4923","v":0},{"$f":"'[8]Список изделий'!AF4923","v":"00:00:00"},{"$f":"'[8]Список изделий'!AY4923","v":0},{"$f":"'[8]Список изделий'!AZ4923","v":"00:00:00"},-43153,-43153,0,0,{"$f":"'[8]Список изделий'!BR4923","v":0},0]
[562,{"$f":"'[8]Список изделий'!D5005","v":62},{"$f":"'[8]Список изделий'!E5005","v":0},{"$f":"'[8]Список изделий'!F5005","v":"Боковины \"Бокалы\" на боковые части энда стеллажа"},{"$f":"'[8]Список изделий'!I5005","v":0},{"$f":"'[8]Список изделий'!X5005","v":0},{"$f":"'[8]Список изделий'!Y5005","v":0},{"$f":"'[8]Список изделий'!Z5005","v":0},{"$f":"'[8]Список изделий'!AA5005","v":0},{"$f":"'[8]Список изделий'!AB5005","v":0},{"$f":"'[8]Список изделий'!AC5005","v":"x"},{"$f":"'[8]Список изделий'!AD5005","v":0},{"$f":"'[8]Список изделий'!AE5005","v":0},{"$f":"'[8]Список изделий'!AF5005","v":"00:00:00"},{"$f":"'[8]Список изделий'!AY5005","v":0},{"$f":"'[8]Список изделий'!AZ5005","v":"00:00:00"},-43153,-43153,0,0,{"$f":"'[8]Список изделий'!BR5005","v":0},0]
[563,{"$f":"'[8]Список изделий'!D5087","v":63},{"$f":"'[8]Список изделий'!E5087","v":0},{"$f":"'[8]Список изделий'!F5087","v":"Стикер заморозка в холодильники"},{"$f":"'[8]Список изделий'!I5087","v":0},{"$f":"'[8]Список изделий'!X5087","v":0},{"$f":"'[8]Список изделий'!Y5087","v":0},{"$f":"'[8]Список изделий'!Z5087","v":0},{"$f":"'[8]Список изделий'!AA5087","v":0},{"$f":"'[8]Список изделий'!AB5087","v":0},{"$f":"'[8]Список изделий'!AC5087","v":"x"},{"$f":"'[8]Список изделий'!AD5087","v":0},{"$f":"'[8]Список изделий'!AE5087","v":0},{"$f":"'[8]Список изделий'!AF5087","v":"00:00:00"},{"$f":"'[8]Список изделий'!AY5087","v":0},{"$f":"'[8]Список изделий'!AZ5087","v":"00:00:00"},-43153,-43153,0,0,{"$f":"'[8]Список изделий'!BR5087","v":0},0]
[564,{"$f":"'[8]Список изделий'!D5169","v":64},{"$f":"'[8]Список изделий'!E5169","v":0},{"$f":"'[8]Список изделий'!F5169","v":"Оклейка витрин плоттерная резка ВХОДная группа"},{"$f":"'[8]Список изделий'!I5169","v":0},{"$f":"'[8]Список изделий'!X5169","v":0},{"$f":"'[8]Список изделий'!Y5169","v":0},{"$f":"'[8]Список изделий'!Z5169","v":0},{"$f":"'[8]Список изделий'!AA5169","v":0},{"$f":"'[8]Список изделий'!AB5169","v":0},{"$f":"'[8]Список изделий'!AC5169","v":"x"},{"$f":"'[8]Список изделий'!AD5169","v":0},{"$f":"'[8]Список изделий'!AE5169","v":0},{"$f":"'[8]Список изделий'!AF5169","v":"00:00:00"},{"$f":"'[8]Список изделий'!AY5169","v":0},{"$f":"'[8]Список изделий'!AZ5169","v":"00:00:00"},-43153,-43153,0,0,{"$f":"'[8]Список изделий'!BR5169","v":0},0]
[565,{"$f":"'[8]Список изделий'!D5251","v":65},{"$f":"'[8]Список изделий'!E5251","v":0},{"$f":"'[8]Список изделий'!F5251","v":"Для витрин конструкция \"Суперцена\" 2хст. (из двух односторонних)"},{"$f":"'[8]Список изделий'!I5251","v":0},{"$f":"'[8]Список изделий'!X5251","v":0},{"$f":"'[8]Список изделий'!Y5251","v":0},{"$f":"'[8]Список изделий'!Z5251","v":0},{"$f":"'[8]Список изделий'!AA5251","v":0},{"$f":"'[8]Список изделий'!AB5251","v":0},{"$f":"'[8]Список изделий'!AC5251","v":"x"},{"$f":"'[8]Список изделий'!AD5251","v":0},{"$f":"'[8]Список изделий'!AE5251","v":0},{"$f":"'[8]Список изделий'!AF5251","v":"00:00:00"},{"$f":"'[8]Список изделий'!AY5251","v":0},{"$f":"'[8]Список изделий'!AZ5251","v":"00:00:00"},-43153,-43153,0,0,{"$f":"'[8]Список изделий'!BR5251","v":0},0]
[566,{"$f":"'[8]Список изделий'!D5333","v":66},{"$f":"'[8]Список изделий'!E5333","v":0},{"$f":"'[8]Список изделий'!F5333","v":"Оформление витрин имиджи двухсторонние"},{"$f":"'[8]Список изделий'!I5333","v":0},{"$f":"'[8]Список изделий'!X5333","v":0},{"$f":"'[8]Список изделий'!Y5333","v":0},{"$f":"'[8]Список изделий'!Z5333","v":0},{"$f":"'[8]Список изделий'!AA5333","v":0},{"$f":"'[8]Список изделий'!AB5333","v":0},{"$f":"'[8]Список изделий'!AC5333","v":"x"},{"$f":"'[8]Список изделий'!AD5333","v":0},{"$f":"'[8]Список изделий'!AE5333","v":0},{"$f":"'[8]Список изделий'!AF5333","v":"00:00:00"},{"$f":"'[8]Список изделий'!AY5333","v":0},{"$f":"'[8]Список изделий'!AZ5333","v":"00:00:00"},-43153,-43153,0,0,{"$f":"'[8]Список изделий'!BR5333","v":0},0]
[567,{"$f":"'[8]Список изделий'!D5415","v":67},{"$f":"'[8]Список изделий'!E5415","v":0},{"$f":"'[8]Список изделий'!F5415","v":"Фриз стеллажный \"Шапка\" - Восточные сладости (комплект из 3х частей)"},{"$f":"'[8]Список изделий'!I5415","v":0},{"$f":"'[8]Список изделий'!X5415","v":0},{"$f":"'[8]Список изделий'!Y5415","v":0},{"$f":"'[8]Список изделий'!Z5415","v":0},{"$f":"'[8]Список изделий'!AA5415","v":0},{"$f":"'[8]Список изделий'!AB5415","v":0},{"$f":"'[8]Список изделий'!AC5415","v":"x"},{"$f":"'[8]Список изделий'!AD5415","v":0},{"$f":"'[8]Список изделий'!AE5415","v":0},{"$f":"'[8]Список изделий'!AF5415","v":"00:00:00"},{"$f":"'[8]Список изделий'!AY5415","v":0},{"$f":"'[8]Список изделий'!AZ5415","v":"00:00:00"},-43153,-43153,0,0,{"$f":"'[8]Список изделий'!BR5415","v":0},0]
[568,{"$f":"'[8]Список изделий'!D5497","v":68},{"$f":"'[8]Список изделий'!E5497","v":0},{"$f":"'[8]Список изделий'!F5497","v":"Оформлениие Фермерского Уголка"},{"$f":"'[8]Список изделий'!I5497","v":0},{"$f":"'[8]Список изделий'!X5497","v":0},{"$f":"'[8]Список изделий'!Y5497","v":0},{"$f":"'[8]Список изделий'!Z5497","v":0},{"$f":"'[8]Список изделий'!AA5497","v":0},{"$f":"'[8]Список изделий'!AB5497","v":0},{"$f":"'[8]Список изделий'!AC5497","v":"x"},{"$f":"'[8]Список изделий'!AD5497","v":0},{"$f":"'[8]Список изделий'!AE5497","v":0},{"$f":"'[8]Список изделий'!AF5497","v":"00:00:00"},{"$f":"'[8]Список изделий'!AY5497","v":0},{"$f":"'[8]Список изделий'!AZ5497","v":"00:00:00"},-43153,-43153,0,0,{"$f":"'[8]Список изделий'!BR5497","v":0},0]
[569,{"$f":"'[8]Список изделий'!D5579","v":69},{"$f":"'[8]Список изделий'!E5579","v":0},{"$f":"'[8]Список изделий'!F5579","v":"Баннера на фасад здания 9700х2700"},{"$f":"'[8]Список изделий'!I5579","v":0},{"$f":"'[8]Список изделий'!X5579","v":0},{"$f":"'[8]Список изделий'!Y5579","v":0},{"$f":"'[8]Список изделий'!Z5579","v":0},{"$f":"'[8]Список изделий'!AA5579","v":0},{"$f":"'[8]Список изделий'!AB5579","v":0},{"$f":"'[8]Список изделий'!AC5579","v":"x"},{"$f":"'[8]Список изделий'!AD5579","v":0},{"$f":"'[8]Список изделий'!AE5579","v":0},{"$f":"'[8]Список изделий'!AF5579","v":"00:00:00"},{"$f":"'[8]Список изделий'!AY5579","v":0},{"$f":"'[8]Список изделий'!AZ5579","v":"00:00:00"},-43153,-43153,0,0,{"$f":"'[8]Список изделий'!BR5579","v":"\\\\SERVER\\Data1\\П\\Перекресток\\2018\\ОКЕЙ_Перекресток\\Парашютная 46\\техничка\\69-банера на фасад здания 9700х2700"},0]
[570,{"$f":"'[8]Список изделий'!D5661","v":70},{"$f":"'[8]Список изделий'!E5661","v":0},{"$f":"'[8]Список изделий'!F5661","v":"панели на задник оборудования"},{"$f":"'[8]Список изделий'!I5661","v":0},{"$f":"'[8]Список изделий'!X5661","v":0},{"$f":"'[8]Список изделий'!Y5661","v":0},{"$f":"'[8]Список изделий'!Z5661","v":0},{"$f":"'[8]Список изделий'!AA5661","v":0},{"$f":"'[8]Список изделий'!AB5661","v":0},{"$f":"'[8]Список изделий'!AC5661","v":"x"},{"$f":"'[8]Список изделий'!AD5661","v":0},{"$f":"'[8]Список изделий'!AE5661","v":0},{"$f":"'[8]Список изделий'!AF5661","v":"00:00:00"},{"$f":"'[8]Список изделий'!AY5661","v":0},{"$f":"'[8]Список изделий'!AZ5661","v":"00:00:00"},-43153,-43153,0,0,{"$f":"'[8]Список изделий'!BR5661","v":"\\\\SERVER\\Data1\\П\\Перекресток\\2018\\ОКЕЙ_Перекресток\\Парашютная 46\\техничка\\70-панели на задник оборудования"},0]
[571,{"$f":"'[8]Список изделий'!D5743","v":71},{"$f":"'[8]Список изделий'!E5743","v":0},{"$f":"'[8]Список изделий'!F5743","v":"Вывеска световая клееная \"КАФЕ BISTRO CAFE\""},{"$f":"'[8]Список изделий'!I5743","v":0},{"$f":"'[8]Список изделий'!X5743","v":0},{"$f":"'[8]Список изделий'!Y5743","v":0},{"$f":"'[8]Список изделий'!Z5743","v":0},{"$f":"'[8]Список изделий'!AA5743","v":0},{"$f":"'[8]Список изделий'!AB5743","v":0},{"$f":"'[8]Список изделий'!AC5743","v":"x"},{"$f":"'[8]Список изделий'!AD5743","v":0},{"$f":"'[8]Список изделий'!AE5743","v":0},{"$f":"'[8]Список изделий'!AF5743","v":"00:00:00"},{"$f":"'[8]Список изделий'!AY5743","v":0},{"$f":"'[8]Список изделий'!AZ5743","v":"00:00:00"},-43153,-43153,0,0,{"$f":"'[8]Список изделий'!BR5743","v":0},0]
[572,{"$f":"'[8]Список изделий'!D5825","v":72},{"$f":"'[8]Список изделий'!E5825","v":0},{"$f":"'[8]Список изделий'!F5825","v":"Плоская эмблема комплект (Ложки, Бургер, Чашка)"},{"$f":"'[8]Список изделий'!I5825","v":0},{"$f":"'[8]Список изделий'!X5825","v":0},{"$f":"'[8]Список изделий'!Y5825","v":0},{"$f":"'[8]Список изделий'!Z5825","v":0},{"$f":"'[8]Список изделий'!AA5825","v":0},{"$f":"'[8]Список изделий'!AB5825","v":0},{"$f":"'[8]Список изделий'!AC5825","v":"x"},{"$f":"'[8]Список изделий'!AD5825","v":0},{"$f":"'[8]Список изделий'!AE5825","v":0},{"$f":"'[8]Список изделий'!AF5825","v":"00:00:00"},{"$f":"'[8]Список изделий'!AY5825","v":0},{"$f":"'[8]Список изделий'!AZ5825","v":"00:00:00"},-43153,-43153,0,0,{"$f":"'[8]Список изделий'!BR5825","v":0},0]
[573,{"$f":"'[8]Список изделий'!D5907","v":73},{"$f":"'[8]Список изделий'!E5907","v":0},{"$f":"'[8]Список изделий'!F5907","v":"Подвес 2хст. В Bistro \"Тарелки/Стол с чашками\""},{"$f":"'[8]Список изделий'!I5907","v":0},{"$f":"'[8]Список изделий'!X5907","v":0},{"$f":"'[8]Список изделий'!Y5907","v":0},{"$f":"'[8]Список изделий'!Z5907","v":0},{"$f":"'[8]Список изделий'!AA5907","v":0},{"$f":"'[8]Список изделий'!AB5907","v":0},{"$f":"'[8]Список изделий'!AC5907","v":"x"},{"$f":"'[8]Список изделий'!AD5907","v":0},{"$f":"'[8]Список изделий'!AE5907","v":0},{"$f":"'[8]Список изделий'!AF5907","v":"00:00:00"},{"$f":"'[8]Список изделий'!AY5907","v":0},{"$f":"'[8]Список изделий'!AZ5907","v":"00:00:00"},-43153,-43153,0,0,{"$f":"'[8]Список изделий'!BR5907","v":0},0]
[574,{"$f":"'[8]Список изделий'!D5989","v":74},{"$f":"'[8]Список изделий'!E5989","v":0},{"$f":"'[8]Список изделий'!F5989","v":"Подвес 2хст. В Bistro \"Присесть- поесть\""},{"$f":"'[8]Список изделий'!I5989","v":0},{"$f":"'[8]Список изделий'!X5989","v":0},{"$f":"'[8]Список изделий'!Y5989","v":0},{"$f":"'[8]Список изделий'!Z5989","v":0},{"$f":"'[8]Список изделий'!AA5989","v":0},{"$f":"'[8]Список изделий'!AB5989","v":0},{"$f":"'[8]Список изделий'!AC5989","v":"x"},{"$f":"'[8]Список изделий'!AD5989","v":0},{"$f":"'[8]Список изделий'!AE5989","v":0},{"$f":"'[8]Список изделий'!AF5989","v":"00:00:00"},{"$f":"'[8]Список изделий'!AY5989","v":0},{"$f":"'[8]Список изделий'!AZ5989","v":"00:00:00"},-43153,-43153,0,0,{"$f":"'[8]Список изделий'!BR5989","v":0},0]
[575,{"$f":"'[8]Список изделий'!D6071","v":75},{"$f":"'[8]Список изделий'!E6071","v":0},{"$f":"'[8]Список изделий'!F6071","v":"Световой короб круглый подвесной одност. \"BISTRO\" в витрину"},{"$f":"'[8]Список изделий'!I6071","v":0},{"$f":"'[8]Список изделий'!X6071","v":0},{"$f":"'[8]Список изделий'!Y6071","v":0},{"$f":"'[8]Список изделий'!Z6071","v":0},{"$f":"'[8]Список изделий'!AA6071","v":0},{"$f":"'[8]Список изделий'!AB6071","v":0},{"$f":"'[8]Список изделий'!AC6071","v":"x"},{"$f":"'[8]Список изделий'!AD6071","v":0},{"$f":"'[8]Список изделий'!AE6071","v":0},{"$f":"'[8]Список изделий'!AF6071","v":"00:00:00"},{"$f":"'[8]Список изделий'!AY6071","v":0},{"$f":"'[8]Список изделий'!AZ6071","v":"00:00:00"},-43153,-43153,0,0,{"$f":"'[8]Список изделий'!BR6071","v":0},0]
[576,{"$f":"'[8]Список изделий'!D6153","v":76},{"$f":"'[8]Список изделий'!E6153","v":0},{"$f":"'[8]Список изделий'!F6153","v":"Пилон несветовой"},{"$f":"'[8]Список изделий'!I6153","v":0},{"$f":"'[8]Список изделий'!X6153","v":0},{"$f":"'[8]Список изделий'!Y6153","v":0},{"$f":"'[8]Список изделий'!Z6153","v":0},{"$f":"'[8]Список изделий'!AA6153","v":0},{"$f":"'[8]Список изделий'!AB6153","v":0},{"$f":"'[8]Список изделий'!AC6153","v":"x"},{"$f":"'[8]Список изделий'!AD6153","v":0},{"$f":"'[8]Список изделий'!AE6153","v":0},{"$f":"'[8]Список изделий'!AF6153","v":"00:00:00"},{"$f":"'[8]Список изделий'!AY6153","v":0},{"$f":"'[8]Список изделий'!AZ6153","v":"00:00:00"},-43153,-43153,0,0,{"$f":"'[8]Список изделий'!BR6153","v":0},0]
[577,{"$f":"'[8]Список изделий'!D6235","v":77},{"$f":"'[8]Список изделий'!E6235","v":0},{"$f":"'[8]Список изделий'!F6235","v":"Печать на бумаге для пилона"},{"$f":"'[8]Список изделий'!I6235","v":0},{"$f":"'[8]Список изделий'!X6235","v":0},{"$f":"'[8]Список изделий'!Y6235","v":0},{"$f":"'[8]Список изделий'!Z6235","v":0},{"$f":"'[8]Список изделий'!AA6235","v":0},{"$f":"'[8]Список изделий'!AB6235","v":0},{"$f":"'[8]Список изделий'!AC6235","v":"x"},{"$f":"'[8]Список изделий'!AD6235","v":0},{"$f":"'[8]Список изделий'!AE6235","v":0},{"$f":"'[8]Список изделий'!AF6235","v":"00:00:00"},{"$f":"'[8]Список изделий'!AY6235","v":0},{"$f":"'[8]Список изделий'!AZ6235","v":"00:00:00"},-43153,-43153,0,0,{"$f":"'[8]Список изделий'!BR6235","v":"\\\\SERVER\\Data1\\П\\Перекресток\\2018\\ОКЕЙ_Перекресток\\Парашютная 46\\техничка\\77-Бумага_для_пилона"},0]
[578,{"$f":"'[8]Список изделий'!D6317","v":78},{"$f":"'[8]Список изделий'!E6317","v":0},{"$f":"'[8]Список изделий'!F6317","v":"Пилон уличный несветовой"},{"$f":"'[8]Список изделий'!I6317","v":0},{"$f":"'[8]Список изделий'!X6317","v":0},{"$f":"'[8]Список изделий'!Y6317","v":"Семаков"},{"$f":"'[8]Список изделий'!Z6317","v":"Каюк"},{"$f":"'[8]Список изделий'!AA6317","v":0},{"$f":"'[8]Список изделий'!AB6317","v":2050},{"$f":"'[8]Список изделий'!AC6317","v":"x"},{"$f":"'[8]Список изделий'!AD6317","v":1500},{"$f":"'[8]Список изделий'!AE6317","v":"мм"},{"$f":"'[8]Список изделий'!AF6317","v":"00:00:00"},{"$f":"'[8]Список изделий'!AY6317","v":0},{"$f":"'[8]Список изделий'!AZ6317","v":"00:00:00"},{"$f":"IF(O580=\"нет в заказе\",\"нет в заказе\",-(TODAY()-(P580-O580)))","v":-43153},{"$f":"IF(Q580=\"нет в заказе\",\"нет взаказе\",-(IF(O580=\"нет в заказе\",\"нет в заказе\",TODAY()-P580)))","v":-43153},0,{"$f":"V580","v":0},{"$f":"'[8]Список изделий'!BR6317","v":"\\\\SERVER\\Data1\\П\\Перекресток\\2018\\ОКЕЙ_Перекресток\\Парашютная 46\\техничка\\Пилон_стойка указатель\\Сборка\\Пилон_стойка_указатель.cdr"},{"$f":"IF(S580>=0,S580,IF(T580>S580,T580,S580))","v":0}]
[579,{"$f":"'[8]Список изделий'!D6399","v":79},{"$f":"'[8]Список изделий'!E6399","v":0},{"$f":"'[8]Список изделий'!F6399","v":"Фриз стеллажный объемный Суперцена 7550х630 Обратка-Красота Уход"},{"$f":"'[8]Список изделий'!I6399","v":0},{"$f":"'[8]Список изделий'!X6399","v":0},{"$f":"'[8]Список изделий'!Y6399","v":0},{"$f":"'[8]Список изделий'!Z6399","v":0},{"$f":"'[8]Список изделий'!AA6399","v":0},{"$f":"'[8]Список изделий'!AB6399","v":7550},{"$f":"'[8]Список изделий'!AC6399","v":"x"},{"$f":"'[8]Список изделий'!AD6399","v":630},{"$f":"'[8]Список изделий'!AE6399","v":"мм"},{"$f":"'[8]Список изделий'!AF6399","v":"00:00:00"},{"$f":"'[8]Список изделий'!AY6399","v":0},{"$f":"'[8]Список изделий'!AZ6399","v":"00:00:00"},-43153,-43153,0,0,{"$f":"'[8]Список изделий'!BR6399","v":"\\\\SERVER\\Data1\\П\\Перекресток\\2018\\ОКЕЙ_Перекресток\\Парашютная 46\\техничка\\Фриз суперцена 7550_стеллажный.cdr"},0]
[580,{"$f":"'[8]Список изделий'!D6481","v":80},{"$f":"'[8]Список изделий'!E6481","v":0},{"$f":"'[8]Список изделий'!F6481","v":0},{"$f":"'[8]Список изделий'!I6481","v":0},{"$f":"'[8]Список изделий'!X6481","v":0},{"$f":"'[8]Список изделий'!Y6481","v":0},{"$f":"'[8]Список изделий'!Z6481","v":0},{"$f":"'[8]Список изделий'!AA6481","v":0},{"$f":"'[8]Список изделий'!AB6481","v":0},{"$f":"'[8]Список изделий'!AC6481","v":"x"},{"$f":"'[8]Список изделий'!AD6481","v":0},{"$f":"'[8]Список изделий'!AE6481","v":0},{"$f":"'[8]Список изделий'!AF6481","v":"00:00:00"},{"$f":"'[8]Список изделий'!AY6481","v":0},{"$f":"'[8]Список изделий'!AZ6481","v":"00:00:00"},-43153,-43153,0,0,{"$f":"'[8]Список изделий'!BR6481","v":0},0]
[581,{"$f":"'[8]Список изделий'!D6563","v":81},{"$f":"'[8]Список изделий'!E6563","v":0},{"$f":"'[8]Список изделий'!F6563","v":0},{"$f":"'[8]Список изделий'!I6563","v":0},{"$f":"'[8]Список изделий'!X6563","v":0},{"$f":"'[8]Список изделий'!Y6563","v":0},{"$f":"'[8]Список изделий'!Z6563","v":0},{"$f":"'[8]Список изделий'!AA6563","v":0},{"$f":"'[8]Список изделий'!AB6563","v":0},{"$f":"'[8]Список изделий'!AC6563","v":"x"},{"$f":"'[8]Список изделий'!AD6563","v":0},{"$f":"'[8]Список изделий'!AE6563","v":0},{"$f":"'[8]Список изделий'!AF6563","v":"00:00:00"},{"$f":"'[8]Список изделий'!AY6563","v":0},{"$f":"'[8]Список изделий'!AZ6563","v":"00:00:00"},-43153,-43153,0,0,{"$f":"'[8]Список изделий'!BR6563","v":0},0]
[582,{"$f":"'[8]Список изделий'!D6645","v":82},{"$f":"'[8]Список изделий'!E6645","v":0},{"$f":"'[8]Список изделий'!F6645","v":0},{"$f":"'[8]Список изделий'!I6645","v":0},{"$f":"'[8]Список изделий'!X6645","v":0},{"$f":"'[8]Список изделий'!Y6645","v":0},{"$f":"'[8]Список изделий'!Z6645","v":0},{"$f":"'[8]Список изделий'!AA6645","v":0},{"$f":"'[8]Список изделий'!AB6645","v":0},{"$f":"'[8]Список изделий'!AC6645","v":"x"},{"$f":"'[8]Список изделий'!AD6645","v":0},{"$f":"'[8]Список изделий'!AE6645","v":0},{"$f":"'[8]Список изделий'!AF6645","v":"00:00:00"},{"$f":"'[8]Список изделий'!AY6645","v":0},{"$f":"'[8]Список изделий'!AZ6645","v":"00:00:00"},-43153,-43153,0,0,{"$f":"'[8]Список изделий'!BR6645","v":0},0]
[583,{"$f":"'[8]Список изделий'!D6727","v":83},{"$f":"'[8]Список изделий'!E6727","v":0},{"$f":"'[8]Список изделий'!F6727","v":0},{"$f":"'[8]Список изделий'!I6727","v":0},{"$f":"'[8]Список изделий'!X6727","v":0},{"$f":"'[8]Список изделий'!Y6727","v":0},{"$f":"'[8]Список изделий'!Z6727","v":0},{"$f":"'[8]Список изделий'!AA6727","v":0},{"$f":"'[8]Список изделий'!AB6727","v":0},{"$f":"'[8]Список изделий'!AC6727","v":"x"},{"$f":"'[8]Список изделий'!AD6727","v":0},{"$f":"'[8]Список изделий'!AE6727","v":0},{"$f":"'[8]Список изделий'!AF6727","v":"00:00:00"},{"$f":"'[8]Список изделий'!AY6727","v":0},{"$f":"'[8]Список изделий'!AZ6727","v":"00:00:00"},-43153,-43153,0,0,{"$f":"'[8]Список изделий'!BR6727","v":0},0]
[584,{"$f":"'[8]Список изделий'!D6809","v":84},{"$f":"'[8]Список изделий'!E6809","v":0},{"$f":"'[8]Список изделий'!F6809","v":0},{"$f":"'[8]Список изделий'!I6809","v":0},{"$f":"'[8]Список изделий'!X6809","v":0},{"$f":"'[8]Список изделий'!Y6809","v":0},{"$f":"'[8]Список изделий'!Z6809","v":0},{"$f":"'[8]Список изделий'!AA6809","v":0},{"$f":"'[8]Список изделий'!AB6809","v":0},{"$f":"'[8]Список изделий'!AC6809","v":"x"},{"$f":"'[8]Список изделий'!AD6809","v":0},{"$f":"'[8]Список изделий'!AE6809","v":0},{"$f":"'[8]Список изделий'!AF6809","v":"00:00:00"},{"$f":"'[8]Список изделий'!AY6809","v":0},{"$f":"'[8]Список изделий'!AZ6809","v":"00:00:00"},-43153,-43153,0,0,{"$f":"'[8]Список изделий'!BR6809","v":0},0]
[585,{"$f":"'[8]Список изделий'!D6891","v":85},{"$f":"'[8]Список изделий'!E6891","v":0},{"$f":"'[8]Список изделий'!F6891","v":0},{"$f":"'[8]Список изделий'!I6891","v":0},{"$f":"'[8]Список изделий'!X6891","v":0},{"$f":"'[8]Список изделий'!Y6891","v":0},{"$f":"'[8]Список изделий'!Z6891","v":0},{"$f":"'[8]Список изделий'!AA6891","v":0},{"$f":"'[8]Список изделий'!AB6891","v":0},{"$f":"'[8]Список изделий'!AC6891","v":"x"},{"$f":"'[8]Список изделий'!AD6891","v":0},{"$f":"'[8]Список изделий'!AE6891","v":0},{"$f":"'[8]Список изделий'!AF6891","v":"00:00:00"},{"$f":"'[8]Список изделий'!AY6891","v":0},{"$f":"'[8]Список изделий'!AZ6891","v":"00:00:00"},-43153,-43153,0,0,{"$f":"'[8]Список изделий'!BR6891","v":0},0]
[586,{"$f":"'[8]Список изделий'!D6973","v":86},{"$f":"'[8]Список изделий'!E6973","v":0},{"$f":"'[8]Список изделий'!F6973","v":0},{"$f":"'[8]Список изделий'!I6973","v":0},{"$f":"'[8]Список изделий'!X6973","v":0},{"$f":"'[8]Список изделий'!Y6973","v":0},{"$f":"'[8]Список изделий'!Z6973","v":0},{"$f":"'[8]Список изделий'!AA6973","v":0},{"$f":"'[8]Список изделий'!AB6973","v":0},{"$f":"'[8]Список изделий'!AC6973","v":"x"},{"$f":"'[8]Список изделий'!AD6973","v":0},{"$f":"'[8]Список изделий'!AE6973","v":0},{"$f":"'[8]Список изделий'!AF6973","v":"00:00:00"},{"$f":"'[8]Список изделий'!AY6973","v":0},{"$f":"'[8]Список изделий'!AZ6973","v":"00:00:00"},-43153,-43153,0,0,{"$f":"'[8]Список изделий'!BR6973","v":0},0]
[587,{"$f":"'[8]Список изделий'!D7055","v":87},{"$f":"'[8]Список изделий'!E7055","v":0},{"$f":"'[8]Список изделий'!F7055","v":0},{"$f":"'[8]Список изделий'!I7055","v":0},{"$f":"'[8]Список изделий'!X7055","v":0},{"$f":"'[8]Список изделий'!Y7055","v":0},{"$f":"'[8]Список изделий'!Z7055","v":0},{"$f":"'[8]Список изделий'!AA7055","v":0},{"$f":"'[8]Список изделий'!AB7055","v":0},{"$f":"'[8]Список изделий'!AC7055","v":"x"},{"$f":"'[8]Список изделий'!AD7055","v":0},{"$f":"'[8]Список изделий'!AE7055","v":0},{"$f":"'[8]Список изделий'!AF7055","v":"00:00:00"},{"$f":"'[8]Список изделий'!AY7055","v":0},{"$f":"'[8]Список изделий'!AZ7055","v":"00:00:00"},-43153,-43153,0,0,{"$f":"'[8]Список изделий'!BR7055","v":0},0]
[588,{"$f":"'[8]Список изделий'!D7137","v":88},{"$f":"'[8]Список изделий'!E7137","v":0},{"$f":"'[8]Список изделий'!F7137","v":0},{"$f":"'[8]Список изделий'!I7137","v":0},{"$f":"'[8]Список изделий'!X7137","v":0},{"$f":"'[8]Список изделий'!Y7137","v":0},{"$f":"'[8]Список изделий'!Z7137","v":0},{"$f":"'[8]Список изделий'!AA7137","v":0},{"$f":"'[8]Список изделий'!AB7137","v":0},{"$f":"'[8]Список изделий'!AC7137","v":"x"},{"$f":"'[8]Список изделий'!AD7137","v":0},{"$f":"'[8]Список изделий'!AE7137","v":0},{"$f":"'[8]Список изделий'!AF7137","v":"00:00:00"},{"$f":"'[8]Список изделий'!AY7137","v":0},{"$f":"'[8]Список изделий'!AZ7137","v":"00:00:00"},-43153,-43153,0,0,{"$f":"'[8]Список изделий'!BR7137","v":0},0]
[589,{"$f":"'[8]Список изделий'!D7219","v":89},{"$f":"'[8]Список изделий'!E7219","v":0},{"$f":"'[8]Список изделий'!F7219","v":0},{"$f":"'[8]Список изделий'!I7219","v":0},{"$f":"'[8]Список изделий'!X7219","v":0},{"$f":"'[8]Список изделий'!Y7219","v":0},{"$f":"'[8]Список изделий'!Z7219","v":0},{"$f":"'[8]Список изделий'!AA7219","v":0},{"$f":"'[8]Список изделий'!AB7219","v":0},{"$f":"'[8]Список изделий'!AC7219","v":"x"},{"$f":"'[8]Список изделий'!AD7219","v":0},{"$f":"'[8]Список изделий'!AE7219","v":0},{"$f":"'[8]Список изделий'!AF7219","v":"00:00:00"},{"$f":"'[8]Список изделий'!AY7219","v":0},{"$f":"'[8]Список изделий'!AZ7219","v":"00:00:00"},-43153,-43153,0,0,{"$f":"'[8]Список изделий'!BR7219","v":0},0]
[590,{"$f":"'[8]Список изделий'!D7301","v":90},{"$f":"'[8]Список изделий'!E7301","v":0},{"$f":"'[8]Список изделий'!F7301","v":0},{"$f":"'[8]Список изделий'!I7301","v":0},{"$f":"'[8]Список изделий'!X7301","v":0},{"$f":"'[8]Список изделий'!Y7301","v":0},{"$f":"'[8]Список изделий'!Z7301","v":0},{"$f":"'[8]Список изделий'!AA7301","v":0},{"$f":"'[8]Список изделий'!AB7301","v":0},{"$f":"'[8]Список изделий'!AC7301","v":"x"},{"$f":"'[8]Список изделий'!AD7301","v":0},{"$f":"'[8]Список изделий'!AE7301","v":0},{"$f":"'[8]Список изделий'!AF7301","v":"00:00:00"},{"$f":"'[8]Список изделий'!AY7301","v":0},{"$f":"'[8]Список изделий'!AZ7301","v":"00:00:00"},-43153,-43153,0,0,{"$f":"'[8]Список изделий'!BR7301","v":0},0]
[591,{"$f":"'[8]Список изделий'!D7383","v":91},{"$f":"'[8]Список изделий'!E7383","v":0},{"$f":"'[8]Список изделий'!F7383","v":0},{"$f":"'[8]Список изделий'!I7383","v":0},{"$f":"'[8]Список изделий'!X7383","v":0},{"$f":"'[8]Список изделий'!Y7383","v":0},{"$f":"'[8]Список изделий'!Z7383","v":0},{"$f":"'[8]Список изделий'!AA7383","v":0},{"$f":"'[8]Список изделий'!AB7383","v":0},{"$f":"'[8]Список изделий'!AC7383","v":"x"},{"$f":"'[8]Список изделий'!AD7383","v":0},{"$f":"'[8]Список изделий'!AE7383","v":0},{"$f":"'[8]Список изделий'!AF7383","v":"00:00:00"},{"$f":"'[8]Список изделий'!AY7383","v":0},{"$f":"'[8]Список изделий'!AZ7383","v":"00:00:00"},-43153,-43153,0,0,{"$f":"'[8]Список изделий'!BR7383","v":0},0]
[592,{"$f":"'[8]Список изделий'!D7465","v":92},{"$f":"'[8]Список изделий'!E7465","v":0},{"$f":"'[8]Список изделий'!F7465","v":0},{"$f":"'[8]Список изделий'!I7465","v":0},{"$f":"'[8]Список изделий'!X7465","v":0},{"$f":"'[8]Список изделий'!Y7465","v":0},{"$f":"'[8]Список изделий'!Z7465","v":0},{"$f":"'[8]Список изделий'!AA7465","v":0},{"$f":"'[8]Список изделий'!AB7465","v":0},{"$f":"'[8]Список изделий'!AC7465","v":"x"},{"$f":"'[8]Список изделий'!AD7465","v":0},{"$f":"'[8]Список изделий'!AE7465","v":0},{"$f":"'[8]Список изделий'!AF7465","v":"00:00:00"},{"$f":"'[8]Список изделий'!AY7465","v":0},{"$f":"'[8]Список изделий'!AZ7465","v":"00:00:00"},-43153,-43153,0,0,{"$f":"'[8]Список изделий'!BR7465","v":0},0]
[593,{"$f":"'[8]Список изделий'!D7547","v":93},{"$f":"'[8]Список изделий'!E7547","v":0},{"$f":"'[8]Список изделий'!F7547","v":0},{"$f":"'[8]Список изделий'!I7547","v":0},{"$f":"'[8]Список изделий'!X7547","v":0},{"$f":"'[8]Список изделий'!Y7547","v":0},{"$f":"'[8]Список изделий'!Z7547","v":0},{"$f":"'[8]Список изделий'!AA7547","v":0},{"$f":"'[8]Список изделий'!AB7547","v":0},{"$f":"'[8]Список изделий'!AC7547","v":"x"},{"$f":"'[8]Список изделий'!AD7547","v":0},{"$f":"'[8]Список изделий'!AE7547","v":0},{"$f":"'[8]Список изделий'!AF7547","v":"00:00:00"},{"$f":"'[8]Список изделий'!AY7547","v":0},{"$f":"'[8]Список изделий'!AZ7547","v":"00:00:00"},-43153,-43153,0,0,{"$f":"'[8]Список изделий'!BR7547","v":0},0]
[594,{"$f":"'[8]Список изделий'!D7629","v":94},{"$f":"'[8]Список изделий'!E7629","v":0},{"$f":"'[8]Список изделий'!F7629","v":0},{"$f":"'[8]Список изделий'!I7629","v":0},{"$f":"'[8]Список изделий'!X7629","v":0},{"$f":"'[8]Список изделий'!Y7629","v":0},{"$f":"'[8]Список изделий'!Z7629","v":0},{"$f":"'[8]Список изделий'!AA7629","v":0},{"$f":"'[8]Список изделий'!AB7629","v":0},{"$f":"'[8]Список изделий'!AC7629","v":"x"},{"$f":"'[8]Список изделий'!AD7629","v":0},{"$f":"'[8]Список изделий'!AE7629","v":0},{"$f":"'[8]Список изделий'!AF7629","v":"00:00:00"},{"$f":"'[8]Список изделий'!AY7629","v":0},{"$f":"'[8]Список изделий'!AZ7629","v":"00:00:00"},-43153,-43153,0,0,{"$f":"'[8]Список изделий'!BR7629","v":0},0]
[595,{"$f":"'[8]Список изделий'!D7711","v":95},{"$f":"'[8]Список изделий'!E7711","v":0},{"$f":"'[8]Список изделий'!F7711","v":0},{"$f":"'[8]Список изделий'!I7711","v":0},{"$f":"'[8]Список изделий'!X7711","v":0},{"$f":"'[8]Список изделий'!Y7711","v":0},{"$f":"'[8]Список изделий'!Z7711","v":0},{"$f":"'[8]Список изделий'!AA7711","v":0},{"$f":"'[8]Список изделий'!AB7711","v":0},{"$f":"'[8]Список изделий'!AC7711","v":"x"},{"$f":"'[8]Список изделий'!AD7711","v":0},{"$f":"'[8]Список изделий'!AE7711","v":0},{"$f":"'[8]Список изделий'!AF7711","v":"00:00:00"},{"$f":"'[8]Список изделий'!AY7711","v":0},{"$f":"'[8]Список изделий'!AZ7711","v":"00:00:00"},-43153,-43153,0,0,{"$f":"'[8]Список изделий'!BR7711","v":0},0]
[596,{"$f":"'[8]Список изделий'!D7793","v":96},{"$f":"'[8]Список изделий'!E7793","v":0},{"$f":"'[8]Список изделий'!F7793","v":0},{"$f":"'[8]Список изделий'!I7793","v":0},{"$f":"'[8]Список изделий'!X7793","v":0},{"$f":"'[8]Список изделий'!Y7793","v":0},{"$f":"'[8]Список изделий'!Z7793","v":0},{"$f":"'[8]Список изделий'!AA7793","v":0},{"$f":"'[8]Список изделий'!AB7793","v":0},{"$f":"'[8]Список изделий'!AC7793","v":"x"},{"$f":"'[8]Список изделий'!AD7793","v":0},{"$f":"'[8]Список изделий'!AE7793","v":0},{"$f":"'[8]Список изделий'!AF7793","v":"00:00:00"},{"$f":"'[8]Список изделий'!AY7793","v":0},{"$f":"'[8]Список изделий'!AZ7793","v":"00:00:00"},-43153,-43153,0,0,{"$f":"'[8]Список изделий'!BR7793","v":0},0]
[597,{"$f":"'[8]Список изделий'!D7875","v":97},{"$f":"'[8]Список изделий'!E7875","v":0},{"$f":"'[8]Список изделий'!F7875","v":0},{"$f":"'[8]Список изделий'!I7875","v":0},{"$f":"'[8]Список изделий'!X7875","v":0},{"$f":"'[8]Список изделий'!Y7875","v":0},{"$f":"'[8]Список изделий'!Z7875","v":0},{"$f":"'[8]Список изделий'!AA7875","v":0},{"$f":"'[8]Список изделий'!AB7875","v":0},{"$f":"'[8]Список изделий'!AC7875","v":"x"},{"$f":"'[8]Список изделий'!AD7875","v":0},{"$f":"'[8]Список изделий'!AE7875","v":0},{"$f":"'[8]Список изделий'!AF7875","v":"00:00:00"},{"$f":"'[8]Список изделий'!AY7875","v":0},{"$f":"'[8]Список изделий'!AZ7875","v":"00:00:00"},-43153,-43153,0,0,{"$f":"'[8]Список изделий'!BR7875","v":0},0]
[598,{"$f":"'[8]Список изделий'!D7957","v":98},{"$f":"'[8]Список изделий'!E7957","v":0},{"$f":"'[8]Список изделий'!F7957","v":0},{"$f":"'[8]Список изделий'!I7957","v":0},{"$f":"'[8]Список изделий'!X7957","v":0},{"$f":"'[8]Список изделий'!Y7957","v":0},{"$f":"'[8]Список изделий'!Z7957","v":0},{"$f":"'[8]Список изделий'!AA7957","v":0},{"$f":"'[8]Список изделий'!AB7957","v":0},{"$f":"'[8]Список изделий'!AC7957","v":"x"},{"$f":"'[8]Список изделий'!AD7957","v":0},{"$f":"'[8]Список изделий'!AE7957","v":0},{"$f":"'[8]Список изделий'!AF7957","v":"00:00:00"},{"$f":"'[8]Список изделий'!AY7957","v":0},{"$f":"'[8]Список изделий'!AZ7957","v":"00:00:00"},-43153,-43153,0,0,{"$f":"'[8]Список изделий'!BR7957","v":0},0]
[599,{"$f":"'[8]Список изделий'!D8039","v":99},{"$f":"'[8]Список изделий'!E8039","v":0},{"$f":"'[8]Список изделий'!F8039","v":0},{"$f":"'[8]Список изделий'!I8039","v":0},{"$f":"'[8]Список изделий'!X8039","v":0},{"$f":"'[8]Список изделий'!Y8039","v":0},{"$f":"'[8]Список изделий'!Z8039","v":0},{"$f":"'[8]Список изделий'!AA8039","v":0},{"$f":"'[8]Список изделий'!AB8039","v":0},{"$f":"'[8]Список изделий'!AC8039","v":"x"},{"$f":"'[8]Список изделий'!AD8039","v":0},{"$f":"'[8]Список изделий'!AE8039","v":0},{"$f":"'[8]Список изделий'!AF8039","v":"00:00:00"},{"$f":"'[8]Список изделий'!AY8039","v":0},{"$f":"'[8]Список изделий'!AZ8039","v":"00:00:00"},-43153,-43153,0,0,{"$f":"'[8]Список изделий'!BR8039","v":0},0]
[600,{"$f":"'[8]Список изделий'!D8121","v":100},{"$f":"'[8]Список изделий'!E8121","v":0},{"$f":"'[8]Список изделий'!F8121","v":0},{"$f":"'[8]Список изделий'!I8121","v":0},{"$f":"'[8]Список изделий'!X8121","v":0},{"$f":"'[8]Список изделий'!Y8121","v":0},{"$f":"'[8]Список изделий'!Z8121","v":0},{"$f":"'[8]Список изделий'!AA8121","v":0},{"$f":"'[8]Список изделий'!AB8121","v":0},{"$f":"'[8]Список изделий'!AC8121","v":"x"},{"$f":"'[8]Список изделий'!AD8121","v":0},{"$f":"'[8]Список изделий'!AE8121","v":0},{"$f":"'[8]Список изделий'!AF8121","v":"00:00:00"},{"$f":"'[8]Список изделий'!AY8121","v":0},{"$f":"'[8]Список изделий'!AZ8121","v":"00:00:00"},-43153,-43153,0,0,{"$f":"'[8]Список изделий'!BR8121","v":0},0]
[1125,{"$f":"'[4]Список изделий'!D1971","v":25},{"$f":"'[4]Список изделий'!E1971","v":"Пер-Наст-25"},{"$f":"'[4]Список изделий'!F1971","v":"Оформление Мясной Разруб"},{"$f":"'[4]Список изделий'!I1971","v":1},{"$f":"'[4]Список изделий'!X1971","v":"ГМА"},{"$f":"'[4]Список изделий'!Y1971","v":"Микуло"},{"$f":"'[4]Список изделий'!Z1971","v":"Закурдаев"},{"$f":"'[4]Список изделий'!AA1971","v":"Замотаев"},{"$f":"'[4]Список изделий'!AB1971","v":0},{"$f":"'[4]Список изделий'!AC1971","v":"x"},{"$f":"'[4]Список изделий'!AD1971","v":0},{"$f":"'[4]Список изделий'!AE1971","v":0},{"$f":"'[4]Список изделий'!AF1971","v":"2018-02-20"},{"$f":"'[4]Список изделий'!AY1971","v":8},{"$f":"'[4]Список изделий'!AZ1971","v":"2018-02-14"},-16,-8,1,1,{"$f":"'[4]Список изделий'!BR1971","v":"\\\\SERVER\\Data1\\П\\Перекресток\\2018\\ОКЕЙ_Перекресток\\Наставников 33\\техничка\\25-Мясной_разруб\\Сборка\\Мясной_разруб-сборка.cdr"},1]
[1127,{"$f":"'[4]Список изделий'!D2135","v":27},{"$f":"'[4]Список изделий'!E2135","v":"Пер-Наст-27"},{"$f":"'[4]Список изделий'!F2135","v":"Оформление отдела Быстро и вкусно"},{"$f":"'[4]Список изделий'!I2135","v":1},{"$f":"'[4]Список изделий'!X2135","v":"ГМА"},{"$f":"'[4]Список изделий'!Y2135","v":"Микуло"},{"$f":"'[4]Список изделий'!Z2135","v":"Закурдаев"},{"$f":"'[4]Список изделий'!AA2135","v":"Замотаев"},{"$f":"'[4]Список изделий'!AB2135","v":0},{"$f":"'[4]Список изделий'!AC2135","v":"x"},{"$f":"'[4]Список изделий'!AD2135","v":0},{"$f":"'[4]Список изделий'!AE2135","v":0},{"$f":"'[4]Список изделий'!AF2135","v":"2018-02-20"},{"$f":"'[4]Список изделий'!AY2135","v":8},{"$f":"'[4]Список изделий'!AZ2135","v":"2018-02-14"},-16,-8,1,1,{"$f":"'[4]Список изделий'!BR2135","v":"\\\\SERVER\\Data1\\П\\Перекресток\\2018\\ТЕХНИЧЕСКАЯ ДОКУМЕНТАЦИЯ\\27-Быстро_и_вкусно\\Сборка\\БиВ-комплект.jpg"},1]
[1128,{"$f":"'[4]Список изделий'!D2217","v":28},{"$f":"'[4]Список изделий'!E2217","v":"Пер-Наст-28"},{"$f":"'[4]Список изделий'!F2217","v":"Стойка деревянная \"Перекресток\" с крючками"},{"$f":"'[4]Список изделий'!I2217","v":1},{"$f":"'[4]Список изделий'!X2217","v":"ГМА"},{"$f":"'[4]Список изделий'!Y2217","v":"Микуло"},{"$f":"'[4]Список изделий'!Z2217","v":"Закурдаев"},{"$f":"'[4]Список изделий'!AA2217","v":"Замотаев"},{"$f":"'[4]Список изделий'!AB2217","v":0},{"$f":"'[4]Список изделий'!AC2217","v":"x"},{"$f":"'[4]Список изделий'!AD2217","v":0},{"$f":"'[4]Список изделий'!AE2217","v":0},{"$f":"'[4]Список изделий'!AF2217","v":"2018-02-20"},{"$f":"'[4]Список изделий'!AY2217","v":8},{"$f":"'[4]Список изделий'!AZ2217","v":"2018-02-14"},-16,-8,1,1,{"$f":"'[4]Список изделий'!BR2217","v":0},1]
[1130,{"$f":"'[4]Список изделий'!D2381","v":30},{"$f":"'[4]Список изделий'!E2381","v":"Пер-Наст-30"},{"$f":"'[4]Список изделий'!F2381","v":"Оформление отдела Детство"},{"$f":"'[4]Список изделий'!I2381","v":1},{"$f":"'[4]Список изделий'!X2381","v":"ГМА"},{"$f":"'[4]Список изделий'!Y2381","v":"Микуло"},{"$f":"'[4]Список изделий'!Z2381","v":"Закурдаев"},{"$f":"'[4]Список изделий'!AA2381","v":"Замотаев"},{"$f":"'[4]Список изделий'!AB2381","v":0},{"$f":"'[4]Список изделий'!AC2381","v":"x"},{"$f":"'[4]Список изделий'!AD2381","v":0},{"$f":"'[4]Список изделий'!AE2381","v":0},{"$f":"'[4]Список изделий'!AF2381","v":"2018-02-20"},{"$f":"'[4]Список изделий'!AY2381","v":8},{"$f":"'[4]Список изделий'!AZ2381","v":"2018-02-14"},-16,-8,0.01,0.01,{"$f":"'[4]Список изделий'!BR2381","v":"\\\\SERVER\\Data1\\П\\Перекресток\\2018\\ОКЕЙ_Перекресток\\Наставников 33\\техничка\\30-Отдел детство\\Сборка\\Детство.cdr"},0.01]
[1131,{"$f":"'[4]Список изделий'!D2463","v":31},{"$f":"'[4]Список изделий'!E2463","v":"Пер-Наст-31"},{"$f":"'[4]Список изделий'!F2463","v":"Подвес на 3 кармана в проходы между касс (комплект с пп печатью)"},{"$f":"'[4]Список изделий'!I2463","v":4},{"$f":"'[4]Список изделий'!X2463","v":"ГМА"},{"$f":"'[4]Список изделий'!Y2463","v":"Микуло"},{"$f":"'[4]Список изделий'!Z2463","v":"Закурдаев"},{"$f":"'[4]Список изделий'!AA2463","v":"Замотаев"},{"$f":"'[4]Список изделий'!AB2463","v":0},{"$f":"'[4]Список изделий'!AC2463","v":"x"},{"$f":"'[4]Список изделий'!AD2463","v":0},{"$f":"'[4]Список изделий'!AE2463","v":0},{"$f":"'[4]Список изделий'!AF2463","v":"2018-02-20"},{"$f":"'[4]Список изделий'!AY2463","v":8},{"$f":"'[4]Список изделий'!AZ2463","v":"2018-02-14"},-16,-8,1,1,{"$f":"'[4]Список изделий'!BR2463","v":0},1]
[606,{"$f":"'[9]Список изделий'!D413","v":6},{"$f":"'[9]Список изделий'!E413","v":0},{"$f":"'[9]Список изделий'!F413","v":"Стикеры \"Суперцена\" на гриф. Доски (задняя часть)"},{"$f":"'[9]Список изделий'!I413","v":0},{"$f":"'[9]Список изделий'!X413","v":0},{"$f":"'[9]Список изделий'!Y413","v":0},{"$f":"'[9]Список изделий'!Z413","v":0},{"$f":"'[9]Список изделий'!AA413","v":0},{"$f":"'[9]Список изделий'!AB413","v":0},{"$f":"'[9]Список изделий'!AC413","v":"x"},{"$f":"'[9]Список изделий'!AD413","v":0},{"$f":"'[9]Список изделий'!AE413","v":0},{"$f":"'[9]Список изделий'!AF413","v":"00:00:00"},{"$f":"'[9]Список изделий'!AY413","v":0},{"$f":"'[9]Список изделий'!AZ413","v":"00:00:00"},-43153,-43153,0,0,{"$f":"'[9]Список изделий'!BR413","v":0},0]
[1136,{"$f":"'[4]Список изделий'!D2873","v":36},{"$f":"'[4]Список изделий'!E2873","v":"Пер-Наст-36"},{"$f":"'[4]Список изделий'!F2873","v":"Служебные таблички (комплект)"},{"$f":"'[4]Список изделий'!I2873","v":1},{"$f":"'[4]Список изделий'!X2873","v":"ГМА"},{"$f":"'[4]Список изделий'!Y2873","v":"Микуло"},{"$f":"'[4]Список изделий'!Z2873","v":"Закурдаев"},{"$f":"'[4]Список изделий'!AA2873","v":"Замотаев"},{"$f":"'[4]Список изделий'!AB2873","v":0},{"$f":"'[4]Список изделий'!AC2873","v":"x"},{"$f":"'[4]Список изделий'!AD2873","v":0},{"$f":"'[4]Список изделий'!AE2873","v":0},{"$f":"'[4]Список изделий'!AF2873","v":"2018-02-20"},{"$f":"'[4]Список изделий'!AY2873","v":8},{"$f":"'[4]Список изделий'!AZ2873","v":"2018-02-14"},-16,-8,0.01,0.01,{"$f":"'[4]Список изделий'!BR2873","v":"\\\\SERVER\\Data1\\П\\Перекресток\\2018\\ОКЕЙ_Перекресток\\Наставников 33\\техничка\\36-Служебные_таблички\\Сборка\\Таблички_номерки-сборка.cdr"},0.01]
[1138,{"$f":"'[4]Список изделий'!D3037","v":38},{"$f":"'[4]Список изделий'!E3037","v":"Пер-Наст-38"},{"$f":"'[4]Список изделий'!F3037","v":"Стикер Номер кассы 1-6 (комплект из 2 шт.)"},{"$f":"'[4]Список изделий'!I3037","v":6},{"$f":"'[4]Список изделий'!X3037","v":"ГМА"},{"$f":"'[4]Список изделий'!Y3037","v":"Микуло"},{"$f":"'[4]Список изделий'!Z3037","v":"Закурдаев"},{"$f":"'[4]Список изделий'!AA3037","v":"Замотаев"},{"$f":"'[4]Список изделий'!AB3037","v":0},{"$f":"'[4]Список изделий'!AC3037","v":"x"},{"$f":"'[4]Список изделий'!AD3037","v":0},{"$f":"'[4]Список изделий'!AE3037","v":0},{"$f":"'[4]Список изделий'!AF3037","v":"2018-02-20"},{"$f":"'[4]Список изделий'!AY3037","v":8},{"$f":"'[4]Список изделий'!AZ3037","v":"2018-02-14"},-16,-8,0,0,{"$f":"'[4]Список изделий'!BR3037","v":"\\\\SERVER\\Data1\\П\\Перекресток\\2018\\ОКЕЙ_Перекресток\\Наставников 33\\техничка\\38-стикер_Номер_КАССЫ\\Сборка\\стикеры_№касс-сборка.cdr"},0]
[1140,{"$f":"'[4]Список изделий'!D3201","v":40},{"$f":"'[4]Список изделий'!E3201","v":"Пер-Наст-40"},{"$f":"'[4]Список изделий'!F3201","v":"Информационные стенды (фото, служебный 7 (2шт), служебный А4-А3)"},{"$f":"'[4]Список изделий'!I3201","v":4},{"$f":"'[4]Список изделий'!X3201","v":"ГМА"},{"$f":"'[4]Список изделий'!Y3201","v":"Микуло"},{"$f":"'[4]Список изделий'!Z3201","v":"Закурдаев"},{"$f":"'[4]Список изделий'!AA3201","v":"Замотаев"},{"$f":"'[4]Список изделий'!AB3201","v":0},{"$f":"'[4]Список изделий'!AC3201","v":"x"},{"$f":"'[4]Список изделий'!AD3201","v":0},{"$f":"'[4]Список изделий'!AE3201","v":0},{"$f":"'[4]Список изделий'!AF3201","v":"2018-02-20"},{"$f":"'[4]Список изделий'!AY3201","v":8},{"$f":"'[4]Список изделий'!AZ3201","v":"2018-02-14"},-16,-8,1,1,{"$f":"'[4]Список изделий'!BR3201","v":"\\\\SERVER\\Data1\\П\\Перекресток\\2018\\ОКЕЙ_Перекресток\\Наставников 33\\техничка\\40-Информационные стенды\\Сборка"},1]
[1141,{"$f":"'[4]Список изделий'!D3283","v":41},{"$f":"'[4]Список изделий'!E3283","v":"Пер-Наст-41"},{"$f":"'[4]Список изделий'!F3283","v":"Табличка \"Весы самообслуживания\" (как взвесить)"},{"$f":"'[4]Список изделий'!I3283","v":4},{"$f":"'[4]Список изделий'!X3283","v":"ГМА"},{"$f":"'[4]Список изделий'!Y3283","v":"Микуло"},{"$f":"'[4]Список изделий'!Z3283","v":"Закурдаев"},{"$f":"'[4]Список изделий'!AA3283","v":"Замотаев"},{"$f":"'[4]Список изделий'!AB3283","v":0},{"$f":"'[4]Список изделий'!AC3283","v":"x"},{"$f":"'[4]Список изделий'!AD3283","v":0},{"$f":"'[4]Список изделий'!AE3283","v":0},{"$f":"'[4]Список изделий'!AF3283","v":"2018-02-20"},{"$f":"'[4]Список изделий'!AY3283","v":8},{"$f":"'[4]Список изделий'!AZ3283","v":"2018-02-14"},-16,-8,1,1,{"$f":"'[4]Список изделий'!BR3283","v":0},1]
[1142,{"$f":"'[4]Список изделий'!D3365","v":42},{"$f":"'[4]Список изделий'!E3365","v":"Пер-Наст-42"},{"$f":"'[4]Список изделий'!F3365","v":"Табличка Контрольные весы"},{"$f":"'[4]Список изделий'!I3365","v":1},{"$f":"'[4]Список изделий'!X3365","v":"ГМА"},{"$f":"'[4]Список изделий'!Y3365","v":"Микуло"},{"$f":"'[4]Список изделий'!Z3365","v":"Закурдаев"},{"$f":"'[4]Список изделий'!AA3365","v":"Замотаев"},{"$f":"'[4]Список изделий'!AB3365","v":0},{"$f":"'[4]Список изделий'!AC3365","v":"x"},{"$f":"'[4]Список изделий'!AD3365","v":0},{"$f":"'[4]Список изделий'!AE3365","v":0},{"$f":"'[4]Список изделий'!AF3365","v":"2018-02-20"},{"$f":"'[4]Список изделий'!AY3365","v":8},{"$f":"'[4]Список изделий'!AZ3365","v":"2018-02-14"},-16,-8,1,1,{"$f":"'[4]Список изделий'!BR3365","v":0},1]
[1144,{"$f":"'[4]Список изделий'!D3529","v":44},{"$f":"'[4]Список изделий'!E3529","v":"Пер-Наст-44"},{"$f":"'[4]Список изделий'!F3529","v":"Алкогольные разделители 200х38"},{"$f":"'[4]Список изделий'!I3529","v":60},{"$f":"'[4]Список изделий'!X3529","v":"ГМА"},{"$f":"'[4]Список изделий'!Y3529","v":"Микуло"},{"$f":"'[4]Список изделий'!Z3529","v":"Закурдаев"},{"$f":"'[4]Список изделий'!AA3529","v":"Замотаев"},{"$f":"'[4]Список изделий'!AB3529","v":0},{"$f":"'[4]Список изделий'!AC3529","v":"x"},{"$f":"'[4]Список изделий'!AD3529","v":0},{"$f":"'[4]Список изделий'!AE3529","v":0},{"$f":"'[4]Список изделий'!AF3529","v":"2018-02-20"},{"$f":"'[4]Список изделий'!AY3529","v":8},{"$f":"'[4]Список изделий'!AZ3529","v":"2018-02-14"},-16,-8,1,1,{"$f":"'[4]Список изделий'!BR3529","v":0},1]
[1146,{"$f":"'[4]Список изделий'!D3693","v":46},{"$f":"'[4]Список изделий'!E3693","v":"Пер-Наст-46"},{"$f":"'[4]Список изделий'!F3693","v":"Табличка двухст. \"Суперцена\" для подвеса к ценникодержателю ФРОВ"},{"$f":"'[4]Список изделий'!I3693","v":30},{"$f":"'[4]Список изделий'!X3693","v":"ГМА"},{"$f":"'[4]Список изделий'!Y3693","v":"Микуло"},{"$f":"'[4]Список изделий'!Z3693","v":"Закурдаев"},{"$f":"'[4]Список изделий'!AA3693","v":"Замотаев"},{"$f":"'[4]Список изделий'!AB3693","v":0},{"$f":"'[4]Список изделий'!AC3693","v":"x"},{"$f":"'[4]Список изделий'!AD3693","v":0},{"$f":"'[4]Список изделий'!AE3693","v":0},{"$f":"'[4]Список изделий'!AF3693","v":"2018-02-20"},{"$f":"'[4]Список изделий'!AY3693","v":8},{"$f":"'[4]Список изделий'!AZ3693","v":"2018-02-14"},-16,-8,0.01,0.01,{"$f":"'[4]Список изделий'!BR3693","v":"\\\\SERVER\\Data1\\П\\Перекресток\\2018\\ОКЕЙ_Перекресток\\Наставников 33\\техничка\\46-Подвес_Суперцена_ФРОВ\\Сборка\\табличка_ПД-суперцена-сборка.cdr"},0.01]
[614,{"$f":"'[9]Список изделий'!D1069","v":14},{"$f":"'[9]Список изделий'!E1069","v":"Пер-Энерге14"},{"$f":"'[9]Список изделий'!F1069","v":"Стикеры на боковую часть холодильника Мороженое"},{"$f":"'[9]Список изделий'!I1069","v":1},{"$f":"'[9]Список изделий'!X1069","v":"ГМА"},{"$f":"'[9]Список изделий'!Y1069","v":"Микуло"},{"$f":"'[9]Список изделий'!Z1069","v":"Закурдаев"},{"$f":"'[9]Список изделий'!AA1069","v":"Замотаев"},{"$f":"'[9]Список изделий'!AB1069","v":0},{"$f":"'[9]Список изделий'!AC1069","v":"x"},{"$f":"'[9]Список изделий'!AD1069","v":0},{"$f":"'[9]Список изделий'!AE1069","v":0},{"$f":"'[9]Список изделий'!AF1069","v":"2018-02-20"},{"$f":"'[9]Список изделий'!AY1069","v":7},{"$f":"'[9]Список изделий'!AZ1069","v":"2018-02-15"},-14,-7,0,0,{"$f":"'[9]Список изделий'!BR1069","v":"\\\\SERVER\\Data1\\П\\Перекресток\\2018\\Энергетиков 8\\техничка\\14-оклейка_холодильников_МОРОЖЕНОЕ"},0]
[615,{"$f":"'[9]Список изделий'!D1151","v":15},{"$f":"'[9]Список изделий'!E1151","v":"Пер-Энерге15"},{"$f":"'[9]Список изделий'!F1151","v":"Оклейка Лаваля"},{"$f":"'[9]Список изделий'!I1151","v":1},{"$f":"'[9]Список изделий'!X1151","v":"ГМА"},{"$f":"'[9]Список изделий'!Y1151","v":"Микуло"},{"$f":"'[9]Список изделий'!Z1151","v":"Закурдаев"},{"$f":"'[9]Список изделий'!AA1151","v":"Замотаев"},{"$f":"'[9]Список изделий'!AB1151","v":0},{"$f":"'[9]Список изделий'!AC1151","v":"x"},{"$f":"'[9]Список изделий'!AD1151","v":0},{"$f":"'[9]Список изделий'!AE1151","v":0},{"$f":"'[9]Список изделий'!AF1151","v":"2018-02-20"},{"$f":"'[9]Список изделий'!AY1151","v":7},{"$f":"'[9]Список изделий'!AZ1151","v":"2018-02-15"},-14,-7,0,0,{"$f":"'[9]Список изделий'!BR1151","v":"\\\\SERVER\\Data1\\П\\Перекресток\\2018\\Энергетиков 8\\техничка\\15-оклейка_ЛАВАЛЯ"},0]
[616,{"$f":"'[9]Список изделий'!D1233","v":16},{"$f":"'[9]Список изделий'!E1233","v":"Пер-Энерге16"},{"$f":"'[9]Список изделий'!F1233","v":"Имиджи доп от 21.02"},{"$f":"'[9]Список изделий'!I1233","v":11},{"$f":"'[9]Список изделий'!X1233","v":"ГМА"},{"$f":"'[9]Список изделий'!Y1233","v":"Микуло"},{"$f":"'[9]Список изделий'!Z1233","v":"Закурдаев"},{"$f":"'[9]Список изделий'!AA1233","v":"Замотаев"},{"$f":"'[9]Список изделий'!AB1233","v":0},{"$f":"'[9]Список изделий'!AC1233","v":"x"},{"$f":"'[9]Список изделий'!AD1233","v":0},{"$f":"'[9]Список изделий'!AE1233","v":0},{"$f":"'[9]Список изделий'!AF1233","v":"2018-02-20"},{"$f":"'[9]Список изделий'!AY1233","v":7},{"$f":"'[9]Список изделий'!AZ1233","v":"2018-02-15"},-14,-7,0,0,{"$f":"'[9]Список изделий'!BR1233","v":"\\\\SERVER\\Data1\\П\\Перекресток\\2018\\Энергетиков 8\\техничка\\16-имиджи доп от 21-02-18"},0]
[1147,{"$f":"'[4]Список изделий'!D3775","v":47},{"$f":"'[4]Список изделий'!E3775","v":"Пер-Наст-47"},{"$f":"'[4]Список изделий'!F3775","v":"Доска РТО"},{"$f":"'[4]Список изделий'!I3775","v":1},{"$f":"'[4]Список изделий'!X3775","v":"ГМА"},{"$f":"'[4]Список изделий'!Y3775","v":"Микуло"},{"$f":"'[4]Список изделий'!Z3775","v":"Закурдаев"},{"$f":"'[4]Список изделий'!AA3775","v":"Замотаев"},{"$f":"'[4]Список изделий'!AB3775","v":0},{"$f":"'[4]Список изделий'!AC3775","v":"x"},{"$f":"'[4]Список изделий'!AD3775","v":0},{"$f":"'[4]Список изделий'!AE3775","v":0},{"$f":"'[4]Список изделий'!AF3775","v":"2018-02-20"},{"$f":"'[4]Список изделий'!AY3775","v":8},{"$f":"'[4]Список изделий'!AZ3775","v":"2018-02-14"},-16,-8,0.01,0.01,{"$f":"'[4]Список изделий'!BR3775","v":"\\\\SERVER\\Data1\\П\\Перекресток\\2018\\ОКЕЙ_Перекресток\\Наставников 33\\техничка\\47-Доска_РТО\\Сборка"},0.01]
[618,{"$f":"'[9]Список изделий'!D1397","v":18},{"$f":"'[9]Список изделий'!E1397","v":0},{"$f":"'[9]Список изделий'!F1397","v":"Стикеры на холодильники (оклейка боковин). Пленка или перфорация с ламинацией"},{"$f":"'[9]Список изделий'!I1397","v":0},{"$f":"'[9]Список изделий'!X1397","v":0},{"$f":"'[9]Список изделий'!Y1397","v":0},{"$f":"'[9]Список изделий'!Z1397","v":0},{"$f":"'[9]Список изделий'!AA1397","v":0},{"$f":"'[9]Список изделий'!AB1397","v":0},{"$f":"'[9]Список изделий'!AC1397","v":"x"},{"$f":"'[9]Список изделий'!AD1397","v":0},{"$f":"'[9]Список изделий'!AE1397","v":0},{"$f":"'[9]Список изделий'!AF1397","v":"00:00:00"},{"$f":"'[9]Список изделий'!AY1397","v":0},{"$f":"'[9]Список изделий'!AZ1397","v":"00:00:00"},-43153,-43153,0,0,{"$f":"'[9]Список изделий'!BR1397","v":0},0]
[1148,{"$f":"'[4]Список изделий'!D3857","v":48},{"$f":"'[4]Список изделий'!E3857","v":"Пер-Наст-48"},{"$f":"'[4]Список изделий'!F3857","v":"Вывеска \"запрещающие знаки\" подвесная двусторонняя"},{"$f":"'[4]Список изделий'!I3857","v":1},{"$f":"'[4]Список изделий'!X3857","v":"ГМА"},{"$f":"'[4]Список изделий'!Y3857","v":"Микуло"},{"$f":"'[4]Список изделий'!Z3857","v":"Закурдаев"},{"$f":"'[4]Список изделий'!AA3857","v":"Замотаев"},{"$f":"'[4]Список изделий'!AB3857","v":0},{"$f":"'[4]Список изделий'!AC3857","v":"x"},{"$f":"'[4]Список изделий'!AD3857","v":0},{"$f":"'[4]Список изделий'!AE3857","v":0},{"$f":"'[4]Список изделий'!AF3857","v":"2018-02-20"},{"$f":"'[4]Список изделий'!AY3857","v":8},{"$f":"'[4]Список изделий'!AZ3857","v":"2018-02-14"},-16,-8,1,1,{"$f":"'[4]Список изделий'!BR3857","v":0},1]
[620,{"$f":"'[9]Список изделий'!D1561","v":20},{"$f":"'[9]Список изделий'!E1561","v":0},{"$f":"'[9]Список изделий'!F1561","v":"V-обр. делители на морозильную камеру"},{"$f":"'[9]Список изделий'!I1561","v":0},{"$f":"'[9]Список изделий'!X1561","v":0},{"$f":"'[9]Список изделий'!Y1561","v":0},{"$f":"'[9]Список изделий'!Z1561","v":0},{"$f":"'[9]Список изделий'!AA1561","v":0},{"$f":"'[9]Список изделий'!AB1561","v":0},{"$f":"'[9]Список изделий'!AC1561","v":"x"},{"$f":"'[9]Список изделий'!AD1561","v":0},{"$f":"'[9]Список изделий'!AE1561","v":0},{"$f":"'[9]Список изделий'!AF1561","v":"00:00:00"},{"$f":"'[9]Список изделий'!AY1561","v":0},{"$f":"'[9]Список изделий'!AZ1561","v":"00:00:00"},-43153,-43153,0,0,{"$f":"'[9]Список изделий'!BR1561","v":0},0]
[1149,{"$f":"'[4]Список изделий'!D3939","v":49},{"$f":"'[4]Список изделий'!E3939","v":"Пер-Наст-49"},{"$f":"'[4]Список изделий'!F3939","v":"Вывеска \"камеры хранения\""},{"$f":"'[4]Список изделий'!I3939","v":1},{"$f":"'[4]Список изделий'!X3939","v":"ГМА"},{"$f":"'[4]Список изделий'!Y3939","v":"Микуло"},{"$f":"'[4]Список изделий'!Z3939","v":"Закурдаев"},{"$f":"'[4]Список изделий'!AA3939","v":"Замотаев"},{"$f":"'[4]Список изделий'!AB3939","v":0},{"$f":"'[4]Список изделий'!AC3939","v":"x"},{"$f":"'[4]Список изделий'!AD3939","v":0},{"$f":"'[4]Список изделий'!AE3939","v":0},{"$f":"'[4]Список изделий'!AF3939","v":"2018-02-20"},{"$f":"'[4]Список изделий'!AY3939","v":8},{"$f":"'[4]Список изделий'!AZ3939","v":"2018-02-14"},-16,-8,1,1,{"$f":"'[4]Список изделий'!BR3939","v":0},1]
[1150,{"$f":"'[4]Список изделий'!D4021","v":50},{"$f":"'[4]Список изделий'!E4021","v":"Пер-Наст-50"},{"$f":"'[4]Список изделий'!F4021","v":"Вывеска \"Улыбнитесь\" двухсторонняя подвесная"},{"$f":"'[4]Список изделий'!I4021","v":2},{"$f":"'[4]Список изделий'!X4021","v":"ГМА"},{"$f":"'[4]Список изделий'!Y4021","v":"Микуло"},{"$f":"'[4]Список изделий'!Z4021","v":"Закурдаев"},{"$f":"'[4]Список изделий'!AA4021","v":"Замотаев"},{"$f":"'[4]Список изделий'!AB4021","v":0},{"$f":"'[4]Список изделий'!AC4021","v":"x"},{"$f":"'[4]Список изделий'!AD4021","v":0},{"$f":"'[4]Список изделий'!AE4021","v":0},{"$f":"'[4]Список изделий'!AF4021","v":"2018-02-20"},{"$f":"'[4]Список изделий'!AY4021","v":8},{"$f":"'[4]Список изделий'!AZ4021","v":"2018-02-14"},-16,-8,1,1,{"$f":"'[4]Список изделий'!BR4021","v":0},1]
[623,{"$f":"'[9]Список изделий'!D1807","v":23},{"$f":"'[9]Список изделий'!E1807","v":0},{"$f":"'[9]Список изделий'!F1807","v":"Входной фриз закатка обратной стороны"},{"$f":"'[9]Список изделий'!I1807","v":0},{"$f":"'[9]Список изделий'!X1807","v":0},{"$f":"'[9]Список изделий'!Y1807","v":0},{"$f":"'[9]Список изделий'!Z1807","v":0},{"$f":"'[9]Список изделий'!AA1807","v":0},{"$f":"'[9]Список изделий'!AB1807","v":0},{"$f":"'[9]Список изделий'!AC1807","v":"x"},{"$f":"'[9]Список изделий'!AD1807","v":0},{"$f":"'[9]Список изделий'!AE1807","v":0},{"$f":"'[9]Список изделий'!AF1807","v":"00:00:00"},{"$f":"'[9]Список изделий'!AY1807","v":0},{"$f":"'[9]Список изделий'!AZ1807","v":"00:00:00"},-43153,-43153,0,0,{"$f":"'[9]Список изделий'!BR1807","v":0},0]
[1151,{"$f":"'[4]Список изделий'!D4103","v":51},{"$f":"'[4]Список изделий'!E4103","v":"Пер-Наст-51"},{"$f":"'[4]Список изделий'!F4103","v":"имиджи на колонны(комплект)"},{"$f":"'[4]Список изделий'!I4103","v":1},{"$f":"'[4]Список изделий'!X4103","v":"ГМА"},{"$f":"'[4]Список изделий'!Y4103","v":"Микуло"},{"$f":"'[4]Список изделий'!Z4103","v":"Закурдаев"},{"$f":"'[4]Список изделий'!AA4103","v":"Замотаев"},{"$f":"'[4]Список изделий'!AB4103","v":0},{"$f":"'[4]Список изделий'!AC4103","v":"x"},{"$f":"'[4]Список изделий'!AD4103","v":0},{"$f":"'[4]Список изделий'!AE4103","v":0},{"$f":"'[4]Список изделий'!AF4103","v":"2018-02-20"},{"$f":"'[4]Список изделий'!AY4103","v":8},{"$f":"'[4]Список изделий'!AZ4103","v":"2018-02-14"},-16,-8,0,0,{"$f":"'[4]Список изделий'!BR4103","v":"\\\\SERVER\\Data1\\П\\Перекресток\\2018\\ОКЕЙ_Перекресток\\Наставников 33\\техничка\\51-Имиджи_на_колонны\\Сборка\\имидж_колонны_сборка.cdr"},0]
[1154,{"$f":"'[4]Список изделий'!D4349","v":54},{"$f":"'[4]Список изделий'!E4349","v":"Пер-Наст-54"},{"$f":"'[4]Список изделий'!F4349","v":"Стикер \"режим работ \" 8-24 часа"},{"$f":"'[4]Список изделий'!I4349","v":4},{"$f":"'[4]Список изделий'!X4349","v":"ГМА"},{"$f":"'[4]Список изделий'!Y4349","v":"Микуло"},{"$f":"'[4]Список изделий'!Z4349","v":"Закурдаев"},{"$f":"'[4]Список изделий'!AA4349","v":"Замотаев"},{"$f":"'[4]Список изделий'!AB4349","v":0},{"$f":"'[4]Список изделий'!AC4349","v":"x"},{"$f":"'[4]Список изделий'!AD4349","v":0},{"$f":"'[4]Список изделий'!AE4349","v":0},{"$f":"'[4]Список изделий'!AF4349","v":"2018-02-20"},{"$f":"'[4]Список изделий'!AY4349","v":8},{"$f":"'[4]Список изделий'!AZ4349","v":"2018-02-14"},-16,-8,0,0,{"$f":"'[4]Список изделий'!BR4349","v":"\\\\SERVER\\Data1\\П\\Перекресток\\2018\\ОКЕЙ_Перекресток\\Наставников 33\\техничка\\54-стикер_Режим_работы\\Сборка\\Режим_работы-ТЗ.cdr"},0]
[1156,{"$f":"'[4]Список изделий'!D4513","v":56},{"$f":"'[4]Список изделий'!E4513","v":"Пер-Наст-56"},{"$f":"'[4]Список изделий'!F4513","v":"Вывеска-тележки - ВТ"},{"$f":"'[4]Список изделий'!I4513","v":1},{"$f":"'[4]Список изделий'!X4513","v":"ГМА"},{"$f":"'[4]Список изделий'!Y4513","v":"Микуло"},{"$f":"'[4]Список изделий'!Z4513","v":"Закурдаев"},{"$f":"'[4]Список изделий'!AA4513","v":"Замотаев"},{"$f":"'[4]Список изделий'!AB4513","v":0},{"$f":"'[4]Список изделий'!AC4513","v":"x"},{"$f":"'[4]Список изделий'!AD4513","v":0},{"$f":"'[4]Список изделий'!AE4513","v":0},{"$f":"'[4]Список изделий'!AF4513","v":"2018-02-20"},{"$f":"'[4]Список изделий'!AY4513","v":8},{"$f":"'[4]Список изделий'!AZ4513","v":"2018-02-14"},-16,-8,1,1,{"$f":"'[4]Список изделий'!BR4513","v":0},1]
[1157,{"$f":"'[4]Список изделий'!D4595","v":57},{"$f":"'[4]Список изделий'!E4595","v":"Пер-Наст-57"},{"$f":"'[4]Список изделий'!F4595","v":"Конструкции \"Суперцена\" треугольная"},{"$f":"'[4]Список изделий'!I4595","v":10},{"$f":"'[4]Список изделий'!X4595","v":"ГМА"},{"$f":"'[4]Список изделий'!Y4595","v":"Микуло"},{"$f":"'[4]Список изделий'!Z4595","v":"Закурдаев"},{"$f":"'[4]Список изделий'!AA4595","v":"Замотаев"},{"$f":"'[4]Список изделий'!AB4595","v":0},{"$f":"'[4]Список изделий'!AC4595","v":"x"},{"$f":"'[4]Список изделий'!AD4595","v":0},{"$f":"'[4]Список изделий'!AE4595","v":0},{"$f":"'[4]Список изделий'!AF4595","v":"2018-02-20"},{"$f":"'[4]Список изделий'!AY4595","v":8},{"$f":"'[4]Список изделий'!AZ4595","v":"2018-02-14"},-16,-8,0.01,0.01,{"$f":"'[4]Список изделий'!BR4595","v":"\\\\SERVER\\Data1\\П\\Перекресток\\2018\\ОКЕЙ_Перекресток\\Наставников 33\\техничка\\57-СУПЕРЦЕНА-треугольная(Призма)\\Сборка\\Суперцена-треугольная-сборка.cdr"},0.01]
[1158,{"$f":"'[4]Список изделий'!D4677","v":58},{"$f":"'[4]Список изделий'!E4677","v":"Пер-Наст-58"},{"$f":"'[4]Список изделий'!F4677","v":"Конструкция \"Суперцена\" одинарная, один карман, подвесная к-во предварительное"},{"$f":"'[4]Список изделий'!I4677","v":10},{"$f":"'[4]Список изделий'!X4677","v":"ГМА"},{"$f":"'[4]Список изделий'!Y4677","v":"Микуло"},{"$f":"'[4]Список изделий'!Z4677","v":"Закурдаев"},{"$f":"'[4]Список изделий'!AA4677","v":"Замотаев"},{"$f":"'[4]Список изделий'!AB4677","v":0},{"$f":"'[4]Список изделий'!AC4677","v":"x"},{"$f":"'[4]Список изделий'!AD4677","v":0},{"$f":"'[4]Список изделий'!AE4677","v":0},{"$f":"'[4]Список изделий'!AF4677","v":"2018-02-20"},{"$f":"'[4]Список изделий'!AY4677","v":8},{"$f":"'[4]Список изделий'!AZ4677","v":"2018-02-14"},-16,-8,0.5,0.5,{"$f":"'[4]Список изделий'!BR4677","v":"\\\\SERVER\\Data1\\П\\Перекресток\\2018\\ОКЕЙ_Перекресток\\Наставников 33\\техничка\\58-СУПЕРЦЕНА-одинарная_подвесная\\Сборка\\суперцена_плоская-сборка.cdr"},0.5]
[1159,{"$f":"'[4]Список изделий'!D4759","v":59},{"$f":"'[4]Список изделий'!E4759","v":"Пер-Наст-59"},{"$f":"'[4]Список изделий'!F4759","v":"Стикеры \"Суперцена\", на карманы (треугольные конструкции)"},{"$f":"'[4]Список изделий'!I4759","v":8},{"$f":"'[4]Список изделий'!X4759","v":"ГМА"},{"$f":"'[4]Список изделий'!Y4759","v":"Микуло"},{"$f":"'[4]Список изделий'!Z4759","v":"Закурдаев"},{"$f":"'[4]Список изделий'!AA4759","v":"Замотаев"},{"$f":"'[4]Список изделий'!AB4759","v":0},{"$f":"'[4]Список изделий'!AC4759","v":"x"},{"$f":"'[4]Список изделий'!AD4759","v":0},{"$f":"'[4]Список изделий'!AE4759","v":0},{"$f":"'[4]Список изделий'!AF4759","v":"2018-02-20"},{"$f":"'[4]Список изделий'!AY4759","v":8},{"$f":"'[4]Список изделий'!AZ4759","v":"2018-02-14"},-16,-8,1,1,{"$f":"'[4]Список изделий'!BR4759","v":0},1]
[1161,{"$f":"'[4]Список изделий'!D4923","v":61},{"$f":"'[4]Список изделий'!E4923","v":"Пер-Наст-61"},{"$f":"'[4]Список изделий'!F4923","v":"Подвес кассы на трубе 20х20 (двухсторонний)"},{"$f":"'[4]Список изделий'!I4923","v":4},{"$f":"'[4]Список изделий'!X4923","v":"ГМА"},{"$f":"'[4]Список изделий'!Y4923","v":"Микуло"},{"$f":"'[4]Список изделий'!Z4923","v":"Закурдаев"},{"$f":"'[4]Список изделий'!AA4923","v":"Замотаев"},{"$f":"'[4]Список изделий'!AB4923","v":0},{"$f":"'[4]Список изделий'!AC4923","v":"x"},{"$f":"'[4]Список изделий'!AD4923","v":0},{"$f":"'[4]Список изделий'!AE4923","v":0},{"$f":"'[4]Список изделий'!AF4923","v":"2018-02-20"},{"$f":"'[4]Список изделий'!AY4923","v":8},{"$f":"'[4]Список изделий'!AZ4923","v":"2018-02-14"},-16,-8,0.01,0.01,{"$f":"'[4]Список изделий'!BR4923","v":0},0.01]
[1162,{"$f":"'[4]Список изделий'!D5005","v":62},{"$f":"'[4]Список изделий'!E5005","v":"Пер-Наст-62"},{"$f":"'[4]Список изделий'!F5005","v":"Боковины \"Бокалы\" на боковые части энда стеллажа"},{"$f":"'[4]Список изделий'!I5005","v":2},{"$f":"'[4]Список изделий'!X5005","v":"ГМА"},{"$f":"'[4]Список изделий'!Y5005","v":"Микуло"},{"$f":"'[4]Список изделий'!Z5005","v":"Закурдаев"},{"$f":"'[4]Список изделий'!AA5005","v":"Замотаев"},{"$f":"'[4]Список изделий'!AB5005","v":0},{"$f":"'[4]Список изделий'!AC5005","v":"x"},{"$f":"'[4]Список изделий'!AD5005","v":0},{"$f":"'[4]Список изделий'!AE5005","v":0},{"$f":"'[4]Список изделий'!AF5005","v":"2018-02-20"},{"$f":"'[4]Список изделий'!AY5005","v":8},{"$f":"'[4]Список изделий'!AZ5005","v":"2018-02-14"},-16,-8,1,1,{"$f":"'[4]Список изделий'!BR5005","v":0},1]
[632,{"$f":"'[9]Список изделий'!D2545","v":32},{"$f":"'[9]Список изделий'!E2545","v":0},{"$f":"'[9]Список изделий'!F2545","v":"Световая вывеска Клевер Перекресток СУПЕРМАРКЕТ  на входном фризе"},{"$f":"'[9]Список изделий'!I2545","v":0},{"$f":"'[9]Список изделий'!X2545","v":0},{"$f":"'[9]Список изделий'!Y2545","v":0},{"$f":"'[9]Список изделий'!Z2545","v":0},{"$f":"'[9]Список изделий'!AA2545","v":0},{"$f":"'[9]Список изделий'!AB2545","v":0},{"$f":"'[9]Список изделий'!AC2545","v":"x"},{"$f":"'[9]Список изделий'!AD2545","v":0},{"$f":"'[9]Список изделий'!AE2545","v":0},{"$f":"'[9]Список изделий'!AF2545","v":"00:00:00"},{"$f":"'[9]Список изделий'!AY2545","v":0},{"$f":"'[9]Список изделий'!AZ2545","v":"00:00:00"},-43153,-43153,0,0,{"$f":"'[9]Список изделий'!BR2545","v":0},0]
[633,{"$f":"'[9]Список изделий'!D2627","v":33},{"$f":"'[9]Список изделий'!E2627","v":0},{"$f":"'[9]Список изделий'!F2627","v":"Проектно-конструкторская документация для светового короба"},{"$f":"'[9]Список изделий'!I2627","v":0},{"$f":"'[9]Список изделий'!X2627","v":0},{"$f":"'[9]Список изделий'!Y2627","v":0},{"$f":"'[9]Список изделий'!Z2627","v":0},{"$f":"'[9]Список изделий'!AA2627","v":0},{"$f":"'[9]Список изделий'!AB2627","v":0},{"$f":"'[9]Список изделий'!AC2627","v":"x"},{"$f":"'[9]Список изделий'!AD2627","v":0},{"$f":"'[9]Список изделий'!AE2627","v":0},{"$f":"'[9]Список изделий'!AF2627","v":"00:00:00"},{"$f":"'[9]Список изделий'!AY2627","v":0},{"$f":"'[9]Список изделий'!AZ2627","v":"00:00:00"},-43153,-43153,0,0,{"$f":"'[9]Список изделий'!BR2627","v":0},0]
[634,{"$f":"'[9]Список изделий'!D2709","v":34},{"$f":"'[9]Список изделий'!E2709","v":0},{"$f":"'[9]Список изделий'!F2709","v":"Электропроект для светового короба"},{"$f":"'[9]Список изделий'!I2709","v":0},{"$f":"'[9]Список изделий'!X2709","v":0},{"$f":"'[9]Список изделий'!Y2709","v":0},{"$f":"'[9]Список изделий'!Z2709","v":0},{"$f":"'[9]Список изделий'!AA2709","v":0},{"$f":"'[9]Список изделий'!AB2709","v":0},{"$f":"'[9]Список изделий'!AC2709","v":"x"},{"$f":"'[9]Список изделий'!AD2709","v":0},{"$f":"'[9]Список изделий'!AE2709","v":0},{"$f":"'[9]Список изделий'!AF2709","v":"00:00:00"},{"$f":"'[9]Список изделий'!AY2709","v":0},{"$f":"'[9]Список изделий'!AZ2709","v":"00:00:00"},-43153,-43153,0,0,{"$f":"'[9]Список изделий'!BR2709","v":0},0]
[635,{"$f":"'[9]Список изделий'!D2791","v":35},{"$f":"'[9]Список изделий'!E2791","v":0},{"$f":"'[9]Список изделий'!F2791","v":"Баннеры (Праздник 7500х2400) и  (Праздник 570х2400)"},{"$f":"'[9]Список изделий'!I2791","v":0},{"$f":"'[9]Список изделий'!X2791","v":0},{"$f":"'[9]Список изделий'!Y2791","v":0},{"$f":"'[9]Список изделий'!Z2791","v":0},{"$f":"'[9]Список изделий'!AA2791","v":0},{"$f":"'[9]Список изделий'!AB2791","v":0},{"$f":"'[9]Список изделий'!AC2791","v":"x"},{"$f":"'[9]Список изделий'!AD2791","v":0},{"$f":"'[9]Список изделий'!AE2791","v":0},{"$f":"'[9]Список изделий'!AF2791","v":"00:00:00"},{"$f":"'[9]Список изделий'!AY2791","v":0},{"$f":"'[9]Список изделий'!AZ2791","v":"00:00:00"},-43153,-43153,0,0,{"$f":"'[9]Список изделий'!BR2791","v":0},0]
[1163,{"$f":"'[4]Список изделий'!D5087","v":63},{"$f":"'[4]Список изделий'!E5087","v":"Пер-Наст-63"},{"$f":"'[4]Список изделий'!F5087","v":"Стикер заморозка в холодильники"},{"$f":"'[4]Список изделий'!I5087","v":3},{"$f":"'[4]Список изделий'!X5087","v":"ГМА"},{"$f":"'[4]Список изделий'!Y5087","v":"Микуло"},{"$f":"'[4]Список изделий'!Z5087","v":"Закурдаев"},{"$f":"'[4]Список изделий'!AA5087","v":"Замотаев"},{"$f":"'[4]Список изделий'!AB5087","v":0},{"$f":"'[4]Список изделий'!AC5087","v":"x"},{"$f":"'[4]Список изделий'!AD5087","v":0},{"$f":"'[4]Список изделий'!AE5087","v":0},{"$f":"'[4]Список изделий'!AF5087","v":"2018-02-20"},{"$f":"'[4]Список изделий'!AY5087","v":8},{"$f":"'[4]Список изделий'!AZ5087","v":"2018-02-14"},-16,-8,0,0,{"$f":"'[4]Список изделий'!BR5087","v":"\\\\SERVER\\Data1\\П\\Перекресток\\2018\\ОКЕЙ_Перекресток\\Наставников 33\\техничка\\63-стикеры_Заморозка_холодильники\\Сборка\\Вертикальные_разделители-ЗАМОРОЗКА-ТЗ.cdr"},0]
[637,{"$f":"'[9]Список изделий'!D2955","v":37},{"$f":"'[9]Список изделий'!E2955","v":0},{"$f":"'[9]Список изделий'!F2955","v":"Монтаж скайтреков"},{"$f":"'[9]Список изделий'!I2955","v":0},{"$f":"'[9]Список изделий'!X2955","v":0},{"$f":"'[9]Список изделий'!Y2955","v":0},{"$f":"'[9]Список изделий'!Z2955","v":0},{"$f":"'[9]Список изделий'!AA2955","v":0},{"$f":"'[9]Список изделий'!AB2955","v":0},{"$f":"'[9]Список изделий'!AC2955","v":"x"},{"$f":"'[9]Список изделий'!AD2955","v":0},{"$f":"'[9]Список изделий'!AE2955","v":0},{"$f":"'[9]Список изделий'!AF2955","v":"00:00:00"},{"$f":"'[9]Список изделий'!AY2955","v":0},{"$f":"'[9]Список изделий'!AZ2955","v":"00:00:00"},-43153,-43153,0,0,{"$f":"'[9]Список изделий'!BR2955","v":0},0]
[1164,{"$f":"'[4]Список изделий'!D5169","v":64},{"$f":"'[4]Список изделий'!E5169","v":"Пер-Наст-64"},{"$f":"'[4]Список изделий'!F5169","v":"Оклейка витрин плоттерная резка (Паттерны)_(комплект)"},{"$f":"'[4]Список изделий'!I5169","v":1},{"$f":"'[4]Список изделий'!X5169","v":"ГМА"},{"$f":"'[4]Список изделий'!Y5169","v":"Микуло"},{"$f":"'[4]Список изделий'!Z5169","v":"Закурдаев"},{"$f":"'[4]Список изделий'!AA5169","v":"Замотаев"},{"$f":"'[4]Список изделий'!AB5169","v":0},{"$f":"'[4]Список изделий'!AC5169","v":"x"},{"$f":"'[4]Список изделий'!AD5169","v":0},{"$f":"'[4]Список изделий'!AE5169","v":0},{"$f":"'[4]Список изделий'!AF5169","v":"2018-02-20"},{"$f":"'[4]Список изделий'!AY5169","v":8},{"$f":"'[4]Список изделий'!AZ5169","v":"2018-02-14"},-16,-8,0,0,{"$f":"'[4]Список изделий'!BR5169","v":"\\\\SERVER\\Data1\\П\\Перекресток\\2018\\ОКЕЙ_Перекресток\\Наставников 33\\техничка\\64-Оформление витрин\\Сборка\\Оформление витрин - сборка.cdr"},0]
[639,{"$f":"'[9]Список изделий'!D3119","v":39},{"$f":"'[9]Список изделий'!E3119","v":0},{"$f":"'[9]Список изделий'!F3119","v":"Фризы стеллажные \"Хлеб\" плоский двухсторонний"},{"$f":"'[9]Список изделий'!I3119","v":0},{"$f":"'[9]Список изделий'!X3119","v":0},{"$f":"'[9]Список изделий'!Y3119","v":0},{"$f":"'[9]Список изделий'!Z3119","v":0},{"$f":"'[9]Список изделий'!AA3119","v":0},{"$f":"'[9]Список изделий'!AB3119","v":0},{"$f":"'[9]Список изделий'!AC3119","v":"x"},{"$f":"'[9]Список изделий'!AD3119","v":0},{"$f":"'[9]Список изделий'!AE3119","v":0},{"$f":"'[9]Список изделий'!AF3119","v":"00:00:00"},{"$f":"'[9]Список изделий'!AY3119","v":0},{"$f":"'[9]Список изделий'!AZ3119","v":"00:00:00"},-43153,-43153,0,0,{"$f":"'[9]Список изделий'!BR3119","v":0},0]
[1165,{"$f":"'[4]Список изделий'!D5251","v":65},{"$f":"'[4]Список изделий'!E5251","v":0},{"$f":"'[4]Список изделий'!F5251","v":"Для витрин конструкция \"Суперцена\" 2хст. (из двух односторонних)"},{"$f":"'[4]Список изделий'!I5251","v":0},{"$f":"'[4]Список изделий'!X5251","v":0},{"$f":"'[4]Список изделий'!Y5251","v":0},{"$f":"'[4]Список изделий'!Z5251","v":0},{"$f":"'[4]Список изделий'!AA5251","v":0},{"$f":"'[4]Список изделий'!AB5251","v":0},{"$f":"'[4]Список изделий'!AC5251","v":"x"},{"$f":"'[4]Список изделий'!AD5251","v":0},{"$f":"'[4]Список изделий'!AE5251","v":0},{"$f":"'[4]Список изделий'!AF5251","v":"00:00:00"},{"$f":"'[4]Список изделий'!AY5251","v":0},{"$f":"'[4]Список изделий'!AZ5251","v":"00:00:00"},-43153,-43153,0,0,{"$f":"'[4]Список изделий'!BR5251","v":0},0]
[1168,{"$f":"'[4]Список изделий'!D5497","v":68},{"$f":"'[4]Список изделий'!E5497","v":"Пер-Наст-68"},{"$f":"'[4]Список изделий'!F5497","v":"Оформлениие Фермерского Уголка"},{"$f":"'[4]Список изделий'!I5497","v":1},{"$f":"'[4]Список изделий'!X5497","v":"ГМА"},{"$f":"'[4]Список изделий'!Y5497","v":"Микуло"},{"$f":"'[4]Список изделий'!Z5497","v":"Закурдаев"},{"$f":"'[4]Список изделий'!AA5497","v":"Замотаев"},{"$f":"'[4]Список изделий'!AB5497","v":0},{"$f":"'[4]Список изделий'!AC5497","v":"x"},{"$f":"'[4]Список изделий'!AD5497","v":0},{"$f":"'[4]Список изделий'!AE5497","v":0},{"$f":"'[4]Список изделий'!AF5497","v":"2018-02-20"},{"$f":"'[4]Список изделий'!AY5497","v":8},{"$f":"'[4]Список изделий'!AZ5497","v":"2018-02-14"},-16,-8,0,0,{"$f":"'[4]Список изделий'!BR5497","v":"\\\\SERVER\\Data1\\П\\Перекресток\\2018\\ОКЕЙ_Перекресток\\Наставников 33\\техничка\\68-Фермерский_уголок\\Сборка\\фермерский_уголок-сборка.cdr"},0]
[1176,{"$f":"'[4]Список изделий'!D6153","v":76},{"$f":"'[4]Список изделий'!E6153","v":"Пер-Наст-76"},{"$f":"'[4]Список изделий'!F6153","v":"Пилон несветовой"},{"$f":"'[4]Список изделий'!I6153","v":1},{"$f":"'[4]Список изделий'!X6153","v":"ГМА"},{"$f":"'[4]Список изделий'!Y6153","v":"Микуло"},{"$f":"'[4]Список изделий'!Z6153","v":"Закурдаев"},{"$f":"'[4]Список изделий'!AA6153","v":"Замотаев"},{"$f":"'[4]Список изделий'!AB6153","v":0},{"$f":"'[4]Список изделий'!AC6153","v":"x"},{"$f":"'[4]Список изделий'!AD6153","v":0},{"$f":"'[4]Список изделий'!AE6153","v":0},{"$f":"'[4]Список изделий'!AF6153","v":"2018-02-20"},{"$f":"'[4]Список изделий'!AY6153","v":8},{"$f":"'[4]Список изделий'!AZ6153","v":"2018-02-14"},{"$f":"IF(O644=\"нет в заказе\",\"нет в заказе\",-(TODAY()-(P644-O644)))","v":-16},{"$f":"IF(Q644=\"нет в заказе\",\"нет взаказе\",-(IF(O644=\"нет в заказе\",\"нет в заказе\",TODAY()-P644)))","v":-8},0.01,{"$f":"V644","v":0.01},{"$f":"'[4]Список изделий'!BR6153","v":"\\\\SERVER\\Data1\\П\\Перекресток\\2018\\ОКЕЙ_Перекресток\\Наставников 33\\техничка\\76-Пилон-660х1600\\Сборка\\пилон_660х1600-сборка.cdr"},{"$f":"IF(S644>=0,S644,IF(T644>S644,T644,S644))","v":0.01}]
[1177,{"$f":"'[4]Список изделий'!D6235","v":77},{"$f":"'[4]Список изделий'!E6235","v":"Пер-Наст-77"},{"$f":"'[4]Список изделий'!F6235","v":"Печать на бумаге для пилона (комплект из 2шт.)"},{"$f":"'[4]Список изделий'!I6235","v":1},{"$f":"'[4]Список изделий'!X6235","v":"ГМА"},{"$f":"'[4]Список изделий'!Y6235","v":"Микуло"},{"$f":"'[4]Список изделий'!Z6235","v":"Закурдаев"},{"$f":"'[4]Список изделий'!AA6235","v":"Замотаев"},{"$f":"'[4]Список изделий'!AB6235","v":0},{"$f":"'[4]Список изделий'!AC6235","v":"x"},{"$f":"'[4]Список изделий'!AD6235","v":0},{"$f":"'[4]Список изделий'!AE6235","v":0},{"$f":"'[4]Список изделий'!AF6235","v":"2018-02-20"},{"$f":"'[4]Список изделий'!AY6235","v":8},{"$f":"'[4]Список изделий'!AZ6235","v":"2018-02-14"},-16,-8,0.01,0.01,{"$f":"'[4]Список изделий'!BR6235","v":"\\\\SERVER\\Data1\\П\\Перекресток\\2018\\ОКЕЙ_Перекресток\\Наставников 33\\техничка\\77-Бумага_для_пилона\\Сборка\\бумага_пилон_660х1600-сборка.cdr"},0.01]
[601,{"$f":"'[9]Список изделий'!D3","v":1},{"$f":"'[9]Список изделий'!E3","v":"Пер-Энерге1"},{"$f":"'[9]Список изделий'!F3","v":"Фризы настенные односторонние"},{"$f":"'[9]Список изделий'!I3","v":17},{"$f":"'[9]Список изделий'!X3","v":"ГМА"},{"$f":"'[9]Список изделий'!Y3","v":"Микуло"},{"$f":"'[9]Список изделий'!Z3","v":"Закурдаев"},{"$f":"'[9]Список изделий'!AA3","v":"Замотаев"},{"$f":"'[9]Список изделий'!AB3","v":0},{"$f":"'[9]Список изделий'!AC3","v":0},{"$f":"'[9]Список изделий'!AD3","v":0},{"$f":"'[9]Список изделий'!AE3","v":0},{"$f":"'[9]Список изделий'!AF3","v":"2018-02-20"},{"$f":"'[9]Список изделий'!AY3","v":7},{"$f":"'[9]Список изделий'!AZ3","v":"2018-02-15"},-14,-7,1,1,{"$f":"'[9]Список изделий'!BR3","v":"\\\\SERVER\\Data1\\П\\Перекресток\\2018\\Энергетиков 8\\техничка\\01-Фризы настенные"},1]
[645,{"$f":"'[9]Список изделий'!D3611","v":45},{"$f":"'[9]Список изделий'!E3611","v":0},{"$f":"'[9]Список изделий'!F3611","v":"Стенд служебный на 8 карманов А4"},{"$f":"'[9]Список изделий'!I3611","v":0},{"$f":"'[9]Список изделий'!X3611","v":0},{"$f":"'[9]Список изделий'!Y3611","v":0},{"$f":"'[9]Список изделий'!Z3611","v":0},{"$f":"'[9]Список изделий'!AA3611","v":0},{"$f":"'[9]Список изделий'!AB3611","v":0},{"$f":"'[9]Список изделий'!AC3611","v":"x"},{"$f":"'[9]Список изделий'!AD3611","v":0},{"$f":"'[9]Список изделий'!AE3611","v":0},{"$f":"'[9]Список изделий'!AF3611","v":"00:00:00"},{"$f":"'[9]Список изделий'!AY3611","v":0},{"$f":"'[9]Список изделий'!AZ3611","v":"00:00:00"},-43153,-43153,0,0,{"$f":"'[9]Список изделий'!BR3611","v":0},0]
[646,{"$f":"'[9]Список изделий'!D3693","v":46},{"$f":"'[9]Список изделий'!E3693","v":"Пер-Энерге46"},{"$f":"'[9]Список изделий'!F3693","v":"Табличка двухст. \"Суперцена\" для подвеса к ценникодержателю ФРОВ"},{"$f":"'[9]Список изделий'!I3693","v":30},{"$f":"'[9]Список изделий'!X3693","v":"ГМА"},{"$f":"'[9]Список изделий'!Y3693","v":"Микуло"},{"$f":"'[9]Список изделий'!Z3693","v":"Закурдаев"},{"$f":"'[9]Список изделий'!AA3693","v":"Замотаев"},{"$f":"'[9]Список изделий'!AB3693","v":0},{"$f":"'[9]Список изделий'!AC3693","v":"x"},{"$f":"'[9]Список изделий'!AD3693","v":0},{"$f":"'[9]Список изделий'!AE3693","v":0},{"$f":"'[9]Список изделий'!AF3693","v":"2018-02-20"},{"$f":"'[9]Список изделий'!AY3693","v":7},{"$f":"'[9]Список изделий'!AZ3693","v":"2018-02-15"},-14,-7,0,0,{"$f":"'[9]Список изделий'!BR3693","v":"\\\\SERVER\\Data1\\П\\Перекресток\\2018\\ТЕХНИЧЕСКАЯ ДОКУМЕНТАЦИЯ\\46-Подвес_Суперцена_ФРОВ"},0]
[602,{"$f":"'[9]Список изделий'!D85","v":2},{"$f":"'[9]Список изделий'!E85","v":"Пер-Энерге2"},{"$f":"'[9]Список изделий'!F85","v":"Наружная вывеска, 5000"},{"$f":"'[9]Список изделий'!I85","v":1},{"$f":"'[9]Список изделий'!X85","v":"ГМА"},{"$f":"'[9]Список изделий'!Y85","v":"Микуло"},{"$f":"'[9]Список изделий'!Z85","v":"Закурдаев"},{"$f":"'[9]Список изделий'!AA85","v":"Замотаев"},{"$f":"'[9]Список изделий'!AB85","v":0},{"$f":"'[9]Список изделий'!AC85","v":"x"},{"$f":"'[9]Список изделий'!AD85","v":0},{"$f":"'[9]Список изделий'!AE85","v":0},{"$f":"'[9]Список изделий'!AF85","v":"2018-02-20"},{"$f":"'[9]Список изделий'!AY85","v":7},{"$f":"'[9]Список изделий'!AZ85","v":"2018-02-15"},-14,-7,0,0,{"$f":"'[9]Список изделий'!BR85","v":"\\\\SERVER\\Data1\\П\\Перекресток\\2018\\Энергетиков 8\\техничка\\02_Наружная Вывеска 5000"},0]
[603,{"$f":"'[9]Список изделий'!D167","v":3},{"$f":"'[9]Список изделий'!E167","v":"Пер-Энерге3"},{"$f":"'[9]Список изделий'!F167","v":"Световые вывески клееные"},{"$f":"'[9]Список изделий'!I167","v":8},{"$f":"'[9]Список изделий'!X167","v":"ГМА"},{"$f":"'[9]Список изделий'!Y167","v":"Микуло"},{"$f":"'[9]Список изделий'!Z167","v":"Закурдаев"},{"$f":"'[9]Список изделий'!AA167","v":"Замотаев"},{"$f":"'[9]Список изделий'!AB167","v":0},{"$f":"'[9]Список изделий'!AC167","v":"x"},{"$f":"'[9]Список изделий'!AD167","v":0},{"$f":"'[9]Список изделий'!AE167","v":0},{"$f":"'[9]Список изделий'!AF167","v":"2018-02-20"},{"$f":"'[9]Список изделий'!AY167","v":7},{"$f":"'[9]Список изделий'!AZ167","v":"2018-02-15"},-14,-7,1,1,{"$f":"'[9]Список изделий'!BR167","v":"\\\\SERVER\\Data1\\П\\Перекресток\\2018\\Энергетиков 8\\техничка\\03-Световые_вывески_отделов"},1]
[604,{"$f":"'[9]Список изделий'!D249","v":4},{"$f":"'[9]Список изделий'!E249","v":"Пер-Энерге4"},{"$f":"'[9]Список изделий'!F249","v":"Пиктограммы на стену"},{"$f":"'[9]Список изделий'!I249","v":3},{"$f":"'[9]Список изделий'!X249","v":"ГМА"},{"$f":"'[9]Список изделий'!Y249","v":"Микуло"},{"$f":"'[9]Список изделий'!Z249","v":"Закурдаев"},{"$f":"'[9]Список изделий'!AA249","v":"Замотаев"},{"$f":"'[9]Список изделий'!AB249","v":0},{"$f":"'[9]Список изделий'!AC249","v":"x"},{"$f":"'[9]Список изделий'!AD249","v":0},{"$f":"'[9]Список изделий'!AE249","v":0},{"$f":"'[9]Список изделий'!AF249","v":"2018-02-20"},{"$f":"'[9]Список изделий'!AY249","v":7},{"$f":"'[9]Список изделий'!AZ249","v":"2018-02-15"},-14,-7,0,0,{"$f":"'[9]Список изделий'!BR249","v":"\\\\SERVER\\Data1\\П\\Перекресток\\2018\\Энергетиков 8\\техничка\\04-Пиктограммы"},0]
[605,{"$f":"'[9]Список изделий'!D331","v":5},{"$f":"'[9]Список изделий'!E331","v":"Пер-Энерге5"},{"$f":"'[9]Список изделий'!F331","v":"Грифельные доски"},{"$f":"'[9]Список изделий'!I331","v":5},{"$f":"'[9]Список изделий'!X331","v":"ГМА"},{"$f":"'[9]Список изделий'!Y331","v":"Микуло"},{"$f":"'[9]Список изделий'!Z331","v":"Закурдаев"},{"$f":"'[9]Список изделий'!AA331","v":"Замотаев"},{"$f":"'[9]Список изделий'!AB331","v":0},{"$f":"'[9]Список изделий'!AC331","v":"x"},{"$f":"'[9]Список изделий'!AD331","v":0},{"$f":"'[9]Список изделий'!AE331","v":0},{"$f":"'[9]Список изделий'!AF331","v":"2018-02-20"},{"$f":"'[9]Список изделий'!AY331","v":7},{"$f":"'[9]Список изделий'!AZ331","v":"2018-02-15"},-14,-7,0,0,{"$f":"'[9]Список изделий'!BR331","v":"\\\\SERVER\\Data1\\П\\Перекресток\\2018\\Энергетиков 8\\техничка\\05-Грифельные_доски"},0]
[607,{"$f":"'[9]Список изделий'!D495","v":7},{"$f":"'[9]Список изделий'!E495","v":"Пер-Энерге7"},{"$f":"'[9]Список изделий'!F495","v":"Потолочные указатели 2хст. 2000х400"},{"$f":"'[9]Список изделий'!I495","v":"14+3"},{"$f":"'[9]Список изделий'!X495","v":"ГМА"},{"$f":"'[9]Список изделий'!Y495","v":"Микуло"},{"$f":"'[9]Список изделий'!Z495","v":"Закурдаев"},{"$f":"'[9]Список изделий'!AA495","v":"Замотаев"},{"$f":"'[9]Список изделий'!AB495","v":0},{"$f":"'[9]Список изделий'!AC495","v":"x"},{"$f":"'[9]Список изделий'!AD495","v":0},{"$f":"'[9]Список изделий'!AE495","v":0},{"$f":"'[9]Список изделий'!AF495","v":"2018-02-20"},{"$f":"'[9]Список изделий'!AY495","v":7},{"$f":"'[9]Список изделий'!AZ495","v":"2018-02-15"},-14,-7,1,1,{"$f":"'[9]Список изделий'!BR495","v":"\\\\SERVER\\Data1\\П\\Перекресток\\2018\\Энергетиков 8\\техничка\\07-Потолочные_вывески-2000х400"},1]
[652,{"$f":"'[9]Список изделий'!D4185","v":52},{"$f":"'[9]Список изделий'!E4185","v":0},{"$f":"'[9]Список изделий'!F4185","v":"Табличка \"А4\", \"Весы для ФРОВ\" двухсторонняя подвесная"},{"$f":"'[9]Список изделий'!I4185","v":0},{"$f":"'[9]Список изделий'!X4185","v":0},{"$f":"'[9]Список изделий'!Y4185","v":0},{"$f":"'[9]Список изделий'!Z4185","v":0},{"$f":"'[9]Список изделий'!AA4185","v":0},{"$f":"'[9]Список изделий'!AB4185","v":0},{"$f":"'[9]Список изделий'!AC4185","v":"x"},{"$f":"'[9]Список изделий'!AD4185","v":0},{"$f":"'[9]Список изделий'!AE4185","v":0},{"$f":"'[9]Список изделий'!AF4185","v":"00:00:00"},{"$f":"'[9]Список изделий'!AY4185","v":0},{"$f":"'[9]Список изделий'!AZ4185","v":"00:00:00"},-43153,-43153,0,0,{"$f":"'[9]Список изделий'!BR4185","v":0},0]
[653,{"$f":"'[9]Список изделий'!D4267","v":53},{"$f":"'[9]Список изделий'!E4267","v":0},{"$f":"'[9]Список изделий'!F4267","v":"Табличка \"А4\", \"Весы для весовых конфет\" двухсторонняя подвесная"},{"$f":"'[9]Список изделий'!I4267","v":0},{"$f":"'[9]Список изделий'!X4267","v":0},{"$f":"'[9]Список изделий'!Y4267","v":0},{"$f":"'[9]Список изделий'!Z4267","v":0},{"$f":"'[9]Список изделий'!AA4267","v":0},{"$f":"'[9]Список изделий'!AB4267","v":0},{"$f":"'[9]Список изделий'!AC4267","v":"x"},{"$f":"'[9]Список изделий'!AD4267","v":0},{"$f":"'[9]Список изделий'!AE4267","v":0},{"$f":"'[9]Список изделий'!AF4267","v":"00:00:00"},{"$f":"'[9]Список изделий'!AY4267","v":0},{"$f":"'[9]Список изделий'!AZ4267","v":"00:00:00"},-43153,-43153,0,0,{"$f":"'[9]Список изделий'!BR4267","v":0},0]
[608,{"$f":"'[9]Список изделий'!D577","v":8},{"$f":"'[9]Список изделий'!E577","v":"Пер-Энерге8"},{"$f":"'[9]Список изделий'!F577","v":"Пилон_стойка указатель"},{"$f":"'[9]Список изделий'!I577","v":1},{"$f":"'[9]Список изделий'!X577","v":"ГМА"},{"$f":"'[9]Список изделий'!Y577","v":"Микуло"},{"$f":"'[9]Список изделий'!Z577","v":"Закурдаев"},{"$f":"'[9]Список изделий'!AA577","v":"Замотаев"},{"$f":"'[9]Список изделий'!AB577","v":0},{"$f":"'[9]Список изделий'!AC577","v":"x"},{"$f":"'[9]Список изделий'!AD577","v":0},{"$f":"'[9]Список изделий'!AE577","v":0},{"$f":"'[9]Список изделий'!AF577","v":"2018-02-20"},{"$f":"'[9]Список изделий'!AY577","v":7},{"$f":"'[9]Список изделий'!AZ577","v":"2018-02-15"},-14,-7,0,0,{"$f":"'[9]Список изделий'!BR577","v":"\\\\SERVER\\Data1\\П\\Перекресток\\2018\\Энергетиков 8\\техничка\\08-Пилон_стойка указатель"},0]
[609,{"$f":"'[9]Список изделий'!D659","v":9},{"$f":"'[9]Список изделий'!E659","v":"Пер-Энерге9"},{"$f":"'[9]Список изделий'!F659","v":"Имиджи"},{"$f":"'[9]Список изделий'!I659","v":"2+5"},{"$f":"'[9]Список изделий'!X659","v":"ГМА"},{"$f":"'[9]Список изделий'!Y659","v":"Микуло"},{"$f":"'[9]Список изделий'!Z659","v":"Закурдаев"},{"$f":"'[9]Список изделий'!AA659","v":"Замотаев"},{"$f":"'[9]Список изделий'!AB659","v":0},{"$f":"'[9]Список изделий'!AC659","v":"x"},{"$f":"'[9]Список изделий'!AD659","v":0},{"$f":"'[9]Список изделий'!AE659","v":0},{"$f":"'[9]Список изделий'!AF659","v":"2018-02-20"},{"$f":"'[9]Список изделий'!AY659","v":7},{"$f":"'[9]Список изделий'!AZ659","v":"2018-02-15"},-14,-7,1,1,{"$f":"'[9]Список изделий'!BR659","v":"\\\\SERVER\\Data1\\П\\Перекресток\\2018\\Энергетиков 8\\техничка\\09-Имиджи"},1]
[610,{"$f":"'[9]Список изделий'!D741","v":10},{"$f":"'[9]Список изделий'!E741","v":"Пер-Энерге10"},{"$f":"'[9]Список изделий'!F741","v":"Карман под бумагу А 1. крепление к стене (к-во предварительное)"},{"$f":"'[9]Список изделий'!I741","v":15},{"$f":"'[9]Список изделий'!X741","v":"ГМА"},{"$f":"'[9]Список изделий'!Y741","v":"Микуло"},{"$f":"'[9]Список изделий'!Z741","v":"Закурдаев"},{"$f":"'[9]Список изделий'!AA741","v":"Замотаев"},{"$f":"'[9]Список изделий'!AB741","v":0},{"$f":"'[9]Список изделий'!AC741","v":"x"},{"$f":"'[9]Список изделий'!AD741","v":0},{"$f":"'[9]Список изделий'!AE741","v":0},{"$f":"'[9]Список изделий'!AF741","v":"2018-02-20"},{"$f":"'[9]Список изделий'!AY741","v":7},{"$f":"'[9]Список изделий'!AZ741","v":"2018-02-15"},-14,-7,1,1,{"$f":"'[9]Список изделий'!BR741","v":"\\\\SERVER\\Data1\\П\\Перекресток\\2018\\Энергетиков 8\\техничка\\10-Карман_под_бумагу_А1"},1]
[611,{"$f":"'[9]Список изделий'!D823","v":11},{"$f":"'[9]Список изделий'!E823","v":"Пер-Энерге11"},{"$f":"'[9]Список изделий'!F823","v":"Карман круглый двухсторонний (люверс + крючок) (к-во предварительное)"},{"$f":"'[9]Список изделий'!I823","v":14},{"$f":"'[9]Список изделий'!X823","v":"ГМА"},{"$f":"'[9]Список изделий'!Y823","v":"Микуло"},{"$f":"'[9]Список изделий'!Z823","v":"Закурдаев"},{"$f":"'[9]Список изделий'!AA823","v":"Замотаев"},{"$f":"'[9]Список изделий'!AB823","v":0},{"$f":"'[9]Список изделий'!AC823","v":"x"},{"$f":"'[9]Список изделий'!AD823","v":0},{"$f":"'[9]Список изделий'!AE823","v":0},{"$f":"'[9]Список изделий'!AF823","v":"2018-02-20"},{"$f":"'[9]Список изделий'!AY823","v":7},{"$f":"'[9]Список изделий'!AZ823","v":"2018-02-15"},-14,-7,1,1,{"$f":"'[9]Список изделий'!BR823","v":"\\\\SERVER\\Data1\\П\\Перекресток\\2018\\Энергетиков 8\\техничка\\11-Карман_круглый_двухсторонний_(ПромоКруг)"},1]
[658,{"$f":"'[9]Список изделий'!D4677","v":58},{"$f":"'[9]Список изделий'!E4677","v":0},{"$f":"'[9]Список изделий'!F4677","v":"Конструкция \"Суперцена\" одинарная, один карман, подвесная к-во предварительное"},{"$f":"'[9]Список изделий'!I4677","v":0},{"$f":"'[9]Список изделий'!X4677","v":0},{"$f":"'[9]Список изделий'!Y4677","v":0},{"$f":"'[9]Список изделий'!Z4677","v":0},{"$f":"'[9]Список изделий'!AA4677","v":0},{"$f":"'[9]Список изделий'!AB4677","v":0},{"$f":"'[9]Список изделий'!AC4677","v":"x"},{"$f":"'[9]Список изделий'!AD4677","v":0},{"$f":"'[9]Список изделий'!AE4677","v":0},{"$f":"'[9]Список изделий'!AF4677","v":"00:00:00"},{"$f":"'[9]Список изделий'!AY4677","v":0},{"$f":"'[9]Список изделий'!AZ4677","v":"00:00:00"},-43153,-43153,0,0,{"$f":"'[9]Список изделий'!BR4677","v":0},0]
[659,{"$f":"'[9]Список изделий'!D4759","v":59},{"$f":"'[9]Список изделий'!E4759","v":0},{"$f":"'[9]Список изделий'!F4759","v":"Стикеры \"Суперцена\", на карманы (треугольные конструкции)"},{"$f":"'[9]Список изделий'!I4759","v":0},{"$f":"'[9]Список изделий'!X4759","v":0},{"$f":"'[9]Список изделий'!Y4759","v":0},{"$f":"'[9]Список изделий'!Z4759","v":0},{"$f":"'[9]Список изделий'!AA4759","v":0},{"$f":"'[9]Список изделий'!AB4759","v":0},{"$f":"'[9]Список изделий'!AC4759","v":"x"},{"$f":"'[9]Список изделий'!AD4759","v":0},{"$f":"'[9]Список изделий'!AE4759","v":0},{"$f":"'[9]Список изделий'!AF4759","v":"00:00:00"},{"$f":"'[9]Список изделий'!AY4759","v":0},{"$f":"'[9]Список изделий'!AZ4759","v":"00:00:00"},-43153,-43153,0,0,{"$f":"'[9]Список изделий'!BR4759","v":0},0]
[660,{"$f":"'[9]Список изделий'!D4841","v":60},{"$f":"'[9]Список изделий'!E4841","v":"Пер-Энерге60"},{"$f":"'[9]Список изделий'!F4841","v":"входная группа окна оформление"},{"$f":"'[9]Список изделий'!I4841","v":1},{"$f":"'[9]Список изделий'!X4841","v":"ГМА"},{"$f":"'[9]Список изделий'!Y4841","v":"Микуло"},{"$f":"'[9]Список изделий'!Z4841","v":"Закурдаев"},{"$f":"'[9]Список изделий'!AA4841","v":"Замотаев"},{"$f":"'[9]Список изделий'!AB4841","v":0},{"$f":"'[9]Список изделий'!AC4841","v":"x"},{"$f":"'[9]Список изделий'!AD4841","v":0},{"$f":"'[9]Список изделий'!AE4841","v":0},{"$f":"'[9]Список изделий'!AF4841","v":"2018-02-20"},{"$f":"'[9]Список изделий'!AY4841","v":7},{"$f":"'[9]Список изделий'!AZ4841","v":"2018-02-15"},-14,-7,0,0,{"$f":"'[9]Список изделий'!BR4841","v":"\\\\SERVER\\Data1\\П\\Перекресток\\2018\\Энергетиков 8\\техничка\\60-входная группа оклейка"},0]
[612,{"$f":"'[9]Список изделий'!D905","v":12},{"$f":"'[9]Список изделий'!E905","v":"Пер-Энерге12"},{"$f":"'[9]Список изделий'!F905","v":"Таблички \"Здесь можно проверить цену\" (комплект 4 шт.) (к-во предварительное)"},{"$f":"'[9]Список изделий'!I905","v":"2комп."},{"$f":"'[9]Список изделий'!X905","v":"ГМА"},{"$f":"'[9]Список изделий'!Y905","v":"Микуло"},{"$f":"'[9]Список изделий'!Z905","v":"Закурдаев"},{"$f":"'[9]Список изделий'!AA905","v":"Замотаев"},{"$f":"'[9]Список изделий'!AB905","v":0},{"$f":"'[9]Список изделий'!AC905","v":"x"},{"$f":"'[9]Список изделий'!AD905","v":0},{"$f":"'[9]Список изделий'!AE905","v":0},{"$f":"'[9]Список изделий'!AF905","v":"2018-02-20"},{"$f":"'[9]Список изделий'!AY905","v":7},{"$f":"'[9]Список изделий'!AZ905","v":"2018-02-15"},-14,-7,1,1,{"$f":"'[9]Список изделий'!BR905","v":"\\\\SERVER\\Data1\\П\\Перекресток\\2018\\Энергетиков 8\\техничка\\12-Таблички-ПрайсЧекер"},1]
[613,{"$f":"'[9]Список изделий'!D987","v":13},{"$f":"'[9]Список изделий'!E987","v":"Пер-Энерге13"},{"$f":"'[9]Список изделий'!F987","v":"Оклейка дверей"},{"$f":"'[9]Список изделий'!I987","v":"7+2"},{"$f":"'[9]Список изделий'!X987","v":"ГМА"},{"$f":"'[9]Список изделий'!Y987","v":"Микуло"},{"$f":"'[9]Список изделий'!Z987","v":"Закурдаев"},{"$f":"'[9]Список изделий'!AA987","v":"Замотаев"},{"$f":"'[9]Список изделий'!AB987","v":0},{"$f":"'[9]Список изделий'!AC987","v":"x"},{"$f":"'[9]Список изделий'!AD987","v":0},{"$f":"'[9]Список изделий'!AE987","v":0},{"$f":"'[9]Список изделий'!AF987","v":"2018-02-20"},{"$f":"'[9]Список изделий'!AY987","v":7},{"$f":"'[9]Список изделий'!AZ987","v":"2018-02-15"},-14,-7,1,1,{"$f":"'[9]Список изделий'!BR987","v":"\\\\SERVER\\Data1\\П\\Перекресток\\2018\\Энергетиков 8\\техничка\\13-Оклейка_дверей"},1]
[663,{"$f":"'[9]Список изделий'!D5087","v":63},{"$f":"'[9]Список изделий'!E5087","v":"Пер-Энерге63"},{"$f":"'[9]Список изделий'!F5087","v":"Стикер заморозка в холодильники"},{"$f":"'[9]Список изделий'!I5087","v":9},{"$f":"'[9]Список изделий'!X5087","v":"ГМА"},{"$f":"'[9]Список изделий'!Y5087","v":"Микуло"},{"$f":"'[9]Список изделий'!Z5087","v":"Закурдаев"},{"$f":"'[9]Список изделий'!AA5087","v":"Замотаев"},{"$f":"'[9]Список изделий'!AB5087","v":0},{"$f":"'[9]Список изделий'!AC5087","v":"x"},{"$f":"'[9]Список изделий'!AD5087","v":0},{"$f":"'[9]Список изделий'!AE5087","v":0},{"$f":"'[9]Список изделий'!AF5087","v":"2018-02-20"},{"$f":"'[9]Список изделий'!AY5087","v":7},{"$f":"'[9]Список изделий'!AZ5087","v":"2018-02-15"},-14,-7,0,0,{"$f":"'[9]Список изделий'!BR5087","v":"\\\\SERVER\\Data1\\П\\Перекресток\\2018\\Энергетиков 8\\техничка\\63-стикеры_Заморозка_холодильники"},0]
[664,{"$f":"'[9]Список изделий'!D5169","v":64},{"$f":"'[9]Список изделий'!E5169","v":0},{"$f":"'[9]Список изделий'!F5169","v":"Оклейка витрин плоттерная резка (Паттерны)"},{"$f":"'[9]Список изделий'!I5169","v":0},{"$f":"'[9]Список изделий'!X5169","v":0},{"$f":"'[9]Список изделий'!Y5169","v":0},{"$f":"'[9]Список изделий'!Z5169","v":0},{"$f":"'[9]Список изделий'!AA5169","v":0},{"$f":"'[9]Список изделий'!AB5169","v":0},{"$f":"'[9]Список изделий'!AC5169","v":"x"},{"$f":"'[9]Список изделий'!AD5169","v":0},{"$f":"'[9]Список изделий'!AE5169","v":0},{"$f":"'[9]Список изделий'!AF5169","v":"00:00:00"},{"$f":"'[9]Список изделий'!AY5169","v":0},{"$f":"'[9]Список изделий'!AZ5169","v":"00:00:00"},-43153,-43153,0,0,{"$f":"'[9]Список изделий'!BR5169","v":0},0]
[665,{"$f":"'[9]Список изделий'!D5251","v":65},{"$f":"'[9]Список изделий'!E5251","v":0},{"$f":"'[9]Список изделий'!F5251","v":"Для витрин конструкция \"Суперцена\" 2хст. (из двух односторонних)"},{"$f":"'[9]Список изделий'!I5251","v":0},{"$f":"'[9]Список изделий'!X5251","v":0},{"$f":"'[9]Список изделий'!Y5251","v":0},{"$f":"'[9]Список изделий'!Z5251","v":0},{"$f":"'[9]Список изделий'!AA5251","v":0},{"$f":"'[9]Список изделий'!AB5251","v":0},{"$f":"'[9]Список изделий'!AC5251","v":"x"},{"$f":"'[9]Список изделий'!AD5251","v":0},{"$f":"'[9]Список изделий'!AE5251","v":0},{"$f":"'[9]Список изделий'!AF5251","v":"00:00:00"},{"$f":"'[9]Список изделий'!AY5251","v":0},{"$f":"'[9]Список изделий'!AZ5251","v":"00:00:00"},-43153,-43153,0,0,{"$f":"'[9]Список изделий'!BR5251","v":0},0]
[666,{"$f":"'[9]Список изделий'!D5333","v":66},{"$f":"'[9]Список изделий'!E5333","v":0},{"$f":"'[9]Список изделий'!F5333","v":"Оформление витрин имиджи двухсторонние"},{"$f":"'[9]Список изделий'!I5333","v":0},{"$f":"'[9]Список изделий'!X5333","v":0},{"$f":"'[9]Список изделий'!Y5333","v":0},{"$f":"'[9]Список изделий'!Z5333","v":0},{"$f":"'[9]Список изделий'!AA5333","v":0},{"$f":"'[9]Список изделий'!AB5333","v":0},{"$f":"'[9]Список изделий'!AC5333","v":"x"},{"$f":"'[9]Список изделий'!AD5333","v":0},{"$f":"'[9]Список изделий'!AE5333","v":0},{"$f":"'[9]Список изделий'!AF5333","v":"00:00:00"},{"$f":"'[9]Список изделий'!AY5333","v":0},{"$f":"'[9]Список изделий'!AZ5333","v":"00:00:00"},-43153,-43153,0,0,{"$f":"'[9]Список изделий'!BR5333","v":0},0]
[667,{"$f":"'[9]Список изделий'!D5415","v":67},{"$f":"'[9]Список изделий'!E5415","v":0},{"$f":"'[9]Список изделий'!F5415","v":"Фриз стеллажный \"Шапка\" - Восточные сладости (комплект из 3х частей)"},{"$f":"'[9]Список изделий'!I5415","v":0},{"$f":"'[9]Список изделий'!X5415","v":0},{"$f":"'[9]Список изделий'!Y5415","v":0},{"$f":"'[9]Список изделий'!Z5415","v":0},{"$f":"'[9]Список изделий'!AA5415","v":0},{"$f":"'[9]Список изделий'!AB5415","v":0},{"$f":"'[9]Список изделий'!AC5415","v":"x"},{"$f":"'[9]Список изделий'!AD5415","v":0},{"$f":"'[9]Список изделий'!AE5415","v":0},{"$f":"'[9]Список изделий'!AF5415","v":"00:00:00"},{"$f":"'[9]Список изделий'!AY5415","v":0},{"$f":"'[9]Список изделий'!AZ5415","v":"00:00:00"},-43153,-43153,0,0,{"$f":"'[9]Список изделий'!BR5415","v":0},0]
[617,{"$f":"'[9]Список изделий'!D1315","v":17},{"$f":"'[9]Список изделий'!E1315","v":"Пер-Энерге17"},{"$f":"'[9]Список изделий'!F1315","v":"Стикер на заднюю часть прайсдисплея ФРОВ (2 вида-комплект)(к-во предварительное)"},{"$f":"'[9]Список изделий'!I1315","v":"20комп."},{"$f":"'[9]Список изделий'!X1315","v":"ГМА"},{"$f":"'[9]Список изделий'!Y1315","v":"Микуло"},{"$f":"'[9]Список изделий'!Z1315","v":"Закурдаев"},{"$f":"'[9]Список изделий'!AA1315","v":"Замотаев"},{"$f":"'[9]Список изделий'!AB1315","v":0},{"$f":"'[9]Список изделий'!AC1315","v":"x"},{"$f":"'[9]Список изделий'!AD1315","v":0},{"$f":"'[9]Список изделий'!AE1315","v":0},{"$f":"'[9]Список изделий'!AF1315","v":"2018-02-20"},{"$f":"'[9]Список изделий'!AY1315","v":7},{"$f":"'[9]Список изделий'!AZ1315","v":"2018-02-15"},-14,-7,1,1,{"$f":"'[9]Список изделий'!BR1315","v":"\\\\SERVER\\Data1\\П\\Перекресток\\2018\\ТЕХНИЧЕСКАЯ ДОКУМЕНТАЦИЯ\\17-Стикер-задник_ПД_ФРОВ\\Сборка\\стикеры_зад_ПД-ФРОВ-сборка.cdr"},1]
[669,{"$f":"'[9]Список изделий'!D5579","v":69},{"$f":"'[9]Список изделий'!E5579","v":0},{"$f":"'[9]Список изделий'!F5579","v":"Фриз стеллажный \"Шапка\" - Наша марка (разная комплектащия)"},{"$f":"'[9]Список изделий'!I5579","v":0},{"$f":"'[9]Список изделий'!X5579","v":0},{"$f":"'[9]Список изделий'!Y5579","v":0},{"$f":"'[9]Список изделий'!Z5579","v":0},{"$f":"'[9]Список изделий'!AA5579","v":0},{"$f":"'[9]Список изделий'!AB5579","v":0},{"$f":"'[9]Список изделий'!AC5579","v":"x"},{"$f":"'[9]Список изделий'!AD5579","v":0},{"$f":"'[9]Список изделий'!AE5579","v":0},{"$f":"'[9]Список изделий'!AF5579","v":"00:00:00"},{"$f":"'[9]Список изделий'!AY5579","v":0},{"$f":"'[9]Список изделий'!AZ5579","v":"00:00:00"},-43153,-43153,0,0,{"$f":"'[9]Список изделий'!BR5579","v":0},0]
[670,{"$f":"'[9]Список изделий'!D5661","v":70},{"$f":"'[9]Список изделий'!E5661","v":0},{"$f":"'[9]Список изделий'!F5661","v":"Подвес 2хст. В Bistro \"Перекуси в Перекрестке\""},{"$f":"'[9]Список изделий'!I5661","v":0},{"$f":"'[9]Список изделий'!X5661","v":0},{"$f":"'[9]Список изделий'!Y5661","v":0},{"$f":"'[9]Список изделий'!Z5661","v":0},{"$f":"'[9]Список изделий'!AA5661","v":0},{"$f":"'[9]Список изделий'!AB5661","v":0},{"$f":"'[9]Список изделий'!AC5661","v":"x"},{"$f":"'[9]Список изделий'!AD5661","v":0},{"$f":"'[9]Список изделий'!AE5661","v":0},{"$f":"'[9]Список изделий'!AF5661","v":"00:00:00"},{"$f":"'[9]Список изделий'!AY5661","v":0},{"$f":"'[9]Список изделий'!AZ5661","v":"00:00:00"},-43153,-43153,0,0,{"$f":"'[9]Список изделий'!BR5661","v":0},0]
[671,{"$f":"'[9]Список изделий'!D5743","v":71},{"$f":"'[9]Список изделий'!E5743","v":0},{"$f":"'[9]Список изделий'!F5743","v":"Вывеска световая клееная \"КАФЕ BISTRO CAFE\""},{"$f":"'[9]Список изделий'!I5743","v":0},{"$f":"'[9]Список изделий'!X5743","v":0},{"$f":"'[9]Список изделий'!Y5743","v":0},{"$f":"'[9]Список изделий'!Z5743","v":0},{"$f":"'[9]Список изделий'!AA5743","v":0},{"$f":"'[9]Список изделий'!AB5743","v":0},{"$f":"'[9]Список изделий'!AC5743","v":"x"},{"$f":"'[9]Список изделий'!AD5743","v":0},{"$f":"'[9]Список изделий'!AE5743","v":0},{"$f":"'[9]Список изделий'!AF5743","v":"00:00:00"},{"$f":"'[9]Список изделий'!AY5743","v":0},{"$f":"'[9]Список изделий'!AZ5743","v":"00:00:00"},-43153,-43153,0,0,{"$f":"'[9]Список изделий'!BR5743","v":0},0]
[672,{"$f":"'[9]Список изделий'!D5825","v":72},{"$f":"'[9]Список изделий'!E5825","v":0},{"$f":"'[9]Список изделий'!F5825","v":"Плоская эмблема комплект (Ложки, Бургер, Чашка)"},{"$f":"'[9]Список изделий'!I5825","v":0},{"$f":"'[9]Список изделий'!X5825","v":0},{"$f":"'[9]Список изделий'!Y5825","v":0},{"$f":"'[9]Список изделий'!Z5825","v":0},{"$f":"'[9]Список изделий'!AA5825","v":0},{"$f":"'[9]Список изделий'!AB5825","v":0},{"$f":"'[9]Список изделий'!AC5825","v":"x"},{"$f":"'[9]Список изделий'!AD5825","v":0},{"$f":"'[9]Список изделий'!AE5825","v":0},{"$f":"'[9]Список изделий'!AF5825","v":"00:00:00"},{"$f":"'[9]Список изделий'!AY5825","v":0},{"$f":"'[9]Список изделий'!AZ5825","v":"00:00:00"},-43153,-43153,0,0,{"$f":"'[9]Список изделий'!BR5825","v":0},0]
[673,{"$f":"'[9]Список изделий'!D5907","v":73},{"$f":"'[9]Список изделий'!E5907","v":0},{"$f":"'[9]Список изделий'!F5907","v":"Подвес 2хст. В Bistro \"Тарелки/Стол с чашками\""},{"$f":"'[9]Список изделий'!I5907","v":0},{"$f":"'[9]Список изделий'!X5907","v":0},{"$f":"'[9]Список изделий'!Y5907","v":0},{"$f":"'[9]Список изделий'!Z5907","v":0},{"$f":"'[9]Список изделий'!AA5907","v":0},{"$f":"'[9]Список изделий'!AB5907","v":0},{"$f":"'[9]Список изделий'!AC5907","v":"x"},{"$f":"'[9]Список изделий'!AD5907","v":0},{"$f":"'[9]Список изделий'!AE5907","v":0},{"$f":"'[9]Список изделий'!AF5907","v":"00:00:00"},{"$f":"'[9]Список изделий'!AY5907","v":0},{"$f":"'[9]Список изделий'!AZ5907","v":"00:00:00"},-43153,-43153,0,0,{"$f":"'[9]Список изделий'!BR5907","v":0},0]
[674,{"$f":"'[9]Список изделий'!D5989","v":74},{"$f":"'[9]Список изделий'!E5989","v":0},{"$f":"'[9]Список изделий'!F5989","v":"Подвес 2хст. В Bistro \"Присесть- поесть\""},{"$f":"'[9]Список изделий'!I5989","v":0},{"$f":"'[9]Список изделий'!X5989","v":0},{"$f":"'[9]Список изделий'!Y5989","v":0},{"$f":"'[9]Список изделий'!Z5989","v":0},{"$f":"'[9]Список изделий'!AA5989","v":0},{"$f":"'[9]Список изделий'!AB5989","v":0},{"$f":"'[9]Список изделий'!AC5989","v":"x"},{"$f":"'[9]Список изделий'!AD5989","v":0},{"$f":"'[9]Список изделий'!AE5989","v":0},{"$f":"'[9]Список изделий'!AF5989","v":"00:00:00"},{"$f":"'[9]Список изделий'!AY5989","v":0},{"$f":"'[9]Список изделий'!AZ5989","v":"00:00:00"},-43153,-43153,0,0,{"$f":"'[9]Список изделий'!BR5989","v":0},0]
[675,{"$f":"'[9]Список изделий'!D6071","v":75},{"$f":"'[9]Список изделий'!E6071","v":0},{"$f":"'[9]Список изделий'!F6071","v":"Световой короб круглый подвесной одност. \"BISTRO\" в витрину"},{"$f":"'[9]Список изделий'!I6071","v":0},{"$f":"'[9]Список изделий'!X6071","v":0},{"$f":"'[9]Список изделий'!Y6071","v":0},{"$f":"'[9]Список изделий'!Z6071","v":0},{"$f":"'[9]Список изделий'!AA6071","v":0},{"$f":"'[9]Список изделий'!AB6071","v":0},{"$f":"'[9]Список изделий'!AC6071","v":"x"},{"$f":"'[9]Список изделий'!AD6071","v":0},{"$f":"'[9]Список изделий'!AE6071","v":0},{"$f":"'[9]Список изделий'!AF6071","v":"00:00:00"},{"$f":"'[9]Список изделий'!AY6071","v":0},{"$f":"'[9]Список изделий'!AZ6071","v":"00:00:00"},-43153,-43153,0,0,{"$f":"'[9]Список изделий'!BR6071","v":0},0]
[619,{"$f":"'[9]Список изделий'!D1479","v":19},{"$f":"'[9]Список изделий'!E1479","v":"Пер-Энерге19"},{"$f":"'[9]Список изделий'!F1479","v":"Протеус"},{"$f":"'[9]Список изделий'!I1479","v":"3секции"},{"$f":"'[9]Список изделий'!X1479","v":"ГМА"},{"$f":"'[9]Список изделий'!Y1479","v":"Микуло"},{"$f":"'[9]Список изделий'!Z1479","v":"Закурдаев"},{"$f":"'[9]Список изделий'!AA1479","v":"Замотаев"},{"$f":"'[9]Список изделий'!AB1479","v":0},{"$f":"'[9]Список изделий'!AC1479","v":"x"},{"$f":"'[9]Список изделий'!AD1479","v":0},{"$f":"'[9]Список изделий'!AE1479","v":0},{"$f":"'[9]Список изделий'!AF1479","v":"2018-02-20"},{"$f":"'[9]Список изделий'!AY1479","v":7},{"$f":"'[9]Список изделий'!AZ1479","v":"2018-02-15"},-14,-7,1,1,{"$f":"'[9]Список изделий'!BR1479","v":"\\\\SERVER\\Data1\\П\\Перекресток\\2018\\Энергетиков 8\\техничка\\19-Протеус"},1]
[621,{"$f":"'[9]Список изделий'!D1643","v":21},{"$f":"'[9]Список изделий'!E1643","v":"Пер-Энерге21"},{"$f":"'[9]Список изделий'!F1643","v":"Разделители в алкоголь"},{"$f":"'[9]Список изделий'!I1643","v":60},{"$f":"'[9]Список изделий'!X1643","v":"ГМА"},{"$f":"'[9]Список изделий'!Y1643","v":"Микуло"},{"$f":"'[9]Список изделий'!Z1643","v":"Закурдаев"},{"$f":"'[9]Список изделий'!AA1643","v":"Замотаев"},{"$f":"'[9]Список изделий'!AB1643","v":0},{"$f":"'[9]Список изделий'!AC1643","v":"х"},{"$f":"'[9]Список изделий'!AD1643","v":0},{"$f":"'[9]Список изделий'!AE1643","v":0},{"$f":"'[9]Список изделий'!AF1643","v":"2018-02-20"},{"$f":"'[9]Список изделий'!AY1643","v":7},{"$f":"'[9]Список изделий'!AZ1643","v":"2018-02-15"},-14,-7,1,1,{"$f":"'[9]Список изделий'!BR1643","v":"\\\\SERVER\\Data1\\П\\Перекресток\\2018\\Энергетиков 8\\техничка\\21-Разделители в отдел алкоголя"},1]
[678,{"$f":"'[9]Список изделий'!D6317","v":78},{"$f":"'[9]Список изделий'!E6317","v":0},{"$f":"'[9]Список изделий'!F6317","v":0},{"$f":"'[9]Список изделий'!I6317","v":0},{"$f":"'[9]Список изделий'!X6317","v":0},{"$f":"'[9]Список изделий'!Y6317","v":0},{"$f":"'[9]Список изделий'!Z6317","v":0},{"$f":"'[9]Список изделий'!AA6317","v":0},{"$f":"'[9]Список изделий'!AB6317","v":0},{"$f":"'[9]Список изделий'!AC6317","v":"x"},{"$f":"'[9]Список изделий'!AD6317","v":0},{"$f":"'[9]Список изделий'!AE6317","v":0},{"$f":"'[9]Список изделий'!AF6317","v":"00:00:00"},{"$f":"'[9]Список изделий'!AY6317","v":0},{"$f":"'[9]Список изделий'!AZ6317","v":"00:00:00"},-43153,-43153,0,0,{"$f":"'[9]Список изделий'!BR6317","v":0},0]
[679,{"$f":"'[9]Список изделий'!D6399","v":79},{"$f":"'[9]Список изделий'!E6399","v":0},{"$f":"'[9]Список изделий'!F6399","v":0},{"$f":"'[9]Список изделий'!I6399","v":0},{"$f":"'[9]Список изделий'!X6399","v":0},{"$f":"'[9]Список изделий'!Y6399","v":0},{"$f":"'[9]Список изделий'!Z6399","v":0},{"$f":"'[9]Список изделий'!AA6399","v":0},{"$f":"'[9]Список изделий'!AB6399","v":0},{"$f":"'[9]Список изделий'!AC6399","v":"x"},{"$f":"'[9]Список изделий'!AD6399","v":0},{"$f":"'[9]Список изделий'!AE6399","v":0},{"$f":"'[9]Список изделий'!AF6399","v":"00:00:00"},{"$f":"'[9]Список изделий'!AY6399","v":0},{"$f":"'[9]Список изделий'!AZ6399","v":"00:00:00"},-43153,-43153,0,0,{"$f":"'[9]Список изделий'!BR6399","v":0},0]
[680,{"$f":"'[9]Список изделий'!D6481","v":80},{"$f":"'[9]Список изделий'!E6481","v":0},{"$f":"'[9]Список изделий'!F6481","v":0},{"$f":"'[9]Список изделий'!I6481","v":0},{"$f":"'[9]Список изделий'!X6481","v":0},{"$f":"'[9]Список изделий'!Y6481","v":0},{"$f":"'[9]Список изделий'!Z6481","v":0},{"$f":"'[9]Список изделий'!AA6481","v":0},{"$f":"'[9]Список изделий'!AB6481","v":0},{"$f":"'[9]Список изделий'!AC6481","v":"x"},{"$f":"'[9]Список изделий'!AD6481","v":0},{"$f":"'[9]Список изделий'!AE6481","v":0},{"$f":"'[9]Список изделий'!AF6481","v":"00:00:00"},{"$f":"'[9]Список изделий'!AY6481","v":0},{"$f":"'[9]Список изделий'!AZ6481","v":"00:00:00"},-43153,-43153,0,0,{"$f":"'[9]Список изделий'!BR6481","v":0},0]
[681,{"$f":"'[9]Список изделий'!D6563","v":81},{"$f":"'[9]Список изделий'!E6563","v":"Пер-Энерге81"},{"$f":"'[9]Список изделий'!F6563","v":"Баннер на фасад Мы открылись 6,6 х 2,4 м"},{"$f":"'[9]Список изделий'!I6563","v":1},{"$f":"'[9]Список изделий'!X6563","v":"ГМА"},{"$f":"'[9]Список изделий'!Y6563","v":"Микуло"},{"$f":"'[9]Список изделий'!Z6563","v":"Закурдаев"},{"$f":"'[9]Список изделий'!AA6563","v":"Замотаев"},{"$f":"'[9]Список изделий'!AB6563","v":0},{"$f":"'[9]Список изделий'!AC6563","v":"x"},{"$f":"'[9]Список изделий'!AD6563","v":0},{"$f":"'[9]Список изделий'!AE6563","v":0},{"$f":"'[9]Список изделий'!AF6563","v":"2018-02-20"},{"$f":"'[9]Список изделий'!AY6563","v":7},{"$f":"'[9]Список изделий'!AZ6563","v":"2018-02-15"},-14,-7,0,0,{"$f":"'[9]Список изделий'!BR6563","v":"\\\\SERVER\\Data1\\П\\Перекресток\\2018\\Энергетиков 8\\техничка\\баннера ОТКРЫЛИСЬ"},0]
[682,{"$f":"'[9]Список изделий'!D6645","v":82},{"$f":"'[9]Список изделий'!E6645","v":"Пер-Энерге82"},{"$f":"'[9]Список изделий'!F6645","v":"Баннер на фасад Мы открылись 12 х 2,4 м"},{"$f":"'[9]Список изделий'!I6645","v":1},{"$f":"'[9]Список изделий'!X6645","v":"ГМА"},{"$f":"'[9]Список изделий'!Y6645","v":"Микуло"},{"$f":"'[9]Список изделий'!Z6645","v":"Закурдаев"},{"$f":"'[9]Список изделий'!AA6645","v":"Замотаев"},{"$f":"'[9]Список изделий'!AB6645","v":0},{"$f":"'[9]Список изделий'!AC6645","v":"x"},{"$f":"'[9]Список изделий'!AD6645","v":0},{"$f":"'[9]Список изделий'!AE6645","v":0},{"$f":"'[9]Список изделий'!AF6645","v":"2018-02-20"},{"$f":"'[9]Список изделий'!AY6645","v":7},{"$f":"'[9]Список изделий'!AZ6645","v":"2018-02-15"},-14,-7,0,0,{"$f":"'[9]Список изделий'!BR6645","v":"\\\\SERVER\\Data1\\П\\Перекресток\\2018\\Энергетиков 8\\техничка\\баннера ОТКРЫЛИСЬ"},0]
[683,{"$f":"'[9]Список изделий'!D6727","v":83},{"$f":"'[9]Список изделий'!E6727","v":"Пер-Энерге83"},{"$f":"'[9]Список изделий'!F6727","v":"Баннер в окно служебного помещения 2х2,5 м"},{"$f":"'[9]Список изделий'!I6727","v":1},{"$f":"'[9]Список изделий'!X6727","v":"ГМА"},{"$f":"'[9]Список изделий'!Y6727","v":"Микуло"},{"$f":"'[9]Список изделий'!Z6727","v":"Закурдаев"},{"$f":"'[9]Список изделий'!AA6727","v":"Замотаев"},{"$f":"'[9]Список изделий'!AB6727","v":0},{"$f":"'[9]Список изделий'!AC6727","v":"x"},{"$f":"'[9]Список изделий'!AD6727","v":0},{"$f":"'[9]Список изделий'!AE6727","v":0},{"$f":"'[9]Список изделий'!AF6727","v":"2018-02-20"},{"$f":"'[9]Список изделий'!AY6727","v":7},{"$f":"'[9]Список изделий'!AZ6727","v":"2018-02-15"},-14,-7,0,0,{"$f":"'[9]Список изделий'!BR6727","v":"\\\\SERVER\\Data1\\П\\Перекресток\\2018\\Энергетиков 8\\техничка\\баннера ОТКРЫЛИСЬ"},0]
[684,{"$f":"'[9]Список изделий'!D6809","v":84},{"$f":"'[9]Список изделий'!E6809","v":0},{"$f":"'[9]Список изделий'!F6809","v":0},{"$f":"'[9]Список изделий'!I6809","v":0},{"$f":"'[9]Список изделий'!X6809","v":0},{"$f":"'[9]Список изделий'!Y6809","v":0},{"$f":"'[9]Список изделий'!Z6809","v":0},{"$f":"'[9]Список изделий'!AA6809","v":0},{"$f":"'[9]Список изделий'!AB6809","v":0},{"$f":"'[9]Список изделий'!AC6809","v":"x"},{"$f":"'[9]Список изделий'!AD6809","v":0},{"$f":"'[9]Список изделий'!AE6809","v":0},{"$f":"'[9]Список изделий'!AF6809","v":"00:00:00"},{"$f":"'[9]Список изделий'!AY6809","v":0},{"$f":"'[9]Список изделий'!AZ6809","v":"00:00:00"},-43153,-43153,0,0,{"$f":"'[9]Список изделий'!BR6809","v":0},0]
[685,{"$f":"'[9]Список изделий'!D6891","v":85},{"$f":"'[9]Список изделий'!E6891","v":0},{"$f":"'[9]Список изделий'!F6891","v":0},{"$f":"'[9]Список изделий'!I6891","v":0},{"$f":"'[9]Список изделий'!X6891","v":0},{"$f":"'[9]Список изделий'!Y6891","v":0},{"$f":"'[9]Список изделий'!Z6891","v":0},{"$f":"'[9]Список изделий'!AA6891","v":0},{"$f":"'[9]Список изделий'!AB6891","v":0},{"$f":"'[9]Список изделий'!AC6891","v":"x"},{"$f":"'[9]Список изделий'!AD6891","v":0},{"$f":"'[9]Список изделий'!AE6891","v":0},{"$f":"'[9]Список изделий'!AF6891","v":"00:00:00"},{"$f":"'[9]Список изделий'!AY6891","v":0},{"$f":"'[9]Список изделий'!AZ6891","v":"00:00:00"},-43153,-43153,0,0,{"$f":"'[9]Список изделий'!BR6891","v":0},0]
[686,{"$f":"'[9]Список изделий'!D6973","v":86},{"$f":"'[9]Список изделий'!E6973","v":0},{"$f":"'[9]Список изделий'!F6973","v":0},{"$f":"'[9]Список изделий'!I6973","v":0},{"$f":"'[9]Список изделий'!X6973","v":0},{"$f":"'[9]Список изделий'!Y6973","v":0},{"$f":"'[9]Список изделий'!Z6973","v":0},{"$f":"'[9]Список изделий'!AA6973","v":0},{"$f":"'[9]Список изделий'!AB6973","v":0},{"$f":"'[9]Список изделий'!AC6973","v":"x"},{"$f":"'[9]Список изделий'!AD6973","v":0},{"$f":"'[9]Список изделий'!AE6973","v":0},{"$f":"'[9]Список изделий'!AF6973","v":"00:00:00"},{"$f":"'[9]Список изделий'!AY6973","v":0},{"$f":"'[9]Список изделий'!AZ6973","v":"00:00:00"},-43153,-43153,0,0,{"$f":"'[9]Список изделий'!BR6973","v":0},0]
[687,{"$f":"'[9]Список изделий'!D7055","v":87},{"$f":"'[9]Список изделий'!E7055","v":0},{"$f":"'[9]Список изделий'!F7055","v":0},{"$f":"'[9]Список изделий'!I7055","v":0},{"$f":"'[9]Список изделий'!X7055","v":0},{"$f":"'[9]Список изделий'!Y7055","v":0},{"$f":"'[9]Список изделий'!Z7055","v":0},{"$f":"'[9]Список изделий'!AA7055","v":0},{"$f":"'[9]Список изделий'!AB7055","v":0},{"$f":"'[9]Список изделий'!AC7055","v":"x"},{"$f":"'[9]Список изделий'!AD7055","v":0},{"$f":"'[9]Список изделий'!AE7055","v":0},{"$f":"'[9]Список изделий'!AF7055","v":"00:00:00"},{"$f":"'[9]Список изделий'!AY7055","v":0},{"$f":"'[9]Список изделий'!AZ7055","v":"00:00:00"},-43153,-43153,0,0,{"$f":"'[9]Список изделий'!BR7055","v":0},0]
[688,{"$f":"'[9]Список изделий'!D7137","v":88},{"$f":"'[9]Список изделий'!E7137","v":0},{"$f":"'[9]Список изделий'!F7137","v":0},{"$f":"'[9]Список изделий'!I7137","v":0},{"$f":"'[9]Список изделий'!X7137","v":0},{"$f":"'[9]Список изделий'!Y7137","v":0},{"$f":"'[9]Список изделий'!Z7137","v":0},{"$f":"'[9]Список изделий'!AA7137","v":0},{"$f":"'[9]Список изделий'!AB7137","v":0},{"$f":"'[9]Список изделий'!AC7137","v":"x"},{"$f":"'[9]Список изделий'!AD7137","v":0},{"$f":"'[9]Список изделий'!AE7137","v":0},{"$f":"'[9]Список изделий'!AF7137","v":"00:00:00"},{"$f":"'[9]Список изделий'!AY7137","v":0},{"$f":"'[9]Список изделий'!AZ7137","v":"00:00:00"},-43153,-43153,0,0,{"$f":"'[9]Список изделий'!BR7137","v":0},0]
[689,{"$f":"'[9]Список изделий'!D7219","v":89},{"$f":"'[9]Список изделий'!E7219","v":0},{"$f":"'[9]Список изделий'!F7219","v":0},{"$f":"'[9]Список изделий'!I7219","v":0},{"$f":"'[9]Список изделий'!X7219","v":0},{"$f":"'[9]Список изделий'!Y7219","v":0},{"$f":"'[9]Список изделий'!Z7219","v":0},{"$f":"'[9]Список изделий'!AA7219","v":0},{"$f":"'[9]Список изделий'!AB7219","v":0},{"$f":"'[9]Список изделий'!AC7219","v":"x"},{"$f":"'[9]Список изделий'!AD7219","v":0},{"$f":"'[9]Список изделий'!AE7219","v":0},{"$f":"'[9]Список изделий'!AF7219","v":"00:00:00"},{"$f":"'[9]Список изделий'!AY7219","v":0},{"$f":"'[9]Список изделий'!AZ7219","v":"00:00:00"},-43153,-43153,0,0,{"$f":"'[9]Список изделий'!BR7219","v":0},0]
[690,{"$f":"'[9]Список изделий'!D7301","v":90},{"$f":"'[9]Список изделий'!E7301","v":0},{"$f":"'[9]Список изделий'!F7301","v":0},{"$f":"'[9]Список изделий'!I7301","v":0},{"$f":"'[9]Список изделий'!X7301","v":0},{"$f":"'[9]Список изделий'!Y7301","v":0},{"$f":"'[9]Список изделий'!Z7301","v":0},{"$f":"'[9]Список изделий'!AA7301","v":0},{"$f":"'[9]Список изделий'!AB7301","v":0},{"$f":"'[9]Список изделий'!AC7301","v":"x"},{"$f":"'[9]Список изделий'!AD7301","v":0},{"$f":"'[9]Список изделий'!AE7301","v":0},{"$f":"'[9]Список изделий'!AF7301","v":"00:00:00"},{"$f":"'[9]Список изделий'!AY7301","v":0},{"$f":"'[9]Список изделий'!AZ7301","v":"00:00:00"},-43153,-43153,0,0,{"$f":"'[9]Список изделий'!BR7301","v":0},0]
[691,{"$f":"'[9]Список изделий'!D7383","v":91},{"$f":"'[9]Список изделий'!E7383","v":0},{"$f":"'[9]Список изделий'!F7383","v":0},{"$f":"'[9]Список изделий'!I7383","v":0},{"$f":"'[9]Список изделий'!X7383","v":0},{"$f":"'[9]Список изделий'!Y7383","v":0},{"$f":"'[9]Список изделий'!Z7383","v":0},{"$f":"'[9]Список изделий'!AA7383","v":0},{"$f":"'[9]Список изделий'!AB7383","v":0},{"$f":"'[9]Список изделий'!AC7383","v":"x"},{"$f":"'[9]Список изделий'!AD7383","v":0},{"$f":"'[9]Список изделий'!AE7383","v":0},{"$f":"'[9]Список изделий'!AF7383","v":"00:00:00"},{"$f":"'[9]Список изделий'!AY7383","v":0},{"$f":"'[9]Список изделий'!AZ7383","v":"00:00:00"},-43153,-43153,0,0,{"$f":"'[9]Список изделий'!BR7383","v":0},0]
[692,{"$f":"'[9]Список изделий'!D7465","v":92},{"$f":"'[9]Список изделий'!E7465","v":0},{"$f":"'[9]Список изделий'!F7465","v":0},{"$f":"'[9]Список изделий'!I7465","v":0},{"$f":"'[9]Список изделий'!X7465","v":0},{"$f":"'[9]Список изделий'!Y7465","v":0},{"$f":"'[9]Список изделий'!Z7465","v":0},{"$f":"'[9]Список изделий'!AA7465","v":0},{"$f":"'[9]Список изделий'!AB7465","v":0},{"$f":"'[9]Список изделий'!AC7465","v":"x"},{"$f":"'[9]Список изделий'!AD7465","v":0},{"$f":"'[9]Список изделий'!AE7465","v":0},{"$f":"'[9]Список изделий'!AF7465","v":"00:00:00"},{"$f":"'[9]Список изделий'!AY7465","v":0},{"$f":"'[9]Список изделий'!AZ7465","v":"00:00:00"},-43153,-43153,0,0,{"$f":"'[9]Список изделий'!BR7465","v":0},0]
[693,{"$f":"'[9]Список изделий'!D7547","v":93},{"$f":"'[9]Список изделий'!E7547","v":0},{"$f":"'[9]Список изделий'!F7547","v":0},{"$f":"'[9]Список изделий'!I7547","v":0},{"$f":"'[9]Список изделий'!X7547","v":0},{"$f":"'[9]Список изделий'!Y7547","v":0},{"$f":"'[9]Список изделий'!Z7547","v":0},{"$f":"'[9]Список изделий'!AA7547","v":0},{"$f":"'[9]Список изделий'!AB7547","v":0},{"$f":"'[9]Список изделий'!AC7547","v":"x"},{"$f":"'[9]Список изделий'!AD7547","v":0},{"$f":"'[9]Список изделий'!AE7547","v":0},{"$f":"'[9]Список изделий'!AF7547","v":"00:00:00"},{"$f":"'[9]Список изделий'!AY7547","v":0},{"$f":"'[9]Список изделий'!AZ7547","v":"00:00:00"},-43153,-43153,0,0,{"$f":"'[9]Список изделий'!BR7547","v":0},0]
[694,{"$f":"'[9]Список изделий'!D7629","v":94},{"$f":"'[9]Список изделий'!E7629","v":0},{"$f":"'[9]Список изделий'!F7629","v":0},{"$f":"'[9]Список изделий'!I7629","v":0},{"$f":"'[9]Список изделий'!X7629","v":0},{"$f":"'[9]Список изделий'!Y7629","v":0},{"$f":"'[9]Список изделий'!Z7629","v":0},{"$f":"'[9]Список изделий'!AA7629","v":0},{"$f":"'[9]Список изделий'!AB7629","v":0},{"$f":"'[9]Список изделий'!AC7629","v":"x"},{"$f":"'[9]Список изделий'!AD7629","v":0},{"$f":"'[9]Список изделий'!AE7629","v":0},{"$f":"'[9]Список изделий'!AF7629","v":"00:00:00"},{"$f":"'[9]Список изделий'!AY7629","v":0},{"$f":"'[9]Список изделий'!AZ7629","v":"00:00:00"},-43153,-43153,0,0,{"$f":"'[9]Список изделий'!BR7629","v":0},0]
[695,{"$f":"'[9]Список изделий'!D7711","v":95},{"$f":"'[9]Список изделий'!E7711","v":0},{"$f":"'[9]Список изделий'!F7711","v":0},{"$f":"'[9]Список изделий'!I7711","v":0},{"$f":"'[9]Список изделий'!X7711","v":0},{"$f":"'[9]Список изделий'!Y7711","v":0},{"$f":"'[9]Список изделий'!Z7711","v":0},{"$f":"'[9]Список изделий'!AA7711","v":0},{"$f":"'[9]Список изделий'!AB7711","v":0},{"$f":"'[9]Список изделий'!AC7711","v":"x"},{"$f":"'[9]Список изделий'!AD7711","v":0},{"$f":"'[9]Список изделий'!AE7711","v":0},{"$f":"'[9]Список изделий'!AF7711","v":"00:00:00"},{"$f":"'[9]Список изделий'!AY7711","v":0},{"$f":"'[9]Список изделий'!AZ7711","v":"00:00:00"},-43153,-43153,0,0,{"$f":"'[9]Список изделий'!BR7711","v":0},0]
[696,{"$f":"'[9]Список изделий'!D7793","v":96},{"$f":"'[9]Список изделий'!E7793","v":0},{"$f":"'[9]Список изделий'!F7793","v":0},{"$f":"'[9]Список изделий'!I7793","v":0},{"$f":"'[9]Список изделий'!X7793","v":0},{"$f":"'[9]Список изделий'!Y7793","v":0},{"$f":"'[9]Список изделий'!Z7793","v":0},{"$f":"'[9]Список изделий'!AA7793","v":0},{"$f":"'[9]Список изделий'!AB7793","v":0},{"$f":"'[9]Список изделий'!AC7793","v":"x"},{"$f":"'[9]Список изделий'!AD7793","v":0},{"$f":"'[9]Список изделий'!AE7793","v":0},{"$f":"'[9]Список изделий'!AF7793","v":"00:00:00"},{"$f":"'[9]Список изделий'!AY7793","v":0},{"$f":"'[9]Список изделий'!AZ7793","v":"00:00:00"},-43153,-43153,0,0,{"$f":"'[9]Список изделий'!BR7793","v":0},0]
[697,{"$f":"'[9]Список изделий'!D7875","v":97},{"$f":"'[9]Список изделий'!E7875","v":0},{"$f":"'[9]Список изделий'!F7875","v":0},{"$f":"'[9]Список изделий'!I7875","v":0},{"$f":"'[9]Список изделий'!X7875","v":0},{"$f":"'[9]Список изделий'!Y7875","v":0},{"$f":"'[9]Список изделий'!Z7875","v":0},{"$f":"'[9]Список изделий'!AA7875","v":0},{"$f":"'[9]Список изделий'!AB7875","v":0},{"$f":"'[9]Список изделий'!AC7875","v":"x"},{"$f":"'[9]Список изделий'!AD7875","v":0},{"$f":"'[9]Список изделий'!AE7875","v":0},{"$f":"'[9]Список изделий'!AF7875","v":"00:00:00"},{"$f":"'[9]Список изделий'!AY7875","v":0},{"$f":"'[9]Список изделий'!AZ7875","v":"00:00:00"},-43153,-43153,0,0,{"$f":"'[9]Список изделий'!BR7875","v":0},0]
[698,{"$f":"'[9]Список изделий'!D7957","v":98},{"$f":"'[9]Список изделий'!E7957","v":0},{"$f":"'[9]Список изделий'!F7957","v":0},{"$f":"'[9]Список изделий'!I7957","v":0},{"$f":"'[9]Список изделий'!X7957","v":0},{"$f":"'[9]Список изделий'!Y7957","v":0},{"$f":"'[9]Список изделий'!Z7957","v":0},{"$f":"'[9]Список изделий'!AA7957","v":0},{"$f":"'[9]Список изделий'!AB7957","v":0},{"$f":"'[9]Список изделий'!AC7957","v":"x"},{"$f":"'[9]Список изделий'!AD7957","v":0},{"$f":"'[9]Список изделий'!AE7957","v":0},{"$f":"'[9]Список изделий'!AF7957","v":"00:00:00"},{"$f":"'[9]Список изделий'!AY7957","v":0},{"$f":"'[9]Список изделий'!AZ7957","v":"00:00:00"},-43153,-43153,0,0,{"$f":"'[9]Список изделий'!BR7957","v":0},0]
[699,{"$f":"'[9]Список изделий'!D8039","v":99},{"$f":"'[9]Список изделий'!E8039","v":0},{"$f":"'[9]Список изделий'!F8039","v":0},{"$f":"'[9]Список изделий'!I8039","v":0},{"$f":"'[9]Список изделий'!X8039","v":0},{"$f":"'[9]Список изделий'!Y8039","v":0},{"$f":"'[9]Список изделий'!Z8039","v":0},{"$f":"'[9]Список изделий'!AA8039","v":0},{"$f":"'[9]Список изделий'!AB8039","v":0},{"$f":"'[9]Список изделий'!AC8039","v":"x"},{"$f":"'[9]Список изделий'!AD8039","v":0},{"$f":"'[9]Список изделий'!AE8039","v":0},{"$f":"'[9]Список изделий'!AF8039","v":"00:00:00"},{"$f":"'[9]Список изделий'!AY8039","v":0},{"$f":"'[9]Список изделий'!AZ8039","v":"00:00:00"},-43153,-43153,0,0,{"$f":"'[9]Список изделий'!BR8039","v":0},0]
[700,{"$f":"'[9]Список изделий'!D8121","v":100},{"$f":"'[9]Список изделий'!E8121","v":0},{"$f":"'[9]Список изделий'!F8121","v":0},{"$f":"'[9]Список изделий'!I8121","v":0},{"$f":"'[9]Список изделий'!X8121","v":0},{"$f":"'[9]Список изделий'!Y8121","v":0},{"$f":"'[9]Список изделий'!Z8121","v":0},{"$f":"'[9]Список изделий'!AA8121","v":0},{"$f":"'[9]Список изделий'!AB8121","v":0},{"$f":"'[9]Список изделий'!AC8121","v":"x"},{"$f":"'[9]Список изделий'!AD8121","v":0},{"$f":"'[9]Список изделий'!AE8121","v":0},{"$f":"'[9]Список изделий'!AF8121","v":"00:00:00"},{"$f":"'[9]Список изделий'!AY8121","v":0},{"$f":"'[9]Список изделий'!AZ8121","v":"00:00:00"},-43153,-43153,0,0,{"$f":"'[9]Список изделий'!BR8121","v":0},0]
[701,{"$f":"'[10]Список изделий'!D3","v":1},{"$f":"'[10]Список изделий'!E3","v":0},{"$f":"'[10]Список изделий'!F3","v":0},{"$f":"'[10]Список изделий'!I3","v":0},{"$f":"'[10]Список изделий'!X3","v":0},{"$f":"'[10]Список изделий'!Y3","v":0},{"$f":"'[10]Список изделий'!Z3","v":0},{"$f":"'[10]Список изделий'!AA3","v":0},{"$f":"'[10]Список изделий'!AB3","v":0},{"$f":"'[10]Список изделий'!AC3","v":"x"},{"$f":"'[10]Список изделий'!AD3","v":0},{"$f":"'[10]Список изделий'!AE3","v":0},{"$f":"'[10]Список изделий'!AF3","v":"00:00:00"},{"$f":"'[10]Список изделий'!AY3","v":0},{"$f":"'[10]Список изделий'!AZ3","v":"00:00:00"},-43153,-43153,0,0,{"$f":"'[10]Список изделий'!BR3","v":0},0]
[702,{"$f":"'[10]Список изделий'!D85","v":2},{"$f":"'[10]Список изделий'!E85","v":0},{"$f":"'[10]Список изделий'!F85","v":0},{"$f":"'[10]Список изделий'!I85","v":0},{"$f":"'[10]Список изделий'!X85","v":0},{"$f":"'[10]Список изделий'!Y85","v":0},{"$f":"'[10]Список изделий'!Z85","v":0},{"$f":"'[10]Список изделий'!AA85","v":0},{"$f":"'[10]Список изделий'!AB85","v":0},{"$f":"'[10]Список изделий'!AC85","v":"x"},{"$f":"'[10]Список изделий'!AD85","v":0},{"$f":"'[10]Список изделий'!AE85","v":0},{"$f":"'[10]Список изделий'!AF85","v":"00:00:00"},{"$f":"'[10]Список изделий'!AY85","v":0},{"$f":"'[10]Список изделий'!AZ85","v":"00:00:00"},-43153,-43153,0,0,{"$f":"'[10]Список изделий'!BR85","v":0},0]
[703,{"$f":"'[10]Список изделий'!D167","v":3},{"$f":"'[10]Список изделий'!E167","v":0},{"$f":"'[10]Список изделий'!F167","v":0},{"$f":"'[10]Список изделий'!I167","v":0},{"$f":"'[10]Список изделий'!X167","v":0},{"$f":"'[10]Список изделий'!Y167","v":0},{"$f":"'[10]Список изделий'!Z167","v":0},{"$f":"'[10]Список изделий'!AA167","v":0},{"$f":"'[10]Список изделий'!AB167","v":0},{"$f":"'[10]Список изделий'!AC167","v":"x"},{"$f":"'[10]Список изделий'!AD167","v":0},{"$f":"'[10]Список изделий'!AE167","v":0},{"$f":"'[10]Список изделий'!AF167","v":"00:00:00"},{"$f":"'[10]Список изделий'!AY167","v":0},{"$f":"'[10]Список изделий'!AZ167","v":"00:00:00"},-43153,-43153,0,0,{"$f":"'[10]Список изделий'!BR167","v":0},0]
[704,{"$f":"'[10]Список изделий'!D249","v":4},{"$f":"'[10]Список изделий'!E249","v":0},{"$f":"'[10]Список изделий'!F249","v":0},{"$f":"'[10]Список изделий'!I249","v":0},{"$f":"'[10]Список изделий'!X249","v":0},{"$f":"'[10]Список изделий'!Y249","v":0},{"$f":"'[10]Список изделий'!Z249","v":0},{"$f":"'[10]Список изделий'!AA249","v":0},{"$f":"'[10]Список изделий'!AB249","v":0},{"$f":"'[10]Список изделий'!AC249","v":"x"},{"$f":"'[10]Список изделий'!AD249","v":0},{"$f":"'[10]Список изделий'!AE249","v":0},{"$f":"'[10]Список изделий'!AF249","v":"00:00:00"},{"$f":"'[10]Список изделий'!AY249","v":0},{"$f":"'[10]Список изделий'!AZ249","v":"00:00:00"},-43153,-43153,0,0,{"$f":"'[10]Список изделий'!BR249","v":0},0]
[705,{"$f":"'[10]Список изделий'!D331","v":5},{"$f":"'[10]Список изделий'!E331","v":0},{"$f":"'[10]Список изделий'!F331","v":0},{"$f":"'[10]Список изделий'!I331","v":0},{"$f":"'[10]Список изделий'!X331","v":0},{"$f":"'[10]Список изделий'!Y331","v":0},{"$f":"'[10]Список изделий'!Z331","v":0},{"$f":"'[10]Список изделий'!AA331","v":0},{"$f":"'[10]Список изделий'!AB331","v":0},{"$f":"'[10]Список изделий'!AC331","v":"x"},{"$f":"'[10]Список изделий'!AD331","v":0},{"$f":"'[10]Список изделий'!AE331","v":0},{"$f":"'[10]Список изделий'!AF331","v":"00:00:00"},{"$f":"'[10]Список изделий'!AY331","v":0},{"$f":"'[10]Список изделий'!AZ331","v":"00:00:00"},-43153,-43153,0,0,{"$f":"'[10]Список изделий'!BR331","v":0},0]
[706,{"$f":"'[10]Список изделий'!D413","v":6},{"$f":"'[10]Список изделий'!E413","v":0},{"$f":"'[10]Список изделий'!F413","v":0},{"$f":"'[10]Список изделий'!I413","v":0},{"$f":"'[10]Список изделий'!X413","v":0},{"$f":"'[10]Список изделий'!Y413","v":0},{"$f":"'[10]Список изделий'!Z413","v":0},{"$f":"'[10]Список изделий'!AA413","v":0},{"$f":"'[10]Список изделий'!AB413","v":0},{"$f":"'[10]Список изделий'!AC413","v":"x"},{"$f":"'[10]Список изделий'!AD413","v":0},{"$f":"'[10]Список изделий'!AE413","v":0},{"$f":"'[10]Список изделий'!AF413","v":"00:00:00"},{"$f":"'[10]Список изделий'!AY413","v":0},{"$f":"'[10]Список изделий'!AZ413","v":"00:00:00"},{"$f":"IF(O708=\"нет в заказе\",\"нет в заказе\",-(TODAY()-(P708-O708)))","v":-43153},{"$f":"IF(Q708=\"нет в заказе\",\"нет взаказе\",-(IF(O708=\"нет в заказе\",\"нет в заказе\",TODAY()-P708)))","v":-43153},0,{"$f":"V708","v":0},{"$f":"'[10]Список изделий'!BR413","v":0},{"$f":"IF(S708>=0,S708,IF(T708>S708,T708,S708))","v":0}]
[707,{"$f":"'[10]Список изделий'!D495","v":7},{"$f":"'[10]Список изделий'!E495","v":0},{"$f":"'[10]Список изделий'!F495","v":0},{"$f":"'[10]Список изделий'!I495","v":0},{"$f":"'[10]Список изделий'!X495","v":0},{"$f":"'[10]Список изделий'!Y495","v":0},{"$f":"'[10]Список изделий'!Z495","v":0},{"$f":"'[10]Список изделий'!AA495","v":0},{"$f":"'[10]Список изделий'!AB495","v":0},{"$f":"'[10]Список изделий'!AC495","v":"x"},{"$f":"'[10]Список изделий'!AD495","v":0},{"$f":"'[10]Список изделий'!AE495","v":0},{"$f":"'[10]Список изделий'!AF495","v":"00:00:00"},{"$f":"'[10]Список изделий'!AY495","v":0},{"$f":"'[10]Список изделий'!AZ495","v":"00:00:00"},-43153,-43153,0,0,{"$f":"'[10]Список изделий'!BR495","v":0},0]
[708,{"$f":"'[10]Список изделий'!D577","v":8},{"$f":"'[10]Список изделий'!E577","v":0},{"$f":"'[10]Список изделий'!F577","v":0},{"$f":"'[10]Список изделий'!I577","v":0},{"$f":"'[10]Список изделий'!X577","v":0},{"$f":"'[10]Список изделий'!Y577","v":0},{"$f":"'[10]Список изделий'!Z577","v":0},{"$f":"'[10]Список изделий'!AA577","v":0},{"$f":"'[10]Список изделий'!AB577","v":0},{"$f":"'[10]Список изделий'!AC577","v":"x"},{"$f":"'[10]Список изделий'!AD577","v":0},{"$f":"'[10]Список изделий'!AE577","v":0},{"$f":"'[10]Список изделий'!AF577","v":"00:00:00"},{"$f":"'[10]Список изделий'!AY577","v":0},{"$f":"'[10]Список изделий'!AZ577","v":"00:00:00"},-43153,-43153,0,0,{"$f":"'[10]Список изделий'!BR577","v":0},0]
[709,{"$f":"'[10]Список изделий'!D659","v":9},{"$f":"'[10]Список изделий'!E659","v":0},{"$f":"'[10]Список изделий'!F659","v":0},{"$f":"'[10]Список изделий'!I659","v":0},{"$f":"'[10]Список изделий'!X659","v":0},{"$f":"'[10]Список изделий'!Y659","v":0},{"$f":"'[10]Список изделий'!Z659","v":0},{"$f":"'[10]Список изделий'!AA659","v":0},{"$f":"'[10]Список изделий'!AB659","v":0},{"$f":"'[10]Список изделий'!AC659","v":"x"},{"$f":"'[10]Список изделий'!AD659","v":0},{"$f":"'[10]Список изделий'!AE659","v":0},{"$f":"'[10]Список изделий'!AF659","v":"00:00:00"},{"$f":"'[10]Список изделий'!AY659","v":0},{"$f":"'[10]Список изделий'!AZ659","v":"00:00:00"},-43153,-43153,0,0,{"$f":"'[10]Список изделий'!BR659","v":0},0]
[710,{"$f":"'[10]Список изделий'!D741","v":10},{"$f":"'[10]Список изделий'!E741","v":0},{"$f":"'[10]Список изделий'!F741","v":0},{"$f":"'[10]Список изделий'!I741","v":0},{"$f":"'[10]Список изделий'!X741","v":0},{"$f":"'[10]Список изделий'!Y741","v":0},{"$f":"'[10]Список изделий'!Z741","v":0},{"$f":"'[10]Список изделий'!AA741","v":0},{"$f":"'[10]Список изделий'!AB741","v":0},{"$f":"'[10]Список изделий'!AC741","v":"x"},{"$f":"'[10]Список изделий'!AD741","v":0},{"$f":"'[10]Список изделий'!AE741","v":0},{"$f":"'[10]Список изделий'!AF741","v":"00:00:00"},{"$f":"'[10]Список изделий'!AY741","v":0},{"$f":"'[10]Список изделий'!AZ741","v":"00:00:00"},-43153,-43153,0,0,{"$f":"'[10]Список изделий'!BR741","v":0},0]
[711,{"$f":"'[10]Список изделий'!D823","v":11},{"$f":"'[10]Список изделий'!E823","v":0},{"$f":"'[10]Список изделий'!F823","v":0},{"$f":"'[10]Список изделий'!I823","v":0},{"$f":"'[10]Список изделий'!X823","v":0},{"$f":"'[10]Список изделий'!Y823","v":0},{"$f":"'[10]Список изделий'!Z823","v":0},{"$f":"'[10]Список изделий'!AA823","v":0},{"$f":"'[10]Список изделий'!AB823","v":0},{"$f":"'[10]Список изделий'!AC823","v":"x"},{"$f":"'[10]Список изделий'!AD823","v":0},{"$f":"'[10]Список изделий'!AE823","v":0},{"$f":"'[10]Список изделий'!AF823","v":"00:00:00"},{"$f":"'[10]Список изделий'!AY823","v":0},{"$f":"'[10]Список изделий'!AZ823","v":"00:00:00"},-43153,-43153,0,0,{"$f":"'[10]Список изделий'!BR823","v":0},0]
[712,{"$f":"'[10]Список изделий'!D905","v":12},{"$f":"'[10]Список изделий'!E905","v":0},{"$f":"'[10]Список изделий'!F905","v":0},{"$f":"'[10]Список изделий'!I905","v":0},{"$f":"'[10]Список изделий'!X905","v":0},{"$f":"'[10]Список изделий'!Y905","v":0},{"$f":"'[10]Список изделий'!Z905","v":0},{"$f":"'[10]Список изделий'!AA905","v":0},{"$f":"'[10]Список изделий'!AB905","v":0},{"$f":"'[10]Список изделий'!AC905","v":"x"},{"$f":"'[10]Список изделий'!AD905","v":0},{"$f":"'[10]Список изделий'!AE905","v":0},{"$f":"'[10]Список изделий'!AF905","v":"00:00:00"},{"$f":"'[10]Список изделий'!AY905","v":0},{"$f":"'[10]Список изделий'!AZ905","v":"00:00:00"},-43153,-43153,0,0,{"$f":"'[10]Список изделий'!BR905","v":0},0]
[713,{"$f":"'[10]Список изделий'!D987","v":13},{"$f":"'[10]Список изделий'!E987","v":0},{"$f":"'[10]Список изделий'!F987","v":0},{"$f":"'[10]Список изделий'!I987","v":0},{"$f":"'[10]Список изделий'!X987","v":0},{"$f":"'[10]Список изделий'!Y987","v":0},{"$f":"'[10]Список изделий'!Z987","v":0},{"$f":"'[10]Список изделий'!AA987","v":0},{"$f":"'[10]Список изделий'!AB987","v":0},{"$f":"'[10]Список изделий'!AC987","v":"x"},{"$f":"'[10]Список изделий'!AD987","v":0},{"$f":"'[10]Список изделий'!AE987","v":0},{"$f":"'[10]Список изделий'!AF987","v":"00:00:00"},{"$f":"'[10]Список изделий'!AY987","v":0},{"$f":"'[10]Список изделий'!AZ987","v":"00:00:00"},-43153,-43153,0,0,{"$f":"'[10]Список изделий'!BR987","v":0},0]
[714,{"$f":"'[10]Список изделий'!D1069","v":14},{"$f":"'[10]Список изделий'!E1069","v":0},{"$f":"'[10]Список изделий'!F1069","v":0},{"$f":"'[10]Список изделий'!I1069","v":0},{"$f":"'[10]Список изделий'!X1069","v":0},{"$f":"'[10]Список изделий'!Y1069","v":0},{"$f":"'[10]Список изделий'!Z1069","v":0},{"$f":"'[10]Список изделий'!AA1069","v":0},{"$f":"'[10]Список изделий'!AB1069","v":0},{"$f":"'[10]Список изделий'!AC1069","v":"x"},{"$f":"'[10]Список изделий'!AD1069","v":0},{"$f":"'[10]Список изделий'!AE1069","v":0},{"$f":"'[10]Список изделий'!AF1069","v":"00:00:00"},{"$f":"'[10]Список изделий'!AY1069","v":0},{"$f":"'[10]Список изделий'!AZ1069","v":"00:00:00"},-43153,-43153,0,0,{"$f":"'[10]Список изделий'!BR1069","v":0},0]
[715,{"$f":"'[10]Список изделий'!D1151","v":15},{"$f":"'[10]Список изделий'!E1151","v":0},{"$f":"'[10]Список изделий'!F1151","v":0},{"$f":"'[10]Список изделий'!I1151","v":0},{"$f":"'[10]Список изделий'!X1151","v":0},{"$f":"'[10]Список изделий'!Y1151","v":0},{"$f":"'[10]Список изделий'!Z1151","v":0},{"$f":"'[10]Список изделий'!AA1151","v":0},{"$f":"'[10]Список изделий'!AB1151","v":0},{"$f":"'[10]Список изделий'!AC1151","v":"x"},{"$f":"'[10]Список изделий'!AD1151","v":0},{"$f":"'[10]Список изделий'!AE1151","v":0},{"$f":"'[10]Список изделий'!AF1151","v":"00:00:00"},{"$f":"'[10]Список изделий'!AY1151","v":0},{"$f":"'[10]Список изделий'!AZ1151","v":"00:00:00"},-43153,-43153,0,0,{"$f":"'[10]Список изделий'!BR1151","v":0},0]
[716,{"$f":"'[10]Список изделий'!D1233","v":16},{"$f":"'[10]Список изделий'!E1233","v":0},{"$f":"'[10]Список изделий'!F1233","v":0},{"$f":"'[10]Список изделий'!I1233","v":0},{"$f":"'[10]Список изделий'!X1233","v":0},{"$f":"'[10]Список изделий'!Y1233","v":0},{"$f":"'[10]Список изделий'!Z1233","v":0},{"$f":"'[10]Список изделий'!AA1233","v":0},{"$f":"'[10]Список изделий'!AB1233","v":0},{"$f":"'[10]Список изделий'!AC1233","v":"x"},{"$f":"'[10]Список изделий'!AD1233","v":0},{"$f":"'[10]Список изделий'!AE1233","v":0},{"$f":"'[10]Список изделий'!AF1233","v":"00:00:00"},{"$f":"'[10]Список изделий'!AY1233","v":0},{"$f":"'[10]Список изделий'!AZ1233","v":"00:00:00"},-43153,-43153,0,0,{"$f":"'[10]Список изделий'!BR1233","v":0},0]
[717,{"$f":"'[10]Список изделий'!D1315","v":17},{"$f":"'[10]Список изделий'!E1315","v":0},{"$f":"'[10]Список изделий'!F1315","v":0},{"$f":"'[10]Список изделий'!I1315","v":0},{"$f":"'[10]Список изделий'!X1315","v":0},{"$f":"'[10]Список изделий'!Y1315","v":0},{"$f":"'[10]Список изделий'!Z1315","v":0},{"$f":"'[10]Список изделий'!AA1315","v":0},{"$f":"'[10]Список изделий'!AB1315","v":0},{"$f":"'[10]Список изделий'!AC1315","v":"x"},{"$f":"'[10]Список изделий'!AD1315","v":0},{"$f":"'[10]Список изделий'!AE1315","v":0},{"$f":"'[10]Список изделий'!AF1315","v":"00:00:00"},{"$f":"'[10]Список изделий'!AY1315","v":0},{"$f":"'[10]Список изделий'!AZ1315","v":"00:00:00"},-43153,-43153,0,0,{"$f":"'[10]Список изделий'!BR1315","v":0},0]
[718,{"$f":"'[10]Список изделий'!D1397","v":18},{"$f":"'[10]Список изделий'!E1397","v":0},{"$f":"'[10]Список изделий'!F1397","v":0},{"$f":"'[10]Список изделий'!I1397","v":0},{"$f":"'[10]Список изделий'!X1397","v":0},{"$f":"'[10]Список изделий'!Y1397","v":0},{"$f":"'[10]Список изделий'!Z1397","v":0},{"$f":"'[10]Список изделий'!AA1397","v":0},{"$f":"'[10]Список изделий'!AB1397","v":0},{"$f":"'[10]Список изделий'!AC1397","v":"x"},{"$f":"'[10]Список изделий'!AD1397","v":0},{"$f":"'[10]Список изделий'!AE1397","v":0},{"$f":"'[10]Список изделий'!AF1397","v":"00:00:00"},{"$f":"'[10]Список изделий'!AY1397","v":0},{"$f":"'[10]Список изделий'!AZ1397","v":"00:00:00"},-43153,-43153,0,0,{"$f":"'[10]Список изделий'!BR1397","v":0},0]
[719,{"$f":"'[10]Список изделий'!D1479","v":19},{"$f":"'[10]Список изделий'!E1479","v":0},{"$f":"'[10]Список изделий'!F1479","v":0},{"$f":"'[10]Список изделий'!I1479","v":0},{"$f":"'[10]Список изделий'!X1479","v":0},{"$f":"'[10]Список изделий'!Y1479","v":0},{"$f":"'[10]Список изделий'!Z1479","v":0},{"$f":"'[10]Список изделий'!AA1479","v":0},{"$f":"'[10]Список изделий'!AB1479","v":0},{"$f":"'[10]Список изделий'!AC1479","v":"x"},{"$f":"'[10]Список изделий'!AD1479","v":0},{"$f":"'[10]Список изделий'!AE1479","v":0},{"$f":"'[10]Список изделий'!AF1479","v":"00:00:00"},{"$f":"'[10]Список изделий'!AY1479","v":0},{"$f":"'[10]Список изделий'!AZ1479","v":"00:00:00"},-43153,-43153,0,0,{"$f":"'[10]Список изделий'!BR1479","v":0},0]
[720,{"$f":"'[10]Список изделий'!D1561","v":20},{"$f":"'[10]Список изделий'!E1561","v":0},{"$f":"'[10]Список изделий'!F1561","v":0},{"$f":"'[10]Список изделий'!I1561","v":0},{"$f":"'[10]Список изделий'!X1561","v":0},{"$f":"'[10]Список изделий'!Y1561","v":0},{"$f":"'[10]Список изделий'!Z1561","v":0},{"$f":"'[10]Список изделий'!AA1561","v":0},{"$f":"'[10]Список изделий'!AB1561","v":0},{"$f":"'[10]Список изделий'!AC1561","v":"x"},{"$f":"'[10]Список изделий'!AD1561","v":0},{"$f":"'[10]Список изделий'!AE1561","v":0},{"$f":"'[10]Список изделий'!AF1561","v":"00:00:00"},{"$f":"'[10]Список изделий'!AY1561","v":0},{"$f":"'[10]Список изделий'!AZ1561","v":"00:00:00"},-43153,-43153,0,0,{"$f":"'[10]Список изделий'!BR1561","v":0},0]
[721,{"$f":"'[10]Список изделий'!D1643","v":21},{"$f":"'[10]Список изделий'!E1643","v":0},{"$f":"'[10]Список изделий'!F1643","v":0},{"$f":"'[10]Список изделий'!I1643","v":0},{"$f":"'[10]Список изделий'!X1643","v":0},{"$f":"'[10]Список изделий'!Y1643","v":0},{"$f":"'[10]Список изделий'!Z1643","v":0},{"$f":"'[10]Список изделий'!AA1643","v":0},{"$f":"'[10]Список изделий'!AB1643","v":0},{"$f":"'[10]Список изделий'!AC1643","v":"x"},{"$f":"'[10]Список изделий'!AD1643","v":0},{"$f":"'[10]Список изделий'!AE1643","v":0},{"$f":"'[10]Список изделий'!AF1643","v":"00:00:00"},{"$f":"'[10]Список изделий'!AY1643","v":0},{"$f":"'[10]Список изделий'!AZ1643","v":"00:00:00"},-43153,-43153,0,0,{"$f":"'[10]Список изделий'!BR1643","v":0},0]
[722,{"$f":"'[10]Список изделий'!D1725","v":22},{"$f":"'[10]Список изделий'!E1725","v":0},{"$f":"'[10]Список изделий'!F1725","v":0},{"$f":"'[10]Список изделий'!I1725","v":0},{"$f":"'[10]Список изделий'!X1725","v":0},{"$f":"'[10]Список изделий'!Y1725","v":0},{"$f":"'[10]Список изделий'!Z1725","v":0},{"$f":"'[10]Список изделий'!AA1725","v":0},{"$f":"'[10]Список изделий'!AB1725","v":0},{"$f":"'[10]Список изделий'!AC1725","v":"x"},{"$f":"'[10]Список изделий'!AD1725","v":0},{"$f":"'[10]Список изделий'!AE1725","v":0},{"$f":"'[10]Список изделий'!AF1725","v":"00:00:00"},{"$f":"'[10]Список изделий'!AY1725","v":0},{"$f":"'[10]Список изделий'!AZ1725","v":"00:00:00"},-43153,-43153,0,0,{"$f":"'[10]Список изделий'!BR1725","v":0},0]
[723,{"$f":"'[10]Список изделий'!D1807","v":23},{"$f":"'[10]Список изделий'!E1807","v":0},{"$f":"'[10]Список изделий'!F1807","v":0},{"$f":"'[10]Список изделий'!I1807","v":0},{"$f":"'[10]Список изделий'!X1807","v":0},{"$f":"'[10]Список изделий'!Y1807","v":0},{"$f":"'[10]Список изделий'!Z1807","v":0},{"$f":"'[10]Список изделий'!AA1807","v":0},{"$f":"'[10]Список изделий'!AB1807","v":0},{"$f":"'[10]Список изделий'!AC1807","v":"x"},{"$f":"'[10]Список изделий'!AD1807","v":0},{"$f":"'[10]Список изделий'!AE1807","v":0},{"$f":"'[10]Список изделий'!AF1807","v":"00:00:00"},{"$f":"'[10]Список изделий'!AY1807","v":0},{"$f":"'[10]Список изделий'!AZ1807","v":"00:00:00"},-43153,-43153,0,0,{"$f":"'[10]Список изделий'!BR1807","v":0},0]
[724,{"$f":"'[10]Список изделий'!D1889","v":24},{"$f":"'[10]Список изделий'!E1889","v":0},{"$f":"'[10]Список изделий'!F1889","v":0},{"$f":"'[10]Список изделий'!I1889","v":0},{"$f":"'[10]Список изделий'!X1889","v":0},{"$f":"'[10]Список изделий'!Y1889","v":0},{"$f":"'[10]Список изделий'!Z1889","v":0},{"$f":"'[10]Список изделий'!AA1889","v":0},{"$f":"'[10]Список изделий'!AB1889","v":0},{"$f":"'[10]Список изделий'!AC1889","v":"x"},{"$f":"'[10]Список изделий'!AD1889","v":0},{"$f":"'[10]Список изделий'!AE1889","v":0},{"$f":"'[10]Список изделий'!AF1889","v":"00:00:00"},{"$f":"'[10]Список изделий'!AY1889","v":0},{"$f":"'[10]Список изделий'!AZ1889","v":"00:00:00"},-43153,-43153,0,0,{"$f":"'[10]Список изделий'!BR1889","v":0},0]
[725,{"$f":"'[10]Список изделий'!D1971","v":25},{"$f":"'[10]Список изделий'!E1971","v":0},{"$f":"'[10]Список изделий'!F1971","v":0},{"$f":"'[10]Список изделий'!I1971","v":0},{"$f":"'[10]Список изделий'!X1971","v":0},{"$f":"'[10]Список изделий'!Y1971","v":0},{"$f":"'[10]Список изделий'!Z1971","v":0},{"$f":"'[10]Список изделий'!AA1971","v":0},{"$f":"'[10]Список изделий'!AB1971","v":0},{"$f":"'[10]Список изделий'!AC1971","v":"x"},{"$f":"'[10]Список изделий'!AD1971","v":0},{"$f":"'[10]Список изделий'!AE1971","v":0},{"$f":"'[10]Список изделий'!AF1971","v":"00:00:00"},{"$f":"'[10]Список изделий'!AY1971","v":0},{"$f":"'[10]Список изделий'!AZ1971","v":"00:00:00"},-43153,-43153,0,0,{"$f":"'[10]Список изделий'!BR1971","v":0},0]
[622,{"$f":"'[9]Список изделий'!D1725","v":22},{"$f":"'[9]Список изделий'!E1725","v":"Пер-Энерге22"},{"$f":"'[9]Список изделий'!F1725","v":"Входной фриз"},{"$f":"'[9]Список изделий'!I1725","v":"12 секций"},{"$f":"'[9]Список изделий'!X1725","v":"ГМА"},{"$f":"'[9]Список изделий'!Y1725","v":"Микуло"},{"$f":"'[9]Список изделий'!Z1725","v":"Закурдаев"},{"$f":"'[9]Список изделий'!AA1725","v":"Замотаев"},{"$f":"'[9]Список изделий'!AB1725","v":0},{"$f":"'[9]Список изделий'!AC1725","v":"x"},{"$f":"'[9]Список изделий'!AD1725","v":0},{"$f":"'[9]Список изделий'!AE1725","v":0},{"$f":"'[9]Список изделий'!AF1725","v":"2018-02-20"},{"$f":"'[9]Список изделий'!AY1725","v":7},{"$f":"'[9]Список изделий'!AZ1725","v":"2018-02-15"},-14,-7,1,1,{"$f":"'[9]Список изделий'!BR1725","v":"\\\\SERVER\\Data1\\П\\Перекресток\\2018\\Энергетиков 8\\техничка\\22-Входной_фриз"},1]
[727,{"$f":"'[10]Список изделий'!D2135","v":27},{"$f":"'[10]Список изделий'!E2135","v":0},{"$f":"'[10]Список изделий'!F2135","v":0},{"$f":"'[10]Список изделий'!I2135","v":0},{"$f":"'[10]Список изделий'!X2135","v":0},{"$f":"'[10]Список изделий'!Y2135","v":0},{"$f":"'[10]Список изделий'!Z2135","v":0},{"$f":"'[10]Список изделий'!AA2135","v":0},{"$f":"'[10]Список изделий'!AB2135","v":0},{"$f":"'[10]Список изделий'!AC2135","v":"x"},{"$f":"'[10]Список изделий'!AD2135","v":0},{"$f":"'[10]Список изделий'!AE2135","v":0},{"$f":"'[10]Список изделий'!AF2135","v":"00:00:00"},{"$f":"'[10]Список изделий'!AY2135","v":0},{"$f":"'[10]Список изделий'!AZ2135","v":"00:00:00"},-43153,-43153,0,0,{"$f":"'[10]Список изделий'!BR2135","v":0},0]
[728,{"$f":"'[10]Список изделий'!D2217","v":28},{"$f":"'[10]Список изделий'!E2217","v":0},{"$f":"'[10]Список изделий'!F2217","v":0},{"$f":"'[10]Список изделий'!I2217","v":0},{"$f":"'[10]Список изделий'!X2217","v":0},{"$f":"'[10]Список изделий'!Y2217","v":0},{"$f":"'[10]Список изделий'!Z2217","v":0},{"$f":"'[10]Список изделий'!AA2217","v":0},{"$f":"'[10]Список изделий'!AB2217","v":0},{"$f":"'[10]Список изделий'!AC2217","v":"x"},{"$f":"'[10]Список изделий'!AD2217","v":0},{"$f":"'[10]Список изделий'!AE2217","v":0},{"$f":"'[10]Список изделий'!AF2217","v":"00:00:00"},{"$f":"'[10]Список изделий'!AY2217","v":0},{"$f":"'[10]Список изделий'!AZ2217","v":"00:00:00"},-43153,-43153,0,0,{"$f":"'[10]Список изделий'!BR2217","v":0},0]
[729,{"$f":"'[10]Список изделий'!D2299","v":29},{"$f":"'[10]Список изделий'!E2299","v":0},{"$f":"'[10]Список изделий'!F2299","v":0},{"$f":"'[10]Список изделий'!I2299","v":0},{"$f":"'[10]Список изделий'!X2299","v":0},{"$f":"'[10]Список изделий'!Y2299","v":0},{"$f":"'[10]Список изделий'!Z2299","v":0},{"$f":"'[10]Список изделий'!AA2299","v":0},{"$f":"'[10]Список изделий'!AB2299","v":0},{"$f":"'[10]Список изделий'!AC2299","v":"x"},{"$f":"'[10]Список изделий'!AD2299","v":0},{"$f":"'[10]Список изделий'!AE2299","v":0},{"$f":"'[10]Список изделий'!AF2299","v":"00:00:00"},{"$f":"'[10]Список изделий'!AY2299","v":0},{"$f":"'[10]Список изделий'!AZ2299","v":"00:00:00"},-43153,-43153,0,0,{"$f":"'[10]Список изделий'!BR2299","v":0},0]
[730,{"$f":"'[10]Список изделий'!D2381","v":30},{"$f":"'[10]Список изделий'!E2381","v":0},{"$f":"'[10]Список изделий'!F2381","v":0},{"$f":"'[10]Список изделий'!I2381","v":0},{"$f":"'[10]Список изделий'!X2381","v":0},{"$f":"'[10]Список изделий'!Y2381","v":0},{"$f":"'[10]Список изделий'!Z2381","v":0},{"$f":"'[10]Список изделий'!AA2381","v":0},{"$f":"'[10]Список изделий'!AB2381","v":0},{"$f":"'[10]Список изделий'!AC2381","v":"x"},{"$f":"'[10]Список изделий'!AD2381","v":0},{"$f":"'[10]Список изделий'!AE2381","v":0},{"$f":"'[10]Список изделий'!AF2381","v":"00:00:00"},{"$f":"'[10]Список изделий'!AY2381","v":0},{"$f":"'[10]Список изделий'!AZ2381","v":"00:00:00"},-43153,-43153,0,0,{"$f":"'[10]Список изделий'!BR2381","v":0},0]
[624,{"$f":"'[9]Список изделий'!D1889","v":24},{"$f":"'[9]Список изделий'!E1889","v":"Пер-Энерге24"},{"$f":"'[9]Список изделий'!F1889","v":"Оформление холодильника Икра"},{"$f":"'[9]Список изделий'!I1889","v":7},{"$f":"'[9]Список изделий'!X1889","v":"ГМА"},{"$f":"'[9]Список изделий'!Y1889","v":"Микуло"},{"$f":"'[9]Список изделий'!Z1889","v":"Закурдаев"},{"$f":"'[9]Список изделий'!AA1889","v":"Замотаев"},{"$f":"'[9]Список изделий'!AB1889","v":0},{"$f":"'[9]Список изделий'!AC1889","v":"x"},{"$f":"'[9]Список изделий'!AD1889","v":0},{"$f":"'[9]Список изделий'!AE1889","v":0},{"$f":"'[9]Список изделий'!AF1889","v":"2018-02-20"},{"$f":"'[9]Список изделий'!AY1889","v":7},{"$f":"'[9]Список изделий'!AZ1889","v":"2018-02-15"},-14,-7,0,0,{"$f":"'[9]Список изделий'!BR1889","v":"\\\\SERVER\\Data1\\П\\Перекресток\\2018\\Энергетиков 8\\техничка\\24-холодильник_ИКРА"},0]
[732,{"$f":"'[10]Список изделий'!D2545","v":32},{"$f":"'[10]Список изделий'!E2545","v":0},{"$f":"'[10]Список изделий'!F2545","v":0},{"$f":"'[10]Список изделий'!I2545","v":0},{"$f":"'[10]Список изделий'!X2545","v":0},{"$f":"'[10]Список изделий'!Y2545","v":0},{"$f":"'[10]Список изделий'!Z2545","v":0},{"$f":"'[10]Список изделий'!AA2545","v":0},{"$f":"'[10]Список изделий'!AB2545","v":0},{"$f":"'[10]Список изделий'!AC2545","v":"x"},{"$f":"'[10]Список изделий'!AD2545","v":0},{"$f":"'[10]Список изделий'!AE2545","v":0},{"$f":"'[10]Список изделий'!AF2545","v":"00:00:00"},{"$f":"'[10]Список изделий'!AY2545","v":0},{"$f":"'[10]Список изделий'!AZ2545","v":"00:00:00"},-43153,-43153,0,0,{"$f":"'[10]Список изделий'!BR2545","v":0},0]
[733,{"$f":"'[10]Список изделий'!D2627","v":33},{"$f":"'[10]Список изделий'!E2627","v":0},{"$f":"'[10]Список изделий'!F2627","v":0},{"$f":"'[10]Список изделий'!I2627","v":0},{"$f":"'[10]Список изделий'!X2627","v":0},{"$f":"'[10]Список изделий'!Y2627","v":0},{"$f":"'[10]Список изделий'!Z2627","v":0},{"$f":"'[10]Список изделий'!AA2627","v":0},{"$f":"'[10]Список изделий'!AB2627","v":0},{"$f":"'[10]Список изделий'!AC2627","v":"x"},{"$f":"'[10]Список изделий'!AD2627","v":0},{"$f":"'[10]Список изделий'!AE2627","v":0},{"$f":"'[10]Список изделий'!AF2627","v":"00:00:00"},{"$f":"'[10]Список изделий'!AY2627","v":0},{"$f":"'[10]Список изделий'!AZ2627","v":"00:00:00"},-43153,-43153,0,0,{"$f":"'[10]Список изделий'!BR2627","v":0},0]
[734,{"$f":"'[10]Список изделий'!D2709","v":34},{"$f":"'[10]Список изделий'!E2709","v":0},{"$f":"'[10]Список изделий'!F2709","v":0},{"$f":"'[10]Список изделий'!I2709","v":0},{"$f":"'[10]Список изделий'!X2709","v":0},{"$f":"'[10]Список изделий'!Y2709","v":0},{"$f":"'[10]Список изделий'!Z2709","v":0},{"$f":"'[10]Список изделий'!AA2709","v":0},{"$f":"'[10]Список изделий'!AB2709","v":0},{"$f":"'[10]Список изделий'!AC2709","v":"x"},{"$f":"'[10]Список изделий'!AD2709","v":0},{"$f":"'[10]Список изделий'!AE2709","v":0},{"$f":"'[10]Список изделий'!AF2709","v":"00:00:00"},{"$f":"'[10]Список изделий'!AY2709","v":0},{"$f":"'[10]Список изделий'!AZ2709","v":"00:00:00"},-43153,-43153,0,0,{"$f":"'[10]Список изделий'!BR2709","v":0},0]
[735,{"$f":"'[10]Список изделий'!D2791","v":35},{"$f":"'[10]Список изделий'!E2791","v":0},{"$f":"'[10]Список изделий'!F2791","v":0},{"$f":"'[10]Список изделий'!I2791","v":0},{"$f":"'[10]Список изделий'!X2791","v":0},{"$f":"'[10]Список изделий'!Y2791","v":0},{"$f":"'[10]Список изделий'!Z2791","v":0},{"$f":"'[10]Список изделий'!AA2791","v":0},{"$f":"'[10]Список изделий'!AB2791","v":0},{"$f":"'[10]Список изделий'!AC2791","v":"x"},{"$f":"'[10]Список изделий'!AD2791","v":0},{"$f":"'[10]Список изделий'!AE2791","v":0},{"$f":"'[10]Список изделий'!AF2791","v":"00:00:00"},{"$f":"'[10]Список изделий'!AY2791","v":0},{"$f":"'[10]Список изделий'!AZ2791","v":"00:00:00"},-43153,-43153,0,0,{"$f":"'[10]Список изделий'!BR2791","v":0},0]
[736,{"$f":"'[10]Список изделий'!D2873","v":36},{"$f":"'[10]Список изделий'!E2873","v":0},{"$f":"'[10]Список изделий'!F2873","v":0},{"$f":"'[10]Список изделий'!I2873","v":0},{"$f":"'[10]Список изделий'!X2873","v":0},{"$f":"'[10]Список изделий'!Y2873","v":0},{"$f":"'[10]Список изделий'!Z2873","v":0},{"$f":"'[10]Список изделий'!AA2873","v":0},{"$f":"'[10]Список изделий'!AB2873","v":0},{"$f":"'[10]Список изделий'!AC2873","v":"x"},{"$f":"'[10]Список изделий'!AD2873","v":0},{"$f":"'[10]Список изделий'!AE2873","v":0},{"$f":"'[10]Список изделий'!AF2873","v":"00:00:00"},{"$f":"'[10]Список изделий'!AY2873","v":0},{"$f":"'[10]Список изделий'!AZ2873","v":"00:00:00"},-43153,-43153,0,0,{"$f":"'[10]Список изделий'!BR2873","v":0},0]
[737,{"$f":"'[10]Список изделий'!D2955","v":37},{"$f":"'[10]Список изделий'!E2955","v":0},{"$f":"'[10]Список изделий'!F2955","v":0},{"$f":"'[10]Список изделий'!I2955","v":0},{"$f":"'[10]Список изделий'!X2955","v":0},{"$f":"'[10]Список изделий'!Y2955","v":0},{"$f":"'[10]Список изделий'!Z2955","v":0},{"$f":"'[10]Список изделий'!AA2955","v":0},{"$f":"'[10]Список изделий'!AB2955","v":0},{"$f":"'[10]Список изделий'!AC2955","v":"x"},{"$f":"'[10]Список изделий'!AD2955","v":0},{"$f":"'[10]Список изделий'!AE2955","v":0},{"$f":"'[10]Список изделий'!AF2955","v":"00:00:00"},{"$f":"'[10]Список изделий'!AY2955","v":0},{"$f":"'[10]Список изделий'!AZ2955","v":"00:00:00"},-43153,-43153,0,0,{"$f":"'[10]Список изделий'!BR2955","v":0},0]
[738,{"$f":"'[10]Список изделий'!D3037","v":38},{"$f":"'[10]Список изделий'!E3037","v":0},{"$f":"'[10]Список изделий'!F3037","v":0},{"$f":"'[10]Список изделий'!I3037","v":0},{"$f":"'[10]Список изделий'!X3037","v":0},{"$f":"'[10]Список изделий'!Y3037","v":0},{"$f":"'[10]Список изделий'!Z3037","v":0},{"$f":"'[10]Список изделий'!AA3037","v":0},{"$f":"'[10]Список изделий'!AB3037","v":0},{"$f":"'[10]Список изделий'!AC3037","v":"x"},{"$f":"'[10]Список изделий'!AD3037","v":0},{"$f":"'[10]Список изделий'!AE3037","v":0},{"$f":"'[10]Список изделий'!AF3037","v":"00:00:00"},{"$f":"'[10]Список изделий'!AY3037","v":0},{"$f":"'[10]Список изделий'!AZ3037","v":"00:00:00"},-43153,-43153,0,0,{"$f":"'[10]Список изделий'!BR3037","v":0},0]
[739,{"$f":"'[10]Список изделий'!D3119","v":39},{"$f":"'[10]Список изделий'!E3119","v":0},{"$f":"'[10]Список изделий'!F3119","v":0},{"$f":"'[10]Список изделий'!I3119","v":0},{"$f":"'[10]Список изделий'!X3119","v":0},{"$f":"'[10]Список изделий'!Y3119","v":0},{"$f":"'[10]Список изделий'!Z3119","v":0},{"$f":"'[10]Список изделий'!AA3119","v":0},{"$f":"'[10]Список изделий'!AB3119","v":0},{"$f":"'[10]Список изделий'!AC3119","v":"x"},{"$f":"'[10]Список изделий'!AD3119","v":0},{"$f":"'[10]Список изделий'!AE3119","v":0},{"$f":"'[10]Список изделий'!AF3119","v":"00:00:00"},{"$f":"'[10]Список изделий'!AY3119","v":0},{"$f":"'[10]Список изделий'!AZ3119","v":"00:00:00"},-43153,-43153,0,0,{"$f":"'[10]Список изделий'!BR3119","v":0},0]
[740,{"$f":"'[10]Список изделий'!D3201","v":40},{"$f":"'[10]Список изделий'!E3201","v":0},{"$f":"'[10]Список изделий'!F3201","v":0},{"$f":"'[10]Список изделий'!I3201","v":0},{"$f":"'[10]Список изделий'!X3201","v":0},{"$f":"'[10]Список изделий'!Y3201","v":0},{"$f":"'[10]Список изделий'!Z3201","v":0},{"$f":"'[10]Список изделий'!AA3201","v":0},{"$f":"'[10]Список изделий'!AB3201","v":0},{"$f":"'[10]Список изделий'!AC3201","v":"x"},{"$f":"'[10]Список изделий'!AD3201","v":0},{"$f":"'[10]Список изделий'!AE3201","v":0},{"$f":"'[10]Список изделий'!AF3201","v":"00:00:00"},{"$f":"'[10]Список изделий'!AY3201","v":0},{"$f":"'[10]Список изделий'!AZ3201","v":"00:00:00"},-43153,-43153,0,0,{"$f":"'[10]Список изделий'!BR3201","v":0},0]
[741,{"$f":"'[10]Список изделий'!D3283","v":41},{"$f":"'[10]Список изделий'!E3283","v":0},{"$f":"'[10]Список изделий'!F3283","v":0},{"$f":"'[10]Список изделий'!I3283","v":0},{"$f":"'[10]Список изделий'!X3283","v":0},{"$f":"'[10]Список изделий'!Y3283","v":0},{"$f":"'[10]Список изделий'!Z3283","v":0},{"$f":"'[10]Список изделий'!AA3283","v":0},{"$f":"'[10]Список изделий'!AB3283","v":0},{"$f":"'[10]Список изделий'!AC3283","v":"x"},{"$f":"'[10]Список изделий'!AD3283","v":0},{"$f":"'[10]Список изделий'!AE3283","v":0},{"$f":"'[10]Список изделий'!AF3283","v":"00:00:00"},{"$f":"'[10]Список изделий'!AY3283","v":0},{"$f":"'[10]Список изделий'!AZ3283","v":"00:00:00"},-43153,-43153,0,0,{"$f":"'[10]Список изделий'!BR3283","v":0},0]
[742,{"$f":"'[10]Список изделий'!D3365","v":42},{"$f":"'[10]Список изделий'!E3365","v":0},{"$f":"'[10]Список изделий'!F3365","v":0},{"$f":"'[10]Список изделий'!I3365","v":0},{"$f":"'[10]Список изделий'!X3365","v":0},{"$f":"'[10]Список изделий'!Y3365","v":0},{"$f":"'[10]Список изделий'!Z3365","v":0},{"$f":"'[10]Список изделий'!AA3365","v":0},{"$f":"'[10]Список изделий'!AB3365","v":0},{"$f":"'[10]Список изделий'!AC3365","v":"x"},{"$f":"'[10]Список изделий'!AD3365","v":0},{"$f":"'[10]Список изделий'!AE3365","v":0},{"$f":"'[10]Список изделий'!AF3365","v":"00:00:00"},{"$f":"'[10]Список изделий'!AY3365","v":0},{"$f":"'[10]Список изделий'!AZ3365","v":"00:00:00"},-43153,-43153,0,0,{"$f":"'[10]Список изделий'!BR3365","v":0},0]
[743,{"$f":"'[10]Список изделий'!D3447","v":43},{"$f":"'[10]Список изделий'!E3447","v":0},{"$f":"'[10]Список изделий'!F3447","v":0},{"$f":"'[10]Список изделий'!I3447","v":0},{"$f":"'[10]Список изделий'!X3447","v":0},{"$f":"'[10]Список изделий'!Y3447","v":0},{"$f":"'[10]Список изделий'!Z3447","v":0},{"$f":"'[10]Список изделий'!AA3447","v":0},{"$f":"'[10]Список изделий'!AB3447","v":0},{"$f":"'[10]Список изделий'!AC3447","v":"x"},{"$f":"'[10]Список изделий'!AD3447","v":0},{"$f":"'[10]Список изделий'!AE3447","v":0},{"$f":"'[10]Список изделий'!AF3447","v":"00:00:00"},{"$f":"'[10]Список изделий'!AY3447","v":0},{"$f":"'[10]Список изделий'!AZ3447","v":"00:00:00"},-43153,-43153,0,0,{"$f":"'[10]Список изделий'!BR3447","v":0},0]
[744,{"$f":"'[10]Список изделий'!D3529","v":44},{"$f":"'[10]Список изделий'!E3529","v":0},{"$f":"'[10]Список изделий'!F3529","v":0},{"$f":"'[10]Список изделий'!I3529","v":0},{"$f":"'[10]Список изделий'!X3529","v":0},{"$f":"'[10]Список изделий'!Y3529","v":0},{"$f":"'[10]Список изделий'!Z3529","v":0},{"$f":"'[10]Список изделий'!AA3529","v":0},{"$f":"'[10]Список изделий'!AB3529","v":0},{"$f":"'[10]Список изделий'!AC3529","v":"x"},{"$f":"'[10]Список изделий'!AD3529","v":0},{"$f":"'[10]Список изделий'!AE3529","v":0},{"$f":"'[10]Список изделий'!AF3529","v":"00:00:00"},{"$f":"'[10]Список изделий'!AY3529","v":0},{"$f":"'[10]Список изделий'!AZ3529","v":"00:00:00"},-43153,-43153,0,0,{"$f":"'[10]Список изделий'!BR3529","v":0},0]
[745,{"$f":"'[10]Список изделий'!D3611","v":45},{"$f":"'[10]Список изделий'!E3611","v":0},{"$f":"'[10]Список изделий'!F3611","v":0},{"$f":"'[10]Список изделий'!I3611","v":0},{"$f":"'[10]Список изделий'!X3611","v":0},{"$f":"'[10]Список изделий'!Y3611","v":0},{"$f":"'[10]Список изделий'!Z3611","v":0},{"$f":"'[10]Список изделий'!AA3611","v":0},{"$f":"'[10]Список изделий'!AB3611","v":0},{"$f":"'[10]Список изделий'!AC3611","v":"x"},{"$f":"'[10]Список изделий'!AD3611","v":0},{"$f":"'[10]Список изделий'!AE3611","v":0},{"$f":"'[10]Список изделий'!AF3611","v":"00:00:00"},{"$f":"'[10]Список изделий'!AY3611","v":0},{"$f":"'[10]Список изделий'!AZ3611","v":"00:00:00"},-43153,-43153,0,0,{"$f":"'[10]Список изделий'!BR3611","v":0},0]
[746,{"$f":"'[10]Список изделий'!D3693","v":46},{"$f":"'[10]Список изделий'!E3693","v":0},{"$f":"'[10]Список изделий'!F3693","v":0},{"$f":"'[10]Список изделий'!I3693","v":0},{"$f":"'[10]Список изделий'!X3693","v":0},{"$f":"'[10]Список изделий'!Y3693","v":0},{"$f":"'[10]Список изделий'!Z3693","v":0},{"$f":"'[10]Список изделий'!AA3693","v":0},{"$f":"'[10]Список изделий'!AB3693","v":0},{"$f":"'[10]Список изделий'!AC3693","v":"x"},{"$f":"'[10]Список изделий'!AD3693","v":0},{"$f":"'[10]Список изделий'!AE3693","v":0},{"$f":"'[10]Список изделий'!AF3693","v":"00:00:00"},{"$f":"'[10]Список изделий'!AY3693","v":0},{"$f":"'[10]Список изделий'!AZ3693","v":"00:00:00"},-43153,-43153,0,0,{"$f":"'[10]Список изделий'!BR3693","v":0},0]
[747,{"$f":"'[10]Список изделий'!D3775","v":47},{"$f":"'[10]Список изделий'!E3775","v":0},{"$f":"'[10]Список изделий'!F3775","v":0},{"$f":"'[10]Список изделий'!I3775","v":0},{"$f":"'[10]Список изделий'!X3775","v":0},{"$f":"'[10]Список изделий'!Y3775","v":0},{"$f":"'[10]Список изделий'!Z3775","v":0},{"$f":"'[10]Список изделий'!AA3775","v":0},{"$f":"'[10]Список изделий'!AB3775","v":0},{"$f":"'[10]Список изделий'!AC3775","v":"x"},{"$f":"'[10]Список изделий'!AD3775","v":0},{"$f":"'[10]Список изделий'!AE3775","v":0},{"$f":"'[10]Список изделий'!AF3775","v":"2018-01-18"},{"$f":"'[10]Список изделий'!AY3775","v":0},{"$f":"'[10]Список изделий'!AZ3775","v":"00:00:00"},-43153,-43153,0,0,{"$f":"'[10]Список изделий'!BR3775","v":0},0]
[748,{"$f":"'[10]Список изделий'!D3857","v":48},{"$f":"'[10]Список изделий'!E3857","v":0},{"$f":"'[10]Список изделий'!F3857","v":0},{"$f":"'[10]Список изделий'!I3857","v":0},{"$f":"'[10]Список изделий'!X3857","v":0},{"$f":"'[10]Список изделий'!Y3857","v":0},{"$f":"'[10]Список изделий'!Z3857","v":0},{"$f":"'[10]Список изделий'!AA3857","v":0},{"$f":"'[10]Список изделий'!AB3857","v":0},{"$f":"'[10]Список изделий'!AC3857","v":"x"},{"$f":"'[10]Список изделий'!AD3857","v":0},{"$f":"'[10]Список изделий'!AE3857","v":0},{"$f":"'[10]Список изделий'!AF3857","v":"00:00:00"},{"$f":"'[10]Список изделий'!AY3857","v":0},{"$f":"'[10]Список изделий'!AZ3857","v":"00:00:00"},-43153,-43153,0,0,{"$f":"'[10]Список изделий'!BR3857","v":0},0]
[749,{"$f":"'[10]Список изделий'!D3939","v":49},{"$f":"'[10]Список изделий'!E3939","v":0},{"$f":"'[10]Список изделий'!F3939","v":0},{"$f":"'[10]Список изделий'!I3939","v":0},{"$f":"'[10]Список изделий'!X3939","v":0},{"$f":"'[10]Список изделий'!Y3939","v":0},{"$f":"'[10]Список изделий'!Z3939","v":0},{"$f":"'[10]Список изделий'!AA3939","v":0},{"$f":"'[10]Список изделий'!AB3939","v":0},{"$f":"'[10]Список изделий'!AC3939","v":"x"},{"$f":"'[10]Список изделий'!AD3939","v":0},{"$f":"'[10]Список изделий'!AE3939","v":0},{"$f":"'[10]Список изделий'!AF3939","v":"00:00:00"},{"$f":"'[10]Список изделий'!AY3939","v":0},{"$f":"'[10]Список изделий'!AZ3939","v":"00:00:00"},-43153,-43153,0,0,{"$f":"'[10]Список изделий'!BR3939","v":0},0]
[750,{"$f":"'[10]Список изделий'!D4021","v":50},{"$f":"'[10]Список изделий'!E4021","v":0},{"$f":"'[10]Список изделий'!F4021","v":0},{"$f":"'[10]Список изделий'!I4021","v":0},{"$f":"'[10]Список изделий'!X4021","v":0},{"$f":"'[10]Список изделий'!Y4021","v":0},{"$f":"'[10]Список изделий'!Z4021","v":0},{"$f":"'[10]Список изделий'!AA4021","v":0},{"$f":"'[10]Список изделий'!AB4021","v":0},{"$f":"'[10]Список изделий'!AC4021","v":"x"},{"$f":"'[10]Список изделий'!AD4021","v":0},{"$f":"'[10]Список изделий'!AE4021","v":0},{"$f":"'[10]Список изделий'!AF4021","v":"00:00:00"},{"$f":"'[10]Список изделий'!AY4021","v":0},{"$f":"'[10]Список изделий'!AZ4021","v":"00:00:00"},-43153,-43153,0,0,{"$f":"'[10]Список изделий'!BR4021","v":0},0]
[625,{"$f":"'[9]Список изделий'!D1971","v":25},{"$f":"'[9]Список изделий'!E1971","v":"Пер-Энерге25"},{"$f":"'[9]Список изделий'!F1971","v":"Оформление Мясной Разруб"},{"$f":"'[9]Список изделий'!I1971","v":20},{"$f":"'[9]Список изделий'!X1971","v":"ГМА"},{"$f":"'[9]Список изделий'!Y1971","v":"Микуло"},{"$f":"'[9]Список изделий'!Z1971","v":"Закурдаев"},{"$f":"'[9]Список изделий'!AA1971","v":"Замотаев"},{"$f":"'[9]Список изделий'!AB1971","v":0},{"$f":"'[9]Список изделий'!AC1971","v":"x"},{"$f":"'[9]Список изделий'!AD1971","v":0},{"$f":"'[9]Список изделий'!AE1971","v":0},{"$f":"'[9]Список изделий'!AF1971","v":"2018-02-20"},{"$f":"'[9]Список изделий'!AY1971","v":7},{"$f":"'[9]Список изделий'!AZ1971","v":"2018-02-15"},-14,-7,1,1,{"$f":"'[9]Список изделий'!BR1971","v":"\\\\SERVER\\Data1\\П\\Перекресток\\2018\\Энергетиков 8\\техничка\\25-Мясной_разруб"},1]
[752,{"$f":"'[10]Список изделий'!D4185","v":52},{"$f":"'[10]Список изделий'!E4185","v":0},{"$f":"'[10]Список изделий'!F4185","v":0},{"$f":"'[10]Список изделий'!I4185","v":0},{"$f":"'[10]Список изделий'!X4185","v":0},{"$f":"'[10]Список изделий'!Y4185","v":0},{"$f":"'[10]Список изделий'!Z4185","v":0},{"$f":"'[10]Список изделий'!AA4185","v":0},{"$f":"'[10]Список изделий'!AB4185","v":0},{"$f":"'[10]Список изделий'!AC4185","v":"x"},{"$f":"'[10]Список изделий'!AD4185","v":0},{"$f":"'[10]Список изделий'!AE4185","v":0},{"$f":"'[10]Список изделий'!AF4185","v":"00:00:00"},{"$f":"'[10]Список изделий'!AY4185","v":0},{"$f":"'[10]Список изделий'!AZ4185","v":"00:00:00"},-43153,-43153,0,0,{"$f":"'[10]Список изделий'!BR4185","v":0},0]
[753,{"$f":"'[10]Список изделий'!D4267","v":53},{"$f":"'[10]Список изделий'!E4267","v":0},{"$f":"'[10]Список изделий'!F4267","v":0},{"$f":"'[10]Список изделий'!I4267","v":0},{"$f":"'[10]Список изделий'!X4267","v":0},{"$f":"'[10]Список изделий'!Y4267","v":0},{"$f":"'[10]Список изделий'!Z4267","v":0},{"$f":"'[10]Список изделий'!AA4267","v":0},{"$f":"'[10]Список изделий'!AB4267","v":0},{"$f":"'[10]Список изделий'!AC4267","v":"x"},{"$f":"'[10]Список изделий'!AD4267","v":0},{"$f":"'[10]Список изделий'!AE4267","v":0},{"$f":"'[10]Список изделий'!AF4267","v":"00:00:00"},{"$f":"'[10]Список изделий'!AY4267","v":0},{"$f":"'[10]Список изделий'!AZ4267","v":"00:00:00"},-43153,-43153,0,0,{"$f":"'[10]Список изделий'!BR4267","v":0},0]
[754,{"$f":"'[10]Список изделий'!D4349","v":54},{"$f":"'[10]Список изделий'!E4349","v":0},{"$f":"'[10]Список изделий'!F4349","v":0},{"$f":"'[10]Список изделий'!I4349","v":0},{"$f":"'[10]Список изделий'!X4349","v":0},{"$f":"'[10]Список изделий'!Y4349","v":0},{"$f":"'[10]Список изделий'!Z4349","v":0},{"$f":"'[10]Список изделий'!AA4349","v":0},{"$f":"'[10]Список изделий'!AB4349","v":0},{"$f":"'[10]Список изделий'!AC4349","v":"x"},{"$f":"'[10]Список изделий'!AD4349","v":0},{"$f":"'[10]Список изделий'!AE4349","v":0},{"$f":"'[10]Список изделий'!AF4349","v":"00:00:00"},{"$f":"'[10]Список изделий'!AY4349","v":0},{"$f":"'[10]Список изделий'!AZ4349","v":"00:00:00"},-43153,-43153,0,0,{"$f":"'[10]Список изделий'!BR4349","v":0},0]
[755,{"$f":"'[10]Список изделий'!D4431","v":55},{"$f":"'[10]Список изделий'!E4431","v":0},{"$f":"'[10]Список изделий'!F4431","v":0},{"$f":"'[10]Список изделий'!I4431","v":0},{"$f":"'[10]Список изделий'!X4431","v":0},{"$f":"'[10]Список изделий'!Y4431","v":0},{"$f":"'[10]Список изделий'!Z4431","v":0},{"$f":"'[10]Список изделий'!AA4431","v":0},{"$f":"'[10]Список изделий'!AB4431","v":0},{"$f":"'[10]Список изделий'!AC4431","v":"x"},{"$f":"'[10]Список изделий'!AD4431","v":0},{"$f":"'[10]Список изделий'!AE4431","v":0},{"$f":"'[10]Список изделий'!AF4431","v":"00:00:00"},{"$f":"'[10]Список изделий'!AY4431","v":0},{"$f":"'[10]Список изделий'!AZ4431","v":"00:00:00"},-43153,-43153,0,0,{"$f":"'[10]Список изделий'!BR4431","v":0},0]
[756,{"$f":"'[10]Список изделий'!D4513","v":56},{"$f":"'[10]Список изделий'!E4513","v":0},{"$f":"'[10]Список изделий'!F4513","v":0},{"$f":"'[10]Список изделий'!I4513","v":0},{"$f":"'[10]Список изделий'!X4513","v":0},{"$f":"'[10]Список изделий'!Y4513","v":0},{"$f":"'[10]Список изделий'!Z4513","v":0},{"$f":"'[10]Список изделий'!AA4513","v":0},{"$f":"'[10]Список изделий'!AB4513","v":0},{"$f":"'[10]Список изделий'!AC4513","v":"x"},{"$f":"'[10]Список изделий'!AD4513","v":0},{"$f":"'[10]Список изделий'!AE4513","v":0},{"$f":"'[10]Список изделий'!AF4513","v":"00:00:00"},{"$f":"'[10]Список изделий'!AY4513","v":0},{"$f":"'[10]Список изделий'!AZ4513","v":"00:00:00"},-43153,-43153,0,0,{"$f":"'[10]Список изделий'!BR4513","v":0},0]
[757,{"$f":"'[10]Список изделий'!D4595","v":57},{"$f":"'[10]Список изделий'!E4595","v":0},{"$f":"'[10]Список изделий'!F4595","v":0},{"$f":"'[10]Список изделий'!I4595","v":0},{"$f":"'[10]Список изделий'!X4595","v":0},{"$f":"'[10]Список изделий'!Y4595","v":0},{"$f":"'[10]Список изделий'!Z4595","v":0},{"$f":"'[10]Список изделий'!AA4595","v":0},{"$f":"'[10]Список изделий'!AB4595","v":0},{"$f":"'[10]Список изделий'!AC4595","v":"x"},{"$f":"'[10]Список изделий'!AD4595","v":0},{"$f":"'[10]Список изделий'!AE4595","v":0},{"$f":"'[10]Список изделий'!AF4595","v":"00:00:00"},{"$f":"'[10]Список изделий'!AY4595","v":0},{"$f":"'[10]Список изделий'!AZ4595","v":"00:00:00"},-43153,-43153,0,0,{"$f":"'[10]Список изделий'!BR4595","v":0},0]
[758,{"$f":"'[10]Список изделий'!D4677","v":58},{"$f":"'[10]Список изделий'!E4677","v":0},{"$f":"'[10]Список изделий'!F4677","v":0},{"$f":"'[10]Список изделий'!I4677","v":0},{"$f":"'[10]Список изделий'!X4677","v":0},{"$f":"'[10]Список изделий'!Y4677","v":0},{"$f":"'[10]Список изделий'!Z4677","v":0},{"$f":"'[10]Список изделий'!AA4677","v":0},{"$f":"'[10]Список изделий'!AB4677","v":0},{"$f":"'[10]Список изделий'!AC4677","v":"x"},{"$f":"'[10]Список изделий'!AD4677","v":0},{"$f":"'[10]Список изделий'!AE4677","v":0},{"$f":"'[10]Список изделий'!AF4677","v":"00:00:00"},{"$f":"'[10]Список изделий'!AY4677","v":0},{"$f":"'[10]Список изделий'!AZ4677","v":"00:00:00"},-43153,-43153,0,0,{"$f":"'[10]Список изделий'!BR4677","v":0},0]
[759,{"$f":"'[10]Список изделий'!D4759","v":59},{"$f":"'[10]Список изделий'!E4759","v":0},{"$f":"'[10]Список изделий'!F4759","v":0},{"$f":"'[10]Список изделий'!I4759","v":0},{"$f":"'[10]Список изделий'!X4759","v":0},{"$f":"'[10]Список изделий'!Y4759","v":0},{"$f":"'[10]Список изделий'!Z4759","v":0},{"$f":"'[10]Список изделий'!AA4759","v":0},{"$f":"'[10]Список изделий'!AB4759","v":0},{"$f":"'[10]Список изделий'!AC4759","v":"x"},{"$f":"'[10]Список изделий'!AD4759","v":0},{"$f":"'[10]Список изделий'!AE4759","v":0},{"$f":"'[10]Список изделий'!AF4759","v":"00:00:00"},{"$f":"'[10]Список изделий'!AY4759","v":0},{"$f":"'[10]Список изделий'!AZ4759","v":"00:00:00"},-43153,-43153,0,0,{"$f":"'[10]Список изделий'!BR4759","v":0},0]
[760,{"$f":"'[10]Список изделий'!D4841","v":60},{"$f":"'[10]Список изделий'!E4841","v":0},{"$f":"'[10]Список изделий'!F4841","v":0},{"$f":"'[10]Список изделий'!I4841","v":0},{"$f":"'[10]Список изделий'!X4841","v":0},{"$f":"'[10]Список изделий'!Y4841","v":0},{"$f":"'[10]Список изделий'!Z4841","v":0},{"$f":"'[10]Список изделий'!AA4841","v":0},{"$f":"'[10]Список изделий'!AB4841","v":0},{"$f":"'[10]Список изделий'!AC4841","v":"x"},{"$f":"'[10]Список изделий'!AD4841","v":0},{"$f":"'[10]Список изделий'!AE4841","v":0},{"$f":"'[10]Список изделий'!AF4841","v":"00:00:00"},{"$f":"'[10]Список изделий'!AY4841","v":0},{"$f":"'[10]Список изделий'!AZ4841","v":"00:00:00"},-43153,-43153,0,0,{"$f":"'[10]Список изделий'!BR4841","v":0},0]
[761,{"$f":"'[10]Список изделий'!D4923","v":61},{"$f":"'[10]Список изделий'!E4923","v":0},{"$f":"'[10]Список изделий'!F4923","v":0},{"$f":"'[10]Список изделий'!I4923","v":0},{"$f":"'[10]Список изделий'!X4923","v":0},{"$f":"'[10]Список изделий'!Y4923","v":0},{"$f":"'[10]Список изделий'!Z4923","v":0},{"$f":"'[10]Список изделий'!AA4923","v":0},{"$f":"'[10]Список изделий'!AB4923","v":0},{"$f":"'[10]Список изделий'!AC4923","v":"x"},{"$f":"'[10]Список изделий'!AD4923","v":0},{"$f":"'[10]Список изделий'!AE4923","v":0},{"$f":"'[10]Список изделий'!AF4923","v":"00:00:00"},{"$f":"'[10]Список изделий'!AY4923","v":0},{"$f":"'[10]Список изделий'!AZ4923","v":"00:00:00"},-43153,-43153,0,0,{"$f":"'[10]Список изделий'!BR4923","v":0},0]
[762,{"$f":"'[10]Список изделий'!D5005","v":62},{"$f":"'[10]Список изделий'!E5005","v":0},{"$f":"'[10]Список изделий'!F5005","v":0},{"$f":"'[10]Список изделий'!I5005","v":0},{"$f":"'[10]Список изделий'!X5005","v":0},{"$f":"'[10]Список изделий'!Y5005","v":0},{"$f":"'[10]Список изделий'!Z5005","v":0},{"$f":"'[10]Список изделий'!AA5005","v":0},{"$f":"'[10]Список изделий'!AB5005","v":0},{"$f":"'[10]Список изделий'!AC5005","v":"x"},{"$f":"'[10]Список изделий'!AD5005","v":0},{"$f":"'[10]Список изделий'!AE5005","v":0},{"$f":"'[10]Список изделий'!AF5005","v":"00:00:00"},{"$f":"'[10]Список изделий'!AY5005","v":0},{"$f":"'[10]Список изделий'!AZ5005","v":"00:00:00"},-43153,-43153,0,0,{"$f":"'[10]Список изделий'!BR5005","v":0},0]
[763,{"$f":"'[10]Список изделий'!D5087","v":63},{"$f":"'[10]Список изделий'!E5087","v":0},{"$f":"'[10]Список изделий'!F5087","v":0},{"$f":"'[10]Список изделий'!I5087","v":0},{"$f":"'[10]Список изделий'!X5087","v":0},{"$f":"'[10]Список изделий'!Y5087","v":0},{"$f":"'[10]Список изделий'!Z5087","v":0},{"$f":"'[10]Список изделий'!AA5087","v":0},{"$f":"'[10]Список изделий'!AB5087","v":0},{"$f":"'[10]Список изделий'!AC5087","v":"x"},{"$f":"'[10]Список изделий'!AD5087","v":0},{"$f":"'[10]Список изделий'!AE5087","v":0},{"$f":"'[10]Список изделий'!AF5087","v":"00:00:00"},{"$f":"'[10]Список изделий'!AY5087","v":0},{"$f":"'[10]Список изделий'!AZ5087","v":"00:00:00"},-43153,-43153,0,0,{"$f":"'[10]Список изделий'!BR5087","v":0},0]
[764,{"$f":"'[10]Список изделий'!D5169","v":64},{"$f":"'[10]Список изделий'!E5169","v":0},{"$f":"'[10]Список изделий'!F5169","v":0},{"$f":"'[10]Список изделий'!I5169","v":0},{"$f":"'[10]Список изделий'!X5169","v":0},{"$f":"'[10]Список изделий'!Y5169","v":0},{"$f":"'[10]Список изделий'!Z5169","v":0},{"$f":"'[10]Список изделий'!AA5169","v":0},{"$f":"'[10]Список изделий'!AB5169","v":0},{"$f":"'[10]Список изделий'!AC5169","v":"x"},{"$f":"'[10]Список изделий'!AD5169","v":0},{"$f":"'[10]Список изделий'!AE5169","v":0},{"$f":"'[10]Список изделий'!AF5169","v":"00:00:00"},{"$f":"'[10]Список изделий'!AY5169","v":0},{"$f":"'[10]Список изделий'!AZ5169","v":"00:00:00"},-43153,-43153,0,0,{"$f":"'[10]Список изделий'!BR5169","v":0},0]
[765,{"$f":"'[10]Список изделий'!D5251","v":65},{"$f":"'[10]Список изделий'!E5251","v":0},{"$f":"'[10]Список изделий'!F5251","v":0},{"$f":"'[10]Список изделий'!I5251","v":0},{"$f":"'[10]Список изделий'!X5251","v":0},{"$f":"'[10]Список изделий'!Y5251","v":0},{"$f":"'[10]Список изделий'!Z5251","v":0},{"$f":"'[10]Список изделий'!AA5251","v":0},{"$f":"'[10]Список изделий'!AB5251","v":0},{"$f":"'[10]Список изделий'!AC5251","v":"x"},{"$f":"'[10]Список изделий'!AD5251","v":0},{"$f":"'[10]Список изделий'!AE5251","v":0},{"$f":"'[10]Список изделий'!AF5251","v":"00:00:00"},{"$f":"'[10]Список изделий'!AY5251","v":0},{"$f":"'[10]Список изделий'!AZ5251","v":"00:00:00"},-43153,-43153,0,0,{"$f":"'[10]Список изделий'!BR5251","v":0},0]
[766,{"$f":"'[10]Список изделий'!D5333","v":66},{"$f":"'[10]Список изделий'!E5333","v":0},{"$f":"'[10]Список изделий'!F5333","v":0},{"$f":"'[10]Список изделий'!I5333","v":0},{"$f":"'[10]Список изделий'!X5333","v":0},{"$f":"'[10]Список изделий'!Y5333","v":0},{"$f":"'[10]Список изделий'!Z5333","v":0},{"$f":"'[10]Список изделий'!AA5333","v":0},{"$f":"'[10]Список изделий'!AB5333","v":0},{"$f":"'[10]Список изделий'!AC5333","v":"x"},{"$f":"'[10]Список изделий'!AD5333","v":0},{"$f":"'[10]Список изделий'!AE5333","v":0},{"$f":"'[10]Список изделий'!AF5333","v":"00:00:00"},{"$f":"'[10]Список изделий'!AY5333","v":0},{"$f":"'[10]Список изделий'!AZ5333","v":"00:00:00"},-43153,-43153,0,0,{"$f":"'[10]Список изделий'!BR5333","v":0},0]
[767,{"$f":"'[10]Список изделий'!D5415","v":67},{"$f":"'[10]Список изделий'!E5415","v":0},{"$f":"'[10]Список изделий'!F5415","v":0},{"$f":"'[10]Список изделий'!I5415","v":0},{"$f":"'[10]Список изделий'!X5415","v":0},{"$f":"'[10]Список изделий'!Y5415","v":0},{"$f":"'[10]Список изделий'!Z5415","v":0},{"$f":"'[10]Список изделий'!AA5415","v":0},{"$f":"'[10]Список изделий'!AB5415","v":0},{"$f":"'[10]Список изделий'!AC5415","v":"x"},{"$f":"'[10]Список изделий'!AD5415","v":0},{"$f":"'[10]Список изделий'!AE5415","v":0},{"$f":"'[10]Список изделий'!AF5415","v":"00:00:00"},{"$f":"'[10]Список изделий'!AY5415","v":0},{"$f":"'[10]Список изделий'!AZ5415","v":"00:00:00"},-43153,-43153,0,0,{"$f":"'[10]Список изделий'!BR5415","v":0},0]
[768,{"$f":"'[10]Список изделий'!D5497","v":68},{"$f":"'[10]Список изделий'!E5497","v":0},{"$f":"'[10]Список изделий'!F5497","v":0},{"$f":"'[10]Список изделий'!I5497","v":0},{"$f":"'[10]Список изделий'!X5497","v":0},{"$f":"'[10]Список изделий'!Y5497","v":0},{"$f":"'[10]Список изделий'!Z5497","v":0},{"$f":"'[10]Список изделий'!AA5497","v":0},{"$f":"'[10]Список изделий'!AB5497","v":0},{"$f":"'[10]Список изделий'!AC5497","v":"x"},{"$f":"'[10]Список изделий'!AD5497","v":0},{"$f":"'[10]Список изделий'!AE5497","v":0},{"$f":"'[10]Список изделий'!AF5497","v":"00:00:00"},{"$f":"'[10]Список изделий'!AY5497","v":0},{"$f":"'[10]Список изделий'!AZ5497","v":"00:00:00"},-43153,-43153,0,0,{"$f":"'[10]Список изделий'!BR5497","v":0},0]
[769,{"$f":"'[10]Список изделий'!D5579","v":69},{"$f":"'[10]Список изделий'!E5579","v":0},{"$f":"'[10]Список изделий'!F5579","v":0},{"$f":"'[10]Список изделий'!I5579","v":0},{"$f":"'[10]Список изделий'!X5579","v":0},{"$f":"'[10]Список изделий'!Y5579","v":0},{"$f":"'[10]Список изделий'!Z5579","v":0},{"$f":"'[10]Список изделий'!AA5579","v":0},{"$f":"'[10]Список изделий'!AB5579","v":0},{"$f":"'[10]Список изделий'!AC5579","v":"x"},{"$f":"'[10]Список изделий'!AD5579","v":0},{"$f":"'[10]Список изделий'!AE5579","v":0},{"$f":"'[10]Список изделий'!AF5579","v":"00:00:00"},{"$f":"'[10]Список изделий'!AY5579","v":0},{"$f":"'[10]Список изделий'!AZ5579","v":"00:00:00"},-43153,-43153,0,0,{"$f":"'[10]Список изделий'!BR5579","v":0},0]
[770,{"$f":"'[10]Список изделий'!D5661","v":70},{"$f":"'[10]Список изделий'!E5661","v":0},{"$f":"'[10]Список изделий'!F5661","v":0},{"$f":"'[10]Список изделий'!I5661","v":0},{"$f":"'[10]Список изделий'!X5661","v":0},{"$f":"'[10]Список изделий'!Y5661","v":0},{"$f":"'[10]Список изделий'!Z5661","v":0},{"$f":"'[10]Список изделий'!AA5661","v":0},{"$f":"'[10]Список изделий'!AB5661","v":0},{"$f":"'[10]Список изделий'!AC5661","v":"x"},{"$f":"'[10]Список изделий'!AD5661","v":0},{"$f":"'[10]Список изделий'!AE5661","v":0},{"$f":"'[10]Список изделий'!AF5661","v":"00:00:00"},{"$f":"'[10]Список изделий'!AY5661","v":0},{"$f":"'[10]Список изделий'!AZ5661","v":"00:00:00"},{"$f":"IF(O772=\"нет в заказе\",\"нет в заказе\",-(TODAY()-(P772-O772)))","v":-43153},{"$f":"IF(Q772=\"нет в заказе\",\"нет взаказе\",-(IF(O772=\"нет в заказе\",\"нет в заказе\",TODAY()-P772)))","v":-43153},0,{"$f":"V772","v":0},{"$f":"'[10]Список изделий'!BR5661","v":0},{"$f":"IF(S772>=0,S772,IF(T772>S772,T772,S772))","v":0}]
[771,{"$f":"'[10]Список изделий'!D5743","v":71},{"$f":"'[10]Список изделий'!E5743","v":0},{"$f":"'[10]Список изделий'!F5743","v":0},{"$f":"'[10]Список изделий'!I5743","v":0},{"$f":"'[10]Список изделий'!X5743","v":0},{"$f":"'[10]Список изделий'!Y5743","v":0},{"$f":"'[10]Список изделий'!Z5743","v":0},{"$f":"'[10]Список изделий'!AA5743","v":0},{"$f":"'[10]Список изделий'!AB5743","v":0},{"$f":"'[10]Список изделий'!AC5743","v":"x"},{"$f":"'[10]Список изделий'!AD5743","v":0},{"$f":"'[10]Список изделий'!AE5743","v":0},{"$f":"'[10]Список изделий'!AF5743","v":"00:00:00"},{"$f":"'[10]Список изделий'!AY5743","v":0},{"$f":"'[10]Список изделий'!AZ5743","v":"00:00:00"},-43153,-43153,0,0,{"$f":"'[10]Список изделий'!BR5743","v":0},0]
[772,{"$f":"'[10]Список изделий'!D5825","v":72},{"$f":"'[10]Список изделий'!E5825","v":0},{"$f":"'[10]Список изделий'!F5825","v":0},{"$f":"'[10]Список изделий'!I5825","v":0},{"$f":"'[10]Список изделий'!X5825","v":0},{"$f":"'[10]Список изделий'!Y5825","v":0},{"$f":"'[10]Список изделий'!Z5825","v":0},{"$f":"'[10]Список изделий'!AA5825","v":0},{"$f":"'[10]Список изделий'!AB5825","v":0},{"$f":"'[10]Список изделий'!AC5825","v":"x"},{"$f":"'[10]Список изделий'!AD5825","v":0},{"$f":"'[10]Список изделий'!AE5825","v":0},{"$f":"'[10]Список изделий'!AF5825","v":"00:00:00"},{"$f":"'[10]Список изделий'!AY5825","v":0},{"$f":"'[10]Список изделий'!AZ5825","v":"00:00:00"},-43153,-43153,0,0,{"$f":"'[10]Список изделий'!BR5825","v":0},0]
[773,{"$f":"'[10]Список изделий'!D5907","v":73},{"$f":"'[10]Список изделий'!E5907","v":0},{"$f":"'[10]Список изделий'!F5907","v":0},{"$f":"'[10]Список изделий'!I5907","v":0},{"$f":"'[10]Список изделий'!X5907","v":0},{"$f":"'[10]Список изделий'!Y5907","v":0},{"$f":"'[10]Список изделий'!Z5907","v":0},{"$f":"'[10]Список изделий'!AA5907","v":0},{"$f":"'[10]Список изделий'!AB5907","v":0},{"$f":"'[10]Список изделий'!AC5907","v":"x"},{"$f":"'[10]Список изделий'!AD5907","v":0},{"$f":"'[10]Список изделий'!AE5907","v":0},{"$f":"'[10]Список изделий'!AF5907","v":"00:00:00"},{"$f":"'[10]Список изделий'!AY5907","v":0},{"$f":"'[10]Список изделий'!AZ5907","v":"00:00:00"},-43153,-43153,0,0,{"$f":"'[10]Список изделий'!BR5907","v":0},0]
[774,{"$f":"'[10]Список изделий'!D5989","v":74},{"$f":"'[10]Список изделий'!E5989","v":0},{"$f":"'[10]Список изделий'!F5989","v":0},{"$f":"'[10]Список изделий'!I5989","v":0},{"$f":"'[10]Список изделий'!X5989","v":0},{"$f":"'[10]Список изделий'!Y5989","v":0},{"$f":"'[10]Список изделий'!Z5989","v":0},{"$f":"'[10]Список изделий'!AA5989","v":0},{"$f":"'[10]Список изделий'!AB5989","v":0},{"$f":"'[10]Список изделий'!AC5989","v":"x"},{"$f":"'[10]Список изделий'!AD5989","v":0},{"$f":"'[10]Список изделий'!AE5989","v":0},{"$f":"'[10]Список изделий'!AF5989","v":"00:00:00"},{"$f":"'[10]Список изделий'!AY5989","v":0},{"$f":"'[10]Список изделий'!AZ5989","v":"00:00:00"},-43153,-43153,0,0,{"$f":"'[10]Список изделий'!BR5989","v":0},0]
[775,{"$f":"'[10]Список изделий'!D6071","v":75},{"$f":"'[10]Список изделий'!E6071","v":0},{"$f":"'[10]Список изделий'!F6071","v":0},{"$f":"'[10]Список изделий'!I6071","v":0},{"$f":"'[10]Список изделий'!X6071","v":0},{"$f":"'[10]Список изделий'!Y6071","v":0},{"$f":"'[10]Список изделий'!Z6071","v":0},{"$f":"'[10]Список изделий'!AA6071","v":0},{"$f":"'[10]Список изделий'!AB6071","v":0},{"$f":"'[10]Список изделий'!AC6071","v":"x"},{"$f":"'[10]Список изделий'!AD6071","v":0},{"$f":"'[10]Список изделий'!AE6071","v":0},{"$f":"'[10]Список изделий'!AF6071","v":"00:00:00"},{"$f":"'[10]Список изделий'!AY6071","v":0},{"$f":"'[10]Список изделий'!AZ6071","v":"00:00:00"},-43153,-43153,0,0,{"$f":"'[10]Список изделий'!BR6071","v":0},0]
[776,{"$f":"'[10]Список изделий'!D6153","v":76},{"$f":"'[10]Список изделий'!E6153","v":0},{"$f":"'[10]Список изделий'!F6153","v":0},{"$f":"'[10]Список изделий'!I6153","v":0},{"$f":"'[10]Список изделий'!X6153","v":0},{"$f":"'[10]Список изделий'!Y6153","v":0},{"$f":"'[10]Список изделий'!Z6153","v":0},{"$f":"'[10]Список изделий'!AA6153","v":0},{"$f":"'[10]Список изделий'!AB6153","v":0},{"$f":"'[10]Список изделий'!AC6153","v":"x"},{"$f":"'[10]Список изделий'!AD6153","v":0},{"$f":"'[10]Список изделий'!AE6153","v":0},{"$f":"'[10]Список изделий'!AF6153","v":"00:00:00"},{"$f":"'[10]Список изделий'!AY6153","v":0},{"$f":"'[10]Список изделий'!AZ6153","v":"00:00:00"},-43153,-43153,0,0,{"$f":"'[10]Список изделий'!BR6153","v":0},0]
[777,{"$f":"'[10]Список изделий'!D6235","v":77},{"$f":"'[10]Список изделий'!E6235","v":0},{"$f":"'[10]Список изделий'!F6235","v":0},{"$f":"'[10]Список изделий'!I6235","v":0},{"$f":"'[10]Список изделий'!X6235","v":0},{"$f":"'[10]Список изделий'!Y6235","v":0},{"$f":"'[10]Список изделий'!Z6235","v":0},{"$f":"'[10]Список изделий'!AA6235","v":0},{"$f":"'[10]Список изделий'!AB6235","v":0},{"$f":"'[10]Список изделий'!AC6235","v":"x"},{"$f":"'[10]Список изделий'!AD6235","v":0},{"$f":"'[10]Список изделий'!AE6235","v":0},{"$f":"'[10]Список изделий'!AF6235","v":"00:00:00"},{"$f":"'[10]Список изделий'!AY6235","v":0},{"$f":"'[10]Список изделий'!AZ6235","v":"00:00:00"},-43153,-43153,0,0,{"$f":"'[10]Список изделий'!BR6235","v":0},0]
[778,{"$f":"'[10]Список изделий'!D6317","v":78},{"$f":"'[10]Список изделий'!E6317","v":0},{"$f":"'[10]Список изделий'!F6317","v":0},{"$f":"'[10]Список изделий'!I6317","v":0},{"$f":"'[10]Список изделий'!X6317","v":0},{"$f":"'[10]Список изделий'!Y6317","v":0},{"$f":"'[10]Список изделий'!Z6317","v":0},{"$f":"'[10]Список изделий'!AA6317","v":0},{"$f":"'[10]Список изделий'!AB6317","v":0},{"$f":"'[10]Список изделий'!AC6317","v":"x"},{"$f":"'[10]Список изделий'!AD6317","v":0},{"$f":"'[10]Список изделий'!AE6317","v":0},{"$f":"'[10]Список изделий'!AF6317","v":"00:00:00"},{"$f":"'[10]Список изделий'!AY6317","v":0},{"$f":"'[10]Список изделий'!AZ6317","v":"00:00:00"},-43153,-43153,0,0,{"$f":"'[10]Список изделий'!BR6317","v":0},0]
[779,{"$f":"'[10]Список изделий'!D6399","v":79},{"$f":"'[10]Список изделий'!E6399","v":0},{"$f":"'[10]Список изделий'!F6399","v":0},{"$f":"'[10]Список изделий'!I6399","v":0},{"$f":"'[10]Список изделий'!X6399","v":0},{"$f":"'[10]Список изделий'!Y6399","v":0},{"$f":"'[10]Список изделий'!Z6399","v":0},{"$f":"'[10]Список изделий'!AA6399","v":0},{"$f":"'[10]Список изделий'!AB6399","v":0},{"$f":"'[10]Список изделий'!AC6399","v":"x"},{"$f":"'[10]Список изделий'!AD6399","v":0},{"$f":"'[10]Список изделий'!AE6399","v":0},{"$f":"'[10]Список изделий'!AF6399","v":"00:00:00"},{"$f":"'[10]Список изделий'!AY6399","v":0},{"$f":"'[10]Список изделий'!AZ6399","v":"00:00:00"},-43153,-43153,0,0,{"$f":"'[10]Список изделий'!BR6399","v":0},0]
[780,{"$f":"'[10]Список изделий'!D6481","v":80},{"$f":"'[10]Список изделий'!E6481","v":0},{"$f":"'[10]Список изделий'!F6481","v":0},{"$f":"'[10]Список изделий'!I6481","v":0},{"$f":"'[10]Список изделий'!X6481","v":0},{"$f":"'[10]Список изделий'!Y6481","v":0},{"$f":"'[10]Список изделий'!Z6481","v":0},{"$f":"'[10]Список изделий'!AA6481","v":0},{"$f":"'[10]Список изделий'!AB6481","v":0},{"$f":"'[10]Список изделий'!AC6481","v":"x"},{"$f":"'[10]Список изделий'!AD6481","v":0},{"$f":"'[10]Список изделий'!AE6481","v":0},{"$f":"'[10]Список изделий'!AF6481","v":"00:00:00"},{"$f":"'[10]Список изделий'!AY6481","v":0},{"$f":"'[10]Список изделий'!AZ6481","v":"00:00:00"},-43153,-43153,0,0,{"$f":"'[10]Список изделий'!BR6481","v":0},0]
[781,{"$f":"'[10]Список изделий'!D6563","v":81},{"$f":"'[10]Список изделий'!E6563","v":0},{"$f":"'[10]Список изделий'!F6563","v":0},{"$f":"'[10]Список изделий'!I6563","v":0},{"$f":"'[10]Список изделий'!X6563","v":0},{"$f":"'[10]Список изделий'!Y6563","v":0},{"$f":"'[10]Список изделий'!Z6563","v":0},{"$f":"'[10]Список изделий'!AA6563","v":0},{"$f":"'[10]Список изделий'!AB6563","v":0},{"$f":"'[10]Список изделий'!AC6563","v":"x"},{"$f":"'[10]Список изделий'!AD6563","v":0},{"$f":"'[10]Список изделий'!AE6563","v":0},{"$f":"'[10]Список изделий'!AF6563","v":"00:00:00"},{"$f":"'[10]Список изделий'!AY6563","v":0},{"$f":"'[10]Список изделий'!AZ6563","v":"00:00:00"},-43153,-43153,0,0,{"$f":"'[10]Список изделий'!BR6563","v":0},0]
[782,{"$f":"'[10]Список изделий'!D6645","v":82},{"$f":"'[10]Список изделий'!E6645","v":0},{"$f":"'[10]Список изделий'!F6645","v":0},{"$f":"'[10]Список изделий'!I6645","v":0},{"$f":"'[10]Список изделий'!X6645","v":0},{"$f":"'[10]Список изделий'!Y6645","v":0},{"$f":"'[10]Список изделий'!Z6645","v":0},{"$f":"'[10]Список изделий'!AA6645","v":0},{"$f":"'[10]Список изделий'!AB6645","v":0},{"$f":"'[10]Список изделий'!AC6645","v":"x"},{"$f":"'[10]Список изделий'!AD6645","v":0},{"$f":"'[10]Список изделий'!AE6645","v":0},{"$f":"'[10]Список изделий'!AF6645","v":"00:00:00"},{"$f":"'[10]Список изделий'!AY6645","v":0},{"$f":"'[10]Список изделий'!AZ6645","v":"00:00:00"},-43153,-43153,0,0,{"$f":"'[10]Список изделий'!BR6645","v":0},0]
[783,{"$f":"'[10]Список изделий'!D6727","v":83},{"$f":"'[10]Список изделий'!E6727","v":0},{"$f":"'[10]Список изделий'!F6727","v":0},{"$f":"'[10]Список изделий'!I6727","v":0},{"$f":"'[10]Список изделий'!X6727","v":0},{"$f":"'[10]Список изделий'!Y6727","v":0},{"$f":"'[10]Список изделий'!Z6727","v":0},{"$f":"'[10]Список изделий'!AA6727","v":0},{"$f":"'[10]Список изделий'!AB6727","v":0},{"$f":"'[10]Список изделий'!AC6727","v":"x"},{"$f":"'[10]Список изделий'!AD6727","v":0},{"$f":"'[10]Список изделий'!AE6727","v":0},{"$f":"'[10]Список изделий'!AF6727","v":"00:00:00"},{"$f":"'[10]Список изделий'!AY6727","v":0},{"$f":"'[10]Список изделий'!AZ6727","v":"00:00:00"},-43153,-43153,0,0,{"$f":"'[10]Список изделий'!BR6727","v":0},0]
[784,{"$f":"'[10]Список изделий'!D6809","v":84},{"$f":"'[10]Список изделий'!E6809","v":0},{"$f":"'[10]Список изделий'!F6809","v":0},{"$f":"'[10]Список изделий'!I6809","v":0},{"$f":"'[10]Список изделий'!X6809","v":0},{"$f":"'[10]Список изделий'!Y6809","v":0},{"$f":"'[10]Список изделий'!Z6809","v":0},{"$f":"'[10]Список изделий'!AA6809","v":0},{"$f":"'[10]Список изделий'!AB6809","v":0},{"$f":"'[10]Список изделий'!AC6809","v":"x"},{"$f":"'[10]Список изделий'!AD6809","v":0},{"$f":"'[10]Список изделий'!AE6809","v":0},{"$f":"'[10]Список изделий'!AF6809","v":"00:00:00"},{"$f":"'[10]Список изделий'!AY6809","v":0},{"$f":"'[10]Список изделий'!AZ6809","v":"00:00:00"},-43153,-43153,0,0,{"$f":"'[10]Список изделий'!BR6809","v":0},0]
[785,{"$f":"'[10]Список изделий'!D6891","v":85},{"$f":"'[10]Список изделий'!E6891","v":0},{"$f":"'[10]Список изделий'!F6891","v":0},{"$f":"'[10]Список изделий'!I6891","v":0},{"$f":"'[10]Список изделий'!X6891","v":0},{"$f":"'[10]Список изделий'!Y6891","v":0},{"$f":"'[10]Список изделий'!Z6891","v":0},{"$f":"'[10]Список изделий'!AA6891","v":0},{"$f":"'[10]Список изделий'!AB6891","v":0},{"$f":"'[10]Список изделий'!AC6891","v":"x"},{"$f":"'[10]Список изделий'!AD6891","v":0},{"$f":"'[10]Список изделий'!AE6891","v":0},{"$f":"'[10]Список изделий'!AF6891","v":"00:00:00"},{"$f":"'[10]Список изделий'!AY6891","v":0},{"$f":"'[10]Список изделий'!AZ6891","v":"00:00:00"},-43153,-43153,0,0,{"$f":"'[10]Список изделий'!BR6891","v":0},0]
[786,1,{"$f":"'[10]Список изделий'!E6973","v":0},{"$f":"'[10]Список изделий'!F6973","v":"Кронштейн для конструкций Суперцена"},{"$f":"'[10]Список изделий'!I6973","v":0},{"$f":"'[10]Список изделий'!X6973","v":0},{"$f":"'[10]Список изделий'!Y6973","v":0},{"$f":"'[10]Список изделий'!Z6973","v":0},{"$f":"'[10]Список изделий'!AA6973","v":0},{"$f":"'[10]Список изделий'!AB6973","v":1020},{"$f":"'[10]Список изделий'!AC6973","v":"x"},{"$f":"'[10]Список изделий'!AD6973","v":300},{"$f":"'[10]Список изделий'!AE6973","v":"мм"},{"$f":"'[10]Список изделий'!AF6973","v":"00:00:00"},{"$f":"'[10]Список изделий'!AY6973","v":0},{"$f":"'[10]Список изделий'!AZ6973","v":"00:00:00"},-43153,-43153,0,0,{"$f":"'[10]Список изделий'!BR6973","v":0},0]
[787,{"$f":"'[10]Список изделий'!D7055","v":87},{"$f":"'[10]Список изделий'!E7055","v":0},{"$f":"'[10]Список изделий'!F7055","v":0},{"$f":"'[10]Список изделий'!I7055","v":0},{"$f":"'[10]Список изделий'!X7055","v":0},{"$f":"'[10]Список изделий'!Y7055","v":0},{"$f":"'[10]Список изделий'!Z7055","v":0},{"$f":"'[10]Список изделий'!AA7055","v":0},{"$f":"'[10]Список изделий'!AB7055","v":0},{"$f":"'[10]Список изделий'!AC7055","v":"x"},{"$f":"'[10]Список изделий'!AD7055","v":0},{"$f":"'[10]Список изделий'!AE7055","v":0},{"$f":"'[10]Список изделий'!AF7055","v":"00:00:00"},{"$f":"'[10]Список изделий'!AY7055","v":0},{"$f":"'[10]Список изделий'!AZ7055","v":"00:00:00"},-43153,-43153,0,0,{"$f":"'[10]Список изделий'!BR7055","v":0},0]
[788,{"$f":"'[10]Список изделий'!D7137","v":88},{"$f":"'[10]Список изделий'!E7137","v":0},{"$f":"'[10]Список изделий'!F7137","v":0},{"$f":"'[10]Список изделий'!I7137","v":0},{"$f":"'[10]Список изделий'!X7137","v":0},{"$f":"'[10]Список изделий'!Y7137","v":0},{"$f":"'[10]Список изделий'!Z7137","v":0},{"$f":"'[10]Список изделий'!AA7137","v":0},{"$f":"'[10]Список изделий'!AB7137","v":0},{"$f":"'[10]Список изделий'!AC7137","v":"x"},{"$f":"'[10]Список изделий'!AD7137","v":0},{"$f":"'[10]Список изделий'!AE7137","v":0},{"$f":"'[10]Список изделий'!AF7137","v":"00:00:00"},{"$f":"'[10]Список изделий'!AY7137","v":0},{"$f":"'[10]Список изделий'!AZ7137","v":"00:00:00"},-43153,-43153,0,0,{"$f":"'[10]Список изделий'!BR7137","v":0},0]
[789,{"$f":"'[10]Список изделий'!D7219","v":89},{"$f":"'[10]Список изделий'!E7219","v":0},{"$f":"'[10]Список изделий'!F7219","v":0},{"$f":"'[10]Список изделий'!I7219","v":0},{"$f":"'[10]Список изделий'!X7219","v":0},{"$f":"'[10]Список изделий'!Y7219","v":0},{"$f":"'[10]Список изделий'!Z7219","v":0},{"$f":"'[10]Список изделий'!AA7219","v":0},{"$f":"'[10]Список изделий'!AB7219","v":0},{"$f":"'[10]Список изделий'!AC7219","v":"x"},{"$f":"'[10]Список изделий'!AD7219","v":0},{"$f":"'[10]Список изделий'!AE7219","v":0},{"$f":"'[10]Список изделий'!AF7219","v":"00:00:00"},{"$f":"'[10]Список изделий'!AY7219","v":0},{"$f":"'[10]Список изделий'!AZ7219","v":"00:00:00"},-43153,-43153,0,0,{"$f":"'[10]Список изделий'!BR7219","v":0},0]
[790,{"$f":"'[10]Список изделий'!D7301","v":90},{"$f":"'[10]Список изделий'!E7301","v":0},{"$f":"'[10]Список изделий'!F7301","v":0},{"$f":"'[10]Список изделий'!I7301","v":0},{"$f":"'[10]Список изделий'!X7301","v":0},{"$f":"'[10]Список изделий'!Y7301","v":0},{"$f":"'[10]Список изделий'!Z7301","v":0},{"$f":"'[10]Список изделий'!AA7301","v":0},{"$f":"'[10]Список изделий'!AB7301","v":0},{"$f":"'[10]Список изделий'!AC7301","v":"x"},{"$f":"'[10]Список изделий'!AD7301","v":0},{"$f":"'[10]Список изделий'!AE7301","v":0},{"$f":"'[10]Список изделий'!AF7301","v":"00:00:00"},{"$f":"'[10]Список изделий'!AY7301","v":0},{"$f":"'[10]Список изделий'!AZ7301","v":"00:00:00"},-43153,-43153,0,0,{"$f":"'[10]Список изделий'!BR7301","v":0},0]
[791,{"$f":"'[10]Список изделий'!D7383","v":91},{"$f":"'[10]Список изделий'!E7383","v":0},{"$f":"'[10]Список изделий'!F7383","v":0},{"$f":"'[10]Список изделий'!I7383","v":0},{"$f":"'[10]Список изделий'!X7383","v":0},{"$f":"'[10]Список изделий'!Y7383","v":0},{"$f":"'[10]Список изделий'!Z7383","v":0},{"$f":"'[10]Список изделий'!AA7383","v":0},{"$f":"'[10]Список изделий'!AB7383","v":0},{"$f":"'[10]Список изделий'!AC7383","v":"x"},{"$f":"'[10]Список изделий'!AD7383","v":0},{"$f":"'[10]Список изделий'!AE7383","v":0},{"$f":"'[10]Список изделий'!AF7383","v":"00:00:00"},{"$f":"'[10]Список изделий'!AY7383","v":0},{"$f":"'[10]Список изделий'!AZ7383","v":"00:00:00"},-43153,-43153,0,0,{"$f":"'[10]Список изделий'!BR7383","v":0},0]
[792,{"$f":"'[10]Список изделий'!D7465","v":92},{"$f":"'[10]Список изделий'!E7465","v":0},{"$f":"'[10]Список изделий'!F7465","v":0},{"$f":"'[10]Список изделий'!I7465","v":0},{"$f":"'[10]Список изделий'!X7465","v":0},{"$f":"'[10]Список изделий'!Y7465","v":0},{"$f":"'[10]Список изделий'!Z7465","v":0},{"$f":"'[10]Список изделий'!AA7465","v":0},{"$f":"'[10]Список изделий'!AB7465","v":0},{"$f":"'[10]Список изделий'!AC7465","v":"x"},{"$f":"'[10]Список изделий'!AD7465","v":0},{"$f":"'[10]Список изделий'!AE7465","v":0},{"$f":"'[10]Список изделий'!AF7465","v":"00:00:00"},{"$f":"'[10]Список изделий'!AY7465","v":0},{"$f":"'[10]Список изделий'!AZ7465","v":"00:00:00"},-43153,-43153,0,0,{"$f":"'[10]Список изделий'!BR7465","v":0},0]
[793,{"$f":"'[10]Список изделий'!D7547","v":93},{"$f":"'[10]Список изделий'!E7547","v":0},{"$f":"'[10]Список изделий'!F7547","v":0},{"$f":"'[10]Список изделий'!I7547","v":0},{"$f":"'[10]Список изделий'!X7547","v":0},{"$f":"'[10]Список изделий'!Y7547","v":0},{"$f":"'[10]Список изделий'!Z7547","v":0},{"$f":"'[10]Список изделий'!AA7547","v":0},{"$f":"'[10]Список изделий'!AB7547","v":0},{"$f":"'[10]Список изделий'!AC7547","v":"x"},{"$f":"'[10]Список изделий'!AD7547","v":0},{"$f":"'[10]Список изделий'!AE7547","v":0},{"$f":"'[10]Список изделий'!AF7547","v":"00:00:00"},{"$f":"'[10]Список изделий'!AY7547","v":0},{"$f":"'[10]Список изделий'!AZ7547","v":"00:00:00"},-43153,-43153,0,0,{"$f":"'[10]Список изделий'!BR7547","v":0},0]
[794,{"$f":"'[10]Список изделий'!D7629","v":94},{"$f":"'[10]Список изделий'!E7629","v":0},{"$f":"'[10]Список изделий'!F7629","v":0},{"$f":"'[10]Список изделий'!I7629","v":0},{"$f":"'[10]Список изделий'!X7629","v":0},{"$f":"'[10]Список изделий'!Y7629","v":0},{"$f":"'[10]Список изделий'!Z7629","v":0},{"$f":"'[10]Список изделий'!AA7629","v":0},{"$f":"'[10]Список изделий'!AB7629","v":0},{"$f":"'[10]Список изделий'!AC7629","v":"x"},{"$f":"'[10]Список изделий'!AD7629","v":0},{"$f":"'[10]Список изделий'!AE7629","v":0},{"$f":"'[10]Список изделий'!AF7629","v":"00:00:00"},{"$f":"'[10]Список изделий'!AY7629","v":0},{"$f":"'[10]Список изделий'!AZ7629","v":"00:00:00"},-43153,-43153,0,0,{"$f":"'[10]Список изделий'!BR7629","v":0},0]
[795,{"$f":"'[10]Список изделий'!D7711","v":95},{"$f":"'[10]Список изделий'!E7711","v":0},{"$f":"'[10]Список изделий'!F7711","v":0},{"$f":"'[10]Список изделий'!I7711","v":0},{"$f":"'[10]Список изделий'!X7711","v":0},{"$f":"'[10]Список изделий'!Y7711","v":0},{"$f":"'[10]Список изделий'!Z7711","v":0},{"$f":"'[10]Список изделий'!AA7711","v":0},{"$f":"'[10]Список изделий'!AB7711","v":0},{"$f":"'[10]Список изделий'!AC7711","v":"x"},{"$f":"'[10]Список изделий'!AD7711","v":0},{"$f":"'[10]Список изделий'!AE7711","v":0},{"$f":"'[10]Список изделий'!AF7711","v":"00:00:00"},{"$f":"'[10]Список изделий'!AY7711","v":0},{"$f":"'[10]Список изделий'!AZ7711","v":"00:00:00"},-43153,-43153,0,0,{"$f":"'[10]Список изделий'!BR7711","v":0},0]
[796,{"$f":"'[10]Список изделий'!D7793","v":96},{"$f":"'[10]Список изделий'!E7793","v":0},{"$f":"'[10]Список изделий'!F7793","v":0},{"$f":"'[10]Список изделий'!I7793","v":0},{"$f":"'[10]Список изделий'!X7793","v":0},{"$f":"'[10]Список изделий'!Y7793","v":0},{"$f":"'[10]Список изделий'!Z7793","v":0},{"$f":"'[10]Список изделий'!AA7793","v":0},{"$f":"'[10]Список изделий'!AB7793","v":0},{"$f":"'[10]Список изделий'!AC7793","v":"x"},{"$f":"'[10]Список изделий'!AD7793","v":0},{"$f":"'[10]Список изделий'!AE7793","v":0},{"$f":"'[10]Список изделий'!AF7793","v":"00:00:00"},{"$f":"'[10]Список изделий'!AY7793","v":0},{"$f":"'[10]Список изделий'!AZ7793","v":"00:00:00"},-43153,-43153,0,0,{"$f":"'[10]Список изделий'!BR7793","v":0},0]
[797,{"$f":"'[10]Список изделий'!D7875","v":97},{"$f":"'[10]Список изделий'!E7875","v":0},{"$f":"'[10]Список изделий'!F7875","v":0},{"$f":"'[10]Список изделий'!I7875","v":0},{"$f":"'[10]Список изделий'!X7875","v":0},{"$f":"'[10]Список изделий'!Y7875","v":0},{"$f":"'[10]Список изделий'!Z7875","v":0},{"$f":"'[10]Список изделий'!AA7875","v":0},{"$f":"'[10]Список изделий'!AB7875","v":0},{"$f":"'[10]Список изделий'!AC7875","v":"x"},{"$f":"'[10]Список изделий'!AD7875","v":0},{"$f":"'[10]Список изделий'!AE7875","v":0},{"$f":"'[10]Список изделий'!AF7875","v":"00:00:00"},{"$f":"'[10]Список изделий'!AY7875","v":0},{"$f":"'[10]Список изделий'!AZ7875","v":"00:00:00"},-43153,-43153,0,0,{"$f":"'[10]Список изделий'!BR7875","v":0},0]
[798,{"$f":"'[10]Список изделий'!D7957","v":98},{"$f":"'[10]Список изделий'!E7957","v":0},{"$f":"'[10]Список изделий'!F7957","v":0},{"$f":"'[10]Список изделий'!I7957","v":0},{"$f":"'[10]Список изделий'!X7957","v":0},{"$f":"'[10]Список изделий'!Y7957","v":0},{"$f":"'[10]Список изделий'!Z7957","v":0},{"$f":"'[10]Список изделий'!AA7957","v":0},{"$f":"'[10]Список изделий'!AB7957","v":0},{"$f":"'[10]Список изделий'!AC7957","v":"x"},{"$f":"'[10]Список изделий'!AD7957","v":0},{"$f":"'[10]Список изделий'!AE7957","v":0},{"$f":"'[10]Список изделий'!AF7957","v":"00:00:00"},{"$f":"'[10]Список изделий'!AY7957","v":0},{"$f":"'[10]Список изделий'!AZ7957","v":"00:00:00"},-43153,-43153,0,0,{"$f":"'[10]Список изделий'!BR7957","v":0},0]
[799,{"$f":"'[10]Список изделий'!D8039","v":99},{"$f":"'[10]Список изделий'!E8039","v":0},{"$f":"'[10]Список изделий'!F8039","v":0},{"$f":"'[10]Список изделий'!I8039","v":0},{"$f":"'[10]Список изделий'!X8039","v":0},{"$f":"'[10]Список изделий'!Y8039","v":0},{"$f":"'[10]Список изделий'!Z8039","v":0},{"$f":"'[10]Список изделий'!AA8039","v":0},{"$f":"'[10]Список изделий'!AB8039","v":0},{"$f":"'[10]Список изделий'!AC8039","v":"x"},{"$f":"'[10]Список изделий'!AD8039","v":0},{"$f":"'[10]Список изделий'!AE8039","v":0},{"$f":"'[10]Список изделий'!AF8039","v":"00:00:00"},{"$f":"'[10]Список изделий'!AY8039","v":0},{"$f":"'[10]Список изделий'!AZ8039","v":"00:00:00"},-43153,-43153,0,0,{"$f":"'[10]Список изделий'!BR8039","v":0},0]
[800,{"$f":"'[10]Список изделий'!D8121","v":100},{"$f":"'[10]Список изделий'!E8121","v":0},{"$f":"'[10]Список изделий'!F8121","v":0},{"$f":"'[10]Список изделий'!I8121","v":0},{"$f":"'[10]Список изделий'!X8121","v":0},{"$f":"'[10]Список изделий'!Y8121","v":0},{"$f":"'[10]Список изделий'!Z8121","v":0},{"$f":"'[10]Список изделий'!AA8121","v":0},{"$f":"'[10]Список изделий'!AB8121","v":0},{"$f":"'[10]Список изделий'!AC8121","v":"x"},{"$f":"'[10]Список изделий'!AD8121","v":0},{"$f":"'[10]Список изделий'!AE8121","v":0},{"$f":"'[10]Список изделий'!AF8121","v":"00:00:00"},{"$f":"'[10]Список изделий'!AY8121","v":0},{"$f":"'[10]Список изделий'!AZ8121","v":"00:00:00"},-43153,-43153,0,0,{"$f":"'[10]Список изделий'!BR8121","v":0},0]
[626,{"$f":"'[9]Список изделий'!D2053","v":26},{"$f":"'[9]Список изделий'!E2053","v":"Пер-Энерге26"},{"$f":"'[9]Список изделий'!F2053","v":"Оформление холодильников"},{"$f":"'[9]Список изделий'!I2053","v":14},{"$f":"'[9]Список изделий'!X2053","v":"ГМА"},{"$f":"'[9]Список изделий'!Y2053","v":"Микуло"},{"$f":"'[9]Список изделий'!Z2053","v":"Закурдаев"},{"$f":"'[9]Список изделий'!AA2053","v":"Замотаев"},{"$f":"'[9]Список изделий'!AB2053","v":0},{"$f":"'[9]Список изделий'!AC2053","v":"x"},{"$f":"'[9]Список изделий'!AD2053","v":0},{"$f":"'[9]Список изделий'!AE2053","v":0},{"$f":"'[9]Список изделий'!AF2053","v":"2018-02-20"},{"$f":"'[9]Список изделий'!AY2053","v":7},{"$f":"'[9]Список изделий'!AZ2053","v":"2018-02-15"},-14,-7,1,1,{"$f":"'[9]Список изделий'!BR2053","v":"\\\\SERVER\\Data1\\П\\Перекресток\\2018\\Энергетиков 8\\техничка\\26-Оформление холодильников"},1]
[627,{"$f":"'[9]Список изделий'!D2135","v":27},{"$f":"'[9]Список изделий'!E2135","v":"Пер-Энерге27"},{"$f":"'[9]Список изделий'!F2135","v":"Оформление отдела Быстро и вкусно"},{"$f":"'[9]Список изделий'!I2135","v":12},{"$f":"'[9]Список изделий'!X2135","v":"ГМА"},{"$f":"'[9]Список изделий'!Y2135","v":"Микуло"},{"$f":"'[9]Список изделий'!Z2135","v":"Закурдаев"},{"$f":"'[9]Список изделий'!AA2135","v":"Замотаев"},{"$f":"'[9]Список изделий'!AB2135","v":0},{"$f":"'[9]Список изделий'!AC2135","v":"x"},{"$f":"'[9]Список изделий'!AD2135","v":0},{"$f":"'[9]Список изделий'!AE2135","v":0},{"$f":"'[9]Список изделий'!AF2135","v":"2018-02-20"},{"$f":"'[9]Список изделий'!AY2135","v":7},{"$f":"'[9]Список изделий'!AZ2135","v":"2018-02-15"},-14,-7,1,1,{"$f":"'[9]Список изделий'!BR2135","v":"\\\\SERVER\\Data1\\П\\Перекресток\\2018\\Энергетиков 8\\техничка\\27-Быстро_и_вкусно"},1]
[628,{"$f":"'[9]Список изделий'!D2217","v":28},{"$f":"'[9]Список изделий'!E2217","v":"Пер-Энерге28"},{"$f":"'[9]Список изделий'!F2217","v":"Стойка деревянная \"Перекресток\" с крючками"},{"$f":"'[9]Список изделий'!I2217","v":1},{"$f":"'[9]Список изделий'!X2217","v":"ГМА"},{"$f":"'[9]Список изделий'!Y2217","v":"Микуло"},{"$f":"'[9]Список изделий'!Z2217","v":"Закурдаев"},{"$f":"'[9]Список изделий'!AA2217","v":"Замотаев"},{"$f":"'[9]Список изделий'!AB2217","v":0},{"$f":"'[9]Список изделий'!AC2217","v":"x"},{"$f":"'[9]Список изделий'!AD2217","v":0},{"$f":"'[9]Список изделий'!AE2217","v":0},{"$f":"'[9]Список изделий'!AF2217","v":"2018-02-20"},{"$f":"'[9]Список изделий'!AY2217","v":7},{"$f":"'[9]Список изделий'!AZ2217","v":"2018-02-15"},-14,-7,1,1,{"$f":"'[9]Список изделий'!BR2217","v":"\\\\SERVER\\Data1\\П\\Перекресток\\2018\\Энергетиков 8\\техничка\\28-Стойка_деревянная-Перекресток"},1]
[629,{"$f":"'[9]Список изделий'!D2299","v":29},{"$f":"'[9]Список изделий'!E2299","v":"Пер-Энерге29"},{"$f":"'[9]Список изделий'!F2299","v":"Фриз стеллажный 2хст. Объемный \"Конфеты\""},{"$f":"'[9]Список изделий'!I2299","v":2},{"$f":"'[9]Список изделий'!X2299","v":"ГМА"},{"$f":"'[9]Список изделий'!Y2299","v":"Микуло"},{"$f":"'[9]Список изделий'!Z2299","v":"Закурдаев"},{"$f":"'[9]Список изделий'!AA2299","v":"Замотаев"},{"$f":"'[9]Список изделий'!AB2299","v":0},{"$f":"'[9]Список изделий'!AC2299","v":"x"},{"$f":"'[9]Список изделий'!AD2299","v":0},{"$f":"'[9]Список изделий'!AE2299","v":0},{"$f":"'[9]Список изделий'!AF2299","v":"2018-02-20"},{"$f":"'[9]Список изделий'!AY2299","v":7},{"$f":"'[9]Список изделий'!AZ2299","v":"2018-02-15"},-14,-7,1,1,{"$f":"'[9]Список изделий'!BR2299","v":"\\\\SERVER\\Data1\\П\\Перекресток\\2018\\Энергетиков 8\\техничка\\29-фриз_Конфеты"},1]
[630,{"$f":"'[9]Список изделий'!D2381","v":30},{"$f":"'[9]Список изделий'!E2381","v":"Пер-Энерге30"},{"$f":"'[9]Список изделий'!F2381","v":"Оформление отдела Детство"},{"$f":"'[9]Список изделий'!I2381","v":"3изд"},{"$f":"'[9]Список изделий'!X2381","v":"ГМА"},{"$f":"'[9]Список изделий'!Y2381","v":"Микуло"},{"$f":"'[9]Список изделий'!Z2381","v":"Закурдаев"},{"$f":"'[9]Список изделий'!AA2381","v":"Замотаев"},{"$f":"'[9]Список изделий'!AB2381","v":0},{"$f":"'[9]Список изделий'!AC2381","v":"x"},{"$f":"'[9]Список изделий'!AD2381","v":0},{"$f":"'[9]Список изделий'!AE2381","v":0},{"$f":"'[9]Список изделий'!AF2381","v":"2018-02-20"},{"$f":"'[9]Список изделий'!AY2381","v":7},{"$f":"'[9]Список изделий'!AZ2381","v":"2018-02-15"},-14,-7,1,1,{"$f":"'[9]Список изделий'!BR2381","v":"\\\\SERVER\\Data1\\П\\Перекресток\\2018\\Энергетиков 8\\техничка\\30-Оформление отдела детство"},1]
[631,{"$f":"'[9]Список изделий'!D2463","v":31},{"$f":"'[9]Список изделий'!E2463","v":"Пер-Энерге31"},{"$f":"'[9]Список изделий'!F2463","v":"Подвес на 3 кармана в проходы между касс (комплект с пп печатью)"},{"$f":"'[9]Список изделий'!I2463","v":3},{"$f":"'[9]Список изделий'!X2463","v":"ГМА"},{"$f":"'[9]Список изделий'!Y2463","v":"Микуло"},{"$f":"'[9]Список изделий'!Z2463","v":"Закурдаев"},{"$f":"'[9]Список изделий'!AA2463","v":"Замотаев"},{"$f":"'[9]Список изделий'!AB2463","v":0},{"$f":"'[9]Список изделий'!AC2463","v":"x"},{"$f":"'[9]Список изделий'!AD2463","v":0},{"$f":"'[9]Список изделий'!AE2463","v":0},{"$f":"'[9]Список изделий'!AF2463","v":"2018-02-20"},{"$f":"'[9]Список изделий'!AY2463","v":7},{"$f":"'[9]Список изделий'!AZ2463","v":"2018-02-15"},-14,-7,1,1,{"$f":"'[9]Список изделий'!BR2463","v":"\\\\SERVER\\Data1\\П\\Перекресток\\2018\\Энергетиков 8\\техничка\\31-Подвес_3кармана"},1]
[636,{"$f":"'[9]Список изделий'!D2873","v":36},{"$f":"'[9]Список изделий'!E2873","v":"Пер-Энерге36"},{"$f":"'[9]Список изделий'!F2873","v":"Служебные таблички"},{"$f":"'[9]Список изделий'!I2873","v":"1 комп"},{"$f":"'[9]Список изделий'!X2873","v":"ГМА"},{"$f":"'[9]Список изделий'!Y2873","v":"Микуло"},{"$f":"'[9]Список изделий'!Z2873","v":"Закурдаев"},{"$f":"'[9]Список изделий'!AA2873","v":"Замотаев"},{"$f":"'[9]Список изделий'!AB2873","v":0},{"$f":"'[9]Список изделий'!AC2873","v":"x"},{"$f":"'[9]Список изделий'!AD2873","v":0},{"$f":"'[9]Список изделий'!AE2873","v":0},{"$f":"'[9]Список изделий'!AF2873","v":"2018-02-20"},{"$f":"'[9]Список изделий'!AY2873","v":7},{"$f":"'[9]Список изделий'!AZ2873","v":"2018-02-15"},-14,-7,1,1,{"$f":"'[9]Список изделий'!BR2873","v":"\\\\SERVER\\Data1\\П\\Перекресток\\2018\\Энергетиков 8\\техничка\\36-Служебные_таблички"},1]
[638,{"$f":"'[9]Список изделий'!D3037","v":38},{"$f":"'[9]Список изделий'!E3037","v":"Пер-Энерге38"},{"$f":"'[9]Список изделий'!F3037","v":"Стикер Номер кассы (комплект из 2 шт.)"},{"$f":"'[9]Список изделий'!I3037","v":"6комп"},{"$f":"'[9]Список изделий'!X3037","v":"ГМА"},{"$f":"'[9]Список изделий'!Y3037","v":"Микуло"},{"$f":"'[9]Список изделий'!Z3037","v":"Закурдаев"},{"$f":"'[9]Список изделий'!AA3037","v":"Замотаев"},{"$f":"'[9]Список изделий'!AB3037","v":0},{"$f":"'[9]Список изделий'!AC3037","v":"x"},{"$f":"'[9]Список изделий'!AD3037","v":0},{"$f":"'[9]Список изделий'!AE3037","v":0},{"$f":"'[9]Список изделий'!AF3037","v":"2018-02-20"},{"$f":"'[9]Список изделий'!AY3037","v":7},{"$f":"'[9]Список изделий'!AZ3037","v":"2018-02-15"},-14,-7,1,1,{"$f":"'[9]Список изделий'!BR3037","v":"\\\\SERVER\\Data1\\П\\Перекресток\\2018\\Энергетиков 8\\техничка\\38-стикер_Номер_КАССЫ"},1]
[809,{"$f":"'[11]Список изделий'!D11","v":9},{"$f":"'[11]Список изделий'!E11","v":"Перек-Савуш-9"},{"$f":"'[11]Список изделий'!F11","v":"Имиджи "},{"$f":"'[11]Список изделий'!I11","v":2},{"$f":"'[11]Список изделий'!X11","v":0},{"$f":"'[11]Список изделий'!Y11","v":0},{"$f":"'[11]Список изделий'!Z11","v":0},{"$f":"'[11]Список изделий'!AA11","v":0},{"$f":"'[11]Список изделий'!AB11","v":0},{"$f":"'[11]Список изделий'!AC11","v":"x"},{"$f":"'[11]Список изделий'!AD11","v":0},{"$f":"'[11]Список изделий'!AE11","v":"шт."},{"$f":"'[11]Список изделий'!AF11","v":"2018-02-26"},{"$f":"'[11]Список изделий'!AY11","v":6},{"$f":"'[11]Список изделий'!AZ11","v":"2018-02-21"},-7,-1,0,0,{"$f":"'[11]Список изделий'!BR11","v":"\\\\SERVER\\Data1\\П\\Перекресток\\2018\\ОКЕЙ_Перекресток\\Савушкина 132\\техничка\\09-Имиджи"},0]
[810,{"$f":"'[11]Список изделий'!D12","v":10},{"$f":"'[11]Список изделий'!E12","v":0},{"$f":"'[11]Список изделий'!F12","v":"Баннер интерьерный"},{"$f":"'[11]Список изделий'!I12","v":0},{"$f":"'[11]Список изделий'!X12","v":0},{"$f":"'[11]Список изделий'!Y12","v":0},{"$f":"'[11]Список изделий'!Z12","v":0},{"$f":"'[11]Список изделий'!AA12","v":0},{"$f":"'[11]Список изделий'!AB12","v":0},{"$f":"'[11]Список изделий'!AC12","v":"x"},{"$f":"'[11]Список изделий'!AD12","v":0},{"$f":"'[11]Список изделий'!AE12","v":"шт."},{"$f":"'[11]Список изделий'!AF12","v":"00:00:00"},{"$f":"'[11]Список изделий'!AY12","v":0},{"$f":"'[11]Список изделий'!AZ12","v":"00:00:00"},-43153,-43153,0,0,{"$f":"'[11]Список изделий'!BR12","v":0},0]
[811,{"$f":"'[11]Список изделий'!D13","v":11},{"$f":"'[11]Список изделий'!E13","v":"Перек-Савуш-11"},{"$f":"'[11]Список изделий'!F13","v":"Боковины \"Бокалы\" на боковые части энда стеллажа"},{"$f":"'[11]Список изделий'!I13","v":2},{"$f":"'[11]Список изделий'!X13","v":0},{"$f":"'[11]Список изделий'!Y13","v":0},{"$f":"'[11]Список изделий'!Z13","v":0},{"$f":"'[11]Список изделий'!AA13","v":0},{"$f":"'[11]Список изделий'!AB13","v":0},{"$f":"'[11]Список изделий'!AC13","v":"x"},{"$f":"'[11]Список изделий'!AD13","v":0},{"$f":"'[11]Список изделий'!AE13","v":"шт."},{"$f":"'[11]Список изделий'!AF13","v":"2018-02-26"},{"$f":"'[11]Список изделий'!AY13","v":6},{"$f":"'[11]Список изделий'!AZ13","v":"2018-02-21"},-7,-1,0,0,{"$f":"'[11]Список изделий'!BR13","v":"\\\\SERVER\\Data1\\П\\Перекресток\\2018\\ОКЕЙ_Перекресток\\Савушкина 132\\техничка\\11-боковины_БОКАЛЫ"},0]
[812,{"$f":"'[11]Список изделий'!D14","v":12},{"$f":"'[11]Список изделий'!E14","v":"Перек-Савуш-12"},{"$f":"'[11]Список изделий'!F14","v":"Витрины оформление"},{"$f":"'[11]Список изделий'!I14","v":20},{"$f":"'[11]Список изделий'!X14","v":0},{"$f":"'[11]Список изделий'!Y14","v":0},{"$f":"'[11]Список изделий'!Z14","v":0},{"$f":"'[11]Список изделий'!AA14","v":0},{"$f":"'[11]Список изделий'!AB14","v":0},{"$f":"'[11]Список изделий'!AC14","v":"x"},{"$f":"'[11]Список изделий'!AD14","v":0},{"$f":"'[11]Список изделий'!AE14","v":"к-т"},{"$f":"'[11]Список изделий'!AF14","v":"2018-02-26"},{"$f":"'[11]Список изделий'!AY14","v":6},{"$f":"'[11]Список изделий'!AZ14","v":"2018-02-21"},-7,-1,0.01,0.01,{"$f":"'[11]Список изделий'!BR14","v":"\\\\SERVER\\Data1\\П\\Перекресток\\2018\\ОКЕЙ_Перекресток\\Савушкина 132\\техничка\\12-Оформление_винтрин"},0.01]
[813,{"$f":"'[11]Список изделий'!D15","v":13},{"$f":"'[11]Список изделий'!E15","v":0},{"$f":"'[11]Список изделий'!F15","v":"Входной фриз"},{"$f":"'[11]Список изделий'!I15","v":0},{"$f":"'[11]Список изделий'!X15","v":0},{"$f":"'[11]Список изделий'!Y15","v":0},{"$f":"'[11]Список изделий'!Z15","v":0},{"$f":"'[11]Список изделий'!AA15","v":0},{"$f":"'[11]Список изделий'!AB15","v":0},{"$f":"'[11]Список изделий'!AC15","v":"x"},{"$f":"'[11]Список изделий'!AD15","v":0},{"$f":"'[11]Список изделий'!AE15","v":"к-т"},{"$f":"'[11]Список изделий'!AF15","v":"00:00:00"},{"$f":"'[11]Список изделий'!AY15","v":0},{"$f":"'[11]Список изделий'!AZ15","v":"00:00:00"},-43153,-43153,0,0,{"$f":"'[11]Список изделий'!BR15","v":0},0]
[814,{"$f":"'[11]Список изделий'!D16","v":14},{"$f":"'[11]Список изделий'!E16","v":"Перек-Савуш-14"},{"$f":"'[11]Список изделий'!F16","v":"Грифельная доска двухст. со стикером"},{"$f":"'[11]Список изделий'!I16","v":6},{"$f":"'[11]Список изделий'!X16","v":0},{"$f":"'[11]Список изделий'!Y16","v":0},{"$f":"'[11]Список изделий'!Z16","v":0},{"$f":"'[11]Список изделий'!AA16","v":0},{"$f":"'[11]Список изделий'!AB16","v":600},{"$f":"'[11]Список изделий'!AC16","v":"x"},{"$f":"'[11]Список изделий'!AD16","v":900},{"$f":"'[11]Список изделий'!AE16","v":"шт."},{"$f":"'[11]Список изделий'!AF16","v":"2018-02-26"},{"$f":"'[11]Список изделий'!AY16","v":6},{"$f":"'[11]Список изделий'!AZ16","v":"2018-02-21"},-7,-1,0,0,{"$f":"'[11]Список изделий'!BR16","v":"\\\\SERVER\\Data1\\П\\Перекресток\\2018\\ОКЕЙ_Перекресток\\Савушкина 132\\техничка\\14-Грифельные_доски_со_стикером"},0]
[815,{"$f":"'[11]Список изделий'!D17","v":15},{"$f":"'[11]Список изделий'!E17","v":0},{"$f":"'[11]Список изделий'!F17","v":"ДВЕРИ стикер"},{"$f":"'[11]Список изделий'!I17","v":0},{"$f":"'[11]Список изделий'!X17","v":0},{"$f":"'[11]Список изделий'!Y17","v":0},{"$f":"'[11]Список изделий'!Z17","v":0},{"$f":"'[11]Список изделий'!AA17","v":0},{"$f":"'[11]Список изделий'!AB17","v":0},{"$f":"'[11]Список изделий'!AC17","v":"x"},{"$f":"'[11]Список изделий'!AD17","v":0},{"$f":"'[11]Список изделий'!AE17","v":"шт."},{"$f":"'[11]Список изделий'!AF17","v":"00:00:00"},{"$f":"'[11]Список изделий'!AY17","v":0},{"$f":"'[11]Список изделий'!AZ17","v":"00:00:00"},-43153,-43153,0,0,{"$f":"'[11]Список изделий'!BR17","v":0},0]
[816,{"$f":"'[11]Список изделий'!D18","v":16},{"$f":"'[11]Список изделий'!E18","v":0},{"$f":"'[11]Список изделий'!F18","v":"делители V-обр.  на холодильник заморозка"},{"$f":"'[11]Список изделий'!I18","v":0},{"$f":"'[11]Список изделий'!X18","v":0},{"$f":"'[11]Список изделий'!Y18","v":0},{"$f":"'[11]Список изделий'!Z18","v":0},{"$f":"'[11]Список изделий'!AA18","v":0},{"$f":"'[11]Список изделий'!AB18","v":700},{"$f":"'[11]Список изделий'!AC18","v":"x"},{"$f":"'[11]Список изделий'!AD18","v":200},{"$f":"'[11]Список изделий'!AE18","v":"шт."},{"$f":"'[11]Список изделий'!AF18","v":"00:00:00"},{"$f":"'[11]Список изделий'!AY18","v":0},{"$f":"'[11]Список изделий'!AZ18","v":"00:00:00"},-43153,-43153,0,0,{"$f":"'[11]Список изделий'!BR18","v":0},0]
[817,{"$f":"'[11]Список изделий'!D19","v":17},{"$f":"'[11]Список изделий'!E19","v":0},{"$f":"'[11]Список изделий'!F19","v":"ДЕТСТВО Оформление отдела "},{"$f":"'[11]Список изделий'!I19","v":0},{"$f":"'[11]Список изделий'!X19","v":0},{"$f":"'[11]Список изделий'!Y19","v":0},{"$f":"'[11]Список изделий'!Z19","v":0},{"$f":"'[11]Список изделий'!AA19","v":0},{"$f":"'[11]Список изделий'!AB19","v":0},{"$f":"'[11]Список изделий'!AC19","v":"x"},{"$f":"'[11]Список изделий'!AD19","v":0},{"$f":"'[11]Список изделий'!AE19","v":"к-т"},{"$f":"'[11]Список изделий'!AF19","v":"00:00:00"},{"$f":"'[11]Список изделий'!AY19","v":0},{"$f":"'[11]Список изделий'!AZ19","v":"00:00:00"},-43153,-43153,0.01,0.01,{"$f":"'[11]Список изделий'!BR19","v":0},0.01]
[818,{"$f":"'[11]Список изделий'!D20","v":18},{"$f":"'[11]Список изделий'!E20","v":0},{"$f":"'[11]Список изделий'!F20","v":"Задник оборудования оформление"},{"$f":"'[11]Список изделий'!I20","v":0},{"$f":"'[11]Список изделий'!X20","v":0},{"$f":"'[11]Список изделий'!Y20","v":0},{"$f":"'[11]Список изделий'!Z20","v":0},{"$f":"'[11]Список изделий'!AA20","v":0},{"$f":"'[11]Список изделий'!AB20","v":0},{"$f":"'[11]Список изделий'!AC20","v":"x"},{"$f":"'[11]Список изделий'!AD20","v":0},{"$f":"'[11]Список изделий'!AE20","v":"шт."},{"$f":"'[11]Список изделий'!AF20","v":"00:00:00"},{"$f":"'[11]Список изделий'!AY20","v":0},{"$f":"'[11]Список изделий'!AZ20","v":"00:00:00"},-43153,-43153,0,0,{"$f":"'[11]Список изделий'!BR20","v":0},0]
[819,{"$f":"'[11]Список изделий'!D21","v":19},{"$f":"'[11]Список изделий'!E21","v":"Перек-Савуш-19"},{"$f":"'[11]Список изделий'!F21","v":"Протеус"},{"$f":"'[11]Список изделий'!I21","v":"3 секции"},{"$f":"'[11]Список изделий'!X21","v":0},{"$f":"'[11]Список изделий'!Y21","v":0},{"$f":"'[11]Список изделий'!Z21","v":0},{"$f":"'[11]Список изделий'!AA21","v":0},{"$f":"'[11]Список изделий'!AB21","v":0},{"$f":"'[11]Список изделий'!AC21","v":"x"},{"$f":"'[11]Список изделий'!AD21","v":0},{"$f":"'[11]Список изделий'!AE21","v":"шт."},{"$f":"'[11]Список изделий'!AF21","v":"2018-02-26"},{"$f":"'[11]Список изделий'!AY21","v":6},{"$f":"'[11]Список изделий'!AZ21","v":"2018-02-21"},-7,-1,0.01,0.01,{"$f":"'[11]Список изделий'!BR21","v":"\\\\SERVER\\Data1\\П\\Перекресток\\2018\\ОКЕЙ_Перекресток\\Савушкина 132\\техничка\\19-Протеус"},0.01]
[820,{"$f":"'[11]Список изделий'!D22","v":20},{"$f":"'[11]Список изделий'!E22","v":0},{"$f":"'[11]Список изделий'!F22","v":"Имиджи на колонны"},{"$f":"'[11]Список изделий'!I22","v":0},{"$f":"'[11]Список изделий'!X22","v":0},{"$f":"'[11]Список изделий'!Y22","v":0},{"$f":"'[11]Список изделий'!Z22","v":0},{"$f":"'[11]Список изделий'!AA22","v":0},{"$f":"'[11]Список изделий'!AB22","v":0},{"$f":"'[11]Список изделий'!AC22","v":"x"},{"$f":"'[11]Список изделий'!AD22","v":0},{"$f":"'[11]Список изделий'!AE22","v":"к-т"},{"$f":"'[11]Список изделий'!AF22","v":"00:00:00"},{"$f":"'[11]Список изделий'!AY22","v":0},{"$f":"'[11]Список изделий'!AZ22","v":"00:00:00"},-43153,-43153,0,0,{"$f":"'[11]Список изделий'!BR22","v":0},0]
[821,{"$f":"'[11]Список изделий'!D23","v":21},{"$f":"'[11]Список изделий'!E23","v":"Перек-Савуш-21"},{"$f":"'[11]Список изделий'!F23","v":"Карман круглый двухсторонний (ПРОМОКРУГ) "},{"$f":"'[11]Список изделий'!I23","v":15},{"$f":"'[11]Список изделий'!X23","v":0},{"$f":"'[11]Список изделий'!Y23","v":0},{"$f":"'[11]Список изделий'!Z23","v":0},{"$f":"'[11]Список изделий'!AA23","v":0},{"$f":"'[11]Список изделий'!AB23","v":0},{"$f":"'[11]Список изделий'!AC23","v":"x"},{"$f":"'[11]Список изделий'!AD23","v":0},{"$f":"'[11]Список изделий'!AE23","v":"шт."},{"$f":"'[11]Список изделий'!AF23","v":"2018-02-26"},{"$f":"'[11]Список изделий'!AY23","v":6},{"$f":"'[11]Список изделий'!AZ23","v":"2018-02-21"},-7,-1,0.01,0.01,{"$f":"'[11]Список изделий'!BR23","v":"\\\\SERVER\\Data1\\П\\Перекресток\\2018\\ТЕХ. ДОКУМЕНТАЦИЯ рабочая\\21-Карман_круглый_(ПромоКруг)"},0.01]
[822,{"$f":"'[11]Список изделий'!D24","v":22},{"$f":"'[11]Список изделий'!E24","v":0},{"$f":"'[11]Список изделий'!F24","v":"КАРМАН под бумагу А 1. крепление к стене"},{"$f":"'[11]Список изделий'!I24","v":0},{"$f":"'[11]Список изделий'!X24","v":0},{"$f":"'[11]Список изделий'!Y24","v":0},{"$f":"'[11]Список изделий'!Z24","v":0},{"$f":"'[11]Список изделий'!AA24","v":0},{"$f":"'[11]Список изделий'!AB24","v":0},{"$f":"'[11]Список изделий'!AC24","v":"x"},{"$f":"'[11]Список изделий'!AD24","v":0},{"$f":"'[11]Список изделий'!AE24","v":"к-т"},{"$f":"'[11]Список изделий'!AF24","v":"00:00:00"},{"$f":"'[11]Список изделий'!AY24","v":0},{"$f":"'[11]Список изделий'!AZ24","v":"00:00:00"},-43153,-43153,0,0,{"$f":"'[11]Список изделий'!BR24","v":"\\\\SERVER\\Data1\\П\\Перекресток\\2018\\ТЕХ. ДОКУМЕНТАЦИЯ рабочая\\22-Карман_под_бумагу_А1"},0]
[823,{"$f":"'[11]Список изделий'!D25","v":23},{"$f":"'[11]Список изделий'!E25","v":0},{"$f":"'[11]Список изделий'!F25","v":"Кассы самообслуживания (КСО)"},{"$f":"'[11]Список изделий'!I25","v":0},{"$f":"'[11]Список изделий'!X25","v":0},{"$f":"'[11]Список изделий'!Y25","v":0},{"$f":"'[11]Список изделий'!Z25","v":0},{"$f":"'[11]Список изделий'!AA25","v":0},{"$f":"'[11]Список изделий'!AB25","v":0},{"$f":"'[11]Список изделий'!AC25","v":"x"},{"$f":"'[11]Список изделий'!AD25","v":0},{"$f":"'[11]Список изделий'!AE25","v":"к-т"},{"$f":"'[11]Список изделий'!AF25","v":"00:00:00"},{"$f":"'[11]Список изделий'!AY25","v":0},{"$f":"'[11]Список изделий'!AZ25","v":"00:00:00"},-43153,-43153,0,0,{"$f":"'[11]Список изделий'!BR25","v":0},0]
[824,{"$f":"'[11]Список изделий'!D26","v":24},{"$f":"'[11]Список изделий'!E26","v":0},{"$f":"'[11]Список изделий'!F26","v":"КАФЕ оформление"},{"$f":"'[11]Список изделий'!I26","v":0},{"$f":"'[11]Список изделий'!X26","v":0},{"$f":"'[11]Список изделий'!Y26","v":0},{"$f":"'[11]Список изделий'!Z26","v":0},{"$f":"'[11]Список изделий'!AA26","v":0},{"$f":"'[11]Список изделий'!AB26","v":0},{"$f":"'[11]Список изделий'!AC26","v":"x"},{"$f":"'[11]Список изделий'!AD26","v":0},{"$f":"'[11]Список изделий'!AE26","v":"к-т"},{"$f":"'[11]Список изделий'!AF26","v":"00:00:00"},{"$f":"'[11]Список изделий'!AY26","v":0},{"$f":"'[11]Список изделий'!AZ26","v":"00:00:00"},-43153,-43153,0.01,0.01,{"$f":"'[11]Список изделий'!BR26","v":0},0.01]
[825,{"$f":"'[11]Список изделий'!D27","v":25},{"$f":"'[11]Список изделий'!E27","v":"Перек-Савуш-25"},{"$f":"'[11]Список изделий'!F27","v":"Конструкции \"СУПЕРЦЕНА\" треугольная "},{"$f":"'[11]Список изделий'!I27","v":4},{"$f":"'[11]Список изделий'!X27","v":0},{"$f":"'[11]Список изделий'!Y27","v":0},{"$f":"'[11]Список изделий'!Z27","v":0},{"$f":"'[11]Список изделий'!AA27","v":0},{"$f":"'[11]Список изделий'!AB27","v":0},{"$f":"'[11]Список изделий'!AC27","v":"x"},{"$f":"'[11]Список изделий'!AD27","v":0},{"$f":"'[11]Список изделий'!AE27","v":"шт."},{"$f":"'[11]Список изделий'!AF27","v":"2018-02-26"},{"$f":"'[11]Список изделий'!AY27","v":6},{"$f":"'[11]Список изделий'!AZ27","v":"2018-02-21"},-7,-1,0.01,0.01,{"$f":"'[11]Список изделий'!BR27","v":"\\\\SERVER\\Data1\\П\\Перекресток\\2018\\ТЕХ. ДОКУМЕНТАЦИЯ рабочая\\25-СУПЕРЦЕНА-треугольная(Призма)"},0.01]
[826,{"$f":"'[11]Список изделий'!D28","v":26},{"$f":"'[11]Список изделий'!E28","v":"Перек-Савуш-26"},{"$f":"'[11]Список изделий'!F28","v":"Конструкция \"СУПЕРЦЕНА\" одинарная, один карман, подвесная"},{"$f":"'[11]Список изделий'!I28","v":12},{"$f":"'[11]Список изделий'!X28","v":0},{"$f":"'[11]Список изделий'!Y28","v":0},{"$f":"'[11]Список изделий'!Z28","v":0},{"$f":"'[11]Список изделий'!AA28","v":0},{"$f":"'[11]Список изделий'!AB28","v":0},{"$f":"'[11]Список изделий'!AC28","v":"x"},{"$f":"'[11]Список изделий'!AD28","v":0},{"$f":"'[11]Список изделий'!AE28","v":"шт."},{"$f":"'[11]Список изделий'!AF28","v":"2018-02-26"},{"$f":"'[11]Список изделий'!AY28","v":6},{"$f":"'[11]Список изделий'!AZ28","v":"2018-02-21"},-7,-1,0,0,{"$f":"'[11]Список изделий'!BR28","v":"\\\\SERVER\\Data1\\П\\Перекресток\\2018\\ТЕХ. ДОКУМЕНТАЦИЯ рабочая\\26-СУПЕРЦЕНА-одинарная_подвесная"},0]
[827,{"$f":"'[11]Список изделий'!D29","v":27},{"$f":"'[11]Список изделий'!E29","v":0},{"$f":"'[11]Список изделий'!F29","v":"МОРОЖЕНОЕ стикеры на боковую часть холодильника "},{"$f":"'[11]Список изделий'!I29","v":0},{"$f":"'[11]Список изделий'!X29","v":0},{"$f":"'[11]Список изделий'!Y29","v":0},{"$f":"'[11]Список изделий'!Z29","v":0},{"$f":"'[11]Список изделий'!AA29","v":0},{"$f":"'[11]Список изделий'!AB29","v":0},{"$f":"'[11]Список изделий'!AC29","v":"x"},{"$f":"'[11]Список изделий'!AD29","v":0},{"$f":"'[11]Список изделий'!AE29","v":"к-т"},{"$f":"'[11]Список изделий'!AF29","v":"00:00:00"},{"$f":"'[11]Список изделий'!AY29","v":0},{"$f":"'[11]Список изделий'!AZ29","v":"00:00:00"},-43153,-43153,0.01,0.01,{"$f":"'[11]Список изделий'!BR29","v":0},0.01]
[828,{"$f":"'[11]Список изделий'!D30","v":28},{"$f":"'[11]Список изделий'!E30","v":0},{"$f":"'[11]Список изделий'!F30","v":"Навигация"},{"$f":"'[11]Список изделий'!I30","v":0},{"$f":"'[11]Список изделий'!X30","v":0},{"$f":"'[11]Список изделий'!Y30","v":0},{"$f":"'[11]Список изделий'!Z30","v":0},{"$f":"'[11]Список изделий'!AA30","v":0},{"$f":"'[11]Список изделий'!AB30","v":0},{"$f":"'[11]Список изделий'!AC30","v":"x"},{"$f":"'[11]Список изделий'!AD30","v":0},{"$f":"'[11]Список изделий'!AE30","v":"к-т"},{"$f":"'[11]Список изделий'!AF30","v":"00:00:00"},{"$f":"'[11]Список изделий'!AY30","v":0},{"$f":"'[11]Список изделий'!AZ30","v":"00:00:00"},-43153,-43153,0.01,0.01,{"$f":"'[11]Список изделий'!BR30","v":0},0.01]
[829,{"$f":"'[11]Список изделий'!D31","v":29},{"$f":"'[11]Список изделий'!E31","v":"Перек-Савуш-29"},{"$f":"'[11]Список изделий'!F31","v":"НОМЕР КАССЫ стикер  - количество касс (комплект из 2 шт. печать с 1 по ХХ)"},{"$f":"'[11]Список изделий'!I31","v":4},{"$f":"'[11]Список изделий'!X31","v":0},{"$f":"'[11]Список изделий'!Y31","v":0},{"$f":"'[11]Список изделий'!Z31","v":0},{"$f":"'[11]Список изделий'!AA31","v":0},{"$f":"'[11]Список изделий'!AB31","v":0},{"$f":"'[11]Список изделий'!AC31","v":"x"},{"$f":"'[11]Список изделий'!AD31","v":0},{"$f":"'[11]Список изделий'!AE31","v":"к-т"},{"$f":"'[11]Список изделий'!AF31","v":"2018-02-26"},{"$f":"'[11]Список изделий'!AY31","v":6},{"$f":"'[11]Список изделий'!AZ31","v":"2018-02-21"},-7,-1,0,0,{"$f":"'[11]Список изделий'!BR31","v":"\\\\SERVER\\Data1\\П\\Перекресток\\2018\\ТЕХ. ДОКУМЕНТАЦИЯ рабочая\\29-Номер_КАССЫ стикер"},0]
[830,{"$f":"'[11]Список изделий'!D32","v":30},{"$f":"'[11]Список изделий'!E32","v":"Перек-Савуш-30"},{"$f":"'[11]Список изделий'!F32","v":"Отдел Детсво"},{"$f":"'[11]Список изделий'!I32","v":"3 изд"},{"$f":"'[11]Список изделий'!X32","v":0},{"$f":"'[11]Список изделий'!Y32","v":0},{"$f":"'[11]Список изделий'!Z32","v":0},{"$f":"'[11]Список изделий'!AA32","v":0},{"$f":"'[11]Список изделий'!AB32","v":0},{"$f":"'[11]Список изделий'!AC32","v":"x"},{"$f":"'[11]Список изделий'!AD32","v":0},{"$f":"'[11]Список изделий'!AE32","v":"к-т"},{"$f":"'[11]Список изделий'!AF32","v":"2018-02-26"},{"$f":"'[11]Список изделий'!AY32","v":6},{"$f":"'[11]Список изделий'!AZ32","v":"2018-02-21"},-7,-1,0.01,0.01,{"$f":"'[11]Список изделий'!BR32","v":"\\\\SERVER\\Data1\\П\\Перекресток\\2018\\ОКЕЙ_Перекресток\\Савушкина 132\\техничка\\30-Отдел_Детство"},0.01]
[831,{"$f":"'[11]Список изделий'!D33","v":31},{"$f":"'[11]Список изделий'!E33","v":0},{"$f":"'[11]Список изделий'!F33","v":"Оформление дополнительного оборудования"},{"$f":"'[11]Список изделий'!I33","v":0},{"$f":"'[11]Список изделий'!X33","v":0},{"$f":"'[11]Список изделий'!Y33","v":0},{"$f":"'[11]Список изделий'!Z33","v":0},{"$f":"'[11]Список изделий'!AA33","v":0},{"$f":"'[11]Список изделий'!AB33","v":0},{"$f":"'[11]Список изделий'!AC33","v":"x"},{"$f":"'[11]Список изделий'!AD33","v":0},{"$f":"'[11]Список изделий'!AE33","v":"шт."},{"$f":"'[11]Список изделий'!AF33","v":"00:00:00"},{"$f":"'[11]Список изделий'!AY33","v":0},{"$f":"'[11]Список изделий'!AZ33","v":"00:00:00"},-43153,-43153,0.01,0.01,{"$f":"'[11]Список изделий'!BR33","v":0},0.01]
[832,{"$f":"'[11]Список изделий'!D34","v":32},{"$f":"'[11]Список изделий'!E34","v":0},{"$f":"'[11]Список изделий'!F34","v":"ПИЛОН вставка - печать на бумаге"},{"$f":"'[11]Список изделий'!I34","v":0},{"$f":"'[11]Список изделий'!X34","v":0},{"$f":"'[11]Список изделий'!Y34","v":0},{"$f":"'[11]Список изделий'!Z34","v":0},{"$f":"'[11]Список изделий'!AA34","v":0},{"$f":"'[11]Список изделий'!AB34","v":0},{"$f":"'[11]Список изделий'!AC34","v":"x"},{"$f":"'[11]Список изделий'!AD34","v":0},{"$f":"'[11]Список изделий'!AE34","v":"шт."},{"$f":"'[11]Список изделий'!AF34","v":"00:00:00"},{"$f":"'[11]Список изделий'!AY34","v":0},{"$f":"'[11]Список изделий'!AZ34","v":"00:00:00"},-43153,-43153,0,0,{"$f":"'[11]Список изделий'!BR34","v":0},0]
[833,{"$f":"'[11]Список изделий'!D35","v":33},{"$f":"'[11]Список изделий'!E35","v":"Перек-Савуш-33"},{"$f":"'[11]Список изделий'!F35","v":"ПИКТОГРАММЫ на стену"},{"$f":"'[11]Список изделий'!I35","v":1},{"$f":"'[11]Список изделий'!X35","v":0},{"$f":"'[11]Список изделий'!Y35","v":0},{"$f":"'[11]Список изделий'!Z35","v":0},{"$f":"'[11]Список изделий'!AA35","v":0},{"$f":"'[11]Список изделий'!AB35","v":0},{"$f":"'[11]Список изделий'!AC35","v":"x"},{"$f":"'[11]Список изделий'!AD35","v":0},{"$f":"'[11]Список изделий'!AE35","v":"к-т"},{"$f":"'[11]Список изделий'!AF35","v":"2018-02-26"},{"$f":"'[11]Список изделий'!AY35","v":6},{"$f":"'[11]Список изделий'!AZ35","v":"2018-02-21"},-7,-1,0,0,{"$f":"'[11]Список изделий'!BR35","v":"\\\\SERVER\\Data1\\П\\Перекресток\\2018\\ОКЕЙ_Перекресток\\Савушкина 132\\техничка\\33-Пиктограммы"},0]
[834,{"$f":"'[11]Список изделий'!D36","v":34},{"$f":"'[11]Список изделий'!E36","v":"Перек-Савуш-34"},{"$f":"'[11]Список изделий'!F36","v":"ПИЛОН несветовой"},{"$f":"'[11]Список изделий'!I36","v":1},{"$f":"'[11]Список изделий'!X36","v":0},{"$f":"'[11]Список изделий'!Y36","v":0},{"$f":"'[11]Список изделий'!Z36","v":0},{"$f":"'[11]Список изделий'!AA36","v":0},{"$f":"'[11]Список изделий'!AB36","v":660},{"$f":"'[11]Список изделий'!AC36","v":"x"},{"$f":"'[11]Список изделий'!AD36","v":1600},{"$f":"'[11]Список изделий'!AE36","v":"к-т"},{"$f":"'[11]Список изделий'!AF36","v":"2018-02-26"},{"$f":"'[11]Список изделий'!AY36","v":6},{"$f":"'[11]Список изделий'!AZ36","v":"2018-02-21"},{"$f":"IF(O836=\"нет в заказе\",\"нет в заказе\",-(TODAY()-(P836-O836)))","v":-7},{"$f":"IF(Q836=\"нет в заказе\",\"нет взаказе\",-(IF(O836=\"нет в заказе\",\"нет в заказе\",TODAY()-P836)))","v":-1},0,{"$f":"V836","v":0},{"$f":"'[11]Список изделий'!BR36","v":"\\\\SERVER\\Data1\\П\\Перекресток\\2018\\ТЕХ. ДОКУМЕНТАЦИЯ рабочая\\34-Пилон-660х1600"},{"$f":"IF(S836>=0,S836,IF(T836>S836,T836,S836))","v":0}]
[835,{"$f":"'[11]Список изделий'!D37","v":35},{"$f":"'[11]Список изделий'!E37","v":"Перек-Савуш-35"},{"$f":"'[11]Список изделий'!F37","v":"Подвес- УКАЗАТЕЛЬ  КАСС (двухсторонний)  (яблоки)"},{"$f":"'[11]Список изделий'!I37","v":3},{"$f":"'[11]Список изделий'!X37","v":0},{"$f":"'[11]Список изделий'!Y37","v":0},{"$f":"'[11]Список изделий'!Z37","v":0},{"$f":"'[11]Список изделий'!AA37","v":0},{"$f":"'[11]Список изделий'!AB37","v":0},{"$f":"'[11]Список изделий'!AC37","v":"x"},{"$f":"'[11]Список изделий'!AD37","v":0},{"$f":"'[11]Список изделий'!AE37","v":"к-т"},{"$f":"'[11]Список изделий'!AF37","v":"2018-02-26"},{"$f":"'[11]Список изделий'!AY37","v":6},{"$f":"'[11]Список изделий'!AZ37","v":"2018-02-21"},-7,-1,0,0,{"$f":"'[11]Список изделий'!BR37","v":"\\\\SERVER\\Data1\\П\\Перекресток\\2018\\ОКЕЙ_Перекресток\\Савушкина 132\\техничка\\35-Подвес_УКАЗАТЕЛЬ_КАССЫ_(яблоки)"},0]
[836,{"$f":"'[11]Список изделий'!D38","v":36},{"$f":"'[11]Список изделий'!E38","v":"Перек-Савуш-36"},{"$f":"'[11]Список изделий'!F38","v":"Потолочные вывески 2000*400"},{"$f":"'[11]Список изделий'!I38","v":18},{"$f":"'[11]Список изделий'!X38","v":0},{"$f":"'[11]Список изделий'!Y38","v":0},{"$f":"'[11]Список изделий'!Z38","v":0},{"$f":"'[11]Список изделий'!AA38","v":0},{"$f":"'[11]Список изделий'!AB38","v":2000},{"$f":"'[11]Список изделий'!AC38","v":"x"},{"$f":"'[11]Список изделий'!AD38","v":400},{"$f":"'[11]Список изделий'!AE38","v":"шт."},{"$f":"'[11]Список изделий'!AF38","v":"2018-02-26"},{"$f":"'[11]Список изделий'!AY38","v":6},{"$f":"'[11]Список изделий'!AZ38","v":"2018-02-21"},-7,-1,0.01,0.01,{"$f":"'[11]Список изделий'!BR38","v":"\\\\SERVER\\Data1\\П\\Перекресток\\2018\\ОКЕЙ_Перекресток\\Савушкина 132\\техничка\\36-Потолочные_вывески-2000х400"},0.01]
[837,{"$f":"'[11]Список изделий'!D39","v":37},{"$f":"'[11]Список изделий'!E39","v":0},{"$f":"'[11]Список изделий'!F39","v":"Проектно-конструкторская документация "},{"$f":"'[11]Список изделий'!I39","v":0},{"$f":"'[11]Список изделий'!X39","v":0},{"$f":"'[11]Список изделий'!Y39","v":0},{"$f":"'[11]Список изделий'!Z39","v":0},{"$f":"'[11]Список изделий'!AA39","v":0},{"$f":"'[11]Список изделий'!AB39","v":0},{"$f":"'[11]Список изделий'!AC39","v":"x"},{"$f":"'[11]Список изделий'!AD39","v":0},{"$f":"'[11]Список изделий'!AE39","v":"к-т"},{"$f":"'[11]Список изделий'!AF39","v":"00:00:00"},{"$f":"'[11]Список изделий'!AY39","v":0},{"$f":"'[11]Список изделий'!AZ39","v":"00:00:00"},-43153,-43153,0,0,{"$f":"'[11]Список изделий'!BR39","v":0},0]
[838,{"$f":"'[11]Список изделий'!D40","v":38},{"$f":"'[11]Список изделий'!E40","v":0},{"$f":"'[11]Список изделий'!F40","v":"ПРОТЕУС"},{"$f":"'[11]Список изделий'!I40","v":0},{"$f":"'[11]Список изделий'!X40","v":0},{"$f":"'[11]Список изделий'!Y40","v":0},{"$f":"'[11]Список изделий'!Z40","v":0},{"$f":"'[11]Список изделий'!AA40","v":0},{"$f":"'[11]Список изделий'!AB40","v":0},{"$f":"'[11]Список изделий'!AC40","v":"x"},{"$f":"'[11]Список изделий'!AD40","v":0},{"$f":"'[11]Список изделий'!AE40","v":"к-т"},{"$f":"'[11]Список изделий'!AF40","v":"00:00:00"},{"$f":"'[11]Список изделий'!AY40","v":0},{"$f":"'[11]Список изделий'!AZ40","v":"00:00:00"},-43153,-43153,0,0,{"$f":"'[11]Список изделий'!BR40","v":0},0]
[839,{"$f":"'[11]Список изделий'!D41","v":39},{"$f":"'[11]Список изделий'!E41","v":"Перек-Савуш-39"},{"$f":"'[11]Список изделий'!F41","v":"РЕЖИМ РАБОТ стикер"},{"$f":"'[11]Список изделий'!I41","v":4},{"$f":"'[11]Список изделий'!X41","v":0},{"$f":"'[11]Список изделий'!Y41","v":0},{"$f":"'[11]Список изделий'!Z41","v":0},{"$f":"'[11]Список изделий'!AA41","v":0},{"$f":"'[11]Список изделий'!AB41","v":0},{"$f":"'[11]Список изделий'!AC41","v":"x"},{"$f":"'[11]Список изделий'!AD41","v":0},{"$f":"'[11]Список изделий'!AE41","v":"к-т"},{"$f":"'[11]Список изделий'!AF41","v":"2018-02-26"},{"$f":"'[11]Список изделий'!AY41","v":6},{"$f":"'[11]Список изделий'!AZ41","v":"2018-02-21"},-7,-1,0,0,{"$f":"'[11]Список изделий'!BR41","v":"\\\\SERVER\\Data1\\П\\Перекресток\\2018\\ОКЕЙ_Перекресток\\Савушкина 132\\техничка\\39-Стикер Режим работы"},0]
[840,{"$f":"'[11]Список изделий'!D42","v":40},{"$f":"'[11]Список изделий'!E42","v":0},{"$f":"'[11]Список изделий'!F42","v":"РЕЖИМ РАБОТ табличка"},{"$f":"'[11]Список изделий'!I42","v":0},{"$f":"'[11]Список изделий'!X42","v":0},{"$f":"'[11]Список изделий'!Y42","v":0},{"$f":"'[11]Список изделий'!Z42","v":0},{"$f":"'[11]Список изделий'!AA42","v":0},{"$f":"'[11]Список изделий'!AB42","v":0},{"$f":"'[11]Список изделий'!AC42","v":"x"},{"$f":"'[11]Список изделий'!AD42","v":0},{"$f":"'[11]Список изделий'!AE42","v":"к-т"},{"$f":"'[11]Список изделий'!AF42","v":"00:00:00"},{"$f":"'[11]Список изделий'!AY42","v":0},{"$f":"'[11]Список изделий'!AZ42","v":"00:00:00"},-43153,-43153,0.01,0.01,{"$f":"'[11]Список изделий'!BR42","v":0},0.01]
[841,{"$f":"'[11]Список изделий'!D43","v":41},{"$f":"'[11]Список изделий'!E43","v":"Перек-Савуш-41"},{"$f":"'[11]Список изделий'!F43","v":"Световые ВЫВЕСКИ ОТДЕЛОВ"},{"$f":"'[11]Список изделий'!I43","v":9},{"$f":"'[11]Список изделий'!X43","v":0},{"$f":"'[11]Список изделий'!Y43","v":0},{"$f":"'[11]Список изделий'!Z43","v":0},{"$f":"'[11]Список изделий'!AA43","v":0},{"$f":"'[11]Список изделий'!AB43","v":0},{"$f":"'[11]Список изделий'!AC43","v":"x"},{"$f":"'[11]Список изделий'!AD43","v":350},{"$f":"'[11]Список изделий'!AE43","v":"шт."},{"$f":"'[11]Список изделий'!AF43","v":"2018-02-26"},{"$f":"'[11]Список изделий'!AY43","v":6},{"$f":"'[11]Список изделий'!AZ43","v":"2018-02-21"},-7,-1,0.01,0.01,{"$f":"'[11]Список изделий'!BR43","v":"\\\\SERVER\\Data1\\П\\Перекресток\\2018\\ОКЕЙ_Перекресток\\Савушкина 132\\техничка\\03-Световые_вывески_отделов"},0.01]
[842,{"$f":"'[11]Список изделий'!D44","v":42},{"$f":"'[11]Список изделий'!E44","v":0},{"$f":"'[11]Список изделий'!F44","v":"Скайтреки монтаж"},{"$f":"'[11]Список изделий'!I44","v":0},{"$f":"'[11]Список изделий'!X44","v":0},{"$f":"'[11]Список изделий'!Y44","v":0},{"$f":"'[11]Список изделий'!Z44","v":0},{"$f":"'[11]Список изделий'!AA44","v":0},{"$f":"'[11]Список изделий'!AB44","v":0},{"$f":"'[11]Список изделий'!AC44","v":"x"},{"$f":"'[11]Список изделий'!AD44","v":0},{"$f":"'[11]Список изделий'!AE44","v":"шт."},{"$f":"'[11]Список изделий'!AF44","v":"00:00:00"},{"$f":"'[11]Список изделий'!AY44","v":0},{"$f":"'[11]Список изделий'!AZ44","v":"00:00:00"},-43153,-43153,0.01,0.01,{"$f":"'[11]Список изделий'!BR44","v":0},0.01]
[843,{"$f":"'[11]Список изделий'!D45","v":43},{"$f":"'[11]Список изделий'!E45","v":"Перек-Савуш-43"},{"$f":"'[11]Список изделий'!F45","v":"СЛУЖЕБНЫЕ ТАБЛИЧКИ (комплект 600-800)"},{"$f":"'[11]Список изделий'!I45","v":1},{"$f":"'[11]Список изделий'!X45","v":0},{"$f":"'[11]Список изделий'!Y45","v":0},{"$f":"'[11]Список изделий'!Z45","v":0},{"$f":"'[11]Список изделий'!AA45","v":0},{"$f":"'[11]Список изделий'!AB45","v":0},{"$f":"'[11]Список изделий'!AC45","v":"x"},{"$f":"'[11]Список изделий'!AD45","v":0},{"$f":"'[11]Список изделий'!AE45","v":"шт."},{"$f":"'[11]Список изделий'!AF45","v":"2018-02-26"},{"$f":"'[11]Список изделий'!AY45","v":6},{"$f":"'[11]Список изделий'!AZ45","v":"2018-02-21"},-7,-1,0,0,{"$f":"'[11]Список изделий'!BR45","v":"\\\\SERVER\\Data1\\П\\Перекресток\\2018\\ОКЕЙ_Перекресток\\Савушкина 132\\техничка\\36-Служебные_таблички"},0]
[844,{"$f":"'[11]Список изделий'!D46","v":44},{"$f":"'[11]Список изделий'!E46","v":0},{"$f":"'[11]Список изделий'!F46","v":"Стикер заморозка ВЕРТИКАЛЬНЫЙ  на дверь"},{"$f":"'[11]Список изделий'!I46","v":0},{"$f":"'[11]Список изделий'!X46","v":0},{"$f":"'[11]Список изделий'!Y46","v":0},{"$f":"'[11]Список изделий'!Z46","v":0},{"$f":"'[11]Список изделий'!AA46","v":0},{"$f":"'[11]Список изделий'!AB46","v":0},{"$f":"'[11]Список изделий'!AC46","v":"x"},{"$f":"'[11]Список изделий'!AD46","v":0},{"$f":"'[11]Список изделий'!AE46","v":"шт."},{"$f":"'[11]Список изделий'!AF46","v":"00:00:00"},{"$f":"'[11]Список изделий'!AY46","v":0},{"$f":"'[11]Список изделий'!AZ46","v":"00:00:00"},-43153,-43153,0.01,0.01,{"$f":"'[11]Список изделий'!BR46","v":0},0.01]
[845,{"$f":"'[11]Список изделий'!D47","v":45},{"$f":"'[11]Список изделий'!E47","v":"Перек-Савуш-45"},{"$f":"'[11]Список изделий'!F47","v":"Табличка двухст. \"Суперцена\" для подвеса к ценникодержателю ФРОВ"},{"$f":"'[11]Список изделий'!I47","v":30},{"$f":"'[11]Список изделий'!X47","v":0},{"$f":"'[11]Список изделий'!Y47","v":0},{"$f":"'[11]Список изделий'!Z47","v":0},{"$f":"'[11]Список изделий'!AA47","v":0},{"$f":"'[11]Список изделий'!AB47","v":0},{"$f":"'[11]Список изделий'!AC47","v":"x"},{"$f":"'[11]Список изделий'!AD47","v":0},{"$f":"'[11]Список изделий'!AE47","v":"шт."},{"$f":"'[11]Список изделий'!AF47","v":"2018-02-26"},{"$f":"'[11]Список изделий'!AY47","v":6},{"$f":"'[11]Список изделий'!AZ47","v":"2018-02-21"},-7,-1,0,0,{"$f":"'[11]Список изделий'!BR47","v":"\\\\SERVER\\Data1\\П\\Перекресток\\2018\\ТЕХ. ДОКУМЕНТАЦИЯ рабочая\\45-Подвес_Суперцена_ФРОВ"},0]
[846,{"$f":"'[11]Список изделий'!D48","v":46},{"$f":"'[11]Список изделий'!E48","v":"Перек-Савуш-46"},{"$f":"'[11]Список изделий'!F48","v":"Таблички над кассами с карманами  А3 (три кармана)"},{"$f":"'[11]Список изделий'!I48","v":3},{"$f":"'[11]Список изделий'!X48","v":0},{"$f":"'[11]Список изделий'!Y48","v":0},{"$f":"'[11]Список изделий'!Z48","v":0},{"$f":"'[11]Список изделий'!AA48","v":0},{"$f":"'[11]Список изделий'!AB48","v":0},{"$f":"'[11]Список изделий'!AC48","v":"x"},{"$f":"'[11]Список изделий'!AD48","v":0},{"$f":"'[11]Список изделий'!AE48","v":0},{"$f":"'[11]Список изделий'!AF48","v":"2018-02-26"},{"$f":"'[11]Список изделий'!AY48","v":6},{"$f":"'[11]Список изделий'!AZ48","v":"2018-02-21"},-7,-1,0.01,0.01,{"$f":"'[11]Список изделий'!BR48","v":"\\\\SERVER\\Data1\\П\\Перекресток\\2018\\ТЕХ. ДОКУМЕНТАЦИЯ рабочая\\46-Табл. над кассами с карманами А3"},0.01]
[847,{"$f":"'[11]Список изделий'!D49","v":47},{"$f":"'[11]Список изделий'!E49","v":"Перек-Савуш-47"},{"$f":"'[11]Список изделий'!F49","v":"УКАЗАТЕЛЬ ВХОДА  подвесной двусторонний"},{"$f":"'[11]Список изделий'!I49","v":1},{"$f":"'[11]Список изделий'!X49","v":0},{"$f":"'[11]Список изделий'!Y49","v":0},{"$f":"'[11]Список изделий'!Z49","v":0},{"$f":"'[11]Список изделий'!AA49","v":0},{"$f":"'[11]Список изделий'!AB49","v":0},{"$f":"'[11]Список изделий'!AC49","v":"x"},{"$f":"'[11]Список изделий'!AD49","v":0},{"$f":"'[11]Список изделий'!AE49","v":"к-т"},{"$f":"'[11]Список изделий'!AF49","v":"2018-02-26"},{"$f":"'[11]Список изделий'!AY49","v":6},{"$f":"'[11]Список изделий'!AZ49","v":"2018-02-21"},-7,-1,0.01,0.01,{"$f":"'[11]Список изделий'!BR49","v":"\\\\SERVER\\Data1\\П\\Перекресток\\2018\\ОКЕЙ_Перекресток\\Савушкина 132\\техничка\\47-указатель-Перекресток_вход"},0.01]
[848,{"$f":"'[11]Список изделий'!D50","v":48},{"$f":"'[11]Список изделий'!E50","v":0},{"$f":"'[11]Список изделий'!F50","v":"ФЕРМЕРСКИЙ УГОЛОК оформление"},{"$f":"'[11]Список изделий'!I50","v":0},{"$f":"'[11]Список изделий'!X50","v":0},{"$f":"'[11]Список изделий'!Y50","v":0},{"$f":"'[11]Список изделий'!Z50","v":0},{"$f":"'[11]Список изделий'!AA50","v":0},{"$f":"'[11]Список изделий'!AB50","v":0},{"$f":"'[11]Список изделий'!AC50","v":"x"},{"$f":"'[11]Список изделий'!AD50","v":0},{"$f":"'[11]Список изделий'!AE50","v":"шт."},{"$f":"'[11]Список изделий'!AF50","v":"00:00:00"},{"$f":"'[11]Список изделий'!AY50","v":0},{"$f":"'[11]Список изделий'!AZ50","v":"00:00:00"},-43153,-43153,0.01,0.01,{"$f":"'[11]Список изделий'!BR50","v":0},0.01]
[849,{"$f":"'[11]Список изделий'!D51","v":49},{"$f":"'[11]Список изделий'!E51","v":"Перек-Савуш-49"},{"$f":"'[11]Список изделий'!F51","v":"Фриз \"КОНФЕТЫ\" стеллажный 2хст. Объемный"},{"$f":"'[11]Список изделий'!I51","v":2},{"$f":"'[11]Список изделий'!X51","v":0},{"$f":"'[11]Список изделий'!Y51","v":0},{"$f":"'[11]Список изделий'!Z51","v":0},{"$f":"'[11]Список изделий'!AA51","v":0},{"$f":"'[11]Список изделий'!AB51","v":1000},{"$f":"'[11]Список изделий'!AC51","v":"x"},{"$f":"'[11]Список изделий'!AD51","v":600},{"$f":"'[11]Список изделий'!AE51","v":"шт."},{"$f":"'[11]Список изделий'!AF51","v":"2018-02-26"},{"$f":"'[11]Список изделий'!AY51","v":6},{"$f":"'[11]Список изделий'!AZ51","v":"2018-02-21"},-7,-1,0.01,0.01,{"$f":"'[11]Список изделий'!BR51","v":"\\\\SERVER\\Data1\\П\\Перекресток\\2018\\ОКЕЙ_Перекресток\\Савушкина 132\\техничка\\49-фриз_Конфеты"},0.01]
[850,{"$f":"'[11]Список изделий'!D52","v":50},{"$f":"'[11]Список изделий'!E52","v":0},{"$f":"'[11]Список изделий'!F52","v":"Фриз стеллажный объемный. Двухсторонний СУПЕРЦЕНА. "},{"$f":"'[11]Список изделий'!I52","v":0},{"$f":"'[11]Список изделий'!X52","v":0},{"$f":"'[11]Список изделий'!Y52","v":0},{"$f":"'[11]Список изделий'!Z52","v":0},{"$f":"'[11]Список изделий'!AA52","v":0},{"$f":"'[11]Список изделий'!AB52","v":0},{"$f":"'[11]Список изделий'!AC52","v":"x"},{"$f":"'[11]Список изделий'!AD52","v":0},{"$f":"'[11]Список изделий'!AE52","v":0},{"$f":"'[11]Список изделий'!AF52","v":"00:00:00"},{"$f":"'[11]Список изделий'!AY52","v":0},{"$f":"'[11]Список изделий'!AZ52","v":"00:00:00"},-43153,-43153,0.01,0.01,{"$f":"'[11]Список изделий'!BR52","v":0},0.01]
[851,{"$f":"'[11]Список изделий'!D53","v":51},{"$f":"'[11]Список изделий'!E53","v":"Перек-Савуш-51"},{"$f":"'[11]Список изделий'!F53","v":"ФРИЗЫ НАСТЕННЫЕ "},{"$f":"'[11]Список изделий'!I53","v":13},{"$f":"'[11]Список изделий'!X53","v":0},{"$f":"'[11]Список изделий'!Y53","v":0},{"$f":"'[11]Список изделий'!Z53","v":0},{"$f":"'[11]Список изделий'!AA53","v":0},{"$f":"'[11]Список изделий'!AB53","v":0},{"$f":"'[11]Список изделий'!AC53","v":"x"},{"$f":"'[11]Список изделий'!AD53","v":500},{"$f":"'[11]Список изделий'!AE53","v":"к-т"},{"$f":"'[11]Список изделий'!AF53","v":"2018-02-26"},{"$f":"'[11]Список изделий'!AY53","v":6},{"$f":"'[11]Список изделий'!AZ53","v":"2018-02-21"},-7,-1,0,0,{"$f":"'[11]Список изделий'!BR53","v":"\\\\SERVER\\Data1\\П\\Перекресток\\2018\\ОКЕЙ_Перекресток\\Савушкина 132\\техничка\\51-Фризы настенные\\Сборка\\фризы_настенные-сборка.cdr"},0]
[852,{"$f":"'[11]Список изделий'!D54","v":52},{"$f":"'[11]Список изделий'!E54","v":0},{"$f":"'[11]Список изделий'!F54","v":"Фризы стеллажные \"ХЛЕБ\""},{"$f":"'[11]Список изделий'!I54","v":0},{"$f":"'[11]Список изделий'!X54","v":0},{"$f":"'[11]Список изделий'!Y54","v":0},{"$f":"'[11]Список изделий'!Z54","v":0},{"$f":"'[11]Список изделий'!AA54","v":0},{"$f":"'[11]Список изделий'!AB54","v":0},{"$f":"'[11]Список изделий'!AC54","v":"x"},{"$f":"'[11]Список изделий'!AD54","v":0},{"$f":"'[11]Список изделий'!AE54","v":"шт."},{"$f":"'[11]Список изделий'!AF54","v":"00:00:00"},{"$f":"'[11]Список изделий'!AY54","v":0},{"$f":"'[11]Список изделий'!AZ54","v":"00:00:00"},-43153,-43153,0,0,{"$f":"'[11]Список изделий'!BR54","v":0},0]
[853,{"$f":"'[11]Список изделий'!D55","v":53},{"$f":"'[11]Список изделий'!E55","v":0},{"$f":"'[11]Список изделий'!F55","v":"Холодильник ЗАМОРОЗКА стикер на боковую часть"},{"$f":"'[11]Список изделий'!I55","v":0},{"$f":"'[11]Список изделий'!X55","v":0},{"$f":"'[11]Список изделий'!Y55","v":0},{"$f":"'[11]Список изделий'!Z55","v":0},{"$f":"'[11]Список изделий'!AA55","v":0},{"$f":"'[11]Список изделий'!AB55","v":0},{"$f":"'[11]Список изделий'!AC55","v":"x"},{"$f":"'[11]Список изделий'!AD55","v":0},{"$f":"'[11]Список изделий'!AE55","v":"к-т"},{"$f":"'[11]Список изделий'!AF55","v":"00:00:00"},{"$f":"'[11]Список изделий'!AY55","v":0},{"$f":"'[11]Список изделий'!AZ55","v":"00:00:00"},-43153,-43153,0,0,{"$f":"'[11]Список изделий'!BR55","v":0},0]
[854,{"$f":"'[11]Список изделий'!D56","v":54},{"$f":"'[11]Список изделий'!E56","v":"Перек-Савуш-54"},{"$f":"'[11]Список изделий'!F56","v":"Холодильник ИКРА оформление"},{"$f":"'[11]Список изделий'!I56","v":1},{"$f":"'[11]Список изделий'!X56","v":0},{"$f":"'[11]Список изделий'!Y56","v":0},{"$f":"'[11]Список изделий'!Z56","v":0},{"$f":"'[11]Список изделий'!AA56","v":0},{"$f":"'[11]Список изделий'!AB56","v":0},{"$f":"'[11]Список изделий'!AC56","v":"x"},{"$f":"'[11]Список изделий'!AD56","v":0},{"$f":"'[11]Список изделий'!AE56","v":"к-т"},{"$f":"'[11]Список изделий'!AF56","v":"2018-02-26"},{"$f":"'[11]Список изделий'!AY56","v":6},{"$f":"'[11]Список изделий'!AZ56","v":"2018-02-21"},-7,-1,0,0,{"$f":"'[11]Список изделий'!BR56","v":"\\\\SERVER\\Data1\\П\\Перекресток\\2018\\ОКЕЙ_Перекресток\\Савушкина 132\\техничка\\54-холодильник_ИКРА"},0]
[855,{"$f":"'[11]Список изделий'!D57","v":55},{"$f":"'[11]Список изделий'!E57","v":0},{"$f":"'[11]Список изделий'!F57","v":"Холодильник ЛАВАЛЬ стикер на боковую часть"},{"$f":"'[11]Список изделий'!I57","v":0},{"$f":"'[11]Список изделий'!X57","v":0},{"$f":"'[11]Список изделий'!Y57","v":0},{"$f":"'[11]Список изделий'!Z57","v":0},{"$f":"'[11]Список изделий'!AA57","v":0},{"$f":"'[11]Список изделий'!AB57","v":0},{"$f":"'[11]Список изделий'!AC57","v":"x"},{"$f":"'[11]Список изделий'!AD57","v":0},{"$f":"'[11]Список изделий'!AE57","v":"шт."},{"$f":"'[11]Список изделий'!AF57","v":"00:00:00"},{"$f":"'[11]Список изделий'!AY57","v":0},{"$f":"'[11]Список изделий'!AZ57","v":"00:00:00"},-43153,-43153,0,0,{"$f":"'[11]Список изделий'!BR57","v":0},0]
[856,{"$f":"'[11]Список изделий'!D58","v":56},{"$f":"'[11]Список изделий'!E58","v":0},{"$f":"'[11]Список изделий'!F58","v":"ХОЛОДИЛЬНИК стикер на боковую часть"},{"$f":"'[11]Список изделий'!I58","v":0},{"$f":"'[11]Список изделий'!X58","v":0},{"$f":"'[11]Список изделий'!Y58","v":0},{"$f":"'[11]Список изделий'!Z58","v":0},{"$f":"'[11]Список изделий'!AA58","v":0},{"$f":"'[11]Список изделий'!AB58","v":0},{"$f":"'[11]Список изделий'!AC58","v":"x"},{"$f":"'[11]Список изделий'!AD58","v":0},{"$f":"'[11]Список изделий'!AE58","v":"шт."},{"$f":"'[11]Список изделий'!AF58","v":"00:00:00"},{"$f":"'[11]Список изделий'!AY58","v":0},{"$f":"'[11]Список изделий'!AZ58","v":"00:00:00"},-43153,-43153,0.01,0.01,{"$f":"'[11]Список изделий'!BR58","v":0},0.01]
[857,{"$f":"'[11]Список изделий'!D59","v":57},{"$f":"'[11]Список изделий'!E59","v":"Перек-Савуш-57"},{"$f":"'[11]Список изделий'!F59","v":"Холодильник СЫРЫ стикер \"СОЛОМА\""},{"$f":"'[11]Список изделий'!I59","v":1},{"$f":"'[11]Список изделий'!X59","v":0},{"$f":"'[11]Список изделий'!Y59","v":0},{"$f":"'[11]Список изделий'!Z59","v":0},{"$f":"'[11]Список изделий'!AA59","v":0},{"$f":"'[11]Список изделий'!AB59","v":3000},{"$f":"'[11]Список изделий'!AC59","v":"x"},{"$f":"'[11]Список изделий'!AD59","v":1220},{"$f":"'[11]Список изделий'!AE59","v":"шт."},{"$f":"'[11]Список изделий'!AF59","v":"2018-02-26"},{"$f":"'[11]Список изделий'!AY59","v":6},{"$f":"'[11]Список изделий'!AZ59","v":"2018-02-21"},-7,-1,0.01,0.01,{"$f":"'[11]Список изделий'!BR59","v":"\\\\SERVER\\Data1\\П\\Перекресток\\2018\\ТЕХ. ДОКУМЕНТАЦИЯ рабочая\\57-Холодильник СЫРЫ оформление СОЛОМА"},0.01]
[858,{"$f":"'[11]Список изделий'!D60","v":58},{"$f":"'[11]Список изделий'!E60","v":0},{"$f":"'[11]Список изделий'!F60","v":"Штендер ЧАШКА"},{"$f":"'[11]Список изделий'!I60","v":0},{"$f":"'[11]Список изделий'!X60","v":0},{"$f":"'[11]Список изделий'!Y60","v":0},{"$f":"'[11]Список изделий'!Z60","v":0},{"$f":"'[11]Список изделий'!AA60","v":0},{"$f":"'[11]Список изделий'!AB60","v":0},{"$f":"'[11]Список изделий'!AC60","v":"x"},{"$f":"'[11]Список изделий'!AD60","v":0},{"$f":"'[11]Список изделий'!AE60","v":"шт."},{"$f":"'[11]Список изделий'!AF60","v":"00:00:00"},{"$f":"'[11]Список изделий'!AY60","v":0},{"$f":"'[11]Список изделий'!AZ60","v":"00:00:00"},-43153,-43153,0,0,{"$f":"'[11]Список изделий'!BR60","v":0},0]
[859,{"$f":"'[11]Список изделий'!D61","v":59},{"$f":"'[11]Список изделий'!E61","v":0},{"$f":"'[11]Список изделий'!F61","v":"Экспресс-КАССЫ"},{"$f":"'[11]Список изделий'!I61","v":0},{"$f":"'[11]Список изделий'!X61","v":0},{"$f":"'[11]Список изделий'!Y61","v":0},{"$f":"'[11]Список изделий'!Z61","v":0},{"$f":"'[11]Список изделий'!AA61","v":0},{"$f":"'[11]Список изделий'!AB61","v":0},{"$f":"'[11]Список изделий'!AC61","v":"x"},{"$f":"'[11]Список изделий'!AD61","v":0},{"$f":"'[11]Список изделий'!AE61","v":"к-т"},{"$f":"'[11]Список изделий'!AF61","v":"00:00:00"},{"$f":"'[11]Список изделий'!AY61","v":0},{"$f":"'[11]Список изделий'!AZ61","v":"00:00:00"},-43153,-43153,0.01,0.01,{"$f":"'[11]Список изделий'!BR61","v":0},0.01]
[860,{"$f":"'[11]Список изделий'!D62","v":60},{"$f":"'[11]Список изделий'!E62","v":0},{"$f":"'[11]Список изделий'!F62","v":0},{"$f":"'[11]Список изделий'!I62","v":0},{"$f":"'[11]Список изделий'!X62","v":0},{"$f":"'[11]Список изделий'!Y62","v":0},{"$f":"'[11]Список изделий'!Z62","v":0},{"$f":"'[11]Список изделий'!AA62","v":0},{"$f":"'[11]Список изделий'!AB62","v":0},{"$f":"'[11]Список изделий'!AC62","v":"x"},{"$f":"'[11]Список изделий'!AD62","v":0},{"$f":"'[11]Список изделий'!AE62","v":"к-т"},{"$f":"'[11]Список изделий'!AF62","v":"00:00:00"},{"$f":"'[11]Список изделий'!AY62","v":0},{"$f":"'[11]Список изделий'!AZ62","v":"00:00:00"},-43153,-43153,0,0,{"$f":"'[11]Список изделий'!BR62","v":0},0]
[861,{"$f":"'[11]Список изделий'!D63","v":61},{"$f":"'[11]Список изделий'!E63","v":0},{"$f":"'[11]Список изделий'!F63","v":0},{"$f":"'[11]Список изделий'!I63","v":0},{"$f":"'[11]Список изделий'!X63","v":0},{"$f":"'[11]Список изделий'!Y63","v":0},{"$f":"'[11]Список изделий'!Z63","v":0},{"$f":"'[11]Список изделий'!AA63","v":0},{"$f":"'[11]Список изделий'!AB63","v":0},{"$f":"'[11]Список изделий'!AC63","v":"x"},{"$f":"'[11]Список изделий'!AD63","v":0},{"$f":"'[11]Список изделий'!AE63","v":"шт."},{"$f":"'[11]Список изделий'!AF63","v":"00:00:00"},{"$f":"'[11]Список изделий'!AY63","v":0},{"$f":"'[11]Список изделий'!AZ63","v":"00:00:00"},-43153,-43153,0.01,0.01,{"$f":"'[11]Список изделий'!BR63","v":0},0.01]
[862,{"$f":"'[11]Список изделий'!D64","v":62},{"$f":"'[11]Список изделий'!E64","v":0},{"$f":"'[11]Список изделий'!F64","v":0},{"$f":"'[11]Список изделий'!I64","v":0},{"$f":"'[11]Список изделий'!X64","v":0},{"$f":"'[11]Список изделий'!Y64","v":0},{"$f":"'[11]Список изделий'!Z64","v":0},{"$f":"'[11]Список изделий'!AA64","v":0},{"$f":"'[11]Список изделий'!AB64","v":0},{"$f":"'[11]Список изделий'!AC64","v":"x"},{"$f":"'[11]Список изделий'!AD64","v":0},{"$f":"'[11]Список изделий'!AE64","v":"шт."},{"$f":"'[11]Список изделий'!AF64","v":"00:00:00"},{"$f":"'[11]Список изделий'!AY64","v":0},{"$f":"'[11]Список изделий'!AZ64","v":"00:00:00"},-43153,-43153,0,0,{"$f":"'[11]Список изделий'!BR64","v":0},0]
[863,{"$f":"'[11]Список изделий'!D65","v":63},{"$f":"'[11]Список изделий'!E65","v":0},{"$f":"'[11]Список изделий'!F65","v":0},{"$f":"'[11]Список изделий'!I65","v":0},{"$f":"'[11]Список изделий'!X65","v":0},{"$f":"'[11]Список изделий'!Y65","v":0},{"$f":"'[11]Список изделий'!Z65","v":0},{"$f":"'[11]Список изделий'!AA65","v":0},{"$f":"'[11]Список изделий'!AB65","v":0},{"$f":"'[11]Список изделий'!AC65","v":"x"},{"$f":"'[11]Список изделий'!AD65","v":0},{"$f":"'[11]Список изделий'!AE65","v":"шт."},{"$f":"'[11]Список изделий'!AF65","v":"00:00:00"},{"$f":"'[11]Список изделий'!AY65","v":0},{"$f":"'[11]Список изделий'!AZ65","v":"00:00:00"},-43153,-43153,0,0,{"$f":"'[11]Список изделий'!BR65","v":0},0]
[864,{"$f":"'[11]Список изделий'!D66","v":64},{"$f":"'[11]Список изделий'!E66","v":0},{"$f":"'[11]Список изделий'!F66","v":0},{"$f":"'[11]Список изделий'!I66","v":0},{"$f":"'[11]Список изделий'!X66","v":0},{"$f":"'[11]Список изделий'!Y66","v":0},{"$f":"'[11]Список изделий'!Z66","v":0},{"$f":"'[11]Список изделий'!AA66","v":0},{"$f":"'[11]Список изделий'!AB66","v":0},{"$f":"'[11]Список изделий'!AC66","v":"x"},{"$f":"'[11]Список изделий'!AD66","v":0},{"$f":"'[11]Список изделий'!AE66","v":"шт."},{"$f":"'[11]Список изделий'!AF66","v":"00:00:00"},{"$f":"'[11]Список изделий'!AY66","v":0},{"$f":"'[11]Список изделий'!AZ66","v":"00:00:00"},-43153,-43153,0,0,{"$f":"'[11]Список изделий'!BR66","v":0},0]
[865,{"$f":"'[11]Список изделий'!D67","v":65},{"$f":"'[11]Список изделий'!E67","v":0},{"$f":"'[11]Список изделий'!F67","v":0},{"$f":"'[11]Список изделий'!I67","v":0},{"$f":"'[11]Список изделий'!X67","v":0},{"$f":"'[11]Список изделий'!Y67","v":0},{"$f":"'[11]Список изделий'!Z67","v":0},{"$f":"'[11]Список изделий'!AA67","v":0},{"$f":"'[11]Список изделий'!AB67","v":0},{"$f":"'[11]Список изделий'!AC67","v":"x"},{"$f":"'[11]Список изделий'!AD67","v":0},{"$f":"'[11]Список изделий'!AE67","v":"шт."},{"$f":"'[11]Список изделий'!AF67","v":"00:00:00"},{"$f":"'[11]Список изделий'!AY67","v":0},{"$f":"'[11]Список изделий'!AZ67","v":"00:00:00"},-43153,-43153,0,0,{"$f":"'[11]Список изделий'!BR67","v":0},0]
[866,{"$f":"'[11]Список изделий'!D68","v":66},{"$f":"'[11]Список изделий'!E68","v":0},{"$f":"'[11]Список изделий'!F68","v":0},{"$f":"'[11]Список изделий'!I68","v":0},{"$f":"'[11]Список изделий'!X68","v":0},{"$f":"'[11]Список изделий'!Y68","v":0},{"$f":"'[11]Список изделий'!Z68","v":0},{"$f":"'[11]Список изделий'!AA68","v":0},{"$f":"'[11]Список изделий'!AB68","v":0},{"$f":"'[11]Список изделий'!AC68","v":"x"},{"$f":"'[11]Список изделий'!AD68","v":0},{"$f":"'[11]Список изделий'!AE68","v":0},{"$f":"'[11]Список изделий'!AF68","v":"00:00:00"},{"$f":"'[11]Список изделий'!AY68","v":0},{"$f":"'[11]Список изделий'!AZ68","v":"00:00:00"},-43153,-43153,0,0,{"$f":"'[11]Список изделий'!BR68","v":0},0]
[867,{"$f":"'[11]Список изделий'!D69","v":67},{"$f":"'[11]Список изделий'!E69","v":0},{"$f":"'[11]Список изделий'!F69","v":0},{"$f":"'[11]Список изделий'!I69","v":0},{"$f":"'[11]Список изделий'!X69","v":0},{"$f":"'[11]Список изделий'!Y69","v":0},{"$f":"'[11]Список изделий'!Z69","v":0},{"$f":"'[11]Список изделий'!AA69","v":0},{"$f":"'[11]Список изделий'!AB69","v":0},{"$f":"'[11]Список изделий'!AC69","v":"x"},{"$f":"'[11]Список изделий'!AD69","v":0},{"$f":"'[11]Список изделий'!AE69","v":0},{"$f":"'[11]Список изделий'!AF69","v":"00:00:00"},{"$f":"'[11]Список изделий'!AY69","v":0},{"$f":"'[11]Список изделий'!AZ69","v":"00:00:00"},-43153,-43153,0,0,{"$f":"'[11]Список изделий'!BR69","v":0},0]
[868,{"$f":"'[11]Список изделий'!D70","v":68},{"$f":"'[11]Список изделий'!E70","v":false},{"$f":"'[11]Список изделий'!F70","v":"Фермерский уголок"},{"$f":"'[11]Список изделий'!I70","v":"13 изд"},{"$f":"'[11]Список изделий'!X70","v":0},{"$f":"'[11]Список изделий'!Y70","v":0},{"$f":"'[11]Список изделий'!Z70","v":0},{"$f":"'[11]Список изделий'!AA70","v":0},{"$f":"'[11]Список изделий'!AB70","v":0},{"$f":"'[11]Список изделий'!AC70","v":"x"},{"$f":"'[11]Список изделий'!AD70","v":0},{"$f":"'[11]Список изделий'!AE70","v":0},{"$f":"'[11]Список изделий'!AF70","v":"2018-02-26"},{"$f":"'[11]Список изделий'!AY70","v":6},{"$f":"'[11]Список изделий'!AZ70","v":"2018-02-21"},-7,-1,0,0,{"$f":"'[11]Список изделий'!BR70","v":"\\\\SERVER\\Data1\\П\\Перекресток\\2018\\ОКЕЙ_Перекресток\\Савушкина 132\\техничка\\68-Фермерский_уголок"},0]
[869,{"$f":"'[11]Список изделий'!D71","v":69},{"$f":"'[11]Список изделий'!E71","v":0},{"$f":"'[11]Список изделий'!F71","v":0},{"$f":"'[11]Список изделий'!I71","v":0},{"$f":"'[11]Список изделий'!X71","v":0},{"$f":"'[11]Список изделий'!Y71","v":0},{"$f":"'[11]Список изделий'!Z71","v":0},{"$f":"'[11]Список изделий'!AA71","v":0},{"$f":"'[11]Список изделий'!AB71","v":0},{"$f":"'[11]Список изделий'!AC71","v":"x"},{"$f":"'[11]Список изделий'!AD71","v":0},{"$f":"'[11]Список изделий'!AE71","v":0},{"$f":"'[11]Список изделий'!AF71","v":"00:00:00"},{"$f":"'[11]Список изделий'!AY71","v":0},{"$f":"'[11]Список изделий'!AZ71","v":"00:00:00"},-43153,-43153,0,0,{"$f":"'[11]Список изделий'!BR71","v":0},0]
[870,{"$f":"'[11]Список изделий'!D72","v":70},{"$f":"'[11]Список изделий'!E72","v":0},{"$f":"'[11]Список изделий'!F72","v":0},{"$f":"'[11]Список изделий'!I72","v":0},{"$f":"'[11]Список изделий'!X72","v":0},{"$f":"'[11]Список изделий'!Y72","v":0},{"$f":"'[11]Список изделий'!Z72","v":0},{"$f":"'[11]Список изделий'!AA72","v":0},{"$f":"'[11]Список изделий'!AB72","v":0},{"$f":"'[11]Список изделий'!AC72","v":"x"},{"$f":"'[11]Список изделий'!AD72","v":0},{"$f":"'[11]Список изделий'!AE72","v":0},{"$f":"'[11]Список изделий'!AF72","v":"00:00:00"},{"$f":"'[11]Список изделий'!AY72","v":0},{"$f":"'[11]Список изделий'!AZ72","v":"00:00:00"},-43153,-43153,0,0,{"$f":"'[11]Список изделий'!BR72","v":0},0]
[871,{"$f":"'[11]Список изделий'!D73","v":71},{"$f":"'[11]Список изделий'!E73","v":0},{"$f":"'[11]Список изделий'!F73","v":0},{"$f":"'[11]Список изделий'!I73","v":0},{"$f":"'[11]Список изделий'!X73","v":0},{"$f":"'[11]Список изделий'!Y73","v":0},{"$f":"'[11]Список изделий'!Z73","v":0},{"$f":"'[11]Список изделий'!AA73","v":0},{"$f":"'[11]Список изделий'!AB73","v":0},{"$f":"'[11]Список изделий'!AC73","v":"x"},{"$f":"'[11]Список изделий'!AD73","v":0},{"$f":"'[11]Список изделий'!AE73","v":"шт."},{"$f":"'[11]Список изделий'!AF73","v":"00:00:00"},{"$f":"'[11]Список изделий'!AY73","v":0},{"$f":"'[11]Список изделий'!AZ73","v":"00:00:00"},-43153,-43153,0,0,{"$f":"'[11]Список изделий'!BR73","v":0},0]
[872,{"$f":"'[11]Список изделий'!D74","v":72},{"$f":"'[11]Список изделий'!E74","v":0},{"$f":"'[11]Список изделий'!F74","v":0},{"$f":"'[11]Список изделий'!I74","v":0},{"$f":"'[11]Список изделий'!X74","v":0},{"$f":"'[11]Список изделий'!Y74","v":0},{"$f":"'[11]Список изделий'!Z74","v":0},{"$f":"'[11]Список изделий'!AA74","v":0},{"$f":"'[11]Список изделий'!AB74","v":0},{"$f":"'[11]Список изделий'!AC74","v":"x"},{"$f":"'[11]Список изделий'!AD74","v":0},{"$f":"'[11]Список изделий'!AE74","v":"шт."},{"$f":"'[11]Список изделий'!AF74","v":"00:00:00"},{"$f":"'[11]Список изделий'!AY74","v":0},{"$f":"'[11]Список изделий'!AZ74","v":"00:00:00"},-43153,-43153,0,0,{"$f":"'[11]Список изделий'!BR74","v":0},0]
[873,{"$f":"'[11]Список изделий'!D75","v":73},{"$f":"'[11]Список изделий'!E75","v":0},{"$f":"'[11]Список изделий'!F75","v":0},{"$f":"'[11]Список изделий'!I75","v":0},{"$f":"'[11]Список изделий'!X75","v":0},{"$f":"'[11]Список изделий'!Y75","v":0},{"$f":"'[11]Список изделий'!Z75","v":0},{"$f":"'[11]Список изделий'!AA75","v":0},{"$f":"'[11]Список изделий'!AB75","v":0},{"$f":"'[11]Список изделий'!AC75","v":"x"},{"$f":"'[11]Список изделий'!AD75","v":0},{"$f":"'[11]Список изделий'!AE75","v":0},{"$f":"'[11]Список изделий'!AF75","v":"00:00:00"},{"$f":"'[11]Список изделий'!AY75","v":0},{"$f":"'[11]Список изделий'!AZ75","v":"00:00:00"},-43153,-43153,0,0,{"$f":"'[11]Список изделий'!BR75","v":0},0]
[874,{"$f":"'[11]Список изделий'!D76","v":74},{"$f":"'[11]Список изделий'!E76","v":0},{"$f":"'[11]Список изделий'!F76","v":0},{"$f":"'[11]Список изделий'!I76","v":0},{"$f":"'[11]Список изделий'!X76","v":0},{"$f":"'[11]Список изделий'!Y76","v":0},{"$f":"'[11]Список изделий'!Z76","v":0},{"$f":"'[11]Список изделий'!AA76","v":0},{"$f":"'[11]Список изделий'!AB76","v":0},{"$f":"'[11]Список изделий'!AC76","v":"x"},{"$f":"'[11]Список изделий'!AD76","v":0},{"$f":"'[11]Список изделий'!AE76","v":0},{"$f":"'[11]Список изделий'!AF76","v":"00:00:00"},{"$f":"'[11]Список изделий'!AY76","v":0},{"$f":"'[11]Список изделий'!AZ76","v":"00:00:00"},-43153,-43153,0,0,{"$f":"'[11]Список изделий'!BR76","v":0},0]
[875,{"$f":"'[11]Список изделий'!D77","v":75},{"$f":"'[11]Список изделий'!E77","v":0},{"$f":"'[11]Список изделий'!F77","v":0},{"$f":"'[11]Список изделий'!I77","v":0},{"$f":"'[11]Список изделий'!X77","v":0},{"$f":"'[11]Список изделий'!Y77","v":0},{"$f":"'[11]Список изделий'!Z77","v":0},{"$f":"'[11]Список изделий'!AA77","v":0},{"$f":"'[11]Список изделий'!AB77","v":0},{"$f":"'[11]Список изделий'!AC77","v":"x"},{"$f":"'[11]Список изделий'!AD77","v":0},{"$f":"'[11]Список изделий'!AE77","v":0},{"$f":"'[11]Список изделий'!AF77","v":"00:00:00"},{"$f":"'[11]Список изделий'!AY77","v":0},{"$f":"'[11]Список изделий'!AZ77","v":"00:00:00"},-43153,-43153,0,0,{"$f":"'[11]Список изделий'!BR77","v":0},0]
[876,{"$f":"'[11]Список изделий'!D78","v":76},{"$f":"'[11]Список изделий'!E78","v":0},{"$f":"'[11]Список изделий'!F78","v":0},{"$f":"'[11]Список изделий'!I78","v":0},{"$f":"'[11]Список изделий'!X78","v":0},{"$f":"'[11]Список изделий'!Y78","v":0},{"$f":"'[11]Список изделий'!Z78","v":0},{"$f":"'[11]Список изделий'!AA78","v":0},{"$f":"'[11]Список изделий'!AB78","v":0},{"$f":"'[11]Список изделий'!AC78","v":"x"},{"$f":"'[11]Список изделий'!AD78","v":0},{"$f":"'[11]Список изделий'!AE78","v":0},{"$f":"'[11]Список изделий'!AF78","v":"00:00:00"},{"$f":"'[11]Список изделий'!AY78","v":0},{"$f":"'[11]Список изделий'!AZ78","v":"00:00:00"},-43153,-43153,0.01,0.01,{"$f":"'[11]Список изделий'!BR78","v":0},0.01]
[877,{"$f":"'[11]Список изделий'!D79","v":77},{"$f":"'[11]Список изделий'!E79","v":"Перек-Савуш-77"},{"$f":"'[11]Список изделий'!F79","v":"Плакаты для пилона"},{"$f":"'[11]Список изделий'!I79","v":"2 шт"},{"$f":"'[11]Список изделий'!X79","v":0},{"$f":"'[11]Список изделий'!Y79","v":0},{"$f":"'[11]Список изделий'!Z79","v":0},{"$f":"'[11]Список изделий'!AA79","v":0},{"$f":"'[11]Список изделий'!AB79","v":0},{"$f":"'[11]Список изделий'!AC79","v":"x"},{"$f":"'[11]Список изделий'!AD79","v":0},{"$f":"'[11]Список изделий'!AE79","v":0},{"$f":"'[11]Список изделий'!AF79","v":"2018-02-26"},{"$f":"'[11]Список изделий'!AY79","v":6},{"$f":"'[11]Список изделий'!AZ79","v":"2018-02-21"},-7,-1,0.01,0.01,{"$f":"'[11]Список изделий'!BR79","v":"\\\\SERVER\\Data1\\П\\Перекресток\\2018\\ОКЕЙ_Перекресток\\Савушкина 132\\техничка\\77-Плакаты для пилога"},0.01]
[878,{"$f":"'[11]Список изделий'!D80","v":78},{"$f":"'[11]Список изделий'!E80","v":0},{"$f":"'[11]Список изделий'!F80","v":0},{"$f":"'[11]Список изделий'!I80","v":0},{"$f":"'[11]Список изделий'!X80","v":0},{"$f":"'[11]Список изделий'!Y80","v":0},{"$f":"'[11]Список изделий'!Z80","v":0},{"$f":"'[11]Список изделий'!AA80","v":0},{"$f":"'[11]Список изделий'!AB80","v":0},{"$f":"'[11]Список изделий'!AC80","v":"x"},{"$f":"'[11]Список изделий'!AD80","v":0},{"$f":"'[11]Список изделий'!AE80","v":0},{"$f":"'[11]Список изделий'!AF80","v":"00:00:00"},{"$f":"'[11]Список изделий'!AY80","v":0},{"$f":"'[11]Список изделий'!AZ80","v":"00:00:00"},-43153,-43153,0,0,{"$f":"'[11]Список изделий'!BR80","v":0},0]
[879,{"$f":"'[11]Список изделий'!D81","v":79},{"$f":"'[11]Список изделий'!E81","v":0},{"$f":"'[11]Список изделий'!F81","v":0},{"$f":"'[11]Список изделий'!I81","v":0},{"$f":"'[11]Список изделий'!X81","v":0},{"$f":"'[11]Список изделий'!Y81","v":0},{"$f":"'[11]Список изделий'!Z81","v":0},{"$f":"'[11]Список изделий'!AA81","v":0},{"$f":"'[11]Список изделий'!AB81","v":0},{"$f":"'[11]Список изделий'!AC81","v":"x"},{"$f":"'[11]Список изделий'!AD81","v":0},{"$f":"'[11]Список изделий'!AE81","v":0},{"$f":"'[11]Список изделий'!AF81","v":"00:00:00"},{"$f":"'[11]Список изделий'!AY81","v":0},{"$f":"'[11]Список изделий'!AZ81","v":"00:00:00"},-43153,-43153,0,0,{"$f":"'[11]Список изделий'!BR81","v":0},0]
[880,{"$f":"'[11]Список изделий'!D82","v":80},{"$f":"'[11]Список изделий'!E82","v":0},{"$f":"'[11]Список изделий'!F82","v":0},{"$f":"'[11]Список изделий'!I82","v":0},{"$f":"'[11]Список изделий'!X82","v":0},{"$f":"'[11]Список изделий'!Y82","v":0},{"$f":"'[11]Список изделий'!Z82","v":0},{"$f":"'[11]Список изделий'!AA82","v":0},{"$f":"'[11]Список изделий'!AB82","v":0},{"$f":"'[11]Список изделий'!AC82","v":"x"},{"$f":"'[11]Список изделий'!AD82","v":0},{"$f":"'[11]Список изделий'!AE82","v":0},{"$f":"'[11]Список изделий'!AF82","v":"00:00:00"},{"$f":"'[11]Список изделий'!AY82","v":0},{"$f":"'[11]Список изделий'!AZ82","v":"00:00:00"},-43153,-43153,0,0,{"$f":"'[11]Список изделий'!BR82","v":0},0]
[881,{"$f":"'[11]Список изделий'!D83","v":81},{"$f":"'[11]Список изделий'!E83","v":0},{"$f":"'[11]Список изделий'!F83","v":0},{"$f":"'[11]Список изделий'!I83","v":0},{"$f":"'[11]Список изделий'!X83","v":0},{"$f":"'[11]Список изделий'!Y83","v":0},{"$f":"'[11]Список изделий'!Z83","v":0},{"$f":"'[11]Список изделий'!AA83","v":0},{"$f":"'[11]Список изделий'!AB83","v":0},{"$f":"'[11]Список изделий'!AC83","v":"x"},{"$f":"'[11]Список изделий'!AD83","v":0},{"$f":"'[11]Список изделий'!AE83","v":0},{"$f":"'[11]Список изделий'!AF83","v":"00:00:00"},{"$f":"'[11]Список изделий'!AY83","v":0},{"$f":"'[11]Список изделий'!AZ83","v":"00:00:00"},-43153,-43153,0,0,{"$f":"'[11]Список изделий'!BR83","v":0},0]
[882,{"$f":"'[11]Список изделий'!D84","v":82},{"$f":"'[11]Список изделий'!E84","v":0},{"$f":"'[11]Список изделий'!F84","v":0},{"$f":"'[11]Список изделий'!I84","v":0},{"$f":"'[11]Список изделий'!X84","v":0},{"$f":"'[11]Список изделий'!Y84","v":0},{"$f":"'[11]Список изделий'!Z84","v":0},{"$f":"'[11]Список изделий'!AA84","v":0},{"$f":"'[11]Список изделий'!AB84","v":0},{"$f":"'[11]Список изделий'!AC84","v":"x"},{"$f":"'[11]Список изделий'!AD84","v":0},{"$f":"'[11]Список изделий'!AE84","v":0},{"$f":"'[11]Список изделий'!AF84","v":"00:00:00"},{"$f":"'[11]Список изделий'!AY84","v":0},{"$f":"'[11]Список изделий'!AZ84","v":"00:00:00"},-43153,-43153,0,0,{"$f":"'[11]Список изделий'!BR84","v":0},0]
[883,{"$f":"'[11]Список изделий'!D85","v":83},{"$f":"'[11]Список изделий'!E85","v":0},{"$f":"'[11]Список изделий'!F85","v":0},{"$f":"'[11]Список изделий'!I85","v":0},{"$f":"'[11]Список изделий'!X85","v":0},{"$f":"'[11]Список изделий'!Y85","v":0},{"$f":"'[11]Список изделий'!Z85","v":0},{"$f":"'[11]Список изделий'!AA85","v":0},{"$f":"'[11]Список изделий'!AB85","v":0},{"$f":"'[11]Список изделий'!AC85","v":"x"},{"$f":"'[11]Список изделий'!AD85","v":0},{"$f":"'[11]Список изделий'!AE85","v":0},{"$f":"'[11]Список изделий'!AF85","v":"00:00:00"},{"$f":"'[11]Список изделий'!AY85","v":0},{"$f":"'[11]Список изделий'!AZ85","v":"00:00:00"},-43153,-43153,0,0,{"$f":"'[11]Список изделий'!BR85","v":0},0]
[884,{"$f":"'[11]Список изделий'!D86","v":84},{"$f":"'[11]Список изделий'!E86","v":0},{"$f":"'[11]Список изделий'!F86","v":0},{"$f":"'[11]Список изделий'!I86","v":0},{"$f":"'[11]Список изделий'!X86","v":0},{"$f":"'[11]Список изделий'!Y86","v":0},{"$f":"'[11]Список изделий'!Z86","v":0},{"$f":"'[11]Список изделий'!AA86","v":0},{"$f":"'[11]Список изделий'!AB86","v":0},{"$f":"'[11]Список изделий'!AC86","v":"x"},{"$f":"'[11]Список изделий'!AD86","v":0},{"$f":"'[11]Список изделий'!AE86","v":0},{"$f":"'[11]Список изделий'!AF86","v":"00:00:00"},{"$f":"'[11]Список изделий'!AY86","v":0},{"$f":"'[11]Список изделий'!AZ86","v":"00:00:00"},-43153,-43153,0,0,{"$f":"'[11]Список изделий'!BR86","v":0},0]
[885,{"$f":"'[11]Список изделий'!D87","v":85},{"$f":"'[11]Список изделий'!E87","v":0},{"$f":"'[11]Список изделий'!F87","v":0},{"$f":"'[11]Список изделий'!I87","v":0},{"$f":"'[11]Список изделий'!X87","v":0},{"$f":"'[11]Список изделий'!Y87","v":0},{"$f":"'[11]Список изделий'!Z87","v":0},{"$f":"'[11]Список изделий'!AA87","v":0},{"$f":"'[11]Список изделий'!AB87","v":0},{"$f":"'[11]Список изделий'!AC87","v":"x"},{"$f":"'[11]Список изделий'!AD87","v":0},{"$f":"'[11]Список изделий'!AE87","v":0},{"$f":"'[11]Список изделий'!AF87","v":"00:00:00"},{"$f":"'[11]Список изделий'!AY87","v":0},{"$f":"'[11]Список изделий'!AZ87","v":"00:00:00"},-43153,-43153,0,0,{"$f":"'[11]Список изделий'!BR87","v":0},0]
[886,{"$f":"'[11]Список изделий'!D88","v":86},{"$f":"'[11]Список изделий'!E88","v":0},{"$f":"'[11]Список изделий'!F88","v":0},{"$f":"'[11]Список изделий'!I88","v":0},{"$f":"'[11]Список изделий'!X88","v":0},{"$f":"'[11]Список изделий'!Y88","v":0},{"$f":"'[11]Список изделий'!Z88","v":0},{"$f":"'[11]Список изделий'!AA88","v":0},{"$f":"'[11]Список изделий'!AB88","v":0},{"$f":"'[11]Список изделий'!AC88","v":"x"},{"$f":"'[11]Список изделий'!AD88","v":0},{"$f":"'[11]Список изделий'!AE88","v":0},{"$f":"'[11]Список изделий'!AF88","v":"00:00:00"},{"$f":"'[11]Список изделий'!AY88","v":0},{"$f":"'[11]Список изделий'!AZ88","v":"00:00:00"},-43153,-43153,0,0,{"$f":"'[11]Список изделий'!BR88","v":0},0]
[887,{"$f":"'[11]Список изделий'!D89","v":87},{"$f":"'[11]Список изделий'!E89","v":0},{"$f":"'[11]Список изделий'!F89","v":0},{"$f":"'[11]Список изделий'!I89","v":0},{"$f":"'[11]Список изделий'!X89","v":0},{"$f":"'[11]Список изделий'!Y89","v":0},{"$f":"'[11]Список изделий'!Z89","v":0},{"$f":"'[11]Список изделий'!AA89","v":0},{"$f":"'[11]Список изделий'!AB89","v":0},{"$f":"'[11]Список изделий'!AC89","v":"x"},{"$f":"'[11]Список изделий'!AD89","v":0},{"$f":"'[11]Список изделий'!AE89","v":0},{"$f":"'[11]Список изделий'!AF89","v":"00:00:00"},{"$f":"'[11]Список изделий'!AY89","v":0},{"$f":"'[11]Список изделий'!AZ89","v":"00:00:00"},-43153,-43153,0,0,{"$f":"'[11]Список изделий'!BR89","v":0},0]
[888,{"$f":"'[11]Список изделий'!D90","v":88},{"$f":"'[11]Список изделий'!E90","v":0},{"$f":"'[11]Список изделий'!F90","v":0},{"$f":"'[11]Список изделий'!I90","v":0},{"$f":"'[11]Список изделий'!X90","v":0},{"$f":"'[11]Список изделий'!Y90","v":0},{"$f":"'[11]Список изделий'!Z90","v":0},{"$f":"'[11]Список изделий'!AA90","v":0},{"$f":"'[11]Список изделий'!AB90","v":0},{"$f":"'[11]Список изделий'!AC90","v":"x"},{"$f":"'[11]Список изделий'!AD90","v":0},{"$f":"'[11]Список изделий'!AE90","v":0},{"$f":"'[11]Список изделий'!AF90","v":"00:00:00"},{"$f":"'[11]Список изделий'!AY90","v":0},{"$f":"'[11]Список изделий'!AZ90","v":"00:00:00"},-43153,-43153,0,0,{"$f":"'[11]Список изделий'!BR90","v":0},0]
[889,{"$f":"'[11]Список изделий'!D91","v":89},{"$f":"'[11]Список изделий'!E91","v":0},{"$f":"'[11]Список изделий'!F91","v":0},{"$f":"'[11]Список изделий'!I91","v":0},{"$f":"'[11]Список изделий'!X91","v":0},{"$f":"'[11]Список изделий'!Y91","v":0},{"$f":"'[11]Список изделий'!Z91","v":0},{"$f":"'[11]Список изделий'!AA91","v":0},{"$f":"'[11]Список изделий'!AB91","v":0},{"$f":"'[11]Список изделий'!AC91","v":"x"},{"$f":"'[11]Список изделий'!AD91","v":0},{"$f":"'[11]Список изделий'!AE91","v":0},{"$f":"'[11]Список изделий'!AF91","v":"00:00:00"},{"$f":"'[11]Список изделий'!AY91","v":0},{"$f":"'[11]Список изделий'!AZ91","v":"00:00:00"},-43153,-43153,0,0,{"$f":"'[11]Список изделий'!BR91","v":0},0]
[890,{"$f":"'[11]Список изделий'!D92","v":90},{"$f":"'[11]Список изделий'!E92","v":0},{"$f":"'[11]Список изделий'!F92","v":0},{"$f":"'[11]Список изделий'!I92","v":0},{"$f":"'[11]Список изделий'!X92","v":0},{"$f":"'[11]Список изделий'!Y92","v":0},{"$f":"'[11]Список изделий'!Z92","v":0},{"$f":"'[11]Список изделий'!AA92","v":0},{"$f":"'[11]Список изделий'!AB92","v":0},{"$f":"'[11]Список изделий'!AC92","v":"x"},{"$f":"'[11]Список изделий'!AD92","v":0},{"$f":"'[11]Список изделий'!AE92","v":0},{"$f":"'[11]Список изделий'!AF92","v":"00:00:00"},{"$f":"'[11]Список изделий'!AY92","v":0},{"$f":"'[11]Список изделий'!AZ92","v":"00:00:00"},-43153,-43153,0,0,{"$f":"'[11]Список изделий'!BR92","v":0},0]
[891,{"$f":"'[11]Список изделий'!D93","v":91},{"$f":"'[11]Список изделий'!E93","v":0},{"$f":"'[11]Список изделий'!F93","v":0},{"$f":"'[11]Список изделий'!I93","v":0},{"$f":"'[11]Список изделий'!X93","v":0},{"$f":"'[11]Список изделий'!Y93","v":0},{"$f":"'[11]Список изделий'!Z93","v":0},{"$f":"'[11]Список изделий'!AA93","v":0},{"$f":"'[11]Список изделий'!AB93","v":0},{"$f":"'[11]Список изделий'!AC93","v":"x"},{"$f":"'[11]Список изделий'!AD93","v":0},{"$f":"'[11]Список изделий'!AE93","v":0},{"$f":"'[11]Список изделий'!AF93","v":"00:00:00"},{"$f":"'[11]Список изделий'!AY93","v":0},{"$f":"'[11]Список изделий'!AZ93","v":"00:00:00"},-43153,-43153,0,0,{"$f":"'[11]Список изделий'!BR93","v":0},0]
[892,{"$f":"'[11]Список изделий'!D94","v":92},{"$f":"'[11]Список изделий'!E94","v":0},{"$f":"'[11]Список изделий'!F94","v":0},{"$f":"'[11]Список изделий'!I94","v":0},{"$f":"'[11]Список изделий'!X94","v":0},{"$f":"'[11]Список изделий'!Y94","v":0},{"$f":"'[11]Список изделий'!Z94","v":0},{"$f":"'[11]Список изделий'!AA94","v":0},{"$f":"'[11]Список изделий'!AB94","v":0},{"$f":"'[11]Список изделий'!AC94","v":"x"},{"$f":"'[11]Список изделий'!AD94","v":0},{"$f":"'[11]Список изделий'!AE94","v":0},{"$f":"'[11]Список изделий'!AF94","v":"00:00:00"},{"$f":"'[11]Список изделий'!AY94","v":0},{"$f":"'[11]Список изделий'!AZ94","v":"00:00:00"},-43153,-43153,0,0,{"$f":"'[11]Список изделий'!BR94","v":0},0]
[893,{"$f":"'[11]Список изделий'!D95","v":93},{"$f":"'[11]Список изделий'!E95","v":0},{"$f":"'[11]Список изделий'!F95","v":0},{"$f":"'[11]Список изделий'!I95","v":0},{"$f":"'[11]Список изделий'!X95","v":0},{"$f":"'[11]Список изделий'!Y95","v":0},{"$f":"'[11]Список изделий'!Z95","v":0},{"$f":"'[11]Список изделий'!AA95","v":0},{"$f":"'[11]Список изделий'!AB95","v":0},{"$f":"'[11]Список изделий'!AC95","v":"x"},{"$f":"'[11]Список изделий'!AD95","v":0},{"$f":"'[11]Список изделий'!AE95","v":0},{"$f":"'[11]Список изделий'!AF95","v":"00:00:00"},{"$f":"'[11]Список изделий'!AY95","v":0},{"$f":"'[11]Список изделий'!AZ95","v":"00:00:00"},-43153,-43153,0,0,{"$f":"'[11]Список изделий'!BR95","v":0},0]
[894,{"$f":"'[11]Список изделий'!D96","v":94},{"$f":"'[11]Список изделий'!E96","v":0},{"$f":"'[11]Список изделий'!F96","v":0},{"$f":"'[11]Список изделий'!I96","v":0},{"$f":"'[11]Список изделий'!X96","v":0},{"$f":"'[11]Список изделий'!Y96","v":0},{"$f":"'[11]Список изделий'!Z96","v":0},{"$f":"'[11]Список изделий'!AA96","v":0},{"$f":"'[11]Список изделий'!AB96","v":0},{"$f":"'[11]Список изделий'!AC96","v":"x"},{"$f":"'[11]Список изделий'!AD96","v":0},{"$f":"'[11]Список изделий'!AE96","v":0},{"$f":"'[11]Список изделий'!AF96","v":"00:00:00"},{"$f":"'[11]Список изделий'!AY96","v":0},{"$f":"'[11]Список изделий'!AZ96","v":"00:00:00"},-43153,-43153,0,0,{"$f":"'[11]Список изделий'!BR96","v":0},0]
[895,{"$f":"'[11]Список изделий'!D97","v":95},{"$f":"'[11]Список изделий'!E97","v":0},{"$f":"'[11]Список изделий'!F97","v":0},{"$f":"'[11]Список изделий'!I97","v":0},{"$f":"'[11]Список изделий'!X97","v":0},{"$f":"'[11]Список изделий'!Y97","v":0},{"$f":"'[11]Список изделий'!Z97","v":0},{"$f":"'[11]Список изделий'!AA97","v":0},{"$f":"'[11]Список изделий'!AB97","v":0},{"$f":"'[11]Список изделий'!AC97","v":"x"},{"$f":"'[11]Список изделий'!AD97","v":0},{"$f":"'[11]Список изделий'!AE97","v":0},{"$f":"'[11]Список изделий'!AF97","v":"00:00:00"},{"$f":"'[11]Список изделий'!AY97","v":0},{"$f":"'[11]Список изделий'!AZ97","v":"00:00:00"},-43153,-43153,0,0,{"$f":"'[11]Список изделий'!BR97","v":0},0]
[896,{"$f":"'[11]Список изделий'!D98","v":96},{"$f":"'[11]Список изделий'!E98","v":0},{"$f":"'[11]Список изделий'!F98","v":0},{"$f":"'[11]Список изделий'!I98","v":0},{"$f":"'[11]Список изделий'!X98","v":0},{"$f":"'[11]Список изделий'!Y98","v":0},{"$f":"'[11]Список изделий'!Z98","v":0},{"$f":"'[11]Список изделий'!AA98","v":0},{"$f":"'[11]Список изделий'!AB98","v":0},{"$f":"'[11]Список изделий'!AC98","v":"x"},{"$f":"'[11]Список изделий'!AD98","v":0},{"$f":"'[11]Список изделий'!AE98","v":0},{"$f":"'[11]Список изделий'!AF98","v":"00:00:00"},{"$f":"'[11]Список изделий'!AY98","v":0},{"$f":"'[11]Список изделий'!AZ98","v":"00:00:00"},-43153,-43153,0,0,{"$f":"'[11]Список изделий'!BR98","v":0},0]
[897,{"$f":"'[11]Список изделий'!D99","v":97},{"$f":"'[11]Список изделий'!E99","v":0},{"$f":"'[11]Список изделий'!F99","v":0},{"$f":"'[11]Список изделий'!I99","v":0},{"$f":"'[11]Список изделий'!X99","v":0},{"$f":"'[11]Список изделий'!Y99","v":0},{"$f":"'[11]Список изделий'!Z99","v":0},{"$f":"'[11]Список изделий'!AA99","v":0},{"$f":"'[11]Список изделий'!AB99","v":0},{"$f":"'[11]Список изделий'!AC99","v":"x"},{"$f":"'[11]Список изделий'!AD99","v":0},{"$f":"'[11]Список изделий'!AE99","v":0},{"$f":"'[11]Список изделий'!AF99","v":"00:00:00"},{"$f":"'[11]Список изделий'!AY99","v":0},{"$f":"'[11]Список изделий'!AZ99","v":"00:00:00"},-43153,-43153,0,0,{"$f":"'[11]Список изделий'!BR99","v":0},0]
[898,{"$f":"'[11]Список изделий'!D100","v":98},{"$f":"'[11]Список изделий'!E100","v":0},{"$f":"'[11]Список изделий'!F100","v":0},{"$f":"'[11]Список изделий'!I100","v":0},{"$f":"'[11]Список изделий'!X100","v":0},{"$f":"'[11]Список изделий'!Y100","v":0},{"$f":"'[11]Список изделий'!Z100","v":0},{"$f":"'[11]Список изделий'!AA100","v":0},{"$f":"'[11]Список изделий'!AB100","v":0},{"$f":"'[11]Список изделий'!AC100","v":"x"},{"$f":"'[11]Список изделий'!AD100","v":0},{"$f":"'[11]Список изделий'!AE100","v":0},{"$f":"'[11]Список изделий'!AF100","v":"00:00:00"},{"$f":"'[11]Список изделий'!AY100","v":0},{"$f":"'[11]Список изделий'!AZ100","v":"00:00:00"},{"$f":"IF(O900=\"нет в заказе\",\"нет в заказе\",-(TODAY()-(P900-O900)))","v":-43153},{"$f":"IF(Q900=\"нет в заказе\",\"нет взаказе\",-(IF(O900=\"нет в заказе\",\"нет в заказе\",TODAY()-P900)))","v":-43153},0,{"$f":"V900","v":0},{"$f":"'[11]Список изделий'!BR100","v":0},{"$f":"IF(S900>=0,S900,IF(T900>S900,T900,S900))","v":0}]
[899,{"$f":"'[11]Список изделий'!D101","v":99},{"$f":"'[11]Список изделий'!E101","v":0},{"$f":"'[11]Список изделий'!F101","v":0},{"$f":"'[11]Список изделий'!I101","v":0},{"$f":"'[11]Список изделий'!X101","v":0},{"$f":"'[11]Список изделий'!Y101","v":0},{"$f":"'[11]Список изделий'!Z101","v":0},{"$f":"'[11]Список изделий'!AA101","v":0},{"$f":"'[11]Список изделий'!AB101","v":0},{"$f":"'[11]Список изделий'!AC101","v":"x"},{"$f":"'[11]Список изделий'!AD101","v":0},{"$f":"'[11]Список изделий'!AE101","v":0},{"$f":"'[11]Список изделий'!AF101","v":"00:00:00"},{"$f":"'[11]Список изделий'!AY101","v":0},{"$f":"'[11]Список изделий'!AZ101","v":"00:00:00"},-43153,-43153,0,0,{"$f":"'[11]Список изделий'!BR101","v":0},0]
[900,{"$f":"'[11]Список изделий'!D102","v":100},{"$f":"'[11]Список изделий'!E102","v":0},{"$f":"'[11]Список изделий'!F102","v":0},{"$f":"'[11]Список изделий'!I102","v":0},{"$f":"'[11]Список изделий'!X102","v":0},{"$f":"'[11]Список изделий'!Y102","v":0},{"$f":"'[11]Список изделий'!Z102","v":0},{"$f":"'[11]Список изделий'!AA102","v":0},{"$f":"'[11]Список изделий'!AB102","v":0},{"$f":"'[11]Список изделий'!AC102","v":"x"},{"$f":"'[11]Список изделий'!AD102","v":0},{"$f":"'[11]Список изделий'!AE102","v":0},{"$f":"'[11]Список изделий'!AF102","v":"00:00:00"},{"$f":"'[11]Список изделий'!AY102","v":0},{"$f":"'[11]Список изделий'!AZ102","v":"00:00:00"},-43153,-43153,0,0,{"$f":"'[11]Список изделий'!BR102","v":0},0]
[640,{"$f":"'[9]Список изделий'!D3201","v":40},{"$f":"'[9]Список изделий'!E3201","v":"Пер-Энерге40"},{"$f":"'[9]Список изделий'!F3201","v":"Информационные стенды"},{"$f":"'[9]Список изделий'!I3201","v":5},{"$f":"'[9]Список изделий'!X3201","v":"ГМА"},{"$f":"'[9]Список изделий'!Y3201","v":"Микуло"},{"$f":"'[9]Список изделий'!Z3201","v":"Закурдаев"},{"$f":"'[9]Список изделий'!AA3201","v":"Замотаев"},{"$f":"'[9]Список изделий'!AB3201","v":0},{"$f":"'[9]Список изделий'!AC3201","v":"x"},{"$f":"'[9]Список изделий'!AD3201","v":0},{"$f":"'[9]Список изделий'!AE3201","v":0},{"$f":"'[9]Список изделий'!AF3201","v":"2018-02-20"},{"$f":"'[9]Список изделий'!AY3201","v":7},{"$f":"'[9]Список изделий'!AZ3201","v":"2018-02-15"},-14,-7,1,1,{"$f":"'[9]Список изделий'!BR3201","v":"\\\\SERVER\\Data1\\П\\Перекресток\\2018\\Энергетиков 8\\техничка\\40-Информационные стенды"},1]
[902,{"$f":"'[12]Список изделий'!D85","v":2},{"$f":"'[12]Список изделий'!E85","v":0},{"$f":"'[12]Список изделий'!F85","v":"Фризы подвесные двухсторонние"},{"$f":"'[12]Список изделий'!I85","v":0},{"$f":"'[12]Список изделий'!X85","v":0},{"$f":"'[12]Список изделий'!Y85","v":0},{"$f":"'[12]Список изделий'!Z85","v":0},{"$f":"'[12]Список изделий'!AA85","v":0},{"$f":"'[12]Список изделий'!AB85","v":600},{"$f":"'[12]Список изделий'!AC85","v":"x"},{"$f":"'[12]Список изделий'!AD85","v":0},{"$f":"'[12]Список изделий'!AE85","v":0},{"$f":"'[12]Список изделий'!AF85","v":"00:00:00"},{"$f":"'[12]Список изделий'!AY85","v":0},{"$f":"'[12]Список изделий'!AZ85","v":"00:00:00"},-43153,-43153,0,0,{"$f":"'[12]Список изделий'!BR85","v":0},0]
[641,{"$f":"'[9]Список изделий'!D3283","v":41},{"$f":"'[9]Список изделий'!E3283","v":"Пер-Энерге41"},{"$f":"'[9]Список изделий'!F3283","v":"Табличка \"Весы самообслуживания\""},{"$f":"'[9]Список изделий'!I3283","v":4},{"$f":"'[9]Список изделий'!X3283","v":"ГМА"},{"$f":"'[9]Список изделий'!Y3283","v":"Микуло"},{"$f":"'[9]Список изделий'!Z3283","v":"Закурдаев"},{"$f":"'[9]Список изделий'!AA3283","v":"Замотаев"},{"$f":"'[9]Список изделий'!AB3283","v":0},{"$f":"'[9]Список изделий'!AC3283","v":"x"},{"$f":"'[9]Список изделий'!AD3283","v":0},{"$f":"'[9]Список изделий'!AE3283","v":0},{"$f":"'[9]Список изделий'!AF3283","v":"2018-02-20"},{"$f":"'[9]Список изделий'!AY3283","v":7},{"$f":"'[9]Список изделий'!AZ3283","v":"2018-02-15"},-14,-7,1,1,{"$f":"'[9]Список изделий'!BR3283","v":"\\\\SERVER\\Data1\\П\\Перекресток\\2018\\Энергетиков 8\\техничка\\41-Табличка_Весы_КАК_ВЗВЕСИТЬ"},1]
[904,{"$f":"'[12]Список изделий'!D249","v":4},{"$f":"'[12]Список изделий'!E249","v":0},{"$f":"'[12]Список изделий'!F249","v":"Пиктограммы на стену"},{"$f":"'[12]Список изделий'!I249","v":0},{"$f":"'[12]Список изделий'!X249","v":0},{"$f":"'[12]Список изделий'!Y249","v":0},{"$f":"'[12]Список изделий'!Z249","v":0},{"$f":"'[12]Список изделий'!AA249","v":0},{"$f":"'[12]Список изделий'!AB249","v":0},{"$f":"'[12]Список изделий'!AC249","v":"x"},{"$f":"'[12]Список изделий'!AD249","v":0},{"$f":"'[12]Список изделий'!AE249","v":0},{"$f":"'[12]Список изделий'!AF249","v":"00:00:00"},{"$f":"'[12]Список изделий'!AY249","v":0},{"$f":"'[12]Список изделий'!AZ249","v":"00:00:00"},-43153,-43153,0,0,{"$f":"'[12]Список изделий'!BR249","v":0},0]
[905,{"$f":"'[12]Список изделий'!D331","v":5},{"$f":"'[12]Список изделий'!E331","v":0},{"$f":"'[12]Список изделий'!F331","v":"Грифельные доски"},{"$f":"'[12]Список изделий'!I331","v":0},{"$f":"'[12]Список изделий'!X331","v":0},{"$f":"'[12]Список изделий'!Y331","v":0},{"$f":"'[12]Список изделий'!Z331","v":0},{"$f":"'[12]Список изделий'!AA331","v":0},{"$f":"'[12]Список изделий'!AB331","v":0},{"$f":"'[12]Список изделий'!AC331","v":"x"},{"$f":"'[12]Список изделий'!AD331","v":0},{"$f":"'[12]Список изделий'!AE331","v":0},{"$f":"'[12]Список изделий'!AF331","v":"00:00:00"},{"$f":"'[12]Список изделий'!AY331","v":0},{"$f":"'[12]Список изделий'!AZ331","v":"00:00:00"},-43153,-43153,0,0,{"$f":"'[12]Список изделий'!BR331","v":0},0]
[906,{"$f":"'[12]Список изделий'!D413","v":6},{"$f":"'[12]Список изделий'!E413","v":0},{"$f":"'[12]Список изделий'!F413","v":"Стикеры \"Суперцена\" на гриф. Доски (задняя часть)"},{"$f":"'[12]Список изделий'!I413","v":0},{"$f":"'[12]Список изделий'!X413","v":0},{"$f":"'[12]Список изделий'!Y413","v":0},{"$f":"'[12]Список изделий'!Z413","v":0},{"$f":"'[12]Список изделий'!AA413","v":0},{"$f":"'[12]Список изделий'!AB413","v":0},{"$f":"'[12]Список изделий'!AC413","v":"x"},{"$f":"'[12]Список изделий'!AD413","v":0},{"$f":"'[12]Список изделий'!AE413","v":0},{"$f":"'[12]Список изделий'!AF413","v":"00:00:00"},{"$f":"'[12]Список изделий'!AY413","v":0},{"$f":"'[12]Список изделий'!AZ413","v":"00:00:00"},-43153,-43153,0,0,{"$f":"'[12]Список изделий'!BR413","v":0},0]
[642,{"$f":"'[9]Список изделий'!D3365","v":42},{"$f":"'[9]Список изделий'!E3365","v":"Пер-Энерге42"},{"$f":"'[9]Список изделий'!F3365","v":"Табличка Контрольные весы"},{"$f":"'[9]Список изделий'!I3365","v":1},{"$f":"'[9]Список изделий'!X3365","v":"ГМА"},{"$f":"'[9]Список изделий'!Y3365","v":"Микуло"},{"$f":"'[9]Список изделий'!Z3365","v":"Закурдаев"},{"$f":"'[9]Список изделий'!AA3365","v":"Замотаев"},{"$f":"'[9]Список изделий'!AB3365","v":0},{"$f":"'[9]Список изделий'!AC3365","v":"x"},{"$f":"'[9]Список изделий'!AD3365","v":0},{"$f":"'[9]Список изделий'!AE3365","v":0},{"$f":"'[9]Список изделий'!AF3365","v":"2018-02-20"},{"$f":"'[9]Список изделий'!AY3365","v":7},{"$f":"'[9]Список изделий'!AZ3365","v":"2018-02-15"},-14,-7,1,1,{"$f":"'[9]Список изделий'!BR3365","v":"\\\\SERVER\\Data1\\П\\Перекресток\\2018\\Энергетиков 8\\техничка\\42-Табличка_Контрольные_Весы"},1]
[908,{"$f":"'[12]Список изделий'!D577","v":8},{"$f":"'[12]Список изделий'!E577","v":0},{"$f":"'[12]Список изделий'!F577","v":"Потолочные указатели 2хст. 1500х300"},{"$f":"'[12]Список изделий'!I577","v":0},{"$f":"'[12]Список изделий'!X577","v":0},{"$f":"'[12]Список изделий'!Y577","v":0},{"$f":"'[12]Список изделий'!Z577","v":0},{"$f":"'[12]Список изделий'!AA577","v":0},{"$f":"'[12]Список изделий'!AB577","v":350},{"$f":"'[12]Список изделий'!AC577","v":"x"},{"$f":"'[12]Список изделий'!AD577","v":700},{"$f":"'[12]Список изделий'!AE577","v":"мм"},{"$f":"'[12]Список изделий'!AF577","v":"00:00:00"},{"$f":"'[12]Список изделий'!AY577","v":0},{"$f":"'[12]Список изделий'!AZ577","v":"00:00:00"},-43153,-43153,0,0,{"$f":"'[12]Список изделий'!BR577","v":0},0]
[909,{"$f":"'[12]Список изделий'!D659","v":9},{"$f":"'[12]Список изделий'!E659","v":0},{"$f":"'[12]Список изделий'!F659","v":"Имиджи"},{"$f":"'[12]Список изделий'!I659","v":0},{"$f":"'[12]Список изделий'!X659","v":0},{"$f":"'[12]Список изделий'!Y659","v":0},{"$f":"'[12]Список изделий'!Z659","v":0},{"$f":"'[12]Список изделий'!AA659","v":0},{"$f":"'[12]Список изделий'!AB659","v":0},{"$f":"'[12]Список изделий'!AC659","v":"x"},{"$f":"'[12]Список изделий'!AD659","v":0},{"$f":"'[12]Список изделий'!AE659","v":0},{"$f":"'[12]Список изделий'!AF659","v":"00:00:00"},{"$f":"'[12]Список изделий'!AY659","v":0},{"$f":"'[12]Список изделий'!AZ659","v":"00:00:00"},-43153,-43153,0,0,{"$f":"'[12]Список изделий'!BR659","v":"\\\\SERVER\\Data1\\П\\Перекресток\\2018\\МОСКВА_18\\Балаклавский пр. 16А\\Техничка\\09-Имиджи"},0]
[910,{"$f":"'[12]Список изделий'!D741","v":10},{"$f":"'[12]Список изделий'!E741","v":0},{"$f":"'[12]Список изделий'!F741","v":"Карман под бумагу А 1. крепление к стене (к-во предварительное)"},{"$f":"'[12]Список изделий'!I741","v":0},{"$f":"'[12]Список изделий'!X741","v":0},{"$f":"'[12]Список изделий'!Y741","v":0},{"$f":"'[12]Список изделий'!Z741","v":0},{"$f":"'[12]Список изделий'!AA741","v":0},{"$f":"'[12]Список изделий'!AB741","v":0},{"$f":"'[12]Список изделий'!AC741","v":"x"},{"$f":"'[12]Список изделий'!AD741","v":0},{"$f":"'[12]Список изделий'!AE741","v":0},{"$f":"'[12]Список изделий'!AF741","v":"00:00:00"},{"$f":"'[12]Список изделий'!AY741","v":0},{"$f":"'[12]Список изделий'!AZ741","v":"00:00:00"},-43153,-43153,0,0,{"$f":"'[12]Список изделий'!BR741","v":0},0]
[643,{"$f":"'[9]Список изделий'!D3447","v":43},{"$f":"'[9]Список изделий'!E3447","v":"Пер-Энерге43"},{"$f":"'[9]Список изделий'!F3447","v":"Табличка \"служебный вход\""},{"$f":"'[9]Список изделий'!I3447","v":1},{"$f":"'[9]Список изделий'!X3447","v":"ГМА"},{"$f":"'[9]Список изделий'!Y3447","v":"Микуло"},{"$f":"'[9]Список изделий'!Z3447","v":"Закурдаев"},{"$f":"'[9]Список изделий'!AA3447","v":"Замотаев"},{"$f":"'[9]Список изделий'!AB3447","v":0},{"$f":"'[9]Список изделий'!AC3447","v":"x"},{"$f":"'[9]Список изделий'!AD3447","v":0},{"$f":"'[9]Список изделий'!AE3447","v":0},{"$f":"'[9]Список изделий'!AF3447","v":"2018-02-20"},{"$f":"'[9]Список изделий'!AY3447","v":7},{"$f":"'[9]Список изделий'!AZ3447","v":"2018-02-15"},-14,-7,1,1,{"$f":"'[9]Список изделий'!BR3447","v":"\\\\SERVER\\Data1\\П\\Перекресток\\2018\\Энергетиков 8\\техничка\\43-Табличка_Служебный_вход"},1]
[644,{"$f":"'[9]Список изделий'!D3529","v":44},{"$f":"'[9]Список изделий'!E3529","v":"Пер-Энерге44"},{"$f":"'[9]Список изделий'!F3529","v":"Алкоразделители на ограничитель"},{"$f":"'[9]Список изделий'!I3529","v":"1 копм"},{"$f":"'[9]Список изделий'!X3529","v":"ГМА"},{"$f":"'[9]Список изделий'!Y3529","v":"Микуло"},{"$f":"'[9]Список изделий'!Z3529","v":"Закурдаев"},{"$f":"'[9]Список изделий'!AA3529","v":"Замотаев"},{"$f":"'[9]Список изделий'!AB3529","v":0},{"$f":"'[9]Список изделий'!AC3529","v":"x"},{"$f":"'[9]Список изделий'!AD3529","v":0},{"$f":"'[9]Список изделий'!AE3529","v":0},{"$f":"'[9]Список изделий'!AF3529","v":"2018-02-20"},{"$f":"'[9]Список изделий'!AY3529","v":7},{"$f":"'[9]Список изделий'!AZ3529","v":"2018-02-15"},-14,-7,1,1,{"$f":"'[9]Список изделий'!BR3529","v":"\\\\SERVER\\Data1\\П\\Перекресток\\2018\\Энергетиков 8\\техничка\\44-Алкогольные_разделители-200х38"},1]
[913,{"$f":"'[12]Список изделий'!D987","v":13},{"$f":"'[12]Список изделий'!E987","v":0},{"$f":"'[12]Список изделий'!F987","v":"Оклейка дверей"},{"$f":"'[12]Список изделий'!I987","v":0},{"$f":"'[12]Список изделий'!X987","v":0},{"$f":"'[12]Список изделий'!Y987","v":0},{"$f":"'[12]Список изделий'!Z987","v":0},{"$f":"'[12]Список изделий'!AA987","v":0},{"$f":"'[12]Список изделий'!AB987","v":0},{"$f":"'[12]Список изделий'!AC987","v":"x"},{"$f":"'[12]Список изделий'!AD987","v":0},{"$f":"'[12]Список изделий'!AE987","v":0},{"$f":"'[12]Список изделий'!AF987","v":"00:00:00"},{"$f":"'[12]Список изделий'!AY987","v":0},{"$f":"'[12]Список изделий'!AZ987","v":"00:00:00"},-43153,-43153,0,0,{"$f":"'[12]Список изделий'!BR987","v":"\\\\SERVER\\Data1\\П\\Перекресток\\2018\\МОСКВА_18\\Балаклавский пр. 16А\\Техничка\\13-Оклейка_дверей"},0]
[914,{"$f":"'[12]Список изделий'!D1069","v":14},{"$f":"'[12]Список изделий'!E1069","v":0},{"$f":"'[12]Список изделий'!F1069","v":"Стикеры на боковую часть холодильника Мороженое"},{"$f":"'[12]Список изделий'!I1069","v":0},{"$f":"'[12]Список изделий'!X1069","v":0},{"$f":"'[12]Список изделий'!Y1069","v":0},{"$f":"'[12]Список изделий'!Z1069","v":0},{"$f":"'[12]Список изделий'!AA1069","v":0},{"$f":"'[12]Список изделий'!AB1069","v":700},{"$f":"'[12]Список изделий'!AC1069","v":"x"},{"$f":"'[12]Список изделий'!AD1069","v":1600},{"$f":"'[12]Список изделий'!AE1069","v":"мм"},{"$f":"'[12]Список изделий'!AF1069","v":"00:00:00"},{"$f":"'[12]Список изделий'!AY1069","v":0},{"$f":"'[12]Список изделий'!AZ1069","v":"00:00:00"},-43153,-43153,0,0,{"$f":"'[12]Список изделий'!BR1069","v":0},0]
[915,{"$f":"'[12]Список изделий'!D1151","v":15},{"$f":"'[12]Список изделий'!E1151","v":0},{"$f":"'[12]Список изделий'!F1151","v":"Оклейка Лаваля"},{"$f":"'[12]Список изделий'!I1151","v":0},{"$f":"'[12]Список изделий'!X1151","v":0},{"$f":"'[12]Список изделий'!Y1151","v":0},{"$f":"'[12]Список изделий'!Z1151","v":0},{"$f":"'[12]Список изделий'!AA1151","v":0},{"$f":"'[12]Список изделий'!AB1151","v":0},{"$f":"'[12]Список изделий'!AC1151","v":"x"},{"$f":"'[12]Список изделий'!AD1151","v":0},{"$f":"'[12]Список изделий'!AE1151","v":0},{"$f":"'[12]Список изделий'!AF1151","v":"00:00:00"},{"$f":"'[12]Список изделий'!AY1151","v":0},{"$f":"'[12]Список изделий'!AZ1151","v":"00:00:00"},-43153,-43153,0,0,{"$f":"'[12]Список изделий'!BR1151","v":"\\\\SERVER\\Data1\\П\\Перекресток\\2018\\МОСКВА_18\\Балаклавский пр. 16А\\Техничка\\15-оклейка_ЛАВАЛЯ"},0]
[916,{"$f":"'[12]Список изделий'!D1233","v":16},{"$f":"'[12]Список изделий'!E1233","v":0},{"$f":"'[12]Список изделий'!F1233","v":"Подготовка поверхности. Очистка, обезжиривание."},{"$f":"'[12]Список изделий'!I1233","v":0},{"$f":"'[12]Список изделий'!X1233","v":0},{"$f":"'[12]Список изделий'!Y1233","v":0},{"$f":"'[12]Список изделий'!Z1233","v":0},{"$f":"'[12]Список изделий'!AA1233","v":0},{"$f":"'[12]Список изделий'!AB1233","v":700},{"$f":"'[12]Список изделий'!AC1233","v":"x"},{"$f":"'[12]Список изделий'!AD1233","v":200},{"$f":"'[12]Список изделий'!AE1233","v":"мм"},{"$f":"'[12]Список изделий'!AF1233","v":"00:00:00"},{"$f":"'[12]Список изделий'!AY1233","v":0},{"$f":"'[12]Список изделий'!AZ1233","v":"00:00:00"},-43153,-43153,0,0,{"$f":"'[12]Список изделий'!BR1233","v":0},0]
[647,{"$f":"'[9]Список изделий'!D3775","v":47},{"$f":"'[9]Список изделий'!E3775","v":"Пер-Энерге47"},{"$f":"'[9]Список изделий'!F3775","v":"Доска РТО"},{"$f":"'[9]Список изделий'!I3775","v":1},{"$f":"'[9]Список изделий'!X3775","v":"ГМА"},{"$f":"'[9]Список изделий'!Y3775","v":"Микуло"},{"$f":"'[9]Список изделий'!Z3775","v":"Закурдаев"},{"$f":"'[9]Список изделий'!AA3775","v":"Замотаев"},{"$f":"'[9]Список изделий'!AB3775","v":0},{"$f":"'[9]Список изделий'!AC3775","v":"x"},{"$f":"'[9]Список изделий'!AD3775","v":0},{"$f":"'[9]Список изделий'!AE3775","v":0},{"$f":"'[9]Список изделий'!AF3775","v":"2018-02-20"},{"$f":"'[9]Список изделий'!AY3775","v":7},{"$f":"'[9]Список изделий'!AZ3775","v":"2018-02-15"},-14,-7,1,1,{"$f":"'[9]Список изделий'!BR3775","v":"\\\\SERVER\\Data1\\П\\Перекресток\\2018\\Энергетиков 8\\техничка\\47-Доска_РТО"},1]
[918,{"$f":"'[12]Список изделий'!D1397","v":18},{"$f":"'[12]Список изделий'!E1397","v":0},{"$f":"'[12]Список изделий'!F1397","v":"Стикеры на холодильники (оклейка боковин). Пленка или перфорация с ламинацией"},{"$f":"'[12]Список изделий'!I1397","v":0},{"$f":"'[12]Список изделий'!X1397","v":0},{"$f":"'[12]Список изделий'!Y1397","v":0},{"$f":"'[12]Список изделий'!Z1397","v":0},{"$f":"'[12]Список изделий'!AA1397","v":0},{"$f":"'[12]Список изделий'!AB1397","v":0},{"$f":"'[12]Список изделий'!AC1397","v":"x"},{"$f":"'[12]Список изделий'!AD1397","v":0},{"$f":"'[12]Список изделий'!AE1397","v":0},{"$f":"'[12]Список изделий'!AF1397","v":"00:00:00"},{"$f":"'[12]Список изделий'!AY1397","v":0},{"$f":"'[12]Список изделий'!AZ1397","v":"00:00:00"},-43153,-43153,0,0,{"$f":"'[12]Список изделий'!BR1397","v":"\\\\SERVER\\Data1\\П\\Перекресток\\2018\\МОСКВА_18\\Балаклавский пр. 16А\\Техничка\\18-оклейка_боковин_холодильников"},0]
[648,{"$f":"'[9]Список изделий'!D3857","v":48},{"$f":"'[9]Список изделий'!E3857","v":"Пер-Энерге48"},{"$f":"'[9]Список изделий'!F3857","v":"Вывеска \"запрещающие знаки\" подвесная двусторонняя"},{"$f":"'[9]Список изделий'!I3857","v":1},{"$f":"'[9]Список изделий'!X3857","v":"ГМА"},{"$f":"'[9]Список изделий'!Y3857","v":"Микуло"},{"$f":"'[9]Список изделий'!Z3857","v":"Закурдаев"},{"$f":"'[9]Список изделий'!AA3857","v":"Замотаев"},{"$f":"'[9]Список изделий'!AB3857","v":0},{"$f":"'[9]Список изделий'!AC3857","v":"x"},{"$f":"'[9]Список изделий'!AD3857","v":0},{"$f":"'[9]Список изделий'!AE3857","v":0},{"$f":"'[9]Список изделий'!AF3857","v":"2018-02-20"},{"$f":"'[9]Список изделий'!AY3857","v":7},{"$f":"'[9]Список изделий'!AZ3857","v":"2018-02-15"},-14,-7,1,1,{"$f":"'[9]Список изделий'!BR3857","v":"\\\\SERVER\\Data1\\П\\Перекресток\\2018\\Энергетиков 8\\техничка\\48-Запрещающие_знаки"},1]
[920,{"$f":"'[12]Список изделий'!D1561","v":20},{"$f":"'[12]Список изделий'!E1561","v":0},{"$f":"'[12]Список изделий'!F1561","v":"V-обр. делители на морозильную камеру"},{"$f":"'[12]Список изделий'!I1561","v":0},{"$f":"'[12]Список изделий'!X1561","v":0},{"$f":"'[12]Список изделий'!Y1561","v":0},{"$f":"'[12]Список изделий'!Z1561","v":0},{"$f":"'[12]Список изделий'!AA1561","v":0},{"$f":"'[12]Список изделий'!AB1561","v":0},{"$f":"'[12]Список изделий'!AC1561","v":"x"},{"$f":"'[12]Список изделий'!AD1561","v":0},{"$f":"'[12]Список изделий'!AE1561","v":0},{"$f":"'[12]Список изделий'!AF1561","v":"00:00:00"},{"$f":"'[12]Список изделий'!AY1561","v":0},{"$f":"'[12]Список изделий'!AZ1561","v":"00:00:00"},-43153,-43153,0,0,{"$f":"'[12]Список изделий'!BR1561","v":"\\\\SERVER\\Data1\\П\\Перекресток\\2018\\МОСКВА_18\\Балаклавский пр. 16А\\Техничка\\20-V-обр_делители_на_холодильники"},0]
[649,{"$f":"'[9]Список изделий'!D3939","v":49},{"$f":"'[9]Список изделий'!E3939","v":"Пер-Энерге49"},{"$f":"'[9]Список изделий'!F3939","v":"Вывеска \"камеры хранения\""},{"$f":"'[9]Список изделий'!I3939","v":1},{"$f":"'[9]Список изделий'!X3939","v":"ГМА"},{"$f":"'[9]Список изделий'!Y3939","v":"Микуло"},{"$f":"'[9]Список изделий'!Z3939","v":"Закурдаев"},{"$f":"'[9]Список изделий'!AA3939","v":"Замотаев"},{"$f":"'[9]Список изделий'!AB3939","v":0},{"$f":"'[9]Список изделий'!AC3939","v":"x"},{"$f":"'[9]Список изделий'!AD3939","v":0},{"$f":"'[9]Список изделий'!AE3939","v":0},{"$f":"'[9]Список изделий'!AF3939","v":"2018-02-20"},{"$f":"'[9]Список изделий'!AY3939","v":7},{"$f":"'[9]Список изделий'!AZ3939","v":"2018-02-15"},-14,-7,1,1,{"$f":"'[9]Список изделий'!BR3939","v":"\\\\SERVER\\Data1\\П\\Перекресток\\2018\\Энергетиков 8\\техничка\\49-Камеры_хранения"},1]
[922,{"$f":"'[12]Список изделий'!D1725","v":22},{"$f":"'[12]Список изделий'!E1725","v":0},{"$f":"'[12]Список изделий'!F1725","v":"Входной фриз"},{"$f":"'[12]Список изделий'!I1725","v":0},{"$f":"'[12]Список изделий'!X1725","v":0},{"$f":"'[12]Список изделий'!Y1725","v":0},{"$f":"'[12]Список изделий'!Z1725","v":0},{"$f":"'[12]Список изделий'!AA1725","v":0},{"$f":"'[12]Список изделий'!AB1725","v":0},{"$f":"'[12]Список изделий'!AC1725","v":"x"},{"$f":"'[12]Список изделий'!AD1725","v":0},{"$f":"'[12]Список изделий'!AE1725","v":"мм"},{"$f":"'[12]Список изделий'!AF1725","v":"00:00:00"},{"$f":"'[12]Список изделий'!AY1725","v":0},{"$f":"'[12]Список изделий'!AZ1725","v":"00:00:00"},-43153,-43153,0,0,{"$f":"'[12]Список изделий'!BR1725","v":0},0]
[923,{"$f":"'[12]Список изделий'!D1807","v":23},{"$f":"'[12]Список изделий'!E1807","v":0},{"$f":"'[12]Список изделий'!F1807","v":"Входной фриз закатка обратной стороны"},{"$f":"'[12]Список изделий'!I1807","v":0},{"$f":"'[12]Список изделий'!X1807","v":0},{"$f":"'[12]Список изделий'!Y1807","v":0},{"$f":"'[12]Список изделий'!Z1807","v":0},{"$f":"'[12]Список изделий'!AA1807","v":0},{"$f":"'[12]Список изделий'!AB1807","v":0},{"$f":"'[12]Список изделий'!AC1807","v":"x"},{"$f":"'[12]Список изделий'!AD1807","v":0},{"$f":"'[12]Список изделий'!AE1807","v":"мм"},{"$f":"'[12]Список изделий'!AF1807","v":"00:00:00"},{"$f":"'[12]Список изделий'!AY1807","v":0},{"$f":"'[12]Список изделий'!AZ1807","v":"00:00:00"},-43153,-43153,0,0,{"$f":"'[12]Список изделий'!BR1807","v":0},0]
[650,{"$f":"'[9]Список изделий'!D4021","v":50},{"$f":"'[9]Список изделий'!E4021","v":"Пер-Энерге50"},{"$f":"'[9]Список изделий'!F4021","v":"Вывеска \"Улыбнитесь\" двухсторонняя подвесная"},{"$f":"'[9]Список изделий'!I4021","v":2},{"$f":"'[9]Список изделий'!X4021","v":"ГМА"},{"$f":"'[9]Список изделий'!Y4021","v":"Микуло"},{"$f":"'[9]Список изделий'!Z4021","v":"Закурдаев"},{"$f":"'[9]Список изделий'!AA4021","v":"Замотаев"},{"$f":"'[9]Список изделий'!AB4021","v":0},{"$f":"'[9]Список изделий'!AC4021","v":"x"},{"$f":"'[9]Список изделий'!AD4021","v":0},{"$f":"'[9]Список изделий'!AE4021","v":0},{"$f":"'[9]Список изделий'!AF4021","v":"2018-02-20"},{"$f":"'[9]Список изделий'!AY4021","v":7},{"$f":"'[9]Список изделий'!AZ4021","v":"2018-02-15"},-14,-7,1,1,{"$f":"'[9]Список изделий'!BR4021","v":"\\\\SERVER\\Data1\\П\\Перекресток\\2018\\Энергетиков 8\\техничка\\50-вывеска-Скрытые_Камеры"},1]
[651,{"$f":"'[9]Список изделий'!D4103","v":51},{"$f":"'[9]Список изделий'!E4103","v":"Пер-Энерге51"},{"$f":"'[9]Список изделий'!F4103","v":"Имиджи на колонны"},{"$f":"'[9]Список изделий'!I4103","v":"33+4"},{"$f":"'[9]Список изделий'!X4103","v":"ГМА"},{"$f":"'[9]Список изделий'!Y4103","v":"Микуло"},{"$f":"'[9]Список изделий'!Z4103","v":"Закурдаев"},{"$f":"'[9]Список изделий'!AA4103","v":"Замотаев"},{"$f":"'[9]Список изделий'!AB4103","v":0},{"$f":"'[9]Список изделий'!AC4103","v":"x"},{"$f":"'[9]Список изделий'!AD4103","v":0},{"$f":"'[9]Список изделий'!AE4103","v":0},{"$f":"'[9]Список изделий'!AF4103","v":"2018-02-20"},{"$f":"'[9]Список изделий'!AY4103","v":7},{"$f":"'[9]Список изделий'!AZ4103","v":"2018-02-15"},-14,-7,1,1,{"$f":"'[9]Список изделий'!BR4103","v":"\\\\SERVER\\Data1\\П\\Перекресток\\2018\\Энергетиков 8\\техничка\\51-Имиджи_на_колонны"},1]
[926,{"$f":"'[12]Список изделий'!D2053","v":26},{"$f":"'[12]Список изделий'!E2053","v":0},{"$f":"'[12]Список изделий'!F2053","v":"Оформление Фиксики"},{"$f":"'[12]Список изделий'!I2053","v":0},{"$f":"'[12]Список изделий'!X2053","v":0},{"$f":"'[12]Список изделий'!Y2053","v":0},{"$f":"'[12]Список изделий'!Z2053","v":0},{"$f":"'[12]Список изделий'!AA2053","v":0},{"$f":"'[12]Список изделий'!AB2053","v":0},{"$f":"'[12]Список изделий'!AC2053","v":"x"},{"$f":"'[12]Список изделий'!AD2053","v":0},{"$f":"'[12]Список изделий'!AE2053","v":"мм"},{"$f":"'[12]Список изделий'!AF2053","v":"00:00:00"},{"$f":"'[12]Список изделий'!AY2053","v":0},{"$f":"'[12]Список изделий'!AZ2053","v":"00:00:00"},-43153,-43153,0,0,{"$f":"'[12]Список изделий'!BR2053","v":0},0]
[654,{"$f":"'[9]Список изделий'!D4349","v":54},{"$f":"'[9]Список изделий'!E4349","v":"Пер-Энерге54"},{"$f":"'[9]Список изделий'!F4349","v":"Стикер \"режим работ \" 24 часа"},{"$f":"'[9]Список изделий'!I4349","v":4},{"$f":"'[9]Список изделий'!X4349","v":"ГМА"},{"$f":"'[9]Список изделий'!Y4349","v":"Микуло"},{"$f":"'[9]Список изделий'!Z4349","v":"Закурдаев"},{"$f":"'[9]Список изделий'!AA4349","v":"Замотаев"},{"$f":"'[9]Список изделий'!AB4349","v":0},{"$f":"'[9]Список изделий'!AC4349","v":"x"},{"$f":"'[9]Список изделий'!AD4349","v":0},{"$f":"'[9]Список изделий'!AE4349","v":0},{"$f":"'[9]Список изделий'!AF4349","v":"2018-02-20"},{"$f":"'[9]Список изделий'!AY4349","v":7},{"$f":"'[9]Список изделий'!AZ4349","v":"2018-02-15"},-14,-7,0,0,{"$f":"'[9]Список изделий'!BR4349","v":"\\\\SERVER\\Data1\\П\\Перекресток\\2018\\Энергетиков 8\\техничка\\54-стикер_Режим_работы"},0]
[655,{"$f":"'[9]Список изделий'!D4431","v":55},{"$f":"'[9]Список изделий'!E4431","v":"Пер-Энерге55"},{"$f":"'[9]Список изделий'!F4431","v":"Табличка \"режим работы\" 24 часа"},{"$f":"'[9]Список изделий'!I4431","v":1},{"$f":"'[9]Список изделий'!X4431","v":"ГМА"},{"$f":"'[9]Список изделий'!Y4431","v":"Микуло"},{"$f":"'[9]Список изделий'!Z4431","v":"Закурдаев"},{"$f":"'[9]Список изделий'!AA4431","v":"Замотаев"},{"$f":"'[9]Список изделий'!AB4431","v":0},{"$f":"'[9]Список изделий'!AC4431","v":"x"},{"$f":"'[9]Список изделий'!AD4431","v":0},{"$f":"'[9]Список изделий'!AE4431","v":0},{"$f":"'[9]Список изделий'!AF4431","v":"2018-02-20"},{"$f":"'[9]Список изделий'!AY4431","v":7},{"$f":"'[9]Список изделий'!AZ4431","v":"2018-02-15"},-14,-7,0,0,{"$f":"'[9]Список изделий'!BR4431","v":"\\\\SERVER\\Data1\\П\\Перекресток\\2018\\Энергетиков 8\\техничка\\55-табличка_Режим_Работы"},0]
[929,{"$f":"'[12]Список изделий'!D2299","v":29},{"$f":"'[12]Список изделий'!E2299","v":0},{"$f":"'[12]Список изделий'!F2299","v":"Фриз стеллажный 2хст. Объемный \"Конфеты\""},{"$f":"'[12]Список изделий'!I2299","v":0},{"$f":"'[12]Список изделий'!X2299","v":0},{"$f":"'[12]Список изделий'!Y2299","v":0},{"$f":"'[12]Список изделий'!Z2299","v":0},{"$f":"'[12]Список изделий'!AA2299","v":0},{"$f":"'[12]Список изделий'!AB2299","v":0},{"$f":"'[12]Список изделий'!AC2299","v":"x"},{"$f":"'[12]Список изделий'!AD2299","v":0},{"$f":"'[12]Список изделий'!AE2299","v":0},{"$f":"'[12]Список изделий'!AF2299","v":"00:00:00"},{"$f":"'[12]Список изделий'!AY2299","v":0},{"$f":"'[12]Список изделий'!AZ2299","v":"00:00:00"},-43153,-43153,0,0,{"$f":"'[12]Список изделий'!BR2299","v":0},0]
[656,{"$f":"'[9]Список изделий'!D4513","v":56},{"$f":"'[9]Список изделий'!E4513","v":"Пер-Энерге56"},{"$f":"'[9]Список изделий'!F4513","v":"Вывеска-тележки - ВТ"},{"$f":"'[9]Список изделий'!I4513","v":1},{"$f":"'[9]Список изделий'!X4513","v":"ГМА"},{"$f":"'[9]Список изделий'!Y4513","v":"Микуло"},{"$f":"'[9]Список изделий'!Z4513","v":"Закурдаев"},{"$f":"'[9]Список изделий'!AA4513","v":"Замотаев"},{"$f":"'[9]Список изделий'!AB4513","v":0},{"$f":"'[9]Список изделий'!AC4513","v":"x"},{"$f":"'[9]Список изделий'!AD4513","v":0},{"$f":"'[9]Список изделий'!AE4513","v":0},{"$f":"'[9]Список изделий'!AF4513","v":"2018-02-20"},{"$f":"'[9]Список изделий'!AY4513","v":7},{"$f":"'[9]Список изделий'!AZ4513","v":"2018-02-15"},-14,-7,1,1,{"$f":"'[9]Список изделий'!BR4513","v":"\\\\SERVER\\Data1\\П\\Перекресток\\2018\\Энергетиков 8\\техничка\\56-вывеска-Тележки"},1]
[657,{"$f":"'[9]Список изделий'!D4595","v":57},{"$f":"'[9]Список изделий'!E4595","v":"Пер-Энерге57"},{"$f":"'[9]Список изделий'!F4595","v":"Конструкции \"Суперцена\" треугольная (к-во предварительно)"},{"$f":"'[9]Список изделий'!I4595","v":9},{"$f":"'[9]Список изделий'!X4595","v":"ГМА"},{"$f":"'[9]Список изделий'!Y4595","v":"Микуло"},{"$f":"'[9]Список изделий'!Z4595","v":"Закурдаев"},{"$f":"'[9]Список изделий'!AA4595","v":"Замотаев"},{"$f":"'[9]Список изделий'!AB4595","v":0},{"$f":"'[9]Список изделий'!AC4595","v":"x"},{"$f":"'[9]Список изделий'!AD4595","v":0},{"$f":"'[9]Список изделий'!AE4595","v":0},{"$f":"'[9]Список изделий'!AF4595","v":"2018-02-20"},{"$f":"'[9]Список изделий'!AY4595","v":7},{"$f":"'[9]Список изделий'!AZ4595","v":"2018-02-15"},-14,-7,1,1,{"$f":"'[9]Список изделий'!BR4595","v":"\\\\SERVER\\Data1\\П\\Перекресток\\2018\\Энергетиков 8\\техничка\\57-СУПЕРЦЕНА-треугольная(Призма)"},1]
[932,{"$f":"'[12]Список изделий'!D2545","v":32},{"$f":"'[12]Список изделий'!E2545","v":0},{"$f":"'[12]Список изделий'!F2545","v":"Световая вывеска Клевер Перекресток СУПЕРМАРКЕТ  на входном фризе"},{"$f":"'[12]Список изделий'!I2545","v":0},{"$f":"'[12]Список изделий'!X2545","v":0},{"$f":"'[12]Список изделий'!Y2545","v":0},{"$f":"'[12]Список изделий'!Z2545","v":0},{"$f":"'[12]Список изделий'!AA2545","v":0},{"$f":"'[12]Список изделий'!AB2545","v":300},{"$f":"'[12]Список изделий'!AC2545","v":"x"},{"$f":"'[12]Список изделий'!AD2545","v":100},{"$f":"'[12]Список изделий'!AE2545","v":0},{"$f":"'[12]Список изделий'!AF2545","v":"00:00:00"},{"$f":"'[12]Список изделий'!AY2545","v":0},{"$f":"'[12]Список изделий'!AZ2545","v":"00:00:00"},-43153,-43153,0,0,{"$f":"'[12]Список изделий'!BR2545","v":0},0]
[933,{"$f":"'[12]Список изделий'!D2627","v":33},{"$f":"'[12]Список изделий'!E2627","v":0},{"$f":"'[12]Список изделий'!F2627","v":"Проектно-конструкторская документация для светового короба"},{"$f":"'[12]Список изделий'!I2627","v":0},{"$f":"'[12]Список изделий'!X2627","v":0},{"$f":"'[12]Список изделий'!Y2627","v":0},{"$f":"'[12]Список изделий'!Z2627","v":0},{"$f":"'[12]Список изделий'!AA2627","v":0},{"$f":"'[12]Список изделий'!AB2627","v":0},{"$f":"'[12]Список изделий'!AC2627","v":"x"},{"$f":"'[12]Список изделий'!AD2627","v":0},{"$f":"'[12]Список изделий'!AE2627","v":0},{"$f":"'[12]Список изделий'!AF2627","v":"00:00:00"},{"$f":"'[12]Список изделий'!AY2627","v":0},{"$f":"'[12]Список изделий'!AZ2627","v":"00:00:00"},-43153,-43153,0,0,{"$f":"'[12]Список изделий'!BR2627","v":0},0]
[934,{"$f":"'[12]Список изделий'!D2709","v":34},{"$f":"'[12]Список изделий'!E2709","v":0},{"$f":"'[12]Список изделий'!F2709","v":"Электропроект для светового короба"},{"$f":"'[12]Список изделий'!I2709","v":0},{"$f":"'[12]Список изделий'!X2709","v":0},{"$f":"'[12]Список изделий'!Y2709","v":0},{"$f":"'[12]Список изделий'!Z2709","v":0},{"$f":"'[12]Список изделий'!AA2709","v":0},{"$f":"'[12]Список изделий'!AB2709","v":300},{"$f":"'[12]Список изделий'!AC2709","v":"x"},{"$f":"'[12]Список изделий'!AD2709","v":390},{"$f":"'[12]Список изделий'!AE2709","v":"мм"},{"$f":"'[12]Список изделий'!AF2709","v":"00:00:00"},{"$f":"'[12]Список изделий'!AY2709","v":0},{"$f":"'[12]Список изделий'!AZ2709","v":"00:00:00"},-43153,-43153,0,0,{"$f":"'[12]Список изделий'!BR2709","v":0},0]
[935,{"$f":"'[12]Список изделий'!D2791","v":35},{"$f":"'[12]Список изделий'!E2791","v":0},{"$f":"'[12]Список изделий'!F2791","v":"Баннеры (Праздник 7500х2400) и  (Праздник 570х2400)"},{"$f":"'[12]Список изделий'!I2791","v":0},{"$f":"'[12]Список изделий'!X2791","v":0},{"$f":"'[12]Список изделий'!Y2791","v":0},{"$f":"'[12]Список изделий'!Z2791","v":0},{"$f":"'[12]Список изделий'!AA2791","v":0},{"$f":"'[12]Список изделий'!AB2791","v":0},{"$f":"'[12]Список изделий'!AC2791","v":"x"},{"$f":"'[12]Список изделий'!AD2791","v":0},{"$f":"'[12]Список изделий'!AE2791","v":"мм"},{"$f":"'[12]Список изделий'!AF2791","v":"00:00:00"},{"$f":"'[12]Список изделий'!AY2791","v":0},{"$f":"'[12]Список изделий'!AZ2791","v":"00:00:00"},-43153,-43153,0,0,{"$f":"'[12]Список изделий'!BR2791","v":0},0]
[661,{"$f":"'[9]Список изделий'!D4923","v":61},{"$f":"'[9]Список изделий'!E4923","v":"Пер-Энерге61"},{"$f":"'[9]Список изделий'!F4923","v":"Подвес кассы на трубе 20х20 (двухсторонний) (к-во предварительно)"},{"$f":"'[9]Список изделий'!I4923","v":3},{"$f":"'[9]Список изделий'!X4923","v":"ГМА"},{"$f":"'[9]Список изделий'!Y4923","v":"Микуло"},{"$f":"'[9]Список изделий'!Z4923","v":"Закурдаев"},{"$f":"'[9]Список изделий'!AA4923","v":"Замотаев"},{"$f":"'[9]Список изделий'!AB4923","v":0},{"$f":"'[9]Список изделий'!AC4923","v":"x"},{"$f":"'[9]Список изделий'!AD4923","v":0},{"$f":"'[9]Список изделий'!AE4923","v":0},{"$f":"'[9]Список изделий'!AF4923","v":"2018-02-20"},{"$f":"'[9]Список изделий'!AY4923","v":7},{"$f":"'[9]Список изделий'!AZ4923","v":"2018-02-15"},-14,-7,1,1,{"$f":"'[9]Список изделий'!BR4923","v":"\\\\SERVER\\Data1\\П\\Перекресток\\2018\\Энергетиков 8\\техничка\\61-Подвес_КАССЫ"},1]
[937,{"$f":"'[12]Список изделий'!D2955","v":37},{"$f":"'[12]Список изделий'!E2955","v":0},{"$f":"'[12]Список изделий'!F2955","v":"Монтаж скайтреков"},{"$f":"'[12]Список изделий'!I2955","v":0},{"$f":"'[12]Список изделий'!X2955","v":0},{"$f":"'[12]Список изделий'!Y2955","v":0},{"$f":"'[12]Список изделий'!Z2955","v":0},{"$f":"'[12]Список изделий'!AA2955","v":0},{"$f":"'[12]Список изделий'!AB2955","v":0},{"$f":"'[12]Список изделий'!AC2955","v":"x"},{"$f":"'[12]Список изделий'!AD2955","v":0},{"$f":"'[12]Список изделий'!AE2955","v":0},{"$f":"'[12]Список изделий'!AF2955","v":"00:00:00"},{"$f":"'[12]Список изделий'!AY2955","v":0},{"$f":"'[12]Список изделий'!AZ2955","v":"00:00:00"},-43153,-43153,0,0,{"$f":"'[12]Список изделий'!BR2955","v":0},0]
[938,{"$f":"'[12]Список изделий'!D3037","v":38},{"$f":"'[12]Список изделий'!E3037","v":0},{"$f":"'[12]Список изделий'!F3037","v":"Стикер Номер кассы (комплект из 2 шт.)"},{"$f":"'[12]Список изделий'!I3037","v":0},{"$f":"'[12]Список изделий'!X3037","v":0},{"$f":"'[12]Список изделий'!Y3037","v":0},{"$f":"'[12]Список изделий'!Z3037","v":0},{"$f":"'[12]Список изделий'!AA3037","v":0},{"$f":"'[12]Список изделий'!AB3037","v":300},{"$f":"'[12]Список изделий'!AC3037","v":"x"},{"$f":"'[12]Список изделий'!AD3037","v":200},{"$f":"'[12]Список изделий'!AE3037","v":"мм"},{"$f":"'[12]Список изделий'!AF3037","v":"00:00:00"},{"$f":"'[12]Список изделий'!AY3037","v":0},{"$f":"'[12]Список изделий'!AZ3037","v":"00:00:00"},-43153,-43153,0,0,{"$f":"'[12]Список изделий'!BR3037","v":0},0]
[939,{"$f":"'[12]Список изделий'!D3119","v":39},{"$f":"'[12]Список изделий'!E3119","v":0},{"$f":"'[12]Список изделий'!F3119","v":"Фризы стеллажные \"Хлеб\" плоский двухсторонний"},{"$f":"'[12]Список изделий'!I3119","v":0},{"$f":"'[12]Список изделий'!X3119","v":0},{"$f":"'[12]Список изделий'!Y3119","v":0},{"$f":"'[12]Список изделий'!Z3119","v":0},{"$f":"'[12]Список изделий'!AA3119","v":0},{"$f":"'[12]Список изделий'!AB3119","v":0},{"$f":"'[12]Список изделий'!AC3119","v":"x"},{"$f":"'[12]Список изделий'!AD3119","v":0},{"$f":"'[12]Список изделий'!AE3119","v":0},{"$f":"'[12]Список изделий'!AF3119","v":"00:00:00"},{"$f":"'[12]Список изделий'!AY3119","v":0},{"$f":"'[12]Список изделий'!AZ3119","v":"00:00:00"},-43153,-43153,0,0,{"$f":"'[12]Список изделий'!BR3119","v":0},0]
[662,{"$f":"'[9]Список изделий'!D5005","v":62},{"$f":"'[9]Список изделий'!E5005","v":"Пер-Энерге62"},{"$f":"'[9]Список изделий'!F5005","v":"Боковины \"Бокалы\" на боковые части энда стеллажа"},{"$f":"'[9]Список изделий'!I5005","v":2},{"$f":"'[9]Список изделий'!X5005","v":"ГМА"},{"$f":"'[9]Список изделий'!Y5005","v":"Микуло"},{"$f":"'[9]Список изделий'!Z5005","v":"Закурдаев"},{"$f":"'[9]Список изделий'!AA5005","v":"Замотаев"},{"$f":"'[9]Список изделий'!AB5005","v":0},{"$f":"'[9]Список изделий'!AC5005","v":"x"},{"$f":"'[9]Список изделий'!AD5005","v":0},{"$f":"'[9]Список изделий'!AE5005","v":0},{"$f":"'[9]Список изделий'!AF5005","v":"2018-02-20"},{"$f":"'[9]Список изделий'!AY5005","v":7},{"$f":"'[9]Список изделий'!AZ5005","v":"2018-02-15"},-14,-7,1,1,{"$f":"'[9]Список изделий'!BR5005","v":"\\\\SERVER\\Data1\\П\\Перекресток\\2018\\Энергетиков 8\\техничка\\62-боковины_БОКАЛЫ"},1]
[668,{"$f":"'[9]Список изделий'!D5497","v":68},{"$f":"'[9]Список изделий'!E5497","v":"Пер-Энерге68"},{"$f":"'[9]Список изделий'!F5497","v":"Оформлениие Фермерского Уголка"},{"$f":"'[9]Список изделий'!I5497","v":"13 изд"},{"$f":"'[9]Список изделий'!X5497","v":"ГМА"},{"$f":"'[9]Список изделий'!Y5497","v":"Микуло"},{"$f":"'[9]Список изделий'!Z5497","v":"Закурдаев"},{"$f":"'[9]Список изделий'!AA5497","v":"Замотаев"},{"$f":"'[9]Список изделий'!AB5497","v":0},{"$f":"'[9]Список изделий'!AC5497","v":"x"},{"$f":"'[9]Список изделий'!AD5497","v":0},{"$f":"'[9]Список изделий'!AE5497","v":0},{"$f":"'[9]Список изделий'!AF5497","v":"2018-02-20"},{"$f":"'[9]Список изделий'!AY5497","v":7},{"$f":"'[9]Список изделий'!AZ5497","v":"2018-02-15"},-14,-7,1,1,{"$f":"'[9]Список изделий'!BR5497","v":"\\\\SERVER\\Data1\\П\\Перекресток\\2018\\Энергетиков 8\\техничка\\68-Фермерский_уголок"},1]
[676,{"$f":"'[9]Список изделий'!D6153","v":76},{"$f":"'[9]Список изделий'!E6153","v":"Пер-Энерге76"},{"$f":"'[9]Список изделий'!F6153","v":"Пилон несветовой"},{"$f":"'[9]Список изделий'!I6153","v":"1+1"},{"$f":"'[9]Список изделий'!X6153","v":"ГМА"},{"$f":"'[9]Список изделий'!Y6153","v":"Микуло"},{"$f":"'[9]Список изделий'!Z6153","v":"Закурдаев"},{"$f":"'[9]Список изделий'!AA6153","v":"Замотаев"},{"$f":"'[9]Список изделий'!AB6153","v":0},{"$f":"'[9]Список изделий'!AC6153","v":"x"},{"$f":"'[9]Список изделий'!AD6153","v":0},{"$f":"'[9]Список изделий'!AE6153","v":0},{"$f":"'[9]Список изделий'!AF6153","v":"2018-02-20"},{"$f":"'[9]Список изделий'!AY6153","v":7},{"$f":"'[9]Список изделий'!AZ6153","v":"2018-02-15"},-14,-7,1,1,{"$f":"'[9]Список изделий'!BR6153","v":"\\\\SERVER\\Data1\\П\\Перекресток\\2018\\Энергетиков 8\\техничка\\76-Пилон-660х1600"},1]
[943,{"$f":"'[12]Список изделий'!D3447","v":43},{"$f":"'[12]Список изделий'!E3447","v":0},{"$f":"'[12]Список изделий'!F3447","v":0},{"$f":"'[12]Список изделий'!I3447","v":0},{"$f":"'[12]Список изделий'!X3447","v":0},{"$f":"'[12]Список изделий'!Y3447","v":0},{"$f":"'[12]Список изделий'!Z3447","v":0},{"$f":"'[12]Список изделий'!AA3447","v":0},{"$f":"'[12]Список изделий'!AB3447","v":1500},{"$f":"'[12]Список изделий'!AC3447","v":"x"},{"$f":"'[12]Список изделий'!AD3447","v":1000},{"$f":"'[12]Список изделий'!AE3447","v":0},{"$f":"'[12]Список изделий'!AF3447","v":"00:00:00"},{"$f":"'[12]Список изделий'!AY3447","v":0},{"$f":"'[12]Список изделий'!AZ3447","v":"00:00:00"},-43153,-43153,0,0,{"$f":"'[12]Список изделий'!BR3447","v":0},0]
[677,{"$f":"'[9]Список изделий'!D6235","v":77},{"$f":"'[9]Список изделий'!E6235","v":"Пер-Энерге77"},{"$f":"'[9]Список изделий'!F6235","v":"Печать на бумаге для пилона"},{"$f":"'[9]Список изделий'!I6235","v":4},{"$f":"'[9]Список изделий'!X6235","v":"ГМА"},{"$f":"'[9]Список изделий'!Y6235","v":"Микуло"},{"$f":"'[9]Список изделий'!Z6235","v":"Закурдаев"},{"$f":"'[9]Список изделий'!AA6235","v":"Замотаев"},{"$f":"'[9]Список изделий'!AB6235","v":0},{"$f":"'[9]Список изделий'!AC6235","v":"x"},{"$f":"'[9]Список изделий'!AD6235","v":0},{"$f":"'[9]Список изделий'!AE6235","v":0},{"$f":"'[9]Список изделий'!AF6235","v":"2018-02-20"},{"$f":"'[9]Список изделий'!AY6235","v":7},{"$f":"'[9]Список изделий'!AZ6235","v":"2018-02-15"},-14,-7,1,1,{"$f":"'[9]Список изделий'!BR6235","v":"\\\\SERVER\\Data1\\П\\Перекресток\\2018\\Энергетиков 8\\техничка\\77-Плакаты для Пилона"},1]
[945,{"$f":"'[12]Список изделий'!D3611","v":45},{"$f":"'[12]Список изделий'!E3611","v":0},{"$f":"'[12]Список изделий'!F3611","v":"таблички и стикеры по навигации"},{"$f":"'[12]Список изделий'!I3611","v":0},{"$f":"'[12]Список изделий'!X3611","v":0},{"$f":"'[12]Список изделий'!Y3611","v":0},{"$f":"'[12]Список изделий'!Z3611","v":0},{"$f":"'[12]Список изделий'!AA3611","v":0},{"$f":"'[12]Список изделий'!AB3611","v":0},{"$f":"'[12]Список изделий'!AC3611","v":"x"},{"$f":"'[12]Список изделий'!AD3611","v":0},{"$f":"'[12]Список изделий'!AE3611","v":0},{"$f":"'[12]Список изделий'!AF3611","v":"00:00:00"},{"$f":"'[12]Список изделий'!AY3611","v":0},{"$f":"'[12]Список изделий'!AZ3611","v":"00:00:00"},-43153,-43153,0,0,{"$f":"'[12]Список изделий'!BR3611","v":"\\\\SERVER\\Data1\\П\\Перекресток\\2018\\МОСКВА_18\\Балаклавский пр. 16А\\Техничка\\45-навигация_стикеры_таблички"},0]
[1071,{"$f":"'[13]Список изделий'!D5743","v":71},{"$f":"'[13]Список изделий'!E5743","v":"Пер-Планер-71"},{"$f":"'[13]Список изделий'!F5743","v":"Консоль несветовая 800 х 1200 мм"},{"$f":"'[13]Список изделий'!I5743","v":1},{"$f":"'[13]Список изделий'!X5743","v":"ГМА"},{"$f":"'[13]Список изделий'!Y5743","v":"Микуло"},{"$f":"'[13]Список изделий'!Z5743","v":"Закурдаев"},{"$f":"'[13]Список изделий'!AA5743","v":"Замотаев"},{"$f":"'[13]Список изделий'!AB5743","v":1000},{"$f":"'[13]Список изделий'!AC5743","v":"x"},{"$f":"'[13]Список изделий'!AD5743","v":1000},{"$f":"'[13]Список изделий'!AE5743","v":"мм"},{"$f":"'[13]Список изделий'!AF5743","v":"2018-02-22"},{"$f":"'[13]Список изделий'!AY5743","v":7},{"$f":"'[13]Список изделий'!AZ5743","v":"2018-02-16"},-13,-6,1,1,{"$f":"'[13]Список изделий'!BR5743","v":"\\\\SERVER\\Data1\\П\\Перекресток\\2018\\ОКЕЙ_Перекресток\\Планерная 25\\техничка\\Наружка\\Консоль.cdr"},1]
[146,{"$f":"'[3]Список изделий'!D3693","v":46},{"$f":"'[3]Список изделий'!E3693","v":"П-выв-Щербак46"},{"$f":"'[3]Список изделий'!F3693","v":"Вывеска Перекресток супермаркет 20000 х 1600мм"},{"$f":"'[3]Список изделий'!I3693","v":1},{"$f":"'[3]Список изделий'!X3693","v":0},{"$f":"'[3]Список изделий'!Y3693","v":0},{"$f":"'[3]Список изделий'!Z3693","v":0},{"$f":"'[3]Список изделий'!AA3693","v":0},{"$f":"'[3]Список изделий'!AB3693","v":20000},{"$f":"'[3]Список изделий'!AC3693","v":"x"},{"$f":"'[3]Список изделий'!AD3693","v":1600},{"$f":"'[3]Список изделий'!AE3693","v":"мм"},{"$f":"'[3]Список изделий'!AF3693","v":"2018-02-20"},{"$f":"'[3]Список изделий'!AY3693","v":8},{"$f":"'[3]Список изделий'!AZ3693","v":"2018-02-19"},-11,-3,1,1,{"$f":"'[3]Список изделий'!BR3693","v":0},1]
[147,{"$f":"'[3]Список изделий'!D3775","v":47},{"$f":"'[3]Список изделий'!E3775","v":"П-выв-Щербак47"},{"$f":"'[3]Список изделий'!F3775","v":"Столбовой кронштейн 1200 х 800"},{"$f":"'[3]Список изделий'!I3775","v":1},{"$f":"'[3]Список изделий'!X3775","v":0},{"$f":"'[3]Список изделий'!Y3775","v":0},{"$f":"'[3]Список изделий'!Z3775","v":0},{"$f":"'[3]Список изделий'!AA3775","v":0},{"$f":"'[3]Список изделий'!AB3775","v":1200},{"$f":"'[3]Список изделий'!AC3775","v":"x"},{"$f":"'[3]Список изделий'!AD3775","v":800},{"$f":"'[3]Список изделий'!AE3775","v":"мм"},{"$f":"'[3]Список изделий'!AF3775","v":"2018-02-20"},{"$f":"'[3]Список изделий'!AY3775","v":8},{"$f":"'[3]Список изделий'!AZ3775","v":"2018-02-19"},-11,-3,1,1,{"$f":"'[3]Список изделий'!BR3775","v":0},1]
[726,{"$f":"'[10]Список изделий'!D2053","v":26},{"$f":"'[10]Список изделий'!E2053","v":0},{"$f":"'[10]Список изделий'!F2053","v":0},{"$f":"'[10]Список изделий'!I2053","v":0},{"$f":"'[10]Список изделий'!X2053","v":0},{"$f":"'[10]Список изделий'!Y2053","v":0},{"$f":"'[10]Список изделий'!Z2053","v":0},{"$f":"'[10]Список изделий'!AA2053","v":0},{"$f":"'[10]Список изделий'!AB2053","v":0},{"$f":"'[10]Список изделий'!AC2053","v":"x"},{"$f":"'[10]Список изделий'!AD2053","v":0},{"$f":"'[10]Список изделий'!AE2053","v":0},{"$f":"'[10]Список изделий'!AF2053","v":"00:00:00"},{"$f":"'[10]Список изделий'!AY2053","v":0},{"$f":"'[10]Список изделий'!AZ2053","v":"00:00:00"},-43153,-43153,1,1,{"$f":"'[10]Список изделий'!BR2053","v":0},1]
[1001,{"$f":"'[13]Список изделий'!D3","v":1},{"$f":"'[13]Список изделий'!E3","v":"Пер-Планер-1"},{"$f":"'[13]Список изделий'!F3","v":"Фризы настенные односторонние"},{"$f":"'[13]Список изделий'!I3","v":15},{"$f":"'[13]Список изделий'!X3","v":"ГМА"},{"$f":"'[13]Список изделий'!Y3","v":"Микуло"},{"$f":"'[13]Список изделий'!Z3","v":"Закурдаев"},{"$f":"'[13]Список изделий'!AA3","v":"Замотаев"},{"$f":"'[13]Список изделий'!AB3","v":0},{"$f":"'[13]Список изделий'!AC3","v":0},{"$f":"'[13]Список изделий'!AD3","v":500},{"$f":"'[13]Список изделий'!AE3","v":"мм"},{"$f":"'[13]Список изделий'!AF3","v":"2018-02-25"},{"$f":"'[13]Список изделий'!AY3","v":7},{"$f":"'[13]Список изделий'!AZ3","v":"2018-02-19"},-10,-3,1,1,{"$f":"'[13]Список изделий'!BR3","v":"\\\\SERVER\\Data1\\П\\Перекресток\\2018\\ОКЕЙ_Перекресток\\Планерная 25\\техничка\\01-Фризы настенные\\Печать\\Roland\\Настенные_фризы_печать.cdr"},1]
[951,{"$f":"'[12]Список изделий'!D4103","v":51},{"$f":"'[12]Список изделий'!E4103","v":0},{"$f":"'[12]Список изделий'!F4103","v":"имиджи на колонны"},{"$f":"'[12]Список изделий'!I4103","v":0},{"$f":"'[12]Список изделий'!X4103","v":0},{"$f":"'[12]Список изделий'!Y4103","v":0},{"$f":"'[12]Список изделий'!Z4103","v":0},{"$f":"'[12]Список изделий'!AA4103","v":0},{"$f":"'[12]Список изделий'!AB4103","v":0},{"$f":"'[12]Список изделий'!AC4103","v":"x"},{"$f":"'[12]Список изделий'!AD4103","v":0},{"$f":"'[12]Список изделий'!AE4103","v":0},{"$f":"'[12]Список изделий'!AF4103","v":"00:00:00"},{"$f":"'[12]Список изделий'!AY4103","v":0},{"$f":"'[12]Список изделий'!AZ4103","v":"00:00:00"},-43153,-43153,0,0,{"$f":"'[12]Список изделий'!BR4103","v":"\\\\SERVER\\Data1\\П\\Перекресток\\2018\\МОСКВА_18\\Балаклавский пр. 16А\\Техничка\\51-Имиджи_на_колонны"},0]
[952,{"$f":"'[12]Список изделий'!D4185","v":52},{"$f":"'[12]Список изделий'!E4185","v":0},{"$f":"'[12]Список изделий'!F4185","v":0},{"$f":"'[12]Список изделий'!I4185","v":0},{"$f":"'[12]Список изделий'!X4185","v":0},{"$f":"'[12]Список изделий'!Y4185","v":0},{"$f":"'[12]Список изделий'!Z4185","v":0},{"$f":"'[12]Список изделий'!AA4185","v":0},{"$f":"'[12]Список изделий'!AB4185","v":300},{"$f":"'[12]Список изделий'!AC4185","v":"x"},{"$f":"'[12]Список изделий'!AD4185","v":420},{"$f":"'[12]Список изделий'!AE4185","v":"мм"},{"$f":"'[12]Список изделий'!AF4185","v":"00:00:00"},{"$f":"'[12]Список изделий'!AY4185","v":0},{"$f":"'[12]Список изделий'!AZ4185","v":"00:00:00"},-43153,-43153,0,0,{"$f":"'[12]Список изделий'!BR4185","v":0},0]
[953,{"$f":"'[12]Список изделий'!D4267","v":53},{"$f":"'[12]Список изделий'!E4267","v":0},{"$f":"'[12]Список изделий'!F4267","v":0},{"$f":"'[12]Список изделий'!I4267","v":0},{"$f":"'[12]Список изделий'!X4267","v":0},{"$f":"'[12]Список изделий'!Y4267","v":0},{"$f":"'[12]Список изделий'!Z4267","v":0},{"$f":"'[12]Список изделий'!AA4267","v":0},{"$f":"'[12]Список изделий'!AB4267","v":600},{"$f":"'[12]Список изделий'!AC4267","v":"x"},{"$f":"'[12]Список изделий'!AD4267","v":895},{"$f":"'[12]Список изделий'!AE4267","v":0},{"$f":"'[12]Список изделий'!AF4267","v":"00:00:00"},{"$f":"'[12]Список изделий'!AY4267","v":0},{"$f":"'[12]Список изделий'!AZ4267","v":"00:00:00"},-43153,-43153,0,0,{"$f":"'[12]Список изделий'!BR4267","v":0},0]
[954,{"$f":"'[12]Список изделий'!D4349","v":54},{"$f":"'[12]Список изделий'!E4349","v":0},{"$f":"'[12]Список изделий'!F4349","v":"Стикер \"режим работ \" 24 часа"},{"$f":"'[12]Список изделий'!I4349","v":0},{"$f":"'[12]Список изделий'!X4349","v":0},{"$f":"'[12]Список изделий'!Y4349","v":0},{"$f":"'[12]Список изделий'!Z4349","v":0},{"$f":"'[12]Список изделий'!AA4349","v":0},{"$f":"'[12]Список изделий'!AB4349","v":618},{"$f":"'[12]Список изделий'!AC4349","v":"x"},{"$f":"'[12]Список изделий'!AD4349","v":925},{"$f":"'[12]Список изделий'!AE4349","v":"мм"},{"$f":"'[12]Список изделий'!AF4349","v":"00:00:00"},{"$f":"'[12]Список изделий'!AY4349","v":0},{"$f":"'[12]Список изделий'!AZ4349","v":"00:00:00"},-43153,-43153,0,0,{"$f":"'[12]Список изделий'!BR4349","v":0},0]
[955,{"$f":"'[12]Список изделий'!D4431","v":55},{"$f":"'[12]Список изделий'!E4431","v":0},{"$f":"'[12]Список изделий'!F4431","v":"Табличка \"режим работы\" 24 часа"},{"$f":"'[12]Список изделий'!I4431","v":0},{"$f":"'[12]Список изделий'!X4431","v":0},{"$f":"'[12]Список изделий'!Y4431","v":0},{"$f":"'[12]Список изделий'!Z4431","v":0},{"$f":"'[12]Список изделий'!AA4431","v":0},{"$f":"'[12]Список изделий'!AB4431","v":0},{"$f":"'[12]Список изделий'!AC4431","v":"x"},{"$f":"'[12]Список изделий'!AD4431","v":0},{"$f":"'[12]Список изделий'!AE4431","v":"мм"},{"$f":"'[12]Список изделий'!AF4431","v":"00:00:00"},{"$f":"'[12]Список изделий'!AY4431","v":0},{"$f":"'[12]Список изделий'!AZ4431","v":"00:00:00"},-43153,-43153,0,0,{"$f":"'[12]Список изделий'!BR4431","v":0},0]
[1003,{"$f":"'[13]Список изделий'!D167","v":3},{"$f":"'[13]Список изделий'!E167","v":"Пер-Планер-3"},{"$f":"'[13]Список изделий'!F167","v":"Световые вывески клееные"},{"$f":"'[13]Список изделий'!I167","v":7},{"$f":"'[13]Список изделий'!X167","v":"ГМА"},{"$f":"'[13]Список изделий'!Y167","v":"Микуло"},{"$f":"'[13]Список изделий'!Z167","v":"Закурдаев"},{"$f":"'[13]Список изделий'!AA167","v":"Замотаев"},{"$f":"'[13]Список изделий'!AB167","v":2000},{"$f":"'[13]Список изделий'!AC167","v":"x"},{"$f":"'[13]Список изделий'!AD167","v":350},{"$f":"'[13]Список изделий'!AE167","v":"мм"},{"$f":"'[13]Список изделий'!AF167","v":"2018-02-25"},{"$f":"'[13]Список изделий'!AY167","v":7},{"$f":"'[13]Список изделий'!AZ167","v":"2018-02-19"},-10,-3,1,1,{"$f":"'[13]Список изделий'!BR167","v":"\\\\SERVER\\Data1\\П\\Перекресток\\2018\\ОКЕЙ_Перекресток\\Планерная 25\\техничка\\03-Световые_вывески_отделов"},1]
[1004,{"$f":"'[13]Список изделий'!D249","v":4},{"$f":"'[13]Список изделий'!E249","v":"Пер-Планер-4"},{"$f":"'[13]Список изделий'!F249","v":"Пиктограммы на стену"},{"$f":"'[13]Список изделий'!I249","v":6},{"$f":"'[13]Список изделий'!X249","v":"ГМА"},{"$f":"'[13]Список изделий'!Y249","v":"Микуло"},{"$f":"'[13]Список изделий'!Z249","v":"Закурдаев"},{"$f":"'[13]Список изделий'!AA249","v":"Замотаев"},{"$f":"'[13]Список изделий'!AB249","v":0},{"$f":"'[13]Список изделий'!AC249","v":"x"},{"$f":"'[13]Список изделий'!AD249","v":0},{"$f":"'[13]Список изделий'!AE249","v":0},{"$f":"'[13]Список изделий'!AF249","v":"2018-02-25"},{"$f":"'[13]Список изделий'!AY249","v":7},{"$f":"'[13]Список изделий'!AZ249","v":"2018-02-19"},-10,-3,1,1,{"$f":"'[13]Список изделий'!BR249","v":"\\\\SERVER\\Data1\\П\\Перекресток\\2018\\ОКЕЙ_Перекресток\\Планерная 25\\техничка\\04-Пиктограммы"},1]
[1005,{"$f":"'[13]Список изделий'!D331","v":5},{"$f":"'[13]Список изделий'!E331","v":"Пер-Планер-5"},{"$f":"'[13]Список изделий'!F331","v":"Грифельные доски"},{"$f":"'[13]Список изделий'!I331","v":6},{"$f":"'[13]Список изделий'!X331","v":"ГМА"},{"$f":"'[13]Список изделий'!Y331","v":"Микуло"},{"$f":"'[13]Список изделий'!Z331","v":"Закурдаев"},{"$f":"'[13]Список изделий'!AA331","v":"Замотаев"},{"$f":"'[13]Список изделий'!AB331","v":0},{"$f":"'[13]Список изделий'!AC331","v":"x"},{"$f":"'[13]Список изделий'!AD331","v":0},{"$f":"'[13]Список изделий'!AE331","v":0},{"$f":"'[13]Список изделий'!AF331","v":"2018-02-25"},{"$f":"'[13]Список изделий'!AY331","v":7},{"$f":"'[13]Список изделий'!AZ331","v":"2018-02-19"},-10,-3,1,1,{"$f":"'[13]Список изделий'!BR331","v":"\\\\SERVER\\Data1\\П\\Перекресток\\2018\\ОКЕЙ_Перекресток\\Планерная 25\\техничка\\05-Грифельные_доски"},1]
[1007,{"$f":"'[13]Список изделий'!D495","v":7},{"$f":"'[13]Список изделий'!E495","v":"Пер-Планер-7"},{"$f":"'[13]Список изделий'!F495","v":"Потолочные указатели 2хст. 2000х400"},{"$f":"'[13]Список изделий'!I495","v":16},{"$f":"'[13]Список изделий'!X495","v":"ГМА"},{"$f":"'[13]Список изделий'!Y495","v":"Микуло"},{"$f":"'[13]Список изделий'!Z495","v":"Закурдаев"},{"$f":"'[13]Список изделий'!AA495","v":"Замотаев"},{"$f":"'[13]Список изделий'!AB495","v":600},{"$f":"'[13]Список изделий'!AC495","v":"x"},{"$f":"'[13]Список изделий'!AD495","v":600},{"$f":"'[13]Список изделий'!AE495","v":"мм"},{"$f":"'[13]Список изделий'!AF495","v":"2018-02-25"},{"$f":"'[13]Список изделий'!AY495","v":7},{"$f":"'[13]Список изделий'!AZ495","v":"2018-02-19"},-10,-3,1,1,{"$f":"'[13]Список изделий'!BR495","v":"\\\\SERVER\\Data1\\П\\Перекресток\\2018\\ОКЕЙ_Перекресток\\Планерная 25\\техничка\\07-Потолочные_вывески-2000х400"},1]
[960,{"$f":"'[12]Список изделий'!D4841","v":60},{"$f":"'[12]Список изделий'!E4841","v":0},{"$f":"'[12]Список изделий'!F4841","v":" Фриз стеллажный объемный. Двухсторонний СУПЕРЦЕНА. Обратная сторона - имитация стелажного фриза Товары для дома Красота уход"},{"$f":"'[12]Список изделий'!I4841","v":0},{"$f":"'[12]Список изделий'!X4841","v":0},{"$f":"'[12]Список изделий'!Y4841","v":0},{"$f":"'[12]Список изделий'!Z4841","v":0},{"$f":"'[12]Список изделий'!AA4841","v":0},{"$f":"'[12]Список изделий'!AB4841","v":1700},{"$f":"'[12]Список изделий'!AC4841","v":"x"},{"$f":"'[12]Список изделий'!AD4841","v":400},{"$f":"'[12]Список изделий'!AE4841","v":"мм"},{"$f":"'[12]Список изделий'!AF4841","v":"00:00:00"},{"$f":"'[12]Список изделий'!AY4841","v":0},{"$f":"'[12]Список изделий'!AZ4841","v":"00:00:00"},-43153,-43153,0,0,{"$f":"'[12]Список изделий'!BR4841","v":0},0]
[1010,{"$f":"'[13]Список изделий'!D741","v":10},{"$f":"'[13]Список изделий'!E741","v":"Пер-Планер-10"},{"$f":"'[13]Список изделий'!F741","v":"Карман под бумагу А 1. крепление к стене"},{"$f":"'[13]Список изделий'!I741","v":5},{"$f":"'[13]Список изделий'!X741","v":"ГМА"},{"$f":"'[13]Список изделий'!Y741","v":"Микуло"},{"$f":"'[13]Список изделий'!Z741","v":"Закурдаев"},{"$f":"'[13]Список изделий'!AA741","v":"Замотаев"},{"$f":"'[13]Список изделий'!AB741","v":0},{"$f":"'[13]Список изделий'!AC741","v":"x"},{"$f":"'[13]Список изделий'!AD741","v":0},{"$f":"'[13]Список изделий'!AE741","v":0},{"$f":"'[13]Список изделий'!AF741","v":"2018-02-25"},{"$f":"'[13]Список изделий'!AY741","v":7},{"$f":"'[13]Список изделий'!AZ741","v":"2018-02-19"},-10,-3,1,1,{"$f":"'[13]Список изделий'!BR741","v":"\\\\SERVER\\Data1\\П\\Перекресток\\2018\\ОКЕЙ_Перекресток\\Планерная 25\\техничка\\10-Карман_под_бумагу_А1"},1]
[962,{"$f":"'[12]Список изделий'!D5005","v":62},{"$f":"'[12]Список изделий'!E5005","v":0},{"$f":"'[12]Список изделий'!F5005","v":"Боковины \"Бокалы\" на боковые части энда стеллажа"},{"$f":"'[12]Список изделий'!I5005","v":0},{"$f":"'[12]Список изделий'!X5005","v":0},{"$f":"'[12]Список изделий'!Y5005","v":0},{"$f":"'[12]Список изделий'!Z5005","v":0},{"$f":"'[12]Список изделий'!AA5005","v":0},{"$f":"'[12]Список изделий'!AB5005","v":1200},{"$f":"'[12]Список изделий'!AC5005","v":"x"},{"$f":"'[12]Список изделий'!AD5005","v":1500},{"$f":"'[12]Список изделий'!AE5005","v":"мм"},{"$f":"'[12]Список изделий'!AF5005","v":"00:00:00"},{"$f":"'[12]Список изделий'!AY5005","v":0},{"$f":"'[12]Список изделий'!AZ5005","v":"00:00:00"},{"$f":"IF(O964=\"нет в заказе\",\"нет в заказе\",-(TODAY()-(P964-O964)))","v":-43153},{"$f":"IF(Q964=\"нет в заказе\",\"нет взаказе\",-(IF(O964=\"нет в заказе\",\"нет в заказе\",TODAY()-P964)))","v":-43153},0,{"$f":"V964","v":0},{"$f":"'[12]Список изделий'!BR5005","v":0},{"$f":"IF(S964>=0,S964,IF(T964>S964,T964,S964))","v":0}]
[963,{"$f":"'[12]Список изделий'!D5087","v":63},{"$f":"'[12]Список изделий'!E5087","v":0},{"$f":"'[12]Список изделий'!F5087","v":"Стикер заморозка в холодильники"},{"$f":"'[12]Список изделий'!I5087","v":0},{"$f":"'[12]Список изделий'!X5087","v":0},{"$f":"'[12]Список изделий'!Y5087","v":0},{"$f":"'[12]Список изделий'!Z5087","v":0},{"$f":"'[12]Список изделий'!AA5087","v":0},{"$f":"'[12]Список изделий'!AB5087","v":0},{"$f":"'[12]Список изделий'!AC5087","v":"x"},{"$f":"'[12]Список изделий'!AD5087","v":0},{"$f":"'[12]Список изделий'!AE5087","v":"мм"},{"$f":"'[12]Список изделий'!AF5087","v":"00:00:00"},{"$f":"'[12]Список изделий'!AY5087","v":0},{"$f":"'[12]Список изделий'!AZ5087","v":"00:00:00"},-43153,-43153,0,0,{"$f":"'[12]Список изделий'!BR5087","v":0},0]
[964,{"$f":"'[12]Список изделий'!D5169","v":64},{"$f":"'[12]Список изделий'!E5169","v":0},{"$f":"'[12]Список изделий'!F5169","v":"Оклейка витрин плоттерная резка (Паттерны)"},{"$f":"'[12]Список изделий'!I5169","v":0},{"$f":"'[12]Список изделий'!X5169","v":0},{"$f":"'[12]Список изделий'!Y5169","v":0},{"$f":"'[12]Список изделий'!Z5169","v":0},{"$f":"'[12]Список изделий'!AA5169","v":0},{"$f":"'[12]Список изделий'!AB5169","v":0},{"$f":"'[12]Список изделий'!AC5169","v":"x"},{"$f":"'[12]Список изделий'!AD5169","v":0},{"$f":"'[12]Список изделий'!AE5169","v":"мм"},{"$f":"'[12]Список изделий'!AF5169","v":"00:00:00"},{"$f":"'[12]Список изделий'!AY5169","v":0},{"$f":"'[12]Список изделий'!AZ5169","v":"00:00:00"},-43153,-43153,0,0,{"$f":"'[12]Список изделий'!BR5169","v":0},0]
[965,{"$f":"'[12]Список изделий'!D5251","v":65},{"$f":"'[12]Список изделий'!E5251","v":0},{"$f":"'[12]Список изделий'!F5251","v":"Для витрин конструкция \"Суперцена\" 2хст. (из двух односторонних)"},{"$f":"'[12]Список изделий'!I5251","v":0},{"$f":"'[12]Список изделий'!X5251","v":0},{"$f":"'[12]Список изделий'!Y5251","v":0},{"$f":"'[12]Список изделий'!Z5251","v":0},{"$f":"'[12]Список изделий'!AA5251","v":0},{"$f":"'[12]Список изделий'!AB5251","v":0},{"$f":"'[12]Список изделий'!AC5251","v":"x"},{"$f":"'[12]Список изделий'!AD5251","v":0},{"$f":"'[12]Список изделий'!AE5251","v":0},{"$f":"'[12]Список изделий'!AF5251","v":"00:00:00"},{"$f":"'[12]Список изделий'!AY5251","v":0},{"$f":"'[12]Список изделий'!AZ5251","v":"00:00:00"},-43153,-43153,0,0,{"$f":"'[12]Список изделий'!BR5251","v":0},0]
[966,{"$f":"'[12]Список изделий'!D5333","v":66},{"$f":"'[12]Список изделий'!E5333","v":0},{"$f":"'[12]Список изделий'!F5333","v":"Оформление витрин имиджи двухсторонние"},{"$f":"'[12]Список изделий'!I5333","v":0},{"$f":"'[12]Список изделий'!X5333","v":0},{"$f":"'[12]Список изделий'!Y5333","v":0},{"$f":"'[12]Список изделий'!Z5333","v":0},{"$f":"'[12]Список изделий'!AA5333","v":0},{"$f":"'[12]Список изделий'!AB5333","v":2800},{"$f":"'[12]Список изделий'!AC5333","v":"x"},{"$f":"'[12]Список изделий'!AD5333","v":1000},{"$f":"'[12]Список изделий'!AE5333","v":"мм"},{"$f":"'[12]Список изделий'!AF5333","v":"00:00:00"},{"$f":"'[12]Список изделий'!AY5333","v":0},{"$f":"'[12]Список изделий'!AZ5333","v":"00:00:00"},-43153,-43153,0,0,{"$f":"'[12]Список изделий'!BR5333","v":0},0]
[967,{"$f":"'[12]Список изделий'!D5415","v":67},{"$f":"'[12]Список изделий'!E5415","v":0},{"$f":"'[12]Список изделий'!F5415","v":"Фриз стеллажный \"Шапка\" - Восточные сладости (комплект из 3х частей)"},{"$f":"'[12]Список изделий'!I5415","v":0},{"$f":"'[12]Список изделий'!X5415","v":0},{"$f":"'[12]Список изделий'!Y5415","v":0},{"$f":"'[12]Список изделий'!Z5415","v":0},{"$f":"'[12]Список изделий'!AA5415","v":0},{"$f":"'[12]Список изделий'!AB5415","v":0},{"$f":"'[12]Список изделий'!AC5415","v":"x"},{"$f":"'[12]Список изделий'!AD5415","v":0},{"$f":"'[12]Список изделий'!AE5415","v":0},{"$f":"'[12]Список изделий'!AF5415","v":"00:00:00"},{"$f":"'[12]Список изделий'!AY5415","v":0},{"$f":"'[12]Список изделий'!AZ5415","v":"00:00:00"},-43153,-43153,0,0,{"$f":"'[12]Список изделий'!BR5415","v":0},0]
[968,{"$f":"'[12]Список изделий'!D5497","v":68},{"$f":"'[12]Список изделий'!E5497","v":0},{"$f":"'[12]Список изделий'!F5497","v":"Оформлениие Фермерского Уголка"},{"$f":"'[12]Список изделий'!I5497","v":0},{"$f":"'[12]Список изделий'!X5497","v":0},{"$f":"'[12]Список изделий'!Y5497","v":0},{"$f":"'[12]Список изделий'!Z5497","v":0},{"$f":"'[12]Список изделий'!AA5497","v":0},{"$f":"'[12]Список изделий'!AB5497","v":0},{"$f":"'[12]Список изделий'!AC5497","v":"x"},{"$f":"'[12]Список изделий'!AD5497","v":0},{"$f":"'[12]Список изделий'!AE5497","v":0},{"$f":"'[12]Список изделий'!AF5497","v":"00:00:00"},{"$f":"'[12]Список изделий'!AY5497","v":0},{"$f":"'[12]Список изделий'!AZ5497","v":"00:00:00"},-43153,-43153,0,0,{"$f":"'[12]Список изделий'!BR5497","v":0},0]
[969,{"$f":"'[12]Список изделий'!D5579","v":69},{"$f":"'[12]Список изделий'!E5579","v":0},{"$f":"'[12]Список изделий'!F5579","v":"Фриз стеллажный \"Шапка\" - Наша марка (разная комплектащия)"},{"$f":"'[12]Список изделий'!I5579","v":0},{"$f":"'[12]Список изделий'!X5579","v":0},{"$f":"'[12]Список изделий'!Y5579","v":0},{"$f":"'[12]Список изделий'!Z5579","v":0},{"$f":"'[12]Список изделий'!AA5579","v":0},{"$f":"'[12]Список изделий'!AB5579","v":2000},{"$f":"'[12]Список изделий'!AC5579","v":"x"},{"$f":"'[12]Список изделий'!AD5579","v":1000},{"$f":"'[12]Список изделий'!AE5579","v":"мм"},{"$f":"'[12]Список изделий'!AF5579","v":"00:00:00"},{"$f":"'[12]Список изделий'!AY5579","v":0},{"$f":"'[12]Список изделий'!AZ5579","v":"00:00:00"},-43153,-43153,0,0,{"$f":"'[12]Список изделий'!BR5579","v":0},0]
[970,{"$f":"'[12]Список изделий'!D5661","v":70},{"$f":"'[12]Список изделий'!E5661","v":0},{"$f":"'[12]Список изделий'!F5661","v":"Подвес 2хст. В Bistro \"Перекуси в Перекрестке\""},{"$f":"'[12]Список изделий'!I5661","v":0},{"$f":"'[12]Список изделий'!X5661","v":0},{"$f":"'[12]Список изделий'!Y5661","v":0},{"$f":"'[12]Список изделий'!Z5661","v":0},{"$f":"'[12]Список изделий'!AA5661","v":0},{"$f":"'[12]Список изделий'!AB5661","v":1000},{"$f":"'[12]Список изделий'!AC5661","v":"x"},{"$f":"'[12]Список изделий'!AD5661","v":1000},{"$f":"'[12]Список изделий'!AE5661","v":"мм"},{"$f":"'[12]Список изделий'!AF5661","v":"00:00:00"},{"$f":"'[12]Список изделий'!AY5661","v":0},{"$f":"'[12]Список изделий'!AZ5661","v":"00:00:00"},-43153,-43153,0,0,{"$f":"'[12]Список изделий'!BR5661","v":0},0]
[971,{"$f":"'[12]Список изделий'!D5743","v":71},{"$f":"'[12]Список изделий'!E5743","v":0},{"$f":"'[12]Список изделий'!F5743","v":"Вывеска световая клееная \"КАФЕ BISTRO CAFE\""},{"$f":"'[12]Список изделий'!I5743","v":0},{"$f":"'[12]Список изделий'!X5743","v":0},{"$f":"'[12]Список изделий'!Y5743","v":0},{"$f":"'[12]Список изделий'!Z5743","v":0},{"$f":"'[12]Список изделий'!AA5743","v":0},{"$f":"'[12]Список изделий'!AB5743","v":1000},{"$f":"'[12]Список изделий'!AC5743","v":"x"},{"$f":"'[12]Список изделий'!AD5743","v":1000},{"$f":"'[12]Список изделий'!AE5743","v":"мм"},{"$f":"'[12]Список изделий'!AF5743","v":"00:00:00"},{"$f":"'[12]Список изделий'!AY5743","v":0},{"$f":"'[12]Список изделий'!AZ5743","v":"00:00:00"},-43153,-43153,0,0,{"$f":"'[12]Список изделий'!BR5743","v":0},0]
[972,{"$f":"'[12]Список изделий'!D5825","v":72},{"$f":"'[12]Список изделий'!E5825","v":0},{"$f":"'[12]Список изделий'!F5825","v":"Плоская эмблема комплект (Ложки, Бургер, Чашка)"},{"$f":"'[12]Список изделий'!I5825","v":0},{"$f":"'[12]Список изделий'!X5825","v":0},{"$f":"'[12]Список изделий'!Y5825","v":0},{"$f":"'[12]Список изделий'!Z5825","v":0},{"$f":"'[12]Список изделий'!AA5825","v":0},{"$f":"'[12]Список изделий'!AB5825","v":660},{"$f":"'[12]Список изделий'!AC5825","v":"x"},{"$f":"'[12]Список изделий'!AD5825","v":1500},{"$f":"'[12]Список изделий'!AE5825","v":"мм"},{"$f":"'[12]Список изделий'!AF5825","v":"00:00:00"},{"$f":"'[12]Список изделий'!AY5825","v":0},{"$f":"'[12]Список изделий'!AZ5825","v":"00:00:00"},-43153,-43153,0,0,{"$f":"'[12]Список изделий'!BR5825","v":0},0]
[973,{"$f":"'[12]Список изделий'!D5907","v":73},{"$f":"'[12]Список изделий'!E5907","v":0},{"$f":"'[12]Список изделий'!F5907","v":"Подвес 2хст. В Bistro \"Тарелки/Стол с чашками\""},{"$f":"'[12]Список изделий'!I5907","v":0},{"$f":"'[12]Список изделий'!X5907","v":0},{"$f":"'[12]Список изделий'!Y5907","v":0},{"$f":"'[12]Список изделий'!Z5907","v":0},{"$f":"'[12]Список изделий'!AA5907","v":0},{"$f":"'[12]Список изделий'!AB5907","v":643},{"$f":"'[12]Список изделий'!AC5907","v":"x"},{"$f":"'[12]Список изделий'!AD5907","v":1485},{"$f":"'[12]Список изделий'!AE5907","v":0},{"$f":"'[12]Список изделий'!AF5907","v":"00:00:00"},{"$f":"'[12]Список изделий'!AY5907","v":0},{"$f":"'[12]Список изделий'!AZ5907","v":"00:00:00"},-43153,-43153,0,0,{"$f":"'[12]Список изделий'!BR5907","v":0},0]
[974,{"$f":"'[12]Список изделий'!D5989","v":74},{"$f":"'[12]Список изделий'!E5989","v":0},{"$f":"'[12]Список изделий'!F5989","v":"Подвес 2хст. В Bistro \"Присесть- поесть\""},{"$f":"'[12]Список изделий'!I5989","v":0},{"$f":"'[12]Список изделий'!X5989","v":0},{"$f":"'[12]Список изделий'!Y5989","v":0},{"$f":"'[12]Список изделий'!Z5989","v":0},{"$f":"'[12]Список изделий'!AA5989","v":0},{"$f":"'[12]Список изделий'!AB5989","v":0},{"$f":"'[12]Список изделий'!AC5989","v":"x"},{"$f":"'[12]Список изделий'!AD5989","v":0},{"$f":"'[12]Список изделий'!AE5989","v":0},{"$f":"'[12]Список изделий'!AF5989","v":"00:00:00"},{"$f":"'[12]Список изделий'!AY5989","v":0},{"$f":"'[12]Список изделий'!AZ5989","v":"00:00:00"},-43153,-43153,0,0,{"$f":"'[12]Список изделий'!BR5989","v":0},0]
[975,{"$f":"'[12]Список изделий'!D6071","v":75},{"$f":"'[12]Список изделий'!E6071","v":0},{"$f":"'[12]Список изделий'!F6071","v":"Световой короб круглый подвесной одност. \"BISTRO\" в витрину"},{"$f":"'[12]Список изделий'!I6071","v":0},{"$f":"'[12]Список изделий'!X6071","v":0},{"$f":"'[12]Список изделий'!Y6071","v":0},{"$f":"'[12]Список изделий'!Z6071","v":0},{"$f":"'[12]Список изделий'!AA6071","v":0},{"$f":"'[12]Список изделий'!AB6071","v":0},{"$f":"'[12]Список изделий'!AC6071","v":"x"},{"$f":"'[12]Список изделий'!AD6071","v":0},{"$f":"'[12]Список изделий'!AE6071","v":0},{"$f":"'[12]Список изделий'!AF6071","v":"00:00:00"},{"$f":"'[12]Список изделий'!AY6071","v":0},{"$f":"'[12]Список изделий'!AZ6071","v":"00:00:00"},-43153,-43153,0,0,{"$f":"'[12]Список изделий'!BR6071","v":0},0]
[1011,{"$f":"'[13]Список изделий'!D823","v":11},{"$f":"'[13]Список изделий'!E823","v":"Пер-Планер-11"},{"$f":"'[13]Список изделий'!F823","v":"Карман круглый двухсторонний (ПК)"},{"$f":"'[13]Список изделий'!I823","v":15},{"$f":"'[13]Список изделий'!X823","v":"ГМА"},{"$f":"'[13]Список изделий'!Y823","v":"Микуло"},{"$f":"'[13]Список изделий'!Z823","v":"Закурдаев"},{"$f":"'[13]Список изделий'!AA823","v":"Замотаев"},{"$f":"'[13]Список изделий'!AB823","v":0},{"$f":"'[13]Список изделий'!AC823","v":"x"},{"$f":"'[13]Список изделий'!AD823","v":0},{"$f":"'[13]Список изделий'!AE823","v":0},{"$f":"'[13]Список изделий'!AF823","v":"2018-02-25"},{"$f":"'[13]Список изделий'!AY823","v":7},{"$f":"'[13]Список изделий'!AZ823","v":"2018-02-19"},-10,-3,1,1,{"$f":"'[13]Список изделий'!BR823","v":"\\\\SERVER\\Data1\\П\\Перекресток\\2018\\ОКЕЙ_Перекресток\\Планерная 25\\техничка\\11-Карман_круглый_двухсторонний_(ПромоКруг)"},1]
[1012,{"$f":"'[13]Список изделий'!D905","v":12},{"$f":"'[13]Список изделий'!E905","v":"Пер-Планер-12"},{"$f":"'[13]Список изделий'!F905","v":"Таблички \"Здесь можно проверить цену\" (комплект 4 шт.)"},{"$f":"'[13]Список изделий'!I905","v":2},{"$f":"'[13]Список изделий'!X905","v":"ГМА"},{"$f":"'[13]Список изделий'!Y905","v":"Микуло"},{"$f":"'[13]Список изделий'!Z905","v":"Закурдаев"},{"$f":"'[13]Список изделий'!AA905","v":"Замотаев"},{"$f":"'[13]Список изделий'!AB905","v":0},{"$f":"'[13]Список изделий'!AC905","v":"x"},{"$f":"'[13]Список изделий'!AD905","v":0},{"$f":"'[13]Список изделий'!AE905","v":0},{"$f":"'[13]Список изделий'!AF905","v":"2018-02-25"},{"$f":"'[13]Список изделий'!AY905","v":7},{"$f":"'[13]Список изделий'!AZ905","v":"2018-02-19"},-10,-3,1,1,{"$f":"'[13]Список изделий'!BR905","v":"\\\\SERVER\\Data1\\П\\Перекресток\\2018\\ОКЕЙ_Перекресток\\Планерная 25\\техничка\\12-Таблички-ПрайсЧекер"},1]
[978,{"$f":"'[12]Список изделий'!D6317","v":78},{"$f":"'[12]Список изделий'!E6317","v":0},{"$f":"'[12]Список изделий'!F6317","v":0},{"$f":"'[12]Список изделий'!I6317","v":0},{"$f":"'[12]Список изделий'!X6317","v":0},{"$f":"'[12]Список изделий'!Y6317","v":0},{"$f":"'[12]Список изделий'!Z6317","v":0},{"$f":"'[12]Список изделий'!AA6317","v":0},{"$f":"'[12]Список изделий'!AB6317","v":0},{"$f":"'[12]Список изделий'!AC6317","v":"x"},{"$f":"'[12]Список изделий'!AD6317","v":0},{"$f":"'[12]Список изделий'!AE6317","v":0},{"$f":"'[12]Список изделий'!AF6317","v":"00:00:00"},{"$f":"'[12]Список изделий'!AY6317","v":0},{"$f":"'[12]Список изделий'!AZ6317","v":"00:00:00"},-43153,-43153,0,0,{"$f":"'[12]Список изделий'!BR6317","v":0},0]
[979,{"$f":"'[12]Список изделий'!D6399","v":79},{"$f":"'[12]Список изделий'!E6399","v":0},{"$f":"'[12]Список изделий'!F6399","v":0},{"$f":"'[12]Список изделий'!I6399","v":0},{"$f":"'[12]Список изделий'!X6399","v":0},{"$f":"'[12]Список изделий'!Y6399","v":0},{"$f":"'[12]Список изделий'!Z6399","v":0},{"$f":"'[12]Список изделий'!AA6399","v":0},{"$f":"'[12]Список изделий'!AB6399","v":0},{"$f":"'[12]Список изделий'!AC6399","v":"x"},{"$f":"'[12]Список изделий'!AD6399","v":0},{"$f":"'[12]Список изделий'!AE6399","v":0},{"$f":"'[12]Список изделий'!AF6399","v":"00:00:00"},{"$f":"'[12]Список изделий'!AY6399","v":0},{"$f":"'[12]Список изделий'!AZ6399","v":"00:00:00"},-43153,-43153,0,0,{"$f":"'[12]Список изделий'!BR6399","v":0},0]
[980,{"$f":"'[12]Список изделий'!D6481","v":80},{"$f":"'[12]Список изделий'!E6481","v":0},{"$f":"'[12]Список изделий'!F6481","v":0},{"$f":"'[12]Список изделий'!I6481","v":0},{"$f":"'[12]Список изделий'!X6481","v":0},{"$f":"'[12]Список изделий'!Y6481","v":0},{"$f":"'[12]Список изделий'!Z6481","v":0},{"$f":"'[12]Список изделий'!AA6481","v":0},{"$f":"'[12]Список изделий'!AB6481","v":0},{"$f":"'[12]Список изделий'!AC6481","v":"x"},{"$f":"'[12]Список изделий'!AD6481","v":0},{"$f":"'[12]Список изделий'!AE6481","v":0},{"$f":"'[12]Список изделий'!AF6481","v":"00:00:00"},{"$f":"'[12]Список изделий'!AY6481","v":0},{"$f":"'[12]Список изделий'!AZ6481","v":"00:00:00"},-43153,-43153,0,0,{"$f":"'[12]Список изделий'!BR6481","v":0},0]
[981,{"$f":"'[12]Список изделий'!D6563","v":81},{"$f":"'[12]Список изделий'!E6563","v":0},{"$f":"'[12]Список изделий'!F6563","v":0},{"$f":"'[12]Список изделий'!I6563","v":0},{"$f":"'[12]Список изделий'!X6563","v":0},{"$f":"'[12]Список изделий'!Y6563","v":0},{"$f":"'[12]Список изделий'!Z6563","v":0},{"$f":"'[12]Список изделий'!AA6563","v":0},{"$f":"'[12]Список изделий'!AB6563","v":0},{"$f":"'[12]Список изделий'!AC6563","v":"x"},{"$f":"'[12]Список изделий'!AD6563","v":0},{"$f":"'[12]Список изделий'!AE6563","v":0},{"$f":"'[12]Список изделий'!AF6563","v":"00:00:00"},{"$f":"'[12]Список изделий'!AY6563","v":0},{"$f":"'[12]Список изделий'!AZ6563","v":"00:00:00"},-43153,-43153,0,0,{"$f":"'[12]Список изделий'!BR6563","v":0},0]
[982,{"$f":"'[12]Список изделий'!D6645","v":82},{"$f":"'[12]Список изделий'!E6645","v":0},{"$f":"'[12]Список изделий'!F6645","v":0},{"$f":"'[12]Список изделий'!I6645","v":0},{"$f":"'[12]Список изделий'!X6645","v":0},{"$f":"'[12]Список изделий'!Y6645","v":0},{"$f":"'[12]Список изделий'!Z6645","v":0},{"$f":"'[12]Список изделий'!AA6645","v":0},{"$f":"'[12]Список изделий'!AB6645","v":0},{"$f":"'[12]Список изделий'!AC6645","v":"x"},{"$f":"'[12]Список изделий'!AD6645","v":0},{"$f":"'[12]Список изделий'!AE6645","v":0},{"$f":"'[12]Список изделий'!AF6645","v":"00:00:00"},{"$f":"'[12]Список изделий'!AY6645","v":0},{"$f":"'[12]Список изделий'!AZ6645","v":"00:00:00"},-43153,-43153,0,0,{"$f":"'[12]Список изделий'!BR6645","v":0},0]
[983,{"$f":"'[12]Список изделий'!D6727","v":83},{"$f":"'[12]Список изделий'!E6727","v":0},{"$f":"'[12]Список изделий'!F6727","v":0},{"$f":"'[12]Список изделий'!I6727","v":0},{"$f":"'[12]Список изделий'!X6727","v":0},{"$f":"'[12]Список изделий'!Y6727","v":0},{"$f":"'[12]Список изделий'!Z6727","v":0},{"$f":"'[12]Список изделий'!AA6727","v":0},{"$f":"'[12]Список изделий'!AB6727","v":0},{"$f":"'[12]Список изделий'!AC6727","v":"x"},{"$f":"'[12]Список изделий'!AD6727","v":0},{"$f":"'[12]Список изделий'!AE6727","v":0},{"$f":"'[12]Список изделий'!AF6727","v":"00:00:00"},{"$f":"'[12]Список изделий'!AY6727","v":0},{"$f":"'[12]Список изделий'!AZ6727","v":"00:00:00"},-43153,-43153,0,0,{"$f":"'[12]Список изделий'!BR6727","v":0},0]
[984,{"$f":"'[12]Список изделий'!D6809","v":84},{"$f":"'[12]Список изделий'!E6809","v":0},{"$f":"'[12]Список изделий'!F6809","v":0},{"$f":"'[12]Список изделий'!I6809","v":0},{"$f":"'[12]Список изделий'!X6809","v":0},{"$f":"'[12]Список изделий'!Y6809","v":0},{"$f":"'[12]Список изделий'!Z6809","v":0},{"$f":"'[12]Список изделий'!AA6809","v":0},{"$f":"'[12]Список изделий'!AB6809","v":0},{"$f":"'[12]Список изделий'!AC6809","v":"x"},{"$f":"'[12]Список изделий'!AD6809","v":0},{"$f":"'[12]Список изделий'!AE6809","v":0},{"$f":"'[12]Список изделий'!AF6809","v":"00:00:00"},{"$f":"'[12]Список изделий'!AY6809","v":0},{"$f":"'[12]Список изделий'!AZ6809","v":"00:00:00"},-43153,-43153,0,0,{"$f":"'[12]Список изделий'!BR6809","v":0},0]
[985,{"$f":"'[12]Список изделий'!D6891","v":85},{"$f":"'[12]Список изделий'!E6891","v":0},{"$f":"'[12]Список изделий'!F6891","v":0},{"$f":"'[12]Список изделий'!I6891","v":0},{"$f":"'[12]Список изделий'!X6891","v":0},{"$f":"'[12]Список изделий'!Y6891","v":0},{"$f":"'[12]Список изделий'!Z6891","v":0},{"$f":"'[12]Список изделий'!AA6891","v":0},{"$f":"'[12]Список изделий'!AB6891","v":0},{"$f":"'[12]Список изделий'!AC6891","v":"x"},{"$f":"'[12]Список изделий'!AD6891","v":0},{"$f":"'[12]Список изделий'!AE6891","v":0},{"$f":"'[12]Список изделий'!AF6891","v":"00:00:00"},{"$f":"'[12]Список изделий'!AY6891","v":0},{"$f":"'[12]Список изделий'!AZ6891","v":"00:00:00"},-43153,-43153,0,0,{"$f":"'[12]Список изделий'!BR6891","v":0},0]
[986,{"$f":"'[12]Список изделий'!D6973","v":86},{"$f":"'[12]Список изделий'!E6973","v":0},{"$f":"'[12]Список изделий'!F6973","v":0},{"$f":"'[12]Список изделий'!I6973","v":0},{"$f":"'[12]Список изделий'!X6973","v":0},{"$f":"'[12]Список изделий'!Y6973","v":0},{"$f":"'[12]Список изделий'!Z6973","v":0},{"$f":"'[12]Список изделий'!AA6973","v":0},{"$f":"'[12]Список изделий'!AB6973","v":0},{"$f":"'[12]Список изделий'!AC6973","v":"x"},{"$f":"'[12]Список изделий'!AD6973","v":0},{"$f":"'[12]Список изделий'!AE6973","v":0},{"$f":"'[12]Список изделий'!AF6973","v":"00:00:00"},{"$f":"'[12]Список изделий'!AY6973","v":0},{"$f":"'[12]Список изделий'!AZ6973","v":"00:00:00"},-43153,-43153,0,0,{"$f":"'[12]Список изделий'!BR6973","v":0},0]
[987,{"$f":"'[12]Список изделий'!D7055","v":87},{"$f":"'[12]Список изделий'!E7055","v":0},{"$f":"'[12]Список изделий'!F7055","v":0},{"$f":"'[12]Список изделий'!I7055","v":0},{"$f":"'[12]Список изделий'!X7055","v":0},{"$f":"'[12]Список изделий'!Y7055","v":0},{"$f":"'[12]Список изделий'!Z7055","v":0},{"$f":"'[12]Список изделий'!AA7055","v":0},{"$f":"'[12]Список изделий'!AB7055","v":0},{"$f":"'[12]Список изделий'!AC7055","v":"x"},{"$f":"'[12]Список изделий'!AD7055","v":0},{"$f":"'[12]Список изделий'!AE7055","v":0},{"$f":"'[12]Список изделий'!AF7055","v":"00:00:00"},{"$f":"'[12]Список изделий'!AY7055","v":0},{"$f":"'[12]Список изделий'!AZ7055","v":"00:00:00"},-43153,-43153,0,0,{"$f":"'[12]Список изделий'!BR7055","v":0},0]
[988,{"$f":"'[12]Список изделий'!D7137","v":88},{"$f":"'[12]Список изделий'!E7137","v":0},{"$f":"'[12]Список изделий'!F7137","v":0},{"$f":"'[12]Список изделий'!I7137","v":0},{"$f":"'[12]Список изделий'!X7137","v":0},{"$f":"'[12]Список изделий'!Y7137","v":0},{"$f":"'[12]Список изделий'!Z7137","v":0},{"$f":"'[12]Список изделий'!AA7137","v":0},{"$f":"'[12]Список изделий'!AB7137","v":0},{"$f":"'[12]Список изделий'!AC7137","v":"x"},{"$f":"'[12]Список изделий'!AD7137","v":0},{"$f":"'[12]Список изделий'!AE7137","v":0},{"$f":"'[12]Список изделий'!AF7137","v":"00:00:00"},{"$f":"'[12]Список изделий'!AY7137","v":0},{"$f":"'[12]Список изделий'!AZ7137","v":"00:00:00"},-43153,-43153,0,0,{"$f":"'[12]Список изделий'!BR7137","v":0},0]
[989,{"$f":"'[12]Список изделий'!D7219","v":89},{"$f":"'[12]Список изделий'!E7219","v":0},{"$f":"'[12]Список изделий'!F7219","v":0},{"$f":"'[12]Список изделий'!I7219","v":0},{"$f":"'[12]Список изделий'!X7219","v":0},{"$f":"'[12]Список изделий'!Y7219","v":0},{"$f":"'[12]Список изделий'!Z7219","v":0},{"$f":"'[12]Список изделий'!AA7219","v":0},{"$f":"'[12]Список изделий'!AB7219","v":0},{"$f":"'[12]Список изделий'!AC7219","v":"x"},{"$f":"'[12]Список изделий'!AD7219","v":0},{"$f":"'[12]Список изделий'!AE7219","v":0},{"$f":"'[12]Список изделий'!AF7219","v":"00:00:00"},{"$f":"'[12]Список изделий'!AY7219","v":0},{"$f":"'[12]Список изделий'!AZ7219","v":"00:00:00"},-43153,-43153,0,0,{"$f":"'[12]Список изделий'!BR7219","v":0},0]
[990,{"$f":"'[12]Список изделий'!D7301","v":90},{"$f":"'[12]Список изделий'!E7301","v":0},{"$f":"'[12]Список изделий'!F7301","v":0},{"$f":"'[12]Список изделий'!I7301","v":0},{"$f":"'[12]Список изделий'!X7301","v":0},{"$f":"'[12]Список изделий'!Y7301","v":0},{"$f":"'[12]Список изделий'!Z7301","v":0},{"$f":"'[12]Список изделий'!AA7301","v":0},{"$f":"'[12]Список изделий'!AB7301","v":0},{"$f":"'[12]Список изделий'!AC7301","v":"x"},{"$f":"'[12]Список изделий'!AD7301","v":0},{"$f":"'[12]Список изделий'!AE7301","v":0},{"$f":"'[12]Список изделий'!AF7301","v":"00:00:00"},{"$f":"'[12]Список изделий'!AY7301","v":0},{"$f":"'[12]Список изделий'!AZ7301","v":"00:00:00"},-43153,-43153,0,0,{"$f":"'[12]Список изделий'!BR7301","v":0},0]
[991,{"$f":"'[12]Список изделий'!D7383","v":91},{"$f":"'[12]Список изделий'!E7383","v":0},{"$f":"'[12]Список изделий'!F7383","v":0},{"$f":"'[12]Список изделий'!I7383","v":0},{"$f":"'[12]Список изделий'!X7383","v":0},{"$f":"'[12]Список изделий'!Y7383","v":0},{"$f":"'[12]Список изделий'!Z7383","v":0},{"$f":"'[12]Список изделий'!AA7383","v":0},{"$f":"'[12]Список изделий'!AB7383","v":0},{"$f":"'[12]Список изделий'!AC7383","v":"x"},{"$f":"'[12]Список изделий'!AD7383","v":0},{"$f":"'[12]Список изделий'!AE7383","v":0},{"$f":"'[12]Список изделий'!AF7383","v":"00:00:00"},{"$f":"'[12]Список изделий'!AY7383","v":0},{"$f":"'[12]Список изделий'!AZ7383","v":"00:00:00"},-43153,-43153,0,0,{"$f":"'[12]Список изделий'!BR7383","v":0},0]
[992,{"$f":"'[12]Список изделий'!D7465","v":92},{"$f":"'[12]Список изделий'!E7465","v":0},{"$f":"'[12]Список изделий'!F7465","v":0},{"$f":"'[12]Список изделий'!I7465","v":0},{"$f":"'[12]Список изделий'!X7465","v":0},{"$f":"'[12]Список изделий'!Y7465","v":0},{"$f":"'[12]Список изделий'!Z7465","v":0},{"$f":"'[12]Список изделий'!AA7465","v":0},{"$f":"'[12]Список изделий'!AB7465","v":0},{"$f":"'[12]Список изделий'!AC7465","v":"x"},{"$f":"'[12]Список изделий'!AD7465","v":0},{"$f":"'[12]Список изделий'!AE7465","v":0},{"$f":"'[12]Список изделий'!AF7465","v":"00:00:00"},{"$f":"'[12]Список изделий'!AY7465","v":0},{"$f":"'[12]Список изделий'!AZ7465","v":"00:00:00"},-43153,-43153,0,0,{"$f":"'[12]Список изделий'!BR7465","v":0},0]
[993,{"$f":"'[12]Список изделий'!D7547","v":93},{"$f":"'[12]Список изделий'!E7547","v":0},{"$f":"'[12]Список изделий'!F7547","v":0},{"$f":"'[12]Список изделий'!I7547","v":0},{"$f":"'[12]Список изделий'!X7547","v":0},{"$f":"'[12]Список изделий'!Y7547","v":0},{"$f":"'[12]Список изделий'!Z7547","v":0},{"$f":"'[12]Список изделий'!AA7547","v":0},{"$f":"'[12]Список изделий'!AB7547","v":0},{"$f":"'[12]Список изделий'!AC7547","v":"x"},{"$f":"'[12]Список изделий'!AD7547","v":0},{"$f":"'[12]Список изделий'!AE7547","v":0},{"$f":"'[12]Список изделий'!AF7547","v":"00:00:00"},{"$f":"'[12]Список изделий'!AY7547","v":0},{"$f":"'[12]Список изделий'!AZ7547","v":"00:00:00"},-43153,-43153,0,0,{"$f":"'[12]Список изделий'!BR7547","v":0},0]
[994,{"$f":"'[12]Список изделий'!D7629","v":94},{"$f":"'[12]Список изделий'!E7629","v":0},{"$f":"'[12]Список изделий'!F7629","v":0},{"$f":"'[12]Список изделий'!I7629","v":0},{"$f":"'[12]Список изделий'!X7629","v":0},{"$f":"'[12]Список изделий'!Y7629","v":0},{"$f":"'[12]Список изделий'!Z7629","v":0},{"$f":"'[12]Список изделий'!AA7629","v":0},{"$f":"'[12]Список изделий'!AB7629","v":0},{"$f":"'[12]Список изделий'!AC7629","v":"x"},{"$f":"'[12]Список изделий'!AD7629","v":0},{"$f":"'[12]Список изделий'!AE7629","v":0},{"$f":"'[12]Список изделий'!AF7629","v":"00:00:00"},{"$f":"'[12]Список изделий'!AY7629","v":0},{"$f":"'[12]Список изделий'!AZ7629","v":"00:00:00"},-43153,-43153,0,0,{"$f":"'[12]Список изделий'!BR7629","v":0},0]
[995,{"$f":"'[12]Список изделий'!D7711","v":95},{"$f":"'[12]Список изделий'!E7711","v":0},{"$f":"'[12]Список изделий'!F7711","v":0},{"$f":"'[12]Список изделий'!I7711","v":0},{"$f":"'[12]Список изделий'!X7711","v":0},{"$f":"'[12]Список изделий'!Y7711","v":0},{"$f":"'[12]Список изделий'!Z7711","v":0},{"$f":"'[12]Список изделий'!AA7711","v":0},{"$f":"'[12]Список изделий'!AB7711","v":0},{"$f":"'[12]Список изделий'!AC7711","v":"x"},{"$f":"'[12]Список изделий'!AD7711","v":0},{"$f":"'[12]Список изделий'!AE7711","v":0},{"$f":"'[12]Список изделий'!AF7711","v":"00:00:00"},{"$f":"'[12]Список изделий'!AY7711","v":0},{"$f":"'[12]Список изделий'!AZ7711","v":"00:00:00"},-43153,-43153,0,0,{"$f":"'[12]Список изделий'!BR7711","v":0},0]
[996,{"$f":"'[12]Список изделий'!D7793","v":96},{"$f":"'[12]Список изделий'!E7793","v":0},{"$f":"'[12]Список изделий'!F7793","v":0},{"$f":"'[12]Список изделий'!I7793","v":0},{"$f":"'[12]Список изделий'!X7793","v":0},{"$f":"'[12]Список изделий'!Y7793","v":0},{"$f":"'[12]Список изделий'!Z7793","v":0},{"$f":"'[12]Список изделий'!AA7793","v":0},{"$f":"'[12]Список изделий'!AB7793","v":0},{"$f":"'[12]Список изделий'!AC7793","v":"x"},{"$f":"'[12]Список изделий'!AD7793","v":0},{"$f":"'[12]Список изделий'!AE7793","v":0},{"$f":"'[12]Список изделий'!AF7793","v":"00:00:00"},{"$f":"'[12]Список изделий'!AY7793","v":0},{"$f":"'[12]Список изделий'!AZ7793","v":"00:00:00"},-43153,-43153,0,0,{"$f":"'[12]Список изделий'!BR7793","v":0},0]
[997,{"$f":"'[12]Список изделий'!D7875","v":97},{"$f":"'[12]Список изделий'!E7875","v":0},{"$f":"'[12]Список изделий'!F7875","v":0},{"$f":"'[12]Список изделий'!I7875","v":0},{"$f":"'[12]Список изделий'!X7875","v":0},{"$f":"'[12]Список изделий'!Y7875","v":0},{"$f":"'[12]Список изделий'!Z7875","v":0},{"$f":"'[12]Список изделий'!AA7875","v":0},{"$f":"'[12]Список изделий'!AB7875","v":0},{"$f":"'[12]Список изделий'!AC7875","v":"x"},{"$f":"'[12]Список изделий'!AD7875","v":0},{"$f":"'[12]Список изделий'!AE7875","v":0},{"$f":"'[12]Список изделий'!AF7875","v":"00:00:00"},{"$f":"'[12]Список изделий'!AY7875","v":0},{"$f":"'[12]Список изделий'!AZ7875","v":"00:00:00"},-43153,-43153,0,0,{"$f":"'[12]Список изделий'!BR7875","v":0},0]
[998,{"$f":"'[12]Список изделий'!D7957","v":98},{"$f":"'[12]Список изделий'!E7957","v":0},{"$f":"'[12]Список изделий'!F7957","v":0},{"$f":"'[12]Список изделий'!I7957","v":0},{"$f":"'[12]Список изделий'!X7957","v":0},{"$f":"'[12]Список изделий'!Y7957","v":0},{"$f":"'[12]Список изделий'!Z7957","v":0},{"$f":"'[12]Список изделий'!AA7957","v":0},{"$f":"'[12]Список изделий'!AB7957","v":0},{"$f":"'[12]Список изделий'!AC7957","v":"x"},{"$f":"'[12]Список изделий'!AD7957","v":0},{"$f":"'[12]Список изделий'!AE7957","v":0},{"$f":"'[12]Список изделий'!AF7957","v":"00:00:00"},{"$f":"'[12]Список изделий'!AY7957","v":0},{"$f":"'[12]Список изделий'!AZ7957","v":"00:00:00"},-43153,-43153,0,0,{"$f":"'[12]Список изделий'!BR7957","v":0},0]
[999,{"$f":"'[12]Список изделий'!D8039","v":99},{"$f":"'[12]Список изделий'!E8039","v":0},{"$f":"'[12]Список изделий'!F8039","v":0},{"$f":"'[12]Список изделий'!I8039","v":0},{"$f":"'[12]Список изделий'!X8039","v":0},{"$f":"'[12]Список изделий'!Y8039","v":0},{"$f":"'[12]Список изделий'!Z8039","v":0},{"$f":"'[12]Список изделий'!AA8039","v":0},{"$f":"'[12]Список изделий'!AB8039","v":0},{"$f":"'[12]Список изделий'!AC8039","v":"x"},{"$f":"'[12]Список изделий'!AD8039","v":0},{"$f":"'[12]Список изделий'!AE8039","v":0},{"$f":"'[12]Список изделий'!AF8039","v":"00:00:00"},{"$f":"'[12]Список изделий'!AY8039","v":0},{"$f":"'[12]Список изделий'!AZ8039","v":"00:00:00"},-43153,-43153,0,0,{"$f":"'[12]Список изделий'!BR8039","v":0},0]
[1000,{"$f":"'[12]Список изделий'!D8121","v":100},{"$f":"'[12]Список изделий'!E8121","v":0},{"$f":"'[12]Список изделий'!F8121","v":0},{"$f":"'[12]Список изделий'!I8121","v":0},{"$f":"'[12]Список изделий'!X8121","v":0},{"$f":"'[12]Список изделий'!Y8121","v":0},{"$f":"'[12]Список изделий'!Z8121","v":0},{"$f":"'[12]Список изделий'!AA8121","v":0},{"$f":"'[12]Список изделий'!AB8121","v":0},{"$f":"'[12]Список изделий'!AC8121","v":"x"},{"$f":"'[12]Список изделий'!AD8121","v":0},{"$f":"'[12]Список изделий'!AE8121","v":0},{"$f":"'[12]Список изделий'!AF8121","v":"00:00:00"},{"$f":"'[12]Список изделий'!AY8121","v":0},{"$f":"'[12]Список изделий'!AZ8121","v":"00:00:00"},-43153,-43153,0,0,{"$f":"'[12]Список изделий'!BR8121","v":0},0]
[1013,{"$f":"'[13]Список изделий'!D987","v":13},{"$f":"'[13]Список изделий'!E987","v":"Пер-Планер-13"},{"$f":"'[13]Список изделий'!F987","v":"Оклейка дверей"},{"$f":"'[13]Список изделий'!I987","v":5},{"$f":"'[13]Список изделий'!X987","v":"ГМА"},{"$f":"'[13]Список изделий'!Y987","v":"Микуло"},{"$f":"'[13]Список изделий'!Z987","v":"Закурдаев"},{"$f":"'[13]Список изделий'!AA987","v":"Замотаев"},{"$f":"'[13]Список изделий'!AB987","v":0},{"$f":"'[13]Список изделий'!AC987","v":"x"},{"$f":"'[13]Список изделий'!AD987","v":0},{"$f":"'[13]Список изделий'!AE987","v":0},{"$f":"'[13]Список изделий'!AF987","v":"2018-02-25"},{"$f":"'[13]Список изделий'!AY987","v":7},{"$f":"'[13]Список изделий'!AZ987","v":"2018-02-19"},-10,-3,1,1,{"$f":"'[13]Список изделий'!BR987","v":"\\\\SERVER\\Data1\\П\\Перекресток\\2018\\ОКЕЙ_Перекресток\\Планерная 25\\техничка\\13-Оклейка_дверей"},1]
[1002,{"$f":"'[13]Список изделий'!D85","v":2},{"$f":"'[13]Список изделий'!E85","v":0},{"$f":"'[13]Список изделий'!F85","v":"Фризы подвесные двухсторонние"},{"$f":"'[13]Список изделий'!I85","v":0},{"$f":"'[13]Список изделий'!X85","v":0},{"$f":"'[13]Список изделий'!Y85","v":0},{"$f":"'[13]Список изделий'!Z85","v":0},{"$f":"'[13]Список изделий'!AA85","v":0},{"$f":"'[13]Список изделий'!AB85","v":600},{"$f":"'[13]Список изделий'!AC85","v":"x"},{"$f":"'[13]Список изделий'!AD85","v":0},{"$f":"'[13]Список изделий'!AE85","v":0},{"$f":"'[13]Список изделий'!AF85","v":"00:00:00"},{"$f":"'[13]Список изделий'!AY85","v":0},{"$f":"'[13]Список изделий'!AZ85","v":"00:00:00"},-43153,-43153,0,0,{"$f":"'[13]Список изделий'!BR85","v":0},0]
[1014,{"$f":"'[13]Список изделий'!D1069","v":14},{"$f":"'[13]Список изделий'!E1069","v":"Пер-Планер-14"},{"$f":"'[13]Список изделий'!F1069","v":"Стикеры на боковую часть холодильника Мороженое"},{"$f":"'[13]Список изделий'!I1069","v":1},{"$f":"'[13]Список изделий'!X1069","v":"ГМА"},{"$f":"'[13]Список изделий'!Y1069","v":"Микуло"},{"$f":"'[13]Список изделий'!Z1069","v":"Закурдаев"},{"$f":"'[13]Список изделий'!AA1069","v":"Замотаев"},{"$f":"'[13]Список изделий'!AB1069","v":700},{"$f":"'[13]Список изделий'!AC1069","v":"x"},{"$f":"'[13]Список изделий'!AD1069","v":1600},{"$f":"'[13]Список изделий'!AE1069","v":"мм"},{"$f":"'[13]Список изделий'!AF1069","v":"2018-02-25"},{"$f":"'[13]Список изделий'!AY1069","v":7},{"$f":"'[13]Список изделий'!AZ1069","v":"2018-02-19"},-10,-3,1,1,{"$f":"'[13]Список изделий'!BR1069","v":"\\\\SERVER\\Data1\\П\\Перекресток\\2018\\ОКЕЙ_Перекресток\\Планерная 25\\техничка\\14-оклейка_холодильников_МОРОЖЕНОЕ"},1]
[1017,{"$f":"'[13]Список изделий'!D1315","v":17},{"$f":"'[13]Список изделий'!E1315","v":"Пер-Планер-17"},{"$f":"'[13]Список изделий'!F1315","v":"Стикер на заднюю часть прайсдисплея ФРОВ (2 вида-комплект)(к-во предварительное)"},{"$f":"'[13]Список изделий'!I1315","v":40},{"$f":"'[13]Список изделий'!X1315","v":"ГМА"},{"$f":"'[13]Список изделий'!Y1315","v":"Микуло"},{"$f":"'[13]Список изделий'!Z1315","v":"Закурдаев"},{"$f":"'[13]Список изделий'!AA1315","v":"Замотаев"},{"$f":"'[13]Список изделий'!AB1315","v":0},{"$f":"'[13]Список изделий'!AC1315","v":"x"},{"$f":"'[13]Список изделий'!AD1315","v":0},{"$f":"'[13]Список изделий'!AE1315","v":0},{"$f":"'[13]Список изделий'!AF1315","v":"2018-02-25"},{"$f":"'[13]Список изделий'!AY1315","v":7},{"$f":"'[13]Список изделий'!AZ1315","v":"2018-02-19"},-10,-3,1,1,{"$f":"'[13]Список изделий'!BR1315","v":"\\\\SERVER\\Data1\\П\\Перекресток\\2018\\ТЕХНИЧЕСКАЯ ДОКУМЕНТАЦИЯ\\17-Стикер-задник_ПД_ФРОВ\\Сборка\\стикеры_зад_ПД-ФРОВ-сборка.cdr"},1]
[1018,{"$f":"'[13]Список изделий'!D1397","v":18},{"$f":"'[13]Список изделий'!E1397","v":"Пер-Планер-18"},{"$f":"'[13]Список изделий'!F1397","v":"Стикеры на холодильники (оклейка боковин)."},{"$f":"'[13]Список изделий'!I1397","v":7},{"$f":"'[13]Список изделий'!X1397","v":"ГМА"},{"$f":"'[13]Список изделий'!Y1397","v":"Микуло"},{"$f":"'[13]Список изделий'!Z1397","v":"Закурдаев"},{"$f":"'[13]Список изделий'!AA1397","v":"Замотаев"},{"$f":"'[13]Список изделий'!AB1397","v":0},{"$f":"'[13]Список изделий'!AC1397","v":"x"},{"$f":"'[13]Список изделий'!AD1397","v":0},{"$f":"'[13]Список изделий'!AE1397","v":0},{"$f":"'[13]Список изделий'!AF1397","v":"2018-02-25"},{"$f":"'[13]Список изделий'!AY1397","v":7},{"$f":"'[13]Список изделий'!AZ1397","v":"2018-02-19"},-10,-3,1,1,{"$f":"'[13]Список изделий'!BR1397","v":"\\\\SERVER\\Data1\\П\\Перекресток\\2018\\ОКЕЙ_Перекресток\\Планерная 25\\техничка\\18-оклейка_боковин_холодильников"},1]
[1006,{"$f":"'[13]Список изделий'!D413","v":6},{"$f":"'[13]Список изделий'!E413","v":0},{"$f":"'[13]Список изделий'!F413","v":"Стикеры \"Суперцена\" на гриф. Доски (задняя часть)"},{"$f":"'[13]Список изделий'!I413","v":0},{"$f":"'[13]Список изделий'!X413","v":0},{"$f":"'[13]Список изделий'!Y413","v":0},{"$f":"'[13]Список изделий'!Z413","v":0},{"$f":"'[13]Список изделий'!AA413","v":0},{"$f":"'[13]Список изделий'!AB413","v":0},{"$f":"'[13]Список изделий'!AC413","v":"x"},{"$f":"'[13]Список изделий'!AD413","v":0},{"$f":"'[13]Список изделий'!AE413","v":0},{"$f":"'[13]Список изделий'!AF413","v":"00:00:00"},{"$f":"'[13]Список изделий'!AY413","v":0},{"$f":"'[13]Список изделий'!AZ413","v":"00:00:00"},-43153,-43153,0,0,{"$f":"'[13]Список изделий'!BR413","v":0},0]
[1019,{"$f":"'[13]Список изделий'!D1479","v":19},{"$f":"'[13]Список изделий'!E1479","v":"Пер-Планер-19"},{"$f":"'[13]Список изделий'!F1479","v":"комплект ПРОТЕУС"},{"$f":"'[13]Список изделий'!I1479","v":1},{"$f":"'[13]Список изделий'!X1479","v":"ГМА"},{"$f":"'[13]Список изделий'!Y1479","v":"Микуло"},{"$f":"'[13]Список изделий'!Z1479","v":"Закурдаев"},{"$f":"'[13]Список изделий'!AA1479","v":"Замотаев"},{"$f":"'[13]Список изделий'!AB1479","v":0},{"$f":"'[13]Список изделий'!AC1479","v":"x"},{"$f":"'[13]Список изделий'!AD1479","v":0},{"$f":"'[13]Список изделий'!AE1479","v":0},{"$f":"'[13]Список изделий'!AF1479","v":"2018-02-25"},{"$f":"'[13]Список изделий'!AY1479","v":7},{"$f":"'[13]Список изделий'!AZ1479","v":"2018-02-19"},-10,-3,1,1,{"$f":"'[13]Список изделий'!BR1479","v":"\\\\SERVER\\Data1\\П\\Перекресток\\2018\\ОКЕЙ_Перекресток\\Планерная 25\\техничка\\19-Протеус"},1]
[1008,{"$f":"'[13]Список изделий'!D577","v":8},{"$f":"'[13]Список изделий'!E577","v":0},{"$f":"'[13]Список изделий'!F577","v":"Потолочные указатели 2хст. 1500х300"},{"$f":"'[13]Список изделий'!I577","v":0},{"$f":"'[13]Список изделий'!X577","v":0},{"$f":"'[13]Список изделий'!Y577","v":0},{"$f":"'[13]Список изделий'!Z577","v":0},{"$f":"'[13]Список изделий'!AA577","v":0},{"$f":"'[13]Список изделий'!AB577","v":350},{"$f":"'[13]Список изделий'!AC577","v":"x"},{"$f":"'[13]Список изделий'!AD577","v":700},{"$f":"'[13]Список изделий'!AE577","v":"мм"},{"$f":"'[13]Список изделий'!AF577","v":"00:00:00"},{"$f":"'[13]Список изделий'!AY577","v":0},{"$f":"'[13]Список изделий'!AZ577","v":"00:00:00"},-43153,-43153,0,0,{"$f":"'[13]Список изделий'!BR577","v":0},0]
[1009,{"$f":"'[13]Список изделий'!D659","v":9},{"$f":"'[13]Список изделий'!E659","v":"Пер-Планер-9"},{"$f":"'[13]Список изделий'!F659","v":"Имиджи"},{"$f":"'[13]Список изделий'!I659","v":1},{"$f":"'[13]Список изделий'!X659","v":"ГМА"},{"$f":"'[13]Список изделий'!Y659","v":"Микуло"},{"$f":"'[13]Список изделий'!Z659","v":"Закурдаев"},{"$f":"'[13]Список изделий'!AA659","v":"Замотаев"},{"$f":"'[13]Список изделий'!AB659","v":0},{"$f":"'[13]Список изделий'!AC659","v":"x"},{"$f":"'[13]Список изделий'!AD659","v":0},{"$f":"'[13]Список изделий'!AE659","v":0},{"$f":"'[13]Список изделий'!AF659","v":"2018-02-25"},{"$f":"'[13]Список изделий'!AY659","v":7},{"$f":"'[13]Список изделий'!AZ659","v":"2018-02-19"},-10,-3,1,1,{"$f":"'[13]Список изделий'!BR659","v":"\\\\SERVER\\Data1\\П\\Перекресток\\2018\\ОКЕЙ_Перекресток\\Планерная 25\\техничка\\09-Имиджи\\Сборка\\имидж_сборка.cdr"},1]
[1021,{"$f":"'[13]Список изделий'!D1643","v":21},{"$f":"'[13]Список изделий'!E1643","v":"Пер-Планер-21"},{"$f":"'[13]Список изделий'!F1643","v":"Разделители в алкоголь"},{"$f":"'[13]Список изделий'!I1643","v":60},{"$f":"'[13]Список изделий'!X1643","v":"ГМА"},{"$f":"'[13]Список изделий'!Y1643","v":"Микуло"},{"$f":"'[13]Список изделий'!Z1643","v":"Закурдаев"},{"$f":"'[13]Список изделий'!AA1643","v":"Замотаев"},{"$f":"'[13]Список изделий'!AB1643","v":0},{"$f":"'[13]Список изделий'!AC1643","v":"х"},{"$f":"'[13]Список изделий'!AD1643","v":0},{"$f":"'[13]Список изделий'!AE1643","v":0},{"$f":"'[13]Список изделий'!AF1643","v":"2018-02-25"},{"$f":"'[13]Список изделий'!AY1643","v":7},{"$f":"'[13]Список изделий'!AZ1643","v":"2018-02-19"},-10,-3,1,1,{"$f":"'[13]Список изделий'!BR1643","v":0},1]
[1024,{"$f":"'[13]Список изделий'!D1889","v":24},{"$f":"'[13]Список изделий'!E1889","v":"Пер-Планер-24"},{"$f":"'[13]Список изделий'!F1889","v":"Оформление холодильника Икра"},{"$f":"'[13]Список изделий'!I1889","v":1},{"$f":"'[13]Список изделий'!X1889","v":"ГМА"},{"$f":"'[13]Список изделий'!Y1889","v":"Микуло"},{"$f":"'[13]Список изделий'!Z1889","v":"Закурдаев"},{"$f":"'[13]Список изделий'!AA1889","v":"Замотаев"},{"$f":"'[13]Список изделий'!AB1889","v":0},{"$f":"'[13]Список изделий'!AC1889","v":"x"},{"$f":"'[13]Список изделий'!AD1889","v":0},{"$f":"'[13]Список изделий'!AE1889","v":0},{"$f":"'[13]Список изделий'!AF1889","v":"2018-02-25"},{"$f":"'[13]Список изделий'!AY1889","v":7},{"$f":"'[13]Список изделий'!AZ1889","v":"2018-02-19"},-10,-3,1,1,{"$f":"'[13]Список изделий'!BR1889","v":"\\\\SERVER\\Data1\\П\\Перекресток\\2018\\ОКЕЙ_Перекресток\\Планерная 25\\техничка\\24-холодильник_ИКРА"},1]
[1025,{"$f":"'[13]Список изделий'!D1971","v":25},{"$f":"'[13]Список изделий'!E1971","v":"Пер-Планер-25"},{"$f":"'[13]Список изделий'!F1971","v":"Оформление Мясной Разруб"},{"$f":"'[13]Список изделий'!I1971","v":1},{"$f":"'[13]Список изделий'!X1971","v":"ГМА"},{"$f":"'[13]Список изделий'!Y1971","v":"Микуло"},{"$f":"'[13]Список изделий'!Z1971","v":"Закурдаев"},{"$f":"'[13]Список изделий'!AA1971","v":"Замотаев"},{"$f":"'[13]Список изделий'!AB1971","v":0},{"$f":"'[13]Список изделий'!AC1971","v":"x"},{"$f":"'[13]Список изделий'!AD1971","v":0},{"$f":"'[13]Список изделий'!AE1971","v":0},{"$f":"'[13]Список изделий'!AF1971","v":"2018-02-25"},{"$f":"'[13]Список изделий'!AY1971","v":7},{"$f":"'[13]Список изделий'!AZ1971","v":"2018-02-19"},-10,-3,1,1,{"$f":"'[13]Список изделий'!BR1971","v":"\\\\SERVER\\Data1\\П\\Перекресток\\2018\\ОКЕЙ_Перекресток\\Планерная 25\\техничка\\25-Мясной_разруб"},1]
[1027,{"$f":"'[13]Список изделий'!D2135","v":27},{"$f":"'[13]Список изделий'!E2135","v":"Пер-Планер-27"},{"$f":"'[13]Список изделий'!F2135","v":"Оформление отдела Быстро и вкусно"},{"$f":"'[13]Список изделий'!I2135","v":1},{"$f":"'[13]Список изделий'!X2135","v":"ГМА"},{"$f":"'[13]Список изделий'!Y2135","v":"Микуло"},{"$f":"'[13]Список изделий'!Z2135","v":"Закурдаев"},{"$f":"'[13]Список изделий'!AA2135","v":"Замотаев"},{"$f":"'[13]Список изделий'!AB2135","v":0},{"$f":"'[13]Список изделий'!AC2135","v":"x"},{"$f":"'[13]Список изделий'!AD2135","v":0},{"$f":"'[13]Список изделий'!AE2135","v":0},{"$f":"'[13]Список изделий'!AF2135","v":"2018-02-25"},{"$f":"'[13]Список изделий'!AY2135","v":7},{"$f":"'[13]Список изделий'!AZ2135","v":"2018-02-19"},-10,-3,1,1,{"$f":"'[13]Список изделий'!BR2135","v":"\\\\SERVER\\Data1\\П\\Перекресток\\2018\\ТЕХНИЧЕСКАЯ ДОКУМЕНТАЦИЯ\\27-Быстро_и_вкусно\\Сборка\\БиВ-комплект.jpg"},1]
[1028,{"$f":"'[13]Список изделий'!D2217","v":28},{"$f":"'[13]Список изделий'!E2217","v":"Пер-Планер-28"},{"$f":"'[13]Список изделий'!F2217","v":"Стойка деревянная \"Перекресток\" с крючками"},{"$f":"'[13]Список изделий'!I2217","v":1},{"$f":"'[13]Список изделий'!X2217","v":"ГМА"},{"$f":"'[13]Список изделий'!Y2217","v":"Микуло"},{"$f":"'[13]Список изделий'!Z2217","v":"Закурдаев"},{"$f":"'[13]Список изделий'!AA2217","v":"Замотаев"},{"$f":"'[13]Список изделий'!AB2217","v":0},{"$f":"'[13]Список изделий'!AC2217","v":"x"},{"$f":"'[13]Список изделий'!AD2217","v":0},{"$f":"'[13]Список изделий'!AE2217","v":0},{"$f":"'[13]Список изделий'!AF2217","v":"2018-02-25"},{"$f":"'[13]Список изделий'!AY2217","v":7},{"$f":"'[13]Список изделий'!AZ2217","v":"2018-02-19"},-10,-3,1,1,{"$f":"'[13]Список изделий'!BR2217","v":"\\\\SERVER\\Data1\\П\\Перекресток\\2018\\ОКЕЙ_Перекресток\\Планерная 25\\техничка\\28-Стойка_деревянная-Перекресток\\Сборка\\Стойка_Перекресток-сборка.cdr"},1]
[1015,{"$f":"'[13]Список изделий'!D1151","v":15},{"$f":"'[13]Список изделий'!E1151","v":0},{"$f":"'[13]Список изделий'!F1151","v":"Оклейка Лаваля"},{"$f":"'[13]Список изделий'!I1151","v":0},{"$f":"'[13]Список изделий'!X1151","v":0},{"$f":"'[13]Список изделий'!Y1151","v":0},{"$f":"'[13]Список изделий'!Z1151","v":0},{"$f":"'[13]Список изделий'!AA1151","v":0},{"$f":"'[13]Список изделий'!AB1151","v":0},{"$f":"'[13]Список изделий'!AC1151","v":"x"},{"$f":"'[13]Список изделий'!AD1151","v":0},{"$f":"'[13]Список изделий'!AE1151","v":0},{"$f":"'[13]Список изделий'!AF1151","v":"00:00:00"},{"$f":"'[13]Список изделий'!AY1151","v":0},{"$f":"'[13]Список изделий'!AZ1151","v":"00:00:00"},-43153,-43153,0,0,{"$f":"'[13]Список изделий'!BR1151","v":0},0]
[1016,{"$f":"'[13]Список изделий'!D1233","v":16},{"$f":"'[13]Список изделий'!E1233","v":0},{"$f":"'[13]Список изделий'!F1233","v":"Подготовка поверхности. Очистка, обезжиривание."},{"$f":"'[13]Список изделий'!I1233","v":0},{"$f":"'[13]Список изделий'!X1233","v":0},{"$f":"'[13]Список изделий'!Y1233","v":0},{"$f":"'[13]Список изделий'!Z1233","v":0},{"$f":"'[13]Список изделий'!AA1233","v":0},{"$f":"'[13]Список изделий'!AB1233","v":700},{"$f":"'[13]Список изделий'!AC1233","v":"x"},{"$f":"'[13]Список изделий'!AD1233","v":200},{"$f":"'[13]Список изделий'!AE1233","v":"мм"},{"$f":"'[13]Список изделий'!AF1233","v":"00:00:00"},{"$f":"'[13]Список изделий'!AY1233","v":0},{"$f":"'[13]Список изделий'!AZ1233","v":"00:00:00"},-43153,-43153,0,0,{"$f":"'[13]Список изделий'!BR1233","v":0},0]
[1030,{"$f":"'[13]Список изделий'!D2381","v":30},{"$f":"'[13]Список изделий'!E2381","v":"Пер-Планер-30"},{"$f":"'[13]Список изделий'!F2381","v":"Оформление отдела Детство"},{"$f":"'[13]Список изделий'!I2381","v":3},{"$f":"'[13]Список изделий'!X2381","v":"ГМА"},{"$f":"'[13]Список изделий'!Y2381","v":"Микуло"},{"$f":"'[13]Список изделий'!Z2381","v":"Закурдаев"},{"$f":"'[13]Список изделий'!AA2381","v":"Замотаев"},{"$f":"'[13]Список изделий'!AB2381","v":0},{"$f":"'[13]Список изделий'!AC2381","v":"x"},{"$f":"'[13]Список изделий'!AD2381","v":0},{"$f":"'[13]Список изделий'!AE2381","v":0},{"$f":"'[13]Список изделий'!AF2381","v":"2018-02-25"},{"$f":"'[13]Список изделий'!AY2381","v":7},{"$f":"'[13]Список изделий'!AZ2381","v":"2018-02-19"},-10,-3,1,1,{"$f":"'[13]Список изделий'!BR2381","v":"\\\\SERVER\\Data1\\П\\Перекресток\\2018\\ОКЕЙ_Перекресток\\Планерная 25\\техничка\\30-Отдел_Детство"},1]
[1031,{"$f":"'[13]Список изделий'!D2463","v":31},{"$f":"'[13]Список изделий'!E2463","v":"Пер-Планер-31"},{"$f":"'[13]Список изделий'!F2463","v":"Подвес на 3 кармана в проходы между касс (комплект с пп печатью)"},{"$f":"'[13]Список изделий'!I2463","v":3},{"$f":"'[13]Список изделий'!X2463","v":"ГМА"},{"$f":"'[13]Список изделий'!Y2463","v":"Микуло"},{"$f":"'[13]Список изделий'!Z2463","v":"Закурдаев"},{"$f":"'[13]Список изделий'!AA2463","v":"Замотаев"},{"$f":"'[13]Список изделий'!AB2463","v":0},{"$f":"'[13]Список изделий'!AC2463","v":"x"},{"$f":"'[13]Список изделий'!AD2463","v":0},{"$f":"'[13]Список изделий'!AE2463","v":0},{"$f":"'[13]Список изделий'!AF2463","v":"2018-02-25"},{"$f":"'[13]Список изделий'!AY2463","v":7},{"$f":"'[13]Список изделий'!AZ2463","v":"2018-02-19"},-10,-3,1,1,{"$f":"'[13]Список изделий'!BR2463","v":"\\\\SERVER\\Data1\\П\\Перекресток\\2018\\ОКЕЙ_Перекресток\\Планерная 25\\техничка\\31-Подвес_3кармана"},1]
[1036,{"$f":"'[13]Список изделий'!D2873","v":36},{"$f":"'[13]Список изделий'!E2873","v":"Пер-Планер-36"},{"$f":"'[13]Список изделий'!F2873","v":"Служебные таблички (комплект)"},{"$f":"'[13]Список изделий'!I2873","v":1},{"$f":"'[13]Список изделий'!X2873","v":"ГМА"},{"$f":"'[13]Список изделий'!Y2873","v":"Микуло"},{"$f":"'[13]Список изделий'!Z2873","v":"Закурдаев"},{"$f":"'[13]Список изделий'!AA2873","v":"Замотаев"},{"$f":"'[13]Список изделий'!AB2873","v":0},{"$f":"'[13]Список изделий'!AC2873","v":"x"},{"$f":"'[13]Список изделий'!AD2873","v":0},{"$f":"'[13]Список изделий'!AE2873","v":0},{"$f":"'[13]Список изделий'!AF2873","v":"2018-02-25"},{"$f":"'[13]Список изделий'!AY2873","v":7},{"$f":"'[13]Список изделий'!AZ2873","v":"2018-02-19"},-10,-3,1,1,{"$f":"'[13]Список изделий'!BR2873","v":"\\\\SERVER\\Data1\\П\\Перекресток\\2018\\ОКЕЙ_Перекресток\\Планерная 25\\техничка\\36-Служебные_таблички"},1]
[1020,{"$f":"'[13]Список изделий'!D1561","v":20},{"$f":"'[13]Список изделий'!E1561","v":0},{"$f":"'[13]Список изделий'!F1561","v":"V-обр. делители на морозильную камеру"},{"$f":"'[13]Список изделий'!I1561","v":0},{"$f":"'[13]Список изделий'!X1561","v":0},{"$f":"'[13]Список изделий'!Y1561","v":0},{"$f":"'[13]Список изделий'!Z1561","v":0},{"$f":"'[13]Список изделий'!AA1561","v":0},{"$f":"'[13]Список изделий'!AB1561","v":0},{"$f":"'[13]Список изделий'!AC1561","v":"x"},{"$f":"'[13]Список изделий'!AD1561","v":0},{"$f":"'[13]Список изделий'!AE1561","v":0},{"$f":"'[13]Список изделий'!AF1561","v":"00:00:00"},{"$f":"'[13]Список изделий'!AY1561","v":0},{"$f":"'[13]Список изделий'!AZ1561","v":"00:00:00"},-43153,-43153,0,0,{"$f":"'[13]Список изделий'!BR1561","v":0},0]
[1038,{"$f":"'[13]Список изделий'!D3037","v":38},{"$f":"'[13]Список изделий'!E3037","v":"Пер-Планер-38"},{"$f":"'[13]Список изделий'!F3037","v":"Стикер Номер кассы (комплект из 2 шт.)"},{"$f":"'[13]Список изделий'!I3037","v":4},{"$f":"'[13]Список изделий'!X3037","v":"ГМА"},{"$f":"'[13]Список изделий'!Y3037","v":"Микуло"},{"$f":"'[13]Список изделий'!Z3037","v":"Закурдаев"},{"$f":"'[13]Список изделий'!AA3037","v":"Замотаев"},{"$f":"'[13]Список изделий'!AB3037","v":300},{"$f":"'[13]Список изделий'!AC3037","v":"x"},{"$f":"'[13]Список изделий'!AD3037","v":200},{"$f":"'[13]Список изделий'!AE3037","v":"мм"},{"$f":"'[13]Список изделий'!AF3037","v":"2018-02-25"},{"$f":"'[13]Список изделий'!AY3037","v":7},{"$f":"'[13]Список изделий'!AZ3037","v":"2018-02-19"},-10,-3,1,1,{"$f":"'[13]Список изделий'!BR3037","v":"\\\\SERVER\\Data1\\П\\Перекресток\\2018\\ОКЕЙ_Перекресток\\Планерная 25\\техничка\\38-стикер_Номер_КАССЫ"},1]
[1022,{"$f":"'[13]Список изделий'!D1725","v":22},{"$f":"'[13]Список изделий'!E1725","v":0},{"$f":"'[13]Список изделий'!F1725","v":"Входной фриз"},{"$f":"'[13]Список изделий'!I1725","v":0},{"$f":"'[13]Список изделий'!X1725","v":0},{"$f":"'[13]Список изделий'!Y1725","v":0},{"$f":"'[13]Список изделий'!Z1725","v":0},{"$f":"'[13]Список изделий'!AA1725","v":0},{"$f":"'[13]Список изделий'!AB1725","v":0},{"$f":"'[13]Список изделий'!AC1725","v":"x"},{"$f":"'[13]Список изделий'!AD1725","v":0},{"$f":"'[13]Список изделий'!AE1725","v":"мм"},{"$f":"'[13]Список изделий'!AF1725","v":"00:00:00"},{"$f":"'[13]Список изделий'!AY1725","v":0},{"$f":"'[13]Список изделий'!AZ1725","v":"00:00:00"},-43153,-43153,0,0,{"$f":"'[13]Список изделий'!BR1725","v":0},0]
[1023,{"$f":"'[13]Список изделий'!D1807","v":23},{"$f":"'[13]Список изделий'!E1807","v":0},{"$f":"'[13]Список изделий'!F1807","v":"Входной фриз закатка обратной стороны"},{"$f":"'[13]Список изделий'!I1807","v":0},{"$f":"'[13]Список изделий'!X1807","v":0},{"$f":"'[13]Список изделий'!Y1807","v":0},{"$f":"'[13]Список изделий'!Z1807","v":0},{"$f":"'[13]Список изделий'!AA1807","v":0},{"$f":"'[13]Список изделий'!AB1807","v":0},{"$f":"'[13]Список изделий'!AC1807","v":"x"},{"$f":"'[13]Список изделий'!AD1807","v":0},{"$f":"'[13]Список изделий'!AE1807","v":"мм"},{"$f":"'[13]Список изделий'!AF1807","v":"00:00:00"},{"$f":"'[13]Список изделий'!AY1807","v":0},{"$f":"'[13]Список изделий'!AZ1807","v":"00:00:00"},-43153,-43153,0,0,{"$f":"'[13]Список изделий'!BR1807","v":0},0]
[1040,{"$f":"'[13]Список изделий'!D3201","v":40},{"$f":"'[13]Список изделий'!E3201","v":"Пер-Планер-40"},{"$f":"'[13]Список изделий'!F3201","v":"Информационные стенды (фото, служебный 7 (2шт), служебный А4-А3)"},{"$f":"'[13]Список изделий'!I3201","v":4},{"$f":"'[13]Список изделий'!X3201","v":"ГМА"},{"$f":"'[13]Список изделий'!Y3201","v":"Микуло"},{"$f":"'[13]Список изделий'!Z3201","v":"Закурдаев"},{"$f":"'[13]Список изделий'!AA3201","v":"Замотаев"},{"$f":"'[13]Список изделий'!AB3201","v":0},{"$f":"'[13]Список изделий'!AC3201","v":"x"},{"$f":"'[13]Список изделий'!AD3201","v":0},{"$f":"'[13]Список изделий'!AE3201","v":0},{"$f":"'[13]Список изделий'!AF3201","v":"2018-02-25"},{"$f":"'[13]Список изделий'!AY3201","v":7},{"$f":"'[13]Список изделий'!AZ3201","v":"2018-02-19"},-10,-3,1,1,{"$f":"'[13]Список изделий'!BR3201","v":"\\\\SERVER\\Data1\\П\\Перекресток\\2018\\ОКЕЙ_Перекресток\\Планерная 25\\техничка\\40-Информационные стенды\\Сборка"},1]
[1041,{"$f":"'[13]Список изделий'!D3283","v":41},{"$f":"'[13]Список изделий'!E3283","v":"Пер-Планер-41"},{"$f":"'[13]Список изделий'!F3283","v":"Табличка \"Весы самообслуживания\" (как взвесить)"},{"$f":"'[13]Список изделий'!I3283","v":4},{"$f":"'[13]Список изделий'!X3283","v":"ГМА"},{"$f":"'[13]Список изделий'!Y3283","v":"Микуло"},{"$f":"'[13]Список изделий'!Z3283","v":"Закурдаев"},{"$f":"'[13]Список изделий'!AA3283","v":"Замотаев"},{"$f":"'[13]Список изделий'!AB3283","v":0},{"$f":"'[13]Список изделий'!AC3283","v":"x"},{"$f":"'[13]Список изделий'!AD3283","v":0},{"$f":"'[13]Список изделий'!AE3283","v":0},{"$f":"'[13]Список изделий'!AF3283","v":"2018-02-25"},{"$f":"'[13]Список изделий'!AY3283","v":7},{"$f":"'[13]Список изделий'!AZ3283","v":"2018-02-19"},-10,-3,1,1,{"$f":"'[13]Список изделий'!BR3283","v":"\\\\SERVER\\Data1\\П\\Перекресток\\2018\\ОКЕЙ_Перекресток\\Планерная 25\\техничка\\41-Табличка_Весы_КАК_ВЗВЕСИТЬ"},1]
[1026,{"$f":"'[13]Список изделий'!D2053","v":26},{"$f":"'[13]Список изделий'!E2053","v":0},{"$f":"'[13]Список изделий'!F2053","v":"Оформление Фиксики"},{"$f":"'[13]Список изделий'!I2053","v":0},{"$f":"'[13]Список изделий'!X2053","v":0},{"$f":"'[13]Список изделий'!Y2053","v":0},{"$f":"'[13]Список изделий'!Z2053","v":0},{"$f":"'[13]Список изделий'!AA2053","v":0},{"$f":"'[13]Список изделий'!AB2053","v":0},{"$f":"'[13]Список изделий'!AC2053","v":"x"},{"$f":"'[13]Список изделий'!AD2053","v":0},{"$f":"'[13]Список изделий'!AE2053","v":"мм"},{"$f":"'[13]Список изделий'!AF2053","v":"00:00:00"},{"$f":"'[13]Список изделий'!AY2053","v":0},{"$f":"'[13]Список изделий'!AZ2053","v":"00:00:00"},{"$f":"IF(O1028=\"нет в заказе\",\"нет в заказе\",-(TODAY()-(P1028-O1028)))","v":-43153},{"$f":"IF(Q1028=\"нет в заказе\",\"нет взаказе\",-(IF(O1028=\"нет в заказе\",\"нет в заказе\",TODAY()-P1028)))","v":-43153},0,{"$f":"V1028","v":0},{"$f":"'[13]Список изделий'!BR2053","v":0},{"$f":"IF(S1028>=0,S1028,IF(T1028>S1028,T1028,S1028))","v":0}]
[1042,{"$f":"'[13]Список изделий'!D3365","v":42},{"$f":"'[13]Список изделий'!E3365","v":"Пер-Планер-42"},{"$f":"'[13]Список изделий'!F3365","v":"Табличка Контрольные весы"},{"$f":"'[13]Список изделий'!I3365","v":1},{"$f":"'[13]Список изделий'!X3365","v":"ГМА"},{"$f":"'[13]Список изделий'!Y3365","v":"Микуло"},{"$f":"'[13]Список изделий'!Z3365","v":"Закурдаев"},{"$f":"'[13]Список изделий'!AA3365","v":"Замотаев"},{"$f":"'[13]Список изделий'!AB3365","v":0},{"$f":"'[13]Список изделий'!AC3365","v":"x"},{"$f":"'[13]Список изделий'!AD3365","v":0},{"$f":"'[13]Список изделий'!AE3365","v":0},{"$f":"'[13]Список изделий'!AF3365","v":"2018-02-25"},{"$f":"'[13]Список изделий'!AY3365","v":7},{"$f":"'[13]Список изделий'!AZ3365","v":"2018-02-19"},-10,-3,1,1,{"$f":"'[13]Список изделий'!BR3365","v":"\\\\SERVER\\Data1\\П\\Перекресток\\2018\\ТЕХНИЧЕСКАЯ ДОКУМЕНТАЦИЯ\\42-Табличка_Контрольные_Весы"},1]
[1044,{"$f":"'[13]Список изделий'!D3529","v":44},{"$f":"'[13]Список изделий'!E3529","v":"Пер-Планер-44"},{"$f":"'[13]Список изделий'!F3529","v":"Алкогольные разделители 200х38"},{"$f":"'[13]Список изделий'!I3529","v":60},{"$f":"'[13]Список изделий'!X3529","v":"ГМА"},{"$f":"'[13]Список изделий'!Y3529","v":"Микуло"},{"$f":"'[13]Список изделий'!Z3529","v":"Закурдаев"},{"$f":"'[13]Список изделий'!AA3529","v":"Замотаев"},{"$f":"'[13]Список изделий'!AB3529","v":0},{"$f":"'[13]Список изделий'!AC3529","v":"x"},{"$f":"'[13]Список изделий'!AD3529","v":0},{"$f":"'[13]Список изделий'!AE3529","v":0},{"$f":"'[13]Список изделий'!AF3529","v":"2018-02-25"},{"$f":"'[13]Список изделий'!AY3529","v":7},{"$f":"'[13]Список изделий'!AZ3529","v":"2018-02-19"},-10,-3,1,1,{"$f":"'[13]Список изделий'!BR3529","v":"\\\\SERVER\\Data1\\П\\Перекресток\\2018\\МОСКВА_18\\Балаклавский пр. 16А\\Техничка\\44-Алкогольные_разделители-200х38"},1]
[1029,{"$f":"'[13]Список изделий'!D2299","v":29},{"$f":"'[13]Список изделий'!E2299","v":"Пер-Планер-29"},{"$f":"'[13]Список изделий'!F2299","v":"Фриз стеллажный 2хст. Объемный \"Конфеты\""},{"$f":"'[13]Список изделий'!I2299","v":2},{"$f":"'[13]Список изделий'!X2299","v":"ГМА"},{"$f":"'[13]Список изделий'!Y2299","v":"Микуло"},{"$f":"'[13]Список изделий'!Z2299","v":"Закурдаев"},{"$f":"'[13]Список изделий'!AA2299","v":"Замотаев"},{"$f":"'[13]Список изделий'!AB2299","v":0},{"$f":"'[13]Список изделий'!AC2299","v":"x"},{"$f":"'[13]Список изделий'!AD2299","v":0},{"$f":"'[13]Список изделий'!AE2299","v":0},{"$f":"'[13]Список изделий'!AF2299","v":"2018-02-25"},{"$f":"'[13]Список изделий'!AY2299","v":7},{"$f":"'[13]Список изделий'!AZ2299","v":"2018-02-19"},-10,-3,0.3,0.3,{"$f":"'[13]Список изделий'!BR2299","v":"\\\\SERVER\\Data1\\П\\Перекресток\\2018\\ОКЕЙ_Перекресток\\Планерная 25\\техничка\\29-фриз_Конфеты\\Сборка\\Конфеты-сборка.cdr"},0.3]
[1046,{"$f":"'[13]Список изделий'!D3693","v":46},{"$f":"'[13]Список изделий'!E3693","v":"Пер-Планер-46"},{"$f":"'[13]Список изделий'!F3693","v":"Табличка двухст. \"Суперцена\" для подвеса к ценникодержателю ФРОВ"},{"$f":"'[13]Список изделий'!I3693","v":30},{"$f":"'[13]Список изделий'!X3693","v":"ГМА"},{"$f":"'[13]Список изделий'!Y3693","v":"Микуло"},{"$f":"'[13]Список изделий'!Z3693","v":"Закурдаев"},{"$f":"'[13]Список изделий'!AA3693","v":"Замотаев"},{"$f":"'[13]Список изделий'!AB3693","v":0},{"$f":"'[13]Список изделий'!AC3693","v":"x"},{"$f":"'[13]Список изделий'!AD3693","v":0},{"$f":"'[13]Список изделий'!AE3693","v":0},{"$f":"'[13]Список изделий'!AF3693","v":"2018-02-25"},{"$f":"'[13]Список изделий'!AY3693","v":7},{"$f":"'[13]Список изделий'!AZ3693","v":"2018-02-19"},-10,-3,1,1,{"$f":"'[13]Список изделий'!BR3693","v":"\\\\SERVER\\Data1\\П\\Перекресток\\2018\\ТЕХНИЧЕСКАЯ ДОКУМЕНТАЦИЯ\\46-Подвес_Суперцена_ФРОВ"},1]
[1047,{"$f":"'[13]Список изделий'!D3775","v":47},{"$f":"'[13]Список изделий'!E3775","v":"Пер-Планер-47"},{"$f":"'[13]Список изделий'!F3775","v":"Доска РТО"},{"$f":"'[13]Список изделий'!I3775","v":1},{"$f":"'[13]Список изделий'!X3775","v":"ГМА"},{"$f":"'[13]Список изделий'!Y3775","v":"Микуло"},{"$f":"'[13]Список изделий'!Z3775","v":"Закурдаев"},{"$f":"'[13]Список изделий'!AA3775","v":"Замотаев"},{"$f":"'[13]Список изделий'!AB3775","v":0},{"$f":"'[13]Список изделий'!AC3775","v":"x"},{"$f":"'[13]Список изделий'!AD3775","v":0},{"$f":"'[13]Список изделий'!AE3775","v":0},{"$f":"'[13]Список изделий'!AF3775","v":"2018-02-25"},{"$f":"'[13]Список изделий'!AY3775","v":7},{"$f":"'[13]Список изделий'!AZ3775","v":"2018-02-19"},-10,-3,1,1,{"$f":"'[13]Список изделий'!BR3775","v":"\\\\SERVER\\Data1\\П\\Перекресток\\2018\\ТЕХНИЧЕСКАЯ ДОКУМЕНТАЦИЯ\\47-Доска_РТО"},1]
[1032,{"$f":"'[13]Список изделий'!D2545","v":32},{"$f":"'[13]Список изделий'!E2545","v":0},{"$f":"'[13]Список изделий'!F2545","v":"Световая вывеска Клевер Перекресток СУПЕРМАРКЕТ  на входном фризе"},{"$f":"'[13]Список изделий'!I2545","v":0},{"$f":"'[13]Список изделий'!X2545","v":0},{"$f":"'[13]Список изделий'!Y2545","v":0},{"$f":"'[13]Список изделий'!Z2545","v":0},{"$f":"'[13]Список изделий'!AA2545","v":0},{"$f":"'[13]Список изделий'!AB2545","v":300},{"$f":"'[13]Список изделий'!AC2545","v":"x"},{"$f":"'[13]Список изделий'!AD2545","v":100},{"$f":"'[13]Список изделий'!AE2545","v":0},{"$f":"'[13]Список изделий'!AF2545","v":"00:00:00"},{"$f":"'[13]Список изделий'!AY2545","v":0},{"$f":"'[13]Список изделий'!AZ2545","v":"00:00:00"},-43153,-43153,0,0,{"$f":"'[13]Список изделий'!BR2545","v":0},0]
[1033,{"$f":"'[13]Список изделий'!D2627","v":33},{"$f":"'[13]Список изделий'!E2627","v":0},{"$f":"'[13]Список изделий'!F2627","v":"Проектно-конструкторская документация для светового короба"},{"$f":"'[13]Список изделий'!I2627","v":0},{"$f":"'[13]Список изделий'!X2627","v":0},{"$f":"'[13]Список изделий'!Y2627","v":0},{"$f":"'[13]Список изделий'!Z2627","v":0},{"$f":"'[13]Список изделий'!AA2627","v":0},{"$f":"'[13]Список изделий'!AB2627","v":0},{"$f":"'[13]Список изделий'!AC2627","v":"x"},{"$f":"'[13]Список изделий'!AD2627","v":0},{"$f":"'[13]Список изделий'!AE2627","v":0},{"$f":"'[13]Список изделий'!AF2627","v":"00:00:00"},{"$f":"'[13]Список изделий'!AY2627","v":0},{"$f":"'[13]Список изделий'!AZ2627","v":"00:00:00"},-43153,-43153,0,0,{"$f":"'[13]Список изделий'!BR2627","v":0},0]
[1034,{"$f":"'[13]Список изделий'!D2709","v":34},{"$f":"'[13]Список изделий'!E2709","v":0},{"$f":"'[13]Список изделий'!F2709","v":"Электропроект для светового короба"},{"$f":"'[13]Список изделий'!I2709","v":0},{"$f":"'[13]Список изделий'!X2709","v":0},{"$f":"'[13]Список изделий'!Y2709","v":0},{"$f":"'[13]Список изделий'!Z2709","v":0},{"$f":"'[13]Список изделий'!AA2709","v":0},{"$f":"'[13]Список изделий'!AB2709","v":300},{"$f":"'[13]Список изделий'!AC2709","v":"x"},{"$f":"'[13]Список изделий'!AD2709","v":390},{"$f":"'[13]Список изделий'!AE2709","v":"мм"},{"$f":"'[13]Список изделий'!AF2709","v":"00:00:00"},{"$f":"'[13]Список изделий'!AY2709","v":0},{"$f":"'[13]Список изделий'!AZ2709","v":"00:00:00"},-43153,-43153,0,0,{"$f":"'[13]Список изделий'!BR2709","v":0},0]
[1035,{"$f":"'[13]Список изделий'!D2791","v":35},{"$f":"'[13]Список изделий'!E2791","v":0},{"$f":"'[13]Список изделий'!F2791","v":"Баннеры (Праздник 7500х2400) и  (Праздник 570х2400)"},{"$f":"'[13]Список изделий'!I2791","v":0},{"$f":"'[13]Список изделий'!X2791","v":0},{"$f":"'[13]Список изделий'!Y2791","v":0},{"$f":"'[13]Список изделий'!Z2791","v":0},{"$f":"'[13]Список изделий'!AA2791","v":0},{"$f":"'[13]Список изделий'!AB2791","v":0},{"$f":"'[13]Список изделий'!AC2791","v":"x"},{"$f":"'[13]Список изделий'!AD2791","v":0},{"$f":"'[13]Список изделий'!AE2791","v":"мм"},{"$f":"'[13]Список изделий'!AF2791","v":"00:00:00"},{"$f":"'[13]Список изделий'!AY2791","v":0},{"$f":"'[13]Список изделий'!AZ2791","v":"00:00:00"},-43153,-43153,0,0,{"$f":"'[13]Список изделий'!BR2791","v":0},0]
[1048,{"$f":"'[13]Список изделий'!D3857","v":48},{"$f":"'[13]Список изделий'!E3857","v":"Пер-Планер-48"},{"$f":"'[13]Список изделий'!F3857","v":"Вывеска \"запрещающие знаки\" подвесная двусторонняя"},{"$f":"'[13]Список изделий'!I3857","v":1},{"$f":"'[13]Список изделий'!X3857","v":"ГМА"},{"$f":"'[13]Список изделий'!Y3857","v":"Микуло"},{"$f":"'[13]Список изделий'!Z3857","v":"Закурдаев"},{"$f":"'[13]Список изделий'!AA3857","v":"Замотаев"},{"$f":"'[13]Список изделий'!AB3857","v":0},{"$f":"'[13]Список изделий'!AC3857","v":"x"},{"$f":"'[13]Список изделий'!AD3857","v":0},{"$f":"'[13]Список изделий'!AE3857","v":0},{"$f":"'[13]Список изделий'!AF3857","v":"2018-02-25"},{"$f":"'[13]Список изделий'!AY3857","v":7},{"$f":"'[13]Список изделий'!AZ3857","v":"2018-02-19"},-10,-3,1,1,{"$f":"'[13]Список изделий'!BR3857","v":"\\\\SERVER\\Data1\\П\\Перекресток\\2018\\ТЕХНИЧЕСКАЯ ДОКУМЕНТАЦИЯ\\48-Запрещающие_знаки"},1]
[1037,{"$f":"'[13]Список изделий'!D2955","v":37},{"$f":"'[13]Список изделий'!E2955","v":0},{"$f":"'[13]Список изделий'!F2955","v":"Монтаж скайтреков"},{"$f":"'[13]Список изделий'!I2955","v":0},{"$f":"'[13]Список изделий'!X2955","v":0},{"$f":"'[13]Список изделий'!Y2955","v":0},{"$f":"'[13]Список изделий'!Z2955","v":0},{"$f":"'[13]Список изделий'!AA2955","v":0},{"$f":"'[13]Список изделий'!AB2955","v":0},{"$f":"'[13]Список изделий'!AC2955","v":"x"},{"$f":"'[13]Список изделий'!AD2955","v":0},{"$f":"'[13]Список изделий'!AE2955","v":0},{"$f":"'[13]Список изделий'!AF2955","v":"00:00:00"},{"$f":"'[13]Список изделий'!AY2955","v":0},{"$f":"'[13]Список изделий'!AZ2955","v":"00:00:00"},-43153,-43153,0,0,{"$f":"'[13]Список изделий'!BR2955","v":0},0]
[1050,{"$f":"'[13]Список изделий'!D4021","v":50},{"$f":"'[13]Список изделий'!E4021","v":"Пер-Планер-50"},{"$f":"'[13]Список изделий'!F4021","v":"Вывеска \"Улыбнитесь\" двухсторонняя подвесная"},{"$f":"'[13]Список изделий'!I4021","v":2},{"$f":"'[13]Список изделий'!X4021","v":"ГМА"},{"$f":"'[13]Список изделий'!Y4021","v":"Микуло"},{"$f":"'[13]Список изделий'!Z4021","v":"Закурдаев"},{"$f":"'[13]Список изделий'!AA4021","v":"Замотаев"},{"$f":"'[13]Список изделий'!AB4021","v":0},{"$f":"'[13]Список изделий'!AC4021","v":"x"},{"$f":"'[13]Список изделий'!AD4021","v":0},{"$f":"'[13]Список изделий'!AE4021","v":0},{"$f":"'[13]Список изделий'!AF4021","v":"2018-02-25"},{"$f":"'[13]Список изделий'!AY4021","v":7},{"$f":"'[13]Список изделий'!AZ4021","v":"2018-02-19"},-10,-3,1,1,{"$f":"'[13]Список изделий'!BR4021","v":"\\\\SERVER\\Data1\\П\\Перекресток\\2018\\ТЕХНИЧЕСКАЯ ДОКУМЕНТАЦИЯ\\50-вывеска-Скрытые_Камеры"},1]
[1039,{"$f":"'[13]Список изделий'!D3119","v":39},{"$f":"'[13]Список изделий'!E3119","v":0},{"$f":"'[13]Список изделий'!F3119","v":"Фризы стеллажные \"Хлеб\" плоский двухсторонний"},{"$f":"'[13]Список изделий'!I3119","v":0},{"$f":"'[13]Список изделий'!X3119","v":0},{"$f":"'[13]Список изделий'!Y3119","v":0},{"$f":"'[13]Список изделий'!Z3119","v":0},{"$f":"'[13]Список изделий'!AA3119","v":0},{"$f":"'[13]Список изделий'!AB3119","v":0},{"$f":"'[13]Список изделий'!AC3119","v":"x"},{"$f":"'[13]Список изделий'!AD3119","v":0},{"$f":"'[13]Список изделий'!AE3119","v":0},{"$f":"'[13]Список изделий'!AF3119","v":"00:00:00"},{"$f":"'[13]Список изделий'!AY3119","v":0},{"$f":"'[13]Список изделий'!AZ3119","v":"00:00:00"},-43153,-43153,0,0,{"$f":"'[13]Список изделий'!BR3119","v":0},0]
[1052,{"$f":"'[13]Список изделий'!D4185","v":52},{"$f":"'[13]Список изделий'!E4185","v":"Пер-Планер-52"},{"$f":"'[13]Список изделий'!F4185","v":"имиджи без профиля на задник стеллажа"},{"$f":"'[13]Список изделий'!I4185","v":2},{"$f":"'[13]Список изделий'!X4185","v":"ГМА"},{"$f":"'[13]Список изделий'!Y4185","v":"Микуло"},{"$f":"'[13]Список изделий'!Z4185","v":"Закурдаев"},{"$f":"'[13]Список изделий'!AA4185","v":"Замотаев"},{"$f":"'[13]Список изделий'!AB4185","v":300},{"$f":"'[13]Список изделий'!AC4185","v":"x"},{"$f":"'[13]Список изделий'!AD4185","v":420},{"$f":"'[13]Список изделий'!AE4185","v":"мм"},{"$f":"'[13]Список изделий'!AF4185","v":"2018-02-25"},{"$f":"'[13]Список изделий'!AY4185","v":7},{"$f":"'[13]Список изделий'!AZ4185","v":"2018-02-19"},-10,-3,1,1,{"$f":"'[13]Список изделий'!BR4185","v":"\\\\SERVER\\Data1\\П\\Перекресток\\2018\\ОКЕЙ_Перекресток\\Планерная 25\\техничка\\52-оформление_доп_оборудования"},1]
[1056,{"$f":"'[13]Список изделий'!D4513","v":56},{"$f":"'[13]Список изделий'!E4513","v":"Пер-Планер-56"},{"$f":"'[13]Список изделий'!F4513","v":"Вывеска-тележки - ВТ"},{"$f":"'[13]Список изделий'!I4513","v":1},{"$f":"'[13]Список изделий'!X4513","v":"ГМА"},{"$f":"'[13]Список изделий'!Y4513","v":"Микуло"},{"$f":"'[13]Список изделий'!Z4513","v":"Закурдаев"},{"$f":"'[13]Список изделий'!AA4513","v":"Замотаев"},{"$f":"'[13]Список изделий'!AB4513","v":0},{"$f":"'[13]Список изделий'!AC4513","v":"x"},{"$f":"'[13]Список изделий'!AD4513","v":0},{"$f":"'[13]Список изделий'!AE4513","v":0},{"$f":"'[13]Список изделий'!AF4513","v":"2018-02-25"},{"$f":"'[13]Список изделий'!AY4513","v":7},{"$f":"'[13]Список изделий'!AZ4513","v":"2018-02-19"},-10,-3,1,1,{"$f":"'[13]Список изделий'!BR4513","v":"\\\\SERVER\\Data1\\П\\Перекресток\\2018\\ТЕХНИЧЕСКАЯ ДОКУМЕНТАЦИЯ\\56-вывеска-Тележки"},1]
[1057,{"$f":"'[13]Список изделий'!D4595","v":57},{"$f":"'[13]Список изделий'!E4595","v":"Пер-Планер-57"},{"$f":"'[13]Список изделий'!F4595","v":"Конструкции \"Суперцена\" треугольная"},{"$f":"'[13]Список изделий'!I4595","v":5},{"$f":"'[13]Список изделий'!X4595","v":"ГМА"},{"$f":"'[13]Список изделий'!Y4595","v":"Микуло"},{"$f":"'[13]Список изделий'!Z4595","v":"Закурдаев"},{"$f":"'[13]Список изделий'!AA4595","v":"Замотаев"},{"$f":"'[13]Список изделий'!AB4595","v":0},{"$f":"'[13]Список изделий'!AC4595","v":"x"},{"$f":"'[13]Список изделий'!AD4595","v":0},{"$f":"'[13]Список изделий'!AE4595","v":0},{"$f":"'[13]Список изделий'!AF4595","v":"2018-02-25"},{"$f":"'[13]Список изделий'!AY4595","v":7},{"$f":"'[13]Список изделий'!AZ4595","v":"2018-02-19"},-10,-3,1,1,{"$f":"'[13]Список изделий'!BR4595","v":"\\\\SERVER\\Data1\\П\\Перекресток\\2018\\ОКЕЙ_Перекресток\\Планерная 25\\техничка\\57-СУПЕРЦЕНА-треугольная(Призма)"},1]
[1043,{"$f":"'[13]Список изделий'!D3447","v":43},{"$f":"'[13]Список изделий'!E3447","v":0},{"$f":"'[13]Список изделий'!F3447","v":0},{"$f":"'[13]Список изделий'!I3447","v":0},{"$f":"'[13]Список изделий'!X3447","v":0},{"$f":"'[13]Список изделий'!Y3447","v":0},{"$f":"'[13]Список изделий'!Z3447","v":0},{"$f":"'[13]Список изделий'!AA3447","v":0},{"$f":"'[13]Список изделий'!AB3447","v":1500},{"$f":"'[13]Список изделий'!AC3447","v":"x"},{"$f":"'[13]Список изделий'!AD3447","v":1000},{"$f":"'[13]Список изделий'!AE3447","v":0},{"$f":"'[13]Список изделий'!AF3447","v":"00:00:00"},{"$f":"'[13]Список изделий'!AY3447","v":0},{"$f":"'[13]Список изделий'!AZ3447","v":"00:00:00"},-43153,-43153,0,0,{"$f":"'[13]Список изделий'!BR3447","v":0},0]
[1058,{"$f":"'[13]Список изделий'!D4677","v":58},{"$f":"'[13]Список изделий'!E4677","v":"Пер-Планер-58"},{"$f":"'[13]Список изделий'!F4677","v":"Конструкция \"Суперцена\" одинарная, один карман"},{"$f":"'[13]Список изделий'!I4677","v":15},{"$f":"'[13]Список изделий'!X4677","v":"ГМА"},{"$f":"'[13]Список изделий'!Y4677","v":"Микуло"},{"$f":"'[13]Список изделий'!Z4677","v":"Закурдаев"},{"$f":"'[13]Список изделий'!AA4677","v":"Замотаев"},{"$f":"'[13]Список изделий'!AB4677","v":0},{"$f":"'[13]Список изделий'!AC4677","v":"x"},{"$f":"'[13]Список изделий'!AD4677","v":0},{"$f":"'[13]Список изделий'!AE4677","v":0},{"$f":"'[13]Список изделий'!AF4677","v":"2018-02-25"},{"$f":"'[13]Список изделий'!AY4677","v":7},{"$f":"'[13]Список изделий'!AZ4677","v":"2018-02-19"},-10,-3,1,1,{"$f":"'[13]Список изделий'!BR4677","v":"\\\\SERVER\\Data1\\П\\Перекресток\\2018\\ОКЕЙ_Перекресток\\Планерная 25\\техничка\\58-СУПЕРЦЕНА-одинарная_подвесная"},1]
[1045,{"$f":"'[13]Список изделий'!D3611","v":45},{"$f":"'[13]Список изделий'!E3611","v":0},{"$f":"'[13]Список изделий'!F3611","v":"таблички и стикеры по навигации"},{"$f":"'[13]Список изделий'!I3611","v":0},{"$f":"'[13]Список изделий'!X3611","v":0},{"$f":"'[13]Список изделий'!Y3611","v":0},{"$f":"'[13]Список изделий'!Z3611","v":0},{"$f":"'[13]Список изделий'!AA3611","v":0},{"$f":"'[13]Список изделий'!AB3611","v":0},{"$f":"'[13]Список изделий'!AC3611","v":"x"},{"$f":"'[13]Список изделий'!AD3611","v":0},{"$f":"'[13]Список изделий'!AE3611","v":0},{"$f":"'[13]Список изделий'!AF3611","v":"00:00:00"},{"$f":"'[13]Список изделий'!AY3611","v":0},{"$f":"'[13]Список изделий'!AZ3611","v":"00:00:00"},-43153,-43153,0,0,{"$f":"'[13]Список изделий'!BR3611","v":0},0]
[1059,{"$f":"'[13]Список изделий'!D4759","v":59},{"$f":"'[13]Список изделий'!E4759","v":"Пер-Планер-59"},{"$f":"'[13]Список изделий'!F4759","v":"Стикеры \"Суперцена\", на карманы (треугольные конструкции)"},{"$f":"'[13]Список изделий'!I4759","v":5},{"$f":"'[13]Список изделий'!X4759","v":"ГМА"},{"$f":"'[13]Список изделий'!Y4759","v":"Микуло"},{"$f":"'[13]Список изделий'!Z4759","v":"Закурдаев"},{"$f":"'[13]Список изделий'!AA4759","v":"Замотаев"},{"$f":"'[13]Список изделий'!AB4759","v":0},{"$f":"'[13]Список изделий'!AC4759","v":"x"},{"$f":"'[13]Список изделий'!AD4759","v":0},{"$f":"'[13]Список изделий'!AE4759","v":0},{"$f":"'[13]Список изделий'!AF4759","v":"2018-02-25"},{"$f":"'[13]Список изделий'!AY4759","v":7},{"$f":"'[13]Список изделий'!AZ4759","v":"2018-02-19"},-10,-3,1,1,{"$f":"'[13]Список изделий'!BR4759","v":0},1]
[1061,{"$f":"'[13]Список изделий'!D4923","v":61},{"$f":"'[13]Список изделий'!E4923","v":"Пер-Планер-61"},{"$f":"'[13]Список изделий'!F4923","v":"Указатель КАССЫ  (двухсторонний)"},{"$f":"'[13]Список изделий'!I4923","v":3},{"$f":"'[13]Список изделий'!X4923","v":"ГМА"},{"$f":"'[13]Список изделий'!Y4923","v":"Микуло"},{"$f":"'[13]Список изделий'!Z4923","v":"Закурдаев"},{"$f":"'[13]Список изделий'!AA4923","v":"Замотаев"},{"$f":"'[13]Список изделий'!AB4923","v":0},{"$f":"'[13]Список изделий'!AC4923","v":"x"},{"$f":"'[13]Список изделий'!AD4923","v":0},{"$f":"'[13]Список изделий'!AE4923","v":0},{"$f":"'[13]Список изделий'!AF4923","v":"2018-02-25"},{"$f":"'[13]Список изделий'!AY4923","v":7},{"$f":"'[13]Список изделий'!AZ4923","v":"2018-02-19"},-10,-3,1,1,{"$f":"'[13]Список изделий'!BR4923","v":"\\\\SERVER\\Data1\\П\\Перекресток\\2018\\ОКЕЙ_Перекресток\\Планерная 25\\техничка\\61-Подвес_КАССЫ"},1]
[1063,{"$f":"'[13]Список изделий'!D5087","v":63},{"$f":"'[13]Список изделий'!E5087","v":"Пер-Планер-63"},{"$f":"'[13]Список изделий'!F5087","v":"Стикер заморозка в холодильники"},{"$f":"'[13]Список изделий'!I5087","v":1},{"$f":"'[13]Список изделий'!X5087","v":"ГМА"},{"$f":"'[13]Список изделий'!Y5087","v":"Микуло"},{"$f":"'[13]Список изделий'!Z5087","v":"Закурдаев"},{"$f":"'[13]Список изделий'!AA5087","v":"Замотаев"},{"$f":"'[13]Список изделий'!AB5087","v":0},{"$f":"'[13]Список изделий'!AC5087","v":"x"},{"$f":"'[13]Список изделий'!AD5087","v":0},{"$f":"'[13]Список изделий'!AE5087","v":"мм"},{"$f":"'[13]Список изделий'!AF5087","v":"2018-02-25"},{"$f":"'[13]Список изделий'!AY5087","v":7},{"$f":"'[13]Список изделий'!AZ5087","v":"2018-02-19"},-10,-3,1,1,{"$f":"'[13]Список изделий'!BR5087","v":"\\\\SERVER\\Data1\\П\\Перекресток\\2018\\ОКЕЙ_Перекресток\\Планерная 25\\техничка\\63-стикеры_Заморозка_холодильники"},1]
[1049,{"$f":"'[13]Список изделий'!D3939","v":49},{"$f":"'[13]Список изделий'!E3939","v":0},{"$f":"'[13]Список изделий'!F3939","v":"Вывеска \"камеры хранения\""},{"$f":"'[13]Список изделий'!I3939","v":0},{"$f":"'[13]Список изделий'!X3939","v":0},{"$f":"'[13]Список изделий'!Y3939","v":0},{"$f":"'[13]Список изделий'!Z3939","v":0},{"$f":"'[13]Список изделий'!AA3939","v":0},{"$f":"'[13]Список изделий'!AB3939","v":0},{"$f":"'[13]Список изделий'!AC3939","v":"x"},{"$f":"'[13]Список изделий'!AD3939","v":0},{"$f":"'[13]Список изделий'!AE3939","v":0},{"$f":"'[13]Список изделий'!AF3939","v":"00:00:00"},{"$f":"'[13]Список изделий'!AY3939","v":0},{"$f":"'[13]Список изделий'!AZ3939","v":"00:00:00"},-43153,-43153,1,1,{"$f":"'[13]Список изделий'!BR3939","v":0},1]
[1076,{"$f":"'[13]Список изделий'!D6153","v":76},{"$f":"'[13]Список изделий'!E6153","v":"Пер-Планер-76"},{"$f":"'[13]Список изделий'!F6153","v":"Пилон несветовой"},{"$f":"'[13]Список изделий'!I6153","v":1},{"$f":"'[13]Список изделий'!X6153","v":"ГМА"},{"$f":"'[13]Список изделий'!Y6153","v":"Микуло"},{"$f":"'[13]Список изделий'!Z6153","v":"Закурдаев"},{"$f":"'[13]Список изделий'!AA6153","v":"Замотаев"},{"$f":"'[13]Список изделий'!AB6153","v":0},{"$f":"'[13]Список изделий'!AC6153","v":"x"},{"$f":"'[13]Список изделий'!AD6153","v":0},{"$f":"'[13]Список изделий'!AE6153","v":0},{"$f":"'[13]Список изделий'!AF6153","v":"2018-02-25"},{"$f":"'[13]Список изделий'!AY6153","v":7},{"$f":"'[13]Список изделий'!AZ6153","v":"2018-02-19"},-10,-3,1,1,{"$f":"'[13]Список изделий'!BR6153","v":"\\\\SERVER\\Data1\\П\\Перекресток\\2018\\ОКЕЙ_Перекресток\\Планерная 25\\техничка\\76-Пилон-660х1600"},1]
[1051,{"$f":"'[13]Список изделий'!D4103","v":51},{"$f":"'[13]Список изделий'!E4103","v":0},{"$f":"'[13]Список изделий'!F4103","v":"имиджи на колонны"},{"$f":"'[13]Список изделий'!I4103","v":0},{"$f":"'[13]Список изделий'!X4103","v":0},{"$f":"'[13]Список изделий'!Y4103","v":0},{"$f":"'[13]Список изделий'!Z4103","v":0},{"$f":"'[13]Список изделий'!AA4103","v":0},{"$f":"'[13]Список изделий'!AB4103","v":0},{"$f":"'[13]Список изделий'!AC4103","v":"x"},{"$f":"'[13]Список изделий'!AD4103","v":0},{"$f":"'[13]Список изделий'!AE4103","v":0},{"$f":"'[13]Список изделий'!AF4103","v":"00:00:00"},{"$f":"'[13]Список изделий'!AY4103","v":0},{"$f":"'[13]Список изделий'!AZ4103","v":"00:00:00"},-43153,-43153,0,0,{"$f":"'[13]Список изделий'!BR4103","v":0},0]
[1077,{"$f":"'[13]Список изделий'!D6235","v":77},{"$f":"'[13]Список изделий'!E6235","v":"Пер-Планер-77"},{"$f":"'[13]Список изделий'!F6235","v":"Печать на бумаге для пилона (комплект из 2шт.)"},{"$f":"'[13]Список изделий'!I6235","v":1},{"$f":"'[13]Список изделий'!X6235","v":"ГМА"},{"$f":"'[13]Список изделий'!Y6235","v":"Микуло"},{"$f":"'[13]Список изделий'!Z6235","v":"Закурдаев"},{"$f":"'[13]Список изделий'!AA6235","v":"Замотаев"},{"$f":"'[13]Список изделий'!AB6235","v":0},{"$f":"'[13]Список изделий'!AC6235","v":"x"},{"$f":"'[13]Список изделий'!AD6235","v":0},{"$f":"'[13]Список изделий'!AE6235","v":0},{"$f":"'[13]Список изделий'!AF6235","v":"2018-02-25"},{"$f":"'[13]Список изделий'!AY6235","v":7},{"$f":"'[13]Список изделий'!AZ6235","v":"2018-02-19"},-10,-3,1,1,{"$f":"'[13]Список изделий'!BR6235","v":"\\\\SERVER\\Data1\\П\\Перекресток\\2018\\ОКЕЙ_Перекресток\\Планерная 25\\техничка\\77-Печать стикеров в пилон\\Сборка\\печать стикеров в пилон.cdr"},1]
[1053,{"$f":"'[13]Список изделий'!D4267","v":53},{"$f":"'[13]Список изделий'!E4267","v":0},{"$f":"'[13]Список изделий'!F4267","v":0},{"$f":"'[13]Список изделий'!I4267","v":0},{"$f":"'[13]Список изделий'!X4267","v":0},{"$f":"'[13]Список изделий'!Y4267","v":0},{"$f":"'[13]Список изделий'!Z4267","v":0},{"$f":"'[13]Список изделий'!AA4267","v":0},{"$f":"'[13]Список изделий'!AB4267","v":600},{"$f":"'[13]Список изделий'!AC4267","v":"x"},{"$f":"'[13]Список изделий'!AD4267","v":895},{"$f":"'[13]Список изделий'!AE4267","v":0},{"$f":"'[13]Список изделий'!AF4267","v":"00:00:00"},{"$f":"'[13]Список изделий'!AY4267","v":0},{"$f":"'[13]Список изделий'!AZ4267","v":"00:00:00"},-43153,-43153,0,0,{"$f":"'[13]Список изделий'!BR4267","v":0},0]
[1054,{"$f":"'[13]Список изделий'!D4349","v":54},{"$f":"'[13]Список изделий'!E4349","v":"Пер-Планер-54"},{"$f":"'[13]Список изделий'!F4349","v":"Стикер \"режим работ \" 24 часа"},{"$f":"'[13]Список изделий'!I4349","v":4},{"$f":"'[13]Список изделий'!X4349","v":"ГМА"},{"$f":"'[13]Список изделий'!Y4349","v":"Микуло"},{"$f":"'[13]Список изделий'!Z4349","v":"Закурдаев"},{"$f":"'[13]Список изделий'!AA4349","v":"Замотаев"},{"$f":"'[13]Список изделий'!AB4349","v":618},{"$f":"'[13]Список изделий'!AC4349","v":"x"},{"$f":"'[13]Список изделий'!AD4349","v":925},{"$f":"'[13]Список изделий'!AE4349","v":"мм"},{"$f":"'[13]Список изделий'!AF4349","v":"2018-02-25"},{"$f":"'[13]Список изделий'!AY4349","v":7},{"$f":"'[13]Список изделий'!AZ4349","v":"2018-02-19"},-10,-3,0.01,0.01,{"$f":"'[13]Список изделий'!BR4349","v":"\\\\SERVER\\Data1\\П\\Перекресток\\2018\\ОКЕЙ_Перекресток\\Планерная 25\\техничка\\54-стикер_Режим_работы\\Сборка\\Режим_работы-ТЗ.cdr"},0.01]
[1055,{"$f":"'[13]Список изделий'!D4431","v":55},{"$f":"'[13]Список изделий'!E4431","v":0},{"$f":"'[13]Список изделий'!F4431","v":"Табличка \"режим работы\" 24 часа"},{"$f":"'[13]Список изделий'!I4431","v":0},{"$f":"'[13]Список изделий'!X4431","v":0},{"$f":"'[13]Список изделий'!Y4431","v":0},{"$f":"'[13]Список изделий'!Z4431","v":0},{"$f":"'[13]Список изделий'!AA4431","v":0},{"$f":"'[13]Список изделий'!AB4431","v":0},{"$f":"'[13]Список изделий'!AC4431","v":"x"},{"$f":"'[13]Список изделий'!AD4431","v":0},{"$f":"'[13]Список изделий'!AE4431","v":"мм"},{"$f":"'[13]Список изделий'!AF4431","v":"00:00:00"},{"$f":"'[13]Список изделий'!AY4431","v":0},{"$f":"'[13]Список изделий'!AZ4431","v":"00:00:00"},-43153,-43153,0,0,{"$f":"'[13]Список изделий'!BR4431","v":0},0]
[156,{"$f":"'[3]Список изделий'!D4513","v":56},{"$f":"'[3]Список изделий'!E4513","v":"П-вы-Подвой56"},{"$f":"'[3]Список изделий'!F4513","v":"Вывеска Перекресток супермаркет 16000 х 1280мм"},{"$f":"'[3]Список изделий'!I4513","v":2},{"$f":"'[3]Список изделий'!X4513","v":0},{"$f":"'[3]Список изделий'!Y4513","v":"Топоров"},{"$f":"'[3]Список изделий'!Z4513","v":0},{"$f":"'[3]Список изделий'!AA4513","v":0},{"$f":"'[3]Список изделий'!AB4513","v":16000},{"$f":"'[3]Список изделий'!AC4513","v":"x"},{"$f":"'[3]Список изделий'!AD4513","v":1280},{"$f":"'[3]Список изделий'!AE4513","v":"мм"},{"$f":"'[3]Список изделий'!AF4513","v":"2018-02-21"},{"$f":"'[3]Список изделий'!AY4513","v":9},{"$f":"'[3]Список изделий'!AZ4513","v":"2018-02-20"},-11,-2,1,1,{"$f":"'[3]Список изделий'!BR4513","v":0},1]
[191,{"$f":"'[3]Список изделий'!D7383","v":91},{"$f":"'[3]Список изделий'!E7383","v":"Пят-Яр-Красн91"},{"$f":"'[3]Список изделий'!F7383","v":"Переделка Пятерочки полностью"},{"$f":"'[3]Список изделий'!I7383","v":1},{"$f":"'[3]Список изделий'!X7383","v":"Лимонченко"},{"$f":"'[3]Список изделий'!Y7383","v":"Топоров"},{"$f":"'[3]Список изделий'!Z7383","v":"Топоров"},{"$f":"'[3]Список изделий'!AA7383","v":"Замотаев"},{"$f":"'[3]Список изделий'!AB7383","v":0},{"$f":"'[3]Список изделий'!AC7383","v":"x"},{"$f":"'[3]Список изделий'!AD7383","v":0},{"$f":"'[3]Список изделий'!AE7383","v":0},{"$f":"'[3]Список изделий'!AF7383","v":"2018-03-10"},{"$f":"'[3]Список изделий'!AY7383","v":4},{"$f":"'[3]Список изделий'!AZ7383","v":"2018-03-08"},10,14,1,1,{"$f":"'[3]Список изделий'!BR7383","v":0},1]
[751,{"$f":"'[10]Список изделий'!D4103","v":51},{"$f":"'[10]Список изделий'!E4103","v":"51"},{"$f":"'[10]Список изделий'!F4103","v":"Изготовление вывески"},{"$f":"'[10]Список изделий'!I4103","v":1},{"$f":"'[10]Список изделий'!X4103","v":0},{"$f":"'[10]Список изделий'!Y4103","v":0},{"$f":"'[10]Список изделий'!Z4103","v":0},{"$f":"'[10]Список изделий'!AA4103","v":0},{"$f":"'[10]Список изделий'!AB4103","v":0},{"$f":"'[10]Список изделий'!AC4103","v":"x"},{"$f":"'[10]Список изделий'!AD4103","v":0},{"$f":"'[10]Список изделий'!AE4103","v":0},{"$f":"'[10]Список изделий'!AF4103","v":"00:00:00"},{"$f":"'[10]Список изделий'!AY4103","v":"нет в заказе"},{"$f":"'[10]Список изделий'!AZ4103","v":"нет в заказе"},"нет в заказе","нет взаказе",1,1,{"$f":"'[10]Список изделий'!BR4103","v":"\\\\SERVER\\Data1\\А\\Ассортимент\\2017\\Техничка\\Вывеска\\Вывеска.pdf"},1]
[1601,{"$f":"'[1]Список изделий'!D3","v":1},{"$f":"'[1]Список изделий'!E3","v":"Бород-Ромен-1"},{"$f":"'[1]Список изделий'!F3","v":"бэклит"},{"$f":"'[1]Список изделий'!I3","v":1},{"$f":"'[1]Список изделий'!X3","v":"Иванова"},{"$f":"'[1]Список изделий'!Y3","v":"Урека"},{"$f":"'[1]Список изделий'!Z3","v":"Жаворонков"},{"$f":"'[1]Список изделий'!AA3","v":"Балюк"},{"$f":"'[1]Список изделий'!AB3","v":1030},{"$f":"'[1]Список изделий'!AC3","v":"x"},{"$f":"'[1]Список изделий'!AD3","v":1530},{"$f":"'[1]Список изделий'!AE3","v":0},{"$f":"'[1]Список изделий'!AF3","v":"2018-02-21"},{"$f":"'[1]Список изделий'!AY3","v":1},{"$f":"'[1]Список изделий'!AZ3","v":"2018-02-20"},-3,-2,0,0,{"$f":"'[1]Список изделий'!BR3","v":0},0]
[1060,{"$f":"'[13]Список изделий'!D4841","v":60},{"$f":"'[13]Список изделий'!E4841","v":0},{"$f":"'[13]Список изделий'!F4841","v":" Фриз стеллажный объемный. Двухсторонний СУПЕРЦЕНА."},{"$f":"'[13]Список изделий'!I4841","v":0},{"$f":"'[13]Список изделий'!X4841","v":0},{"$f":"'[13]Список изделий'!Y4841","v":0},{"$f":"'[13]Список изделий'!Z4841","v":0},{"$f":"'[13]Список изделий'!AA4841","v":0},{"$f":"'[13]Список изделий'!AB4841","v":1700},{"$f":"'[13]Список изделий'!AC4841","v":"x"},{"$f":"'[13]Список изделий'!AD4841","v":400},{"$f":"'[13]Список изделий'!AE4841","v":"мм"},{"$f":"'[13]Список изделий'!AF4841","v":"00:00:00"},{"$f":"'[13]Список изделий'!AY4841","v":0},{"$f":"'[13]Список изделий'!AZ4841","v":"00:00:00"},-43153,-43153,0,0,{"$f":"'[13]Список изделий'!BR4841","v":0},0]
[1,{"$f":"'[2]Список изделий'!D3","v":1},{"$f":"'[2]Список изделий'!E3","v":"Перек-Грибо-1"},{"$f":"'[2]Список изделий'!F3","v":"Изготовление крышки буквы К в вывеске Перекресток"},{"$f":"'[2]Список изделий'!I3","v":1},{"$f":"'[2]Список изделий'!X3","v":0},{"$f":"'[2]Список изделий'!Y3","v":0},{"$f":"'[2]Список изделий'!Z3","v":0},{"$f":"'[2]Список изделий'!AA3","v":0},{"$f":"'[2]Список изделий'!AB3","v":0},{"$f":"'[2]Список изделий'!AC3","v":"x"},{"$f":"'[2]Список изделий'!AD3","v":0},{"$f":"'[2]Список изделий'!AE3","v":0},{"$f":"'[2]Список изделий'!AF3","v":"2018-02-22"},{"$f":"'[2]Список изделий'!AY3","v":1},{"$f":"'[2]Список изделий'!AZ3","v":"2018-02-21"},-2,-1,0,{"$f":"IF(C1063=0,0,V1063)","v":0},{"$f":"'[2]Список изделий'!BR3","v":"\\\\SERVER\\Data1\\П\\Перекресток\\2018\\Грибоедова 77\\техничка\\ремонт К и М\\Сборка"},0]
[1062,{"$f":"'[13]Список изделий'!D5005","v":62},{"$f":"'[13]Список изделий'!E5005","v":"Пер-Планер-62"},{"$f":"'[13]Список изделий'!F5005","v":"Боковины \"Бокалы\" на боковые части энда стеллажа"},{"$f":"'[13]Список изделий'!I5005","v":1},{"$f":"'[13]Список изделий'!X5005","v":"ГМА"},{"$f":"'[13]Список изделий'!Y5005","v":"Микуло"},{"$f":"'[13]Список изделий'!Z5005","v":"Закурдаев"},{"$f":"'[13]Список изделий'!AA5005","v":"Замотаев"},{"$f":"'[13]Список изделий'!AB5005","v":1200},{"$f":"'[13]Список изделий'!AC5005","v":"x"},{"$f":"'[13]Список изделий'!AD5005","v":1500},{"$f":"'[13]Список изделий'!AE5005","v":"мм"},{"$f":"'[13]Список изделий'!AF5005","v":"2018-02-25"},{"$f":"'[13]Список изделий'!AY5005","v":7},{"$f":"'[13]Список изделий'!AZ5005","v":"2018-02-19"},-10,-3,1,{"$f":"V1064","v":1},{"$f":"'[13]Список изделий'!BR5005","v":"\\\\SERVER\\Data1\\П\\Перекресток\\2018\\ОКЕЙ_Перекресток\\Планерная 25\\техничка\\62-боковины_БОКАЛЫ\\Сборка\\БОКАЛЫ-ТЗ.cdr"},1]
[2,{"$f":"'[2]Список изделий'!D4","v":2},{"$f":"'[2]Список изделий'!E4","v":"Перек-Грибо-2"},{"$f":"'[2]Список изделий'!F4","v":"Ремонт засветки в букве М в одной из вывесок на объекте Не горит буква частично"},{"$f":"'[2]Список изделий'!I4","v":1},{"$f":"'[2]Список изделий'!X4","v":0},{"$f":"'[2]Список изделий'!Y4","v":0},{"$f":"'[2]Список изделий'!Z4","v":0},{"$f":"'[2]Список изделий'!AA4","v":0},{"$f":"'[2]Список изделий'!AB4","v":0},{"$f":"'[2]Список изделий'!AC4","v":"x"},{"$f":"'[2]Список изделий'!AD4","v":0},{"$f":"'[2]Список изделий'!AE4","v":0},{"$f":"'[2]Список изделий'!AF4","v":"2018-02-22"},{"$f":"'[2]Список изделий'!AY4","v":1},{"$f":"'[2]Список изделий'!AZ4","v":"2018-02-21"},-2,-1,1,1,{"$f":"'[2]Список изделий'!BR4","v":0},1]
[1064,{"$f":"'[13]Список изделий'!D5169","v":64},{"$f":"'[13]Список изделий'!E5169","v":"Пер-Планер-64"},{"$f":"'[13]Список изделий'!F5169","v":"Оклейка витрин плоттерная резка (Паттерны)"},{"$f":"'[13]Список изделий'!I5169","v":1},{"$f":"'[13]Список изделий'!X5169","v":"ГМА"},{"$f":"'[13]Список изделий'!Y5169","v":"Микуло"},{"$f":"'[13]Список изделий'!Z5169","v":"Закурдаев"},{"$f":"'[13]Список изделий'!AA5169","v":"Замотаев"},{"$f":"'[13]Список изделий'!AB5169","v":0},{"$f":"'[13]Список изделий'!AC5169","v":"x"},{"$f":"'[13]Список изделий'!AD5169","v":0},{"$f":"'[13]Список изделий'!AE5169","v":"мм"},{"$f":"'[13]Список изделий'!AF5169","v":"2018-02-25"},{"$f":"'[13]Список изделий'!AY5169","v":7},{"$f":"'[13]Список изделий'!AZ5169","v":"2018-02-19"},-10,-3,1,1,{"$f":"'[13]Список изделий'!BR5169","v":"\\\\SERVER\\Data1\\П\\Перекресток\\2018\\ОКЕЙ_Перекресток\\Планерная 25\\техничка\\64-оклейка_витрин-ПАТТЕРН\\сборка\\оклейка_витрин-ПАТТЕРН.cdr"},1]
[1065,{"$f":"'[13]Список изделий'!D5251","v":65},{"$f":"'[13]Список изделий'!E5251","v":0},{"$f":"'[13]Список изделий'!F5251","v":"Для витрин конструкция \"Суперцена\" 2хст. (из двух односторонних)"},{"$f":"'[13]Список изделий'!I5251","v":0},{"$f":"'[13]Список изделий'!X5251","v":0},{"$f":"'[13]Список изделий'!Y5251","v":0},{"$f":"'[13]Список изделий'!Z5251","v":0},{"$f":"'[13]Список изделий'!AA5251","v":0},{"$f":"'[13]Список изделий'!AB5251","v":0},{"$f":"'[13]Список изделий'!AC5251","v":"x"},{"$f":"'[13]Список изделий'!AD5251","v":0},{"$f":"'[13]Список изделий'!AE5251","v":0},{"$f":"'[13]Список изделий'!AF5251","v":"00:00:00"},{"$f":"'[13]Список изделий'!AY5251","v":0},{"$f":"'[13]Список изделий'!AZ5251","v":"00:00:00"},-43153,-43153,0,0,{"$f":"'[13]Список изделий'!BR5251","v":0},0]
[1066,{"$f":"'[13]Список изделий'!D5333","v":66},{"$f":"'[13]Список изделий'!E5333","v":0},{"$f":"'[13]Список изделий'!F5333","v":"Оформление витрин имиджи двухсторонние"},{"$f":"'[13]Список изделий'!I5333","v":0},{"$f":"'[13]Список изделий'!X5333","v":0},{"$f":"'[13]Список изделий'!Y5333","v":0},{"$f":"'[13]Список изделий'!Z5333","v":0},{"$f":"'[13]Список изделий'!AA5333","v":0},{"$f":"'[13]Список изделий'!AB5333","v":2800},{"$f":"'[13]Список изделий'!AC5333","v":"x"},{"$f":"'[13]Список изделий'!AD5333","v":1000},{"$f":"'[13]Список изделий'!AE5333","v":"мм"},{"$f":"'[13]Список изделий'!AF5333","v":"00:00:00"},{"$f":"'[13]Список изделий'!AY5333","v":0},{"$f":"'[13]Список изделий'!AZ5333","v":"00:00:00"},-43153,-43153,0,0,{"$f":"'[13]Список изделий'!BR5333","v":0},0]
[1067,{"$f":"'[13]Список изделий'!D5415","v":67},{"$f":"'[13]Список изделий'!E5415","v":0},{"$f":"'[13]Список изделий'!F5415","v":"Фриз стеллажный \"Шапка\" - Восточные сладости (комплект из 3х частей)"},{"$f":"'[13]Список изделий'!I5415","v":0},{"$f":"'[13]Список изделий'!X5415","v":0},{"$f":"'[13]Список изделий'!Y5415","v":0},{"$f":"'[13]Список изделий'!Z5415","v":0},{"$f":"'[13]Список изделий'!AA5415","v":0},{"$f":"'[13]Список изделий'!AB5415","v":0},{"$f":"'[13]Список изделий'!AC5415","v":"x"},{"$f":"'[13]Список изделий'!AD5415","v":0},{"$f":"'[13]Список изделий'!AE5415","v":0},{"$f":"'[13]Список изделий'!AF5415","v":"00:00:00"},{"$f":"'[13]Список изделий'!AY5415","v":0},{"$f":"'[13]Список изделий'!AZ5415","v":"00:00:00"},-43153,-43153,0,0,{"$f":"'[13]Список изделий'!BR5415","v":0},0]
[1068,{"$f":"'[13]Список изделий'!D5497","v":68},{"$f":"'[13]Список изделий'!E5497","v":"Пер-Планер-68"},{"$f":"'[13]Список изделий'!F5497","v":"Оформлениие Фермерского Уголка"},{"$f":"'[13]Список изделий'!I5497","v":1},{"$f":"'[13]Список изделий'!X5497","v":"ГМА"},{"$f":"'[13]Список изделий'!Y5497","v":"Микуло"},{"$f":"'[13]Список изделий'!Z5497","v":"Закурдаев"},{"$f":"'[13]Список изделий'!AA5497","v":"Замотаев"},{"$f":"'[13]Список изделий'!AB5497","v":0},{"$f":"'[13]Список изделий'!AC5497","v":"x"},{"$f":"'[13]Список изделий'!AD5497","v":0},{"$f":"'[13]Список изделий'!AE5497","v":0},{"$f":"'[13]Список изделий'!AF5497","v":"2018-02-25"},{"$f":"'[13]Список изделий'!AY5497","v":7},{"$f":"'[13]Список изделий'!AZ5497","v":"2018-02-19"},-10,-3,1,1,{"$f":"'[13]Список изделий'!BR5497","v":"\\\\SERVER\\Data1\\П\\Перекресток\\2018\\ОКЕЙ_Перекресток\\Планерная 25\\техничка\\68-Фермерский_уголок\\Сборка\\фермерский_уголок-сборка.cdr"},1]
[1069,{"$f":"'[13]Список изделий'!D5579","v":69},{"$f":"'[13]Список изделий'!E5579","v":0},{"$f":"'[13]Список изделий'!F5579","v":"Фриз стеллажный \"Шапка\" - Наша марка (разная комплектащия)"},{"$f":"'[13]Список изделий'!I5579","v":0},{"$f":"'[13]Список изделий'!X5579","v":0},{"$f":"'[13]Список изделий'!Y5579","v":0},{"$f":"'[13]Список изделий'!Z5579","v":0},{"$f":"'[13]Список изделий'!AA5579","v":0},{"$f":"'[13]Список изделий'!AB5579","v":2000},{"$f":"'[13]Список изделий'!AC5579","v":"x"},{"$f":"'[13]Список изделий'!AD5579","v":1000},{"$f":"'[13]Список изделий'!AE5579","v":"мм"},{"$f":"'[13]Список изделий'!AF5579","v":"00:00:00"},{"$f":"'[13]Список изделий'!AY5579","v":0},{"$f":"'[13]Список изделий'!AZ5579","v":"00:00:00"},-43153,-43153,0,0,{"$f":"'[13]Список изделий'!BR5579","v":0},0]
[1070,{"$f":"'[13]Список изделий'!D5661","v":70},{"$f":"'[13]Список изделий'!E5661","v":0},{"$f":"'[13]Список изделий'!F5661","v":"Подвес 2хст. В Bistro \"Перекуси в Перекрестке\""},{"$f":"'[13]Список изделий'!I5661","v":0},{"$f":"'[13]Список изделий'!X5661","v":0},{"$f":"'[13]Список изделий'!Y5661","v":0},{"$f":"'[13]Список изделий'!Z5661","v":0},{"$f":"'[13]Список изделий'!AA5661","v":0},{"$f":"'[13]Список изделий'!AB5661","v":1000},{"$f":"'[13]Список изделий'!AC5661","v":"x"},{"$f":"'[13]Список изделий'!AD5661","v":1000},{"$f":"'[13]Список изделий'!AE5661","v":"мм"},{"$f":"'[13]Список изделий'!AF5661","v":"00:00:00"},{"$f":"'[13]Список изделий'!AY5661","v":0},{"$f":"'[13]Список изделий'!AZ5661","v":"00:00:00"},-43153,-43153,0,0,{"$f":"'[13]Список изделий'!BR5661","v":0},0]
[6,{"$f":"'[2]Список изделий'!D8","v":6},{"$f":"'[2]Список изделий'!E8","v":"Феден-Химич-6"},{"$f":"'[2]Список изделий'!F8","v":"Изготовление и монтаж баннера 1600х20000мм"},{"$f":"'[2]Список изделий'!I8","v":1},{"$f":"'[2]Список изделий'!X8","v":0},{"$f":"'[2]Список изделий'!Y8","v":0},{"$f":"'[2]Список изделий'!Z8","v":0},{"$f":"'[2]Список изделий'!AA8","v":0},{"$f":"'[2]Список изделий'!AB8","v":1600},{"$f":"'[2]Список изделий'!AC8","v":"x"},{"$f":"'[2]Список изделий'!AD8","v":20000},{"$f":"'[2]Список изделий'!AE8","v":"мм"},{"$f":"'[2]Список изделий'!AF8","v":"2018-02-27"},{"$f":"'[2]Список изделий'!AY8","v":1},{"$f":"'[2]Список изделий'!AZ8","v":"2018-02-26"},3,4,null,0,{"$f":"'[2]Список изделий'!BR8","v":"\\\\ava\\Data\\А - И\\Г\\Гулливер\\2018\\проект\\баннер печать.cdr"},0]
[1072,{"$f":"'[13]Список изделий'!D5825","v":72},{"$f":"'[13]Список изделий'!E5825","v":0},{"$f":"'[13]Список изделий'!F5825","v":0},{"$f":"'[13]Список изделий'!I5825","v":0},{"$f":"'[13]Список изделий'!X5825","v":0},{"$f":"'[13]Список изделий'!Y5825","v":0},{"$f":"'[13]Список изделий'!Z5825","v":0},{"$f":"'[13]Список изделий'!AA5825","v":0},{"$f":"'[13]Список изделий'!AB5825","v":660},{"$f":"'[13]Список изделий'!AC5825","v":"x"},{"$f":"'[13]Список изделий'!AD5825","v":1500},{"$f":"'[13]Список изделий'!AE5825","v":"мм"},{"$f":"'[13]Список изделий'!AF5825","v":"00:00:00"},{"$f":"'[13]Список изделий'!AY5825","v":0},{"$f":"'[13]Список изделий'!AZ5825","v":"00:00:00"},-43153,-43153,0,0,{"$f":"'[13]Список изделий'!BR5825","v":0},0]
[1073,{"$f":"'[13]Список изделий'!D5907","v":73},{"$f":"'[13]Список изделий'!E5907","v":"Пер-Планер-73"},{"$f":"'[13]Список изделий'!F5907","v":"Оформление сено"},{"$f":"'[13]Список изделий'!I5907","v":1},{"$f":"'[13]Список изделий'!X5907","v":"ГМА"},{"$f":"'[13]Список изделий'!Y5907","v":"Микуло"},{"$f":"'[13]Список изделий'!Z5907","v":"Закурдаев"},{"$f":"'[13]Список изделий'!AA5907","v":"Замотаев"},{"$f":"'[13]Список изделий'!AB5907","v":643},{"$f":"'[13]Список изделий'!AC5907","v":"x"},{"$f":"'[13]Список изделий'!AD5907","v":1485},{"$f":"'[13]Список изделий'!AE5907","v":0},{"$f":"'[13]Список изделий'!AF5907","v":"2018-02-22"},{"$f":"'[13]Список изделий'!AY5907","v":7},{"$f":"'[13]Список изделий'!AZ5907","v":"2018-02-16"},-13,-6,1,1,{"$f":"'[13]Список изделий'!BR5907","v":"\\\\SERVER\\Data1\\П\\Перекресток\\2018\\ОКЕЙ_Перекресток\\Планерная 25\\техничка\\73-Оформление сено\\Сборка\\Солома_в_холодильник.cdr"},1]
[1074,{"$f":"'[13]Список изделий'!D5989","v":74},{"$f":"'[13]Список изделий'!E5989","v":0},{"$f":"'[13]Список изделий'!F5989","v":0},{"$f":"'[13]Список изделий'!I5989","v":0},{"$f":"'[13]Список изделий'!X5989","v":0},{"$f":"'[13]Список изделий'!Y5989","v":0},{"$f":"'[13]Список изделий'!Z5989","v":0},{"$f":"'[13]Список изделий'!AA5989","v":0},{"$f":"'[13]Список изделий'!AB5989","v":0},{"$f":"'[13]Список изделий'!AC5989","v":"x"},{"$f":"'[13]Список изделий'!AD5989","v":0},{"$f":"'[13]Список изделий'!AE5989","v":0},{"$f":"'[13]Список изделий'!AF5989","v":"00:00:00"},{"$f":"'[13]Список изделий'!AY5989","v":0},{"$f":"'[13]Список изделий'!AZ5989","v":"00:00:00"},-43153,-43153,0,0,{"$f":"'[13]Список изделий'!BR5989","v":0},0]
[1075,{"$f":"'[13]Список изделий'!D6071","v":75},{"$f":"'[13]Список изделий'!E6071","v":0},{"$f":"'[13]Список изделий'!F6071","v":0},{"$f":"'[13]Список изделий'!I6071","v":0},{"$f":"'[13]Список изделий'!X6071","v":0},{"$f":"'[13]Список изделий'!Y6071","v":0},{"$f":"'[13]Список изделий'!Z6071","v":0},{"$f":"'[13]Список изделий'!AA6071","v":0},{"$f":"'[13]Список изделий'!AB6071","v":0},{"$f":"'[13]Список изделий'!AC6071","v":"x"},{"$f":"'[13]Список изделий'!AD6071","v":0},{"$f":"'[13]Список изделий'!AE6071","v":0},{"$f":"'[13]Список изделий'!AF6071","v":"00:00:00"},{"$f":"'[13]Список изделий'!AY6071","v":0},{"$f":"'[13]Список изделий'!AZ6071","v":"00:00:00"},-43153,-43153,0,0,{"$f":"'[13]Список изделий'!BR6071","v":0},0]
[12,{"$f":"'[2]Список изделий'!D13","v":11},{"$f":"'[2]Список изделий'!E13","v":"Шильд-Замет-11"},{"$f":"'[2]Список изделий'!F13","v":"Изготовление пробного образца шильды"},{"$f":"'[2]Список изделий'!I13","v":2},{"$f":"'[2]Список изделий'!X13","v":"ДА"},{"$f":"'[2]Список изделий'!Y13","v":"Семаков"},{"$f":"'[2]Список изделий'!Z13","v":"Каюк"},{"$f":"'[2]Список изделий'!AA13","v":"Семаков"},{"$f":"'[2]Список изделий'!AB13","v":0},{"$f":"'[2]Список изделий'!AC13","v":"x"},{"$f":"'[2]Список изделий'!AD13","v":0},{"$f":"'[2]Список изделий'!AE13","v":0},{"$f":"'[2]Список изделий'!AF13","v":"2018-02-22"},{"$f":"'[2]Список изделий'!AY13","v":1},{"$f":"'[2]Список изделий'!AZ13","v":"2018-02-21"},-2,-1,0,0,{"$f":"'[2]Список изделий'!BR13","v":0},0]
[181,{"$f":"'[3]Список изделий'!D6563","v":81},{"$f":"'[3]Список изделий'!E6563","v":"Пятер-Торжо-81"},{"$f":"'[3]Список изделий'!F6563","v":"Переделка Пятерочки полностью"},{"$f":"'[3]Список изделий'!I6563","v":1},{"$f":"'[3]Список изделий'!X6563","v":"Лимонченко"},{"$f":"'[3]Список изделий'!Y6563","v":"Топоров"},{"$f":"'[3]Список изделий'!Z6563","v":"Топоров"},{"$f":"'[3]Список изделий'!AA6563","v":"Замотаев"},{"$f":"'[3]Список изделий'!AB6563","v":0},{"$f":"'[3]Список изделий'!AC6563","v":"x"},{"$f":"'[3]Список изделий'!AD6563","v":0},{"$f":"'[3]Список изделий'!AE6563","v":0},{"$f":"'[3]Список изделий'!AF6563","v":"2018-03-10"},{"$f":"'[3]Список изделий'!AY6563","v":4},{"$f":"'[3]Список изделий'!AZ6563","v":"2018-03-08"},10,14,1,1,{"$f":"'[3]Список изделий'!BR6563","v":0},1]
[1078,{"$f":"'[13]Список изделий'!D6317","v":78},{"$f":"'[13]Список изделий'!E6317","v":0},{"$f":"'[13]Список изделий'!F6317","v":0},{"$f":"'[13]Список изделий'!I6317","v":0},{"$f":"'[13]Список изделий'!X6317","v":0},{"$f":"'[13]Список изделий'!Y6317","v":0},{"$f":"'[13]Список изделий'!Z6317","v":0},{"$f":"'[13]Список изделий'!AA6317","v":0},{"$f":"'[13]Список изделий'!AB6317","v":0},{"$f":"'[13]Список изделий'!AC6317","v":"x"},{"$f":"'[13]Список изделий'!AD6317","v":0},{"$f":"'[13]Список изделий'!AE6317","v":0},{"$f":"'[13]Список изделий'!AF6317","v":"00:00:00"},{"$f":"'[13]Список изделий'!AY6317","v":0},{"$f":"'[13]Список изделий'!AZ6317","v":"00:00:00"},-43153,-43153,0,0,{"$f":"'[13]Список изделий'!BR6317","v":0},0]
[1079,{"$f":"'[13]Список изделий'!D6399","v":79},{"$f":"'[13]Список изделий'!E6399","v":0},{"$f":"'[13]Список изделий'!F6399","v":0},{"$f":"'[13]Список изделий'!I6399","v":0},{"$f":"'[13]Список изделий'!X6399","v":0},{"$f":"'[13]Список изделий'!Y6399","v":0},{"$f":"'[13]Список изделий'!Z6399","v":0},{"$f":"'[13]Список изделий'!AA6399","v":0},{"$f":"'[13]Список изделий'!AB6399","v":0},{"$f":"'[13]Список изделий'!AC6399","v":"x"},{"$f":"'[13]Список изделий'!AD6399","v":0},{"$f":"'[13]Список изделий'!AE6399","v":0},{"$f":"'[13]Список изделий'!AF6399","v":"00:00:00"},{"$f":"'[13]Список изделий'!AY6399","v":0},{"$f":"'[13]Список изделий'!AZ6399","v":"00:00:00"},-43153,-43153,0,0,{"$f":"'[13]Список изделий'!BR6399","v":0},0]
[1080,{"$f":"'[13]Список изделий'!D6481","v":80},{"$f":"'[13]Список изделий'!E6481","v":0},{"$f":"'[13]Список изделий'!F6481","v":0},{"$f":"'[13]Список изделий'!I6481","v":0},{"$f":"'[13]Список изделий'!X6481","v":0},{"$f":"'[13]Список изделий'!Y6481","v":0},{"$f":"'[13]Список изделий'!Z6481","v":0},{"$f":"'[13]Список изделий'!AA6481","v":0},{"$f":"'[13]Список изделий'!AB6481","v":0},{"$f":"'[13]Список изделий'!AC6481","v":"x"},{"$f":"'[13]Список изделий'!AD6481","v":0},{"$f":"'[13]Список изделий'!AE6481","v":0},{"$f":"'[13]Список изделий'!AF6481","v":"00:00:00"},{"$f":"'[13]Список изделий'!AY6481","v":0},{"$f":"'[13]Список изделий'!AZ6481","v":"00:00:00"},-43153,-43153,0,0,{"$f":"'[13]Список изделий'!BR6481","v":0},0]
[1081,{"$f":"'[13]Список изделий'!D6563","v":81},{"$f":"'[13]Список изделий'!E6563","v":0},{"$f":"'[13]Список изделий'!F6563","v":0},{"$f":"'[13]Список изделий'!I6563","v":0},{"$f":"'[13]Список изделий'!X6563","v":0},{"$f":"'[13]Список изделий'!Y6563","v":0},{"$f":"'[13]Список изделий'!Z6563","v":0},{"$f":"'[13]Список изделий'!AA6563","v":0},{"$f":"'[13]Список изделий'!AB6563","v":0},{"$f":"'[13]Список изделий'!AC6563","v":"x"},{"$f":"'[13]Список изделий'!AD6563","v":0},{"$f":"'[13]Список изделий'!AE6563","v":0},{"$f":"'[13]Список изделий'!AF6563","v":"00:00:00"},{"$f":"'[13]Список изделий'!AY6563","v":0},{"$f":"'[13]Список изделий'!AZ6563","v":"00:00:00"},-43153,-43153,0,0,{"$f":"'[13]Список изделий'!BR6563","v":0},0]
[1082,{"$f":"'[13]Список изделий'!D6645","v":82},{"$f":"'[13]Список изделий'!E6645","v":0},{"$f":"'[13]Список изделий'!F6645","v":0},{"$f":"'[13]Список изделий'!I6645","v":0},{"$f":"'[13]Список изделий'!X6645","v":0},{"$f":"'[13]Список изделий'!Y6645","v":0},{"$f":"'[13]Список изделий'!Z6645","v":0},{"$f":"'[13]Список изделий'!AA6645","v":0},{"$f":"'[13]Список изделий'!AB6645","v":0},{"$f":"'[13]Список изделий'!AC6645","v":"x"},{"$f":"'[13]Список изделий'!AD6645","v":0},{"$f":"'[13]Список изделий'!AE6645","v":0},{"$f":"'[13]Список изделий'!AF6645","v":"00:00:00"},{"$f":"'[13]Список изделий'!AY6645","v":0},{"$f":"'[13]Список изделий'!AZ6645","v":"00:00:00"},-43153,-43153,0,0,{"$f":"'[13]Список изделий'!BR6645","v":0},0]
[1083,{"$f":"'[13]Список изделий'!D6727","v":83},{"$f":"'[13]Список изделий'!E6727","v":0},{"$f":"'[13]Список изделий'!F6727","v":0},{"$f":"'[13]Список изделий'!I6727","v":0},{"$f":"'[13]Список изделий'!X6727","v":0},{"$f":"'[13]Список изделий'!Y6727","v":0},{"$f":"'[13]Список изделий'!Z6727","v":0},{"$f":"'[13]Список изделий'!AA6727","v":0},{"$f":"'[13]Список изделий'!AB6727","v":0},{"$f":"'[13]Список изделий'!AC6727","v":"x"},{"$f":"'[13]Список изделий'!AD6727","v":0},{"$f":"'[13]Список изделий'!AE6727","v":0},{"$f":"'[13]Список изделий'!AF6727","v":"00:00:00"},{"$f":"'[13]Список изделий'!AY6727","v":0},{"$f":"'[13]Список изделий'!AZ6727","v":"00:00:00"},-43153,-43153,0,0,{"$f":"'[13]Список изделий'!BR6727","v":0},0]
[1084,{"$f":"'[13]Список изделий'!D6809","v":84},{"$f":"'[13]Список изделий'!E6809","v":0},{"$f":"'[13]Список изделий'!F6809","v":0},{"$f":"'[13]Список изделий'!I6809","v":0},{"$f":"'[13]Список изделий'!X6809","v":0},{"$f":"'[13]Список изделий'!Y6809","v":0},{"$f":"'[13]Список изделий'!Z6809","v":0},{"$f":"'[13]Список изделий'!AA6809","v":0},{"$f":"'[13]Список изделий'!AB6809","v":0},{"$f":"'[13]Список изделий'!AC6809","v":"x"},{"$f":"'[13]Список изделий'!AD6809","v":0},{"$f":"'[13]Список изделий'!AE6809","v":0},{"$f":"'[13]Список изделий'!AF6809","v":"00:00:00"},{"$f":"'[13]Список изделий'!AY6809","v":0},{"$f":"'[13]Список изделий'!AZ6809","v":"00:00:00"},-43153,-43153,0,0,{"$f":"'[13]Список изделий'!BR6809","v":0},0]
[1085,{"$f":"'[13]Список изделий'!D6891","v":85},{"$f":"'[13]Список изделий'!E6891","v":"Пер-Планер-85"},{"$f":"'[13]Список изделий'!F6891","v":"Указатели входа"},{"$f":"'[13]Список изделий'!I6891","v":1},{"$f":"'[13]Список изделий'!X6891","v":"ГМА"},{"$f":"'[13]Список изделий'!Y6891","v":"Микуло"},{"$f":"'[13]Список изделий'!Z6891","v":"Закурдаев"},{"$f":"'[13]Список изделий'!AA6891","v":"Замотаев"},{"$f":"'[13]Список изделий'!AB6891","v":0},{"$f":"'[13]Список изделий'!AC6891","v":"x"},{"$f":"'[13]Список изделий'!AD6891","v":0},{"$f":"'[13]Список изделий'!AE6891","v":0},{"$f":"'[13]Список изделий'!AF6891","v":"2018-02-25"},{"$f":"'[13]Список изделий'!AY6891","v":7},{"$f":"'[13]Список изделий'!AZ6891","v":"2018-02-19"},-10,-3,0.01,0.01,{"$f":"'[13]Список изделий'!BR6891","v":"\\\\SERVER\\Data1\\П\\Перекресток\\2018\\ОКЕЙ_Перекресток\\Планерная 25\\техничка\\85-подвес-указатель-Перекресток+кассы\\Сборка\\Кассы_1400х350-сборка.cdr"},0.01]
[1086,{"$f":"'[13]Список изделий'!D6973","v":86},{"$f":"'[13]Список изделий'!E6973","v":0},{"$f":"'[13]Список изделий'!F6973","v":0},{"$f":"'[13]Список изделий'!I6973","v":0},{"$f":"'[13]Список изделий'!X6973","v":0},{"$f":"'[13]Список изделий'!Y6973","v":0},{"$f":"'[13]Список изделий'!Z6973","v":0},{"$f":"'[13]Список изделий'!AA6973","v":0},{"$f":"'[13]Список изделий'!AB6973","v":0},{"$f":"'[13]Список изделий'!AC6973","v":"x"},{"$f":"'[13]Список изделий'!AD6973","v":0},{"$f":"'[13]Список изделий'!AE6973","v":0},{"$f":"'[13]Список изделий'!AF6973","v":"00:00:00"},{"$f":"'[13]Список изделий'!AY6973","v":0},{"$f":"'[13]Список изделий'!AZ6973","v":"00:00:00"},-43153,-43153,0,0,{"$f":"'[13]Список изделий'!BR6973","v":0},0]
[1087,{"$f":"'[13]Список изделий'!D7055","v":87},{"$f":"'[13]Список изделий'!E7055","v":0},{"$f":"'[13]Список изделий'!F7055","v":0},{"$f":"'[13]Список изделий'!I7055","v":0},{"$f":"'[13]Список изделий'!X7055","v":0},{"$f":"'[13]Список изделий'!Y7055","v":0},{"$f":"'[13]Список изделий'!Z7055","v":0},{"$f":"'[13]Список изделий'!AA7055","v":0},{"$f":"'[13]Список изделий'!AB7055","v":0},{"$f":"'[13]Список изделий'!AC7055","v":"x"},{"$f":"'[13]Список изделий'!AD7055","v":0},{"$f":"'[13]Список изделий'!AE7055","v":0},{"$f":"'[13]Список изделий'!AF7055","v":"00:00:00"},{"$f":"'[13]Список изделий'!AY7055","v":0},{"$f":"'[13]Список изделий'!AZ7055","v":"00:00:00"},-43153,-43153,0,0,{"$f":"'[13]Список изделий'!BR7055","v":0},0]
[1088,{"$f":"'[13]Список изделий'!D7137","v":88},{"$f":"'[13]Список изделий'!E7137","v":0},{"$f":"'[13]Список изделий'!F7137","v":0},{"$f":"'[13]Список изделий'!I7137","v":0},{"$f":"'[13]Список изделий'!X7137","v":0},{"$f":"'[13]Список изделий'!Y7137","v":0},{"$f":"'[13]Список изделий'!Z7137","v":0},{"$f":"'[13]Список изделий'!AA7137","v":0},{"$f":"'[13]Список изделий'!AB7137","v":0},{"$f":"'[13]Список изделий'!AC7137","v":"x"},{"$f":"'[13]Список изделий'!AD7137","v":0},{"$f":"'[13]Список изделий'!AE7137","v":0},{"$f":"'[13]Список изделий'!AF7137","v":"00:00:00"},{"$f":"'[13]Список изделий'!AY7137","v":0},{"$f":"'[13]Список изделий'!AZ7137","v":"00:00:00"},-43153,-43153,0,0,{"$f":"'[13]Список изделий'!BR7137","v":0},0]
[1089,{"$f":"'[13]Список изделий'!D7219","v":89},{"$f":"'[13]Список изделий'!E7219","v":0},{"$f":"'[13]Список изделий'!F7219","v":0},{"$f":"'[13]Список изделий'!I7219","v":0},{"$f":"'[13]Список изделий'!X7219","v":0},{"$f":"'[13]Список изделий'!Y7219","v":0},{"$f":"'[13]Список изделий'!Z7219","v":0},{"$f":"'[13]Список изделий'!AA7219","v":0},{"$f":"'[13]Список изделий'!AB7219","v":0},{"$f":"'[13]Список изделий'!AC7219","v":"x"},{"$f":"'[13]Список изделий'!AD7219","v":0},{"$f":"'[13]Список изделий'!AE7219","v":0},{"$f":"'[13]Список изделий'!AF7219","v":"00:00:00"},{"$f":"'[13]Список изделий'!AY7219","v":0},{"$f":"'[13]Список изделий'!AZ7219","v":"00:00:00"},-43153,-43153,0,0,{"$f":"'[13]Список изделий'!BR7219","v":0},0]
[1090,{"$f":"'[13]Список изделий'!D7301","v":90},{"$f":"'[13]Список изделий'!E7301","v":0},{"$f":"'[13]Список изделий'!F7301","v":0},{"$f":"'[13]Список изделий'!I7301","v":0},{"$f":"'[13]Список изделий'!X7301","v":0},{"$f":"'[13]Список изделий'!Y7301","v":0},{"$f":"'[13]Список изделий'!Z7301","v":0},{"$f":"'[13]Список изделий'!AA7301","v":0},{"$f":"'[13]Список изделий'!AB7301","v":0},{"$f":"'[13]Список изделий'!AC7301","v":"x"},{"$f":"'[13]Список изделий'!AD7301","v":0},{"$f":"'[13]Список изделий'!AE7301","v":0},{"$f":"'[13]Список изделий'!AF7301","v":"00:00:00"},{"$f":"'[13]Список изделий'!AY7301","v":0},{"$f":"'[13]Список изделий'!AZ7301","v":"00:00:00"},{"$f":"IF(O1092=\"нет в заказе\",\"нет в заказе\",-(TODAY()-(P1092-O1092)))","v":-43153},{"$f":"IF(Q1092=\"нет в заказе\",\"нет взаказе\",-(IF(O1092=\"нет в заказе\",\"нет в заказе\",TODAY()-P1092)))","v":-43153},0,0,{"$f":"'[13]Список изделий'!BR7301","v":0},{"$f":"IF(S1092>=0,S1092,IF(T1092>S1092,T1092,S1092))","v":0}]
[1091,{"$f":"'[13]Список изделий'!D7383","v":91},{"$f":"'[13]Список изделий'!E7383","v":0},{"$f":"'[13]Список изделий'!F7383","v":0},{"$f":"'[13]Список изделий'!I7383","v":0},{"$f":"'[13]Список изделий'!X7383","v":0},{"$f":"'[13]Список изделий'!Y7383","v":0},{"$f":"'[13]Список изделий'!Z7383","v":0},{"$f":"'[13]Список изделий'!AA7383","v":0},{"$f":"'[13]Список изделий'!AB7383","v":0},{"$f":"'[13]Список изделий'!AC7383","v":"x"},{"$f":"'[13]Список изделий'!AD7383","v":0},{"$f":"'[13]Список изделий'!AE7383","v":0},{"$f":"'[13]Список изделий'!AF7383","v":"00:00:00"},{"$f":"'[13]Список изделий'!AY7383","v":0},{"$f":"'[13]Список изделий'!AZ7383","v":"00:00:00"},-43153,-43153,0,0,{"$f":"'[13]Список изделий'!BR7383","v":0},0]
[1092,{"$f":"'[13]Список изделий'!D7465","v":92},{"$f":"'[13]Список изделий'!E7465","v":0},{"$f":"'[13]Список изделий'!F7465","v":0},{"$f":"'[13]Список изделий'!I7465","v":0},{"$f":"'[13]Список изделий'!X7465","v":0},{"$f":"'[13]Список изделий'!Y7465","v":0},{"$f":"'[13]Список изделий'!Z7465","v":0},{"$f":"'[13]Список изделий'!AA7465","v":0},{"$f":"'[13]Список изделий'!AB7465","v":0},{"$f":"'[13]Список изделий'!AC7465","v":"x"},{"$f":"'[13]Список изделий'!AD7465","v":0},{"$f":"'[13]Список изделий'!AE7465","v":0},{"$f":"'[13]Список изделий'!AF7465","v":"00:00:00"},{"$f":"'[13]Список изделий'!AY7465","v":0},{"$f":"'[13]Список изделий'!AZ7465","v":"00:00:00"},-43153,-43153,0,0,{"$f":"'[13]Список изделий'!BR7465","v":0},0]
[1093,{"$f":"'[13]Список изделий'!D7547","v":93},{"$f":"'[13]Список изделий'!E7547","v":0},{"$f":"'[13]Список изделий'!F7547","v":0},{"$f":"'[13]Список изделий'!I7547","v":0},{"$f":"'[13]Список изделий'!X7547","v":0},{"$f":"'[13]Список изделий'!Y7547","v":0},{"$f":"'[13]Список изделий'!Z7547","v":0},{"$f":"'[13]Список изделий'!AA7547","v":0},{"$f":"'[13]Список изделий'!AB7547","v":0},{"$f":"'[13]Список изделий'!AC7547","v":"x"},{"$f":"'[13]Список изделий'!AD7547","v":0},{"$f":"'[13]Список изделий'!AE7547","v":0},{"$f":"'[13]Список изделий'!AF7547","v":"00:00:00"},{"$f":"'[13]Список изделий'!AY7547","v":0},{"$f":"'[13]Список изделий'!AZ7547","v":"00:00:00"},-43153,-43153,0,0,{"$f":"'[13]Список изделий'!BR7547","v":0},0]
[1094,{"$f":"'[13]Список изделий'!D7629","v":94},{"$f":"'[13]Список изделий'!E7629","v":0},{"$f":"'[13]Список изделий'!F7629","v":0},{"$f":"'[13]Список изделий'!I7629","v":0},{"$f":"'[13]Список изделий'!X7629","v":0},{"$f":"'[13]Список изделий'!Y7629","v":0},{"$f":"'[13]Список изделий'!Z7629","v":0},{"$f":"'[13]Список изделий'!AA7629","v":0},{"$f":"'[13]Список изделий'!AB7629","v":0},{"$f":"'[13]Список изделий'!AC7629","v":"x"},{"$f":"'[13]Список изделий'!AD7629","v":0},{"$f":"'[13]Список изделий'!AE7629","v":0},{"$f":"'[13]Список изделий'!AF7629","v":"00:00:00"},{"$f":"'[13]Список изделий'!AY7629","v":0},{"$f":"'[13]Список изделий'!AZ7629","v":"00:00:00"},-43153,-43153,0,0,{"$f":"'[13]Список изделий'!BR7629","v":0},0]
[1095,{"$f":"'[13]Список изделий'!D7711","v":95},{"$f":"'[13]Список изделий'!E7711","v":0},{"$f":"'[13]Список изделий'!F7711","v":0},{"$f":"'[13]Список изделий'!I7711","v":0},{"$f":"'[13]Список изделий'!X7711","v":0},{"$f":"'[13]Список изделий'!Y7711","v":0},{"$f":"'[13]Список изделий'!Z7711","v":0},{"$f":"'[13]Список изделий'!AA7711","v":0},{"$f":"'[13]Список изделий'!AB7711","v":0},{"$f":"'[13]Список изделий'!AC7711","v":"x"},{"$f":"'[13]Список изделий'!AD7711","v":0},{"$f":"'[13]Список изделий'!AE7711","v":0},{"$f":"'[13]Список изделий'!AF7711","v":"00:00:00"},{"$f":"'[13]Список изделий'!AY7711","v":0},{"$f":"'[13]Список изделий'!AZ7711","v":"00:00:00"},-43153,-43153,0,0,{"$f":"'[13]Список изделий'!BR7711","v":0},0]
[1096,{"$f":"'[13]Список изделий'!D7793","v":96},{"$f":"'[13]Список изделий'!E7793","v":0},{"$f":"'[13]Список изделий'!F7793","v":0},{"$f":"'[13]Список изделий'!I7793","v":0},{"$f":"'[13]Список изделий'!X7793","v":0},{"$f":"'[13]Список изделий'!Y7793","v":0},{"$f":"'[13]Список изделий'!Z7793","v":0},{"$f":"'[13]Список изделий'!AA7793","v":0},{"$f":"'[13]Список изделий'!AB7793","v":0},{"$f":"'[13]Список изделий'!AC7793","v":"x"},{"$f":"'[13]Список изделий'!AD7793","v":0},{"$f":"'[13]Список изделий'!AE7793","v":0},{"$f":"'[13]Список изделий'!AF7793","v":"00:00:00"},{"$f":"'[13]Список изделий'!AY7793","v":0},{"$f":"'[13]Список изделий'!AZ7793","v":"00:00:00"},-43153,-43153,0,0,{"$f":"'[13]Список изделий'!BR7793","v":0},0]
[1097,{"$f":"'[13]Список изделий'!D7875","v":97},{"$f":"'[13]Список изделий'!E7875","v":0},{"$f":"'[13]Список изделий'!F7875","v":0},{"$f":"'[13]Список изделий'!I7875","v":0},{"$f":"'[13]Список изделий'!X7875","v":0},{"$f":"'[13]Список изделий'!Y7875","v":0},{"$f":"'[13]Список изделий'!Z7875","v":0},{"$f":"'[13]Список изделий'!AA7875","v":0},{"$f":"'[13]Список изделий'!AB7875","v":0},{"$f":"'[13]Список изделий'!AC7875","v":"x"},{"$f":"'[13]Список изделий'!AD7875","v":0},{"$f":"'[13]Список изделий'!AE7875","v":0},{"$f":"'[13]Список изделий'!AF7875","v":"00:00:00"},{"$f":"'[13]Список изделий'!AY7875","v":0},{"$f":"'[13]Список изделий'!AZ7875","v":"00:00:00"},-43153,-43153,0,0,{"$f":"'[13]Список изделий'!BR7875","v":0},0]
[1098,{"$f":"'[13]Список изделий'!D7957","v":98},{"$f":"'[13]Список изделий'!E7957","v":0},{"$f":"'[13]Список изделий'!F7957","v":0},{"$f":"'[13]Список изделий'!I7957","v":0},{"$f":"'[13]Список изделий'!X7957","v":0},{"$f":"'[13]Список изделий'!Y7957","v":0},{"$f":"'[13]Список изделий'!Z7957","v":0},{"$f":"'[13]Список изделий'!AA7957","v":0},{"$f":"'[13]Список изделий'!AB7957","v":0},{"$f":"'[13]Список изделий'!AC7957","v":"x"},{"$f":"'[13]Список изделий'!AD7957","v":0},{"$f":"'[13]Список изделий'!AE7957","v":0},{"$f":"'[13]Список изделий'!AF7957","v":"00:00:00"},{"$f":"'[13]Список изделий'!AY7957","v":0},{"$f":"'[13]Список изделий'!AZ7957","v":"00:00:00"},-43153,-43153,0,0,{"$f":"'[13]Список изделий'!BR7957","v":0},0]
[1099,{"$f":"'[13]Список изделий'!D8039","v":99},{"$f":"'[13]Список изделий'!E8039","v":0},{"$f":"'[13]Список изделий'!F8039","v":0},{"$f":"'[13]Список изделий'!I8039","v":0},{"$f":"'[13]Список изделий'!X8039","v":0},{"$f":"'[13]Список изделий'!Y8039","v":0},{"$f":"'[13]Список изделий'!Z8039","v":0},{"$f":"'[13]Список изделий'!AA8039","v":0},{"$f":"'[13]Список изделий'!AB8039","v":0},{"$f":"'[13]Список изделий'!AC8039","v":"x"},{"$f":"'[13]Список изделий'!AD8039","v":0},{"$f":"'[13]Список изделий'!AE8039","v":0},{"$f":"'[13]Список изделий'!AF8039","v":"00:00:00"},{"$f":"'[13]Список изделий'!AY8039","v":0},{"$f":"'[13]Список изделий'!AZ8039","v":"00:00:00"},-43153,-43153,0,0,{"$f":"'[13]Список изделий'!BR8039","v":0},0]
[1100,{"$f":"'[13]Список изделий'!D8121","v":100},{"$f":"'[13]Список изделий'!E8121","v":0},{"$f":"'[13]Список изделий'!F8121","v":0},{"$f":"'[13]Список изделий'!I8121","v":0},{"$f":"'[13]Список изделий'!X8121","v":0},{"$f":"'[13]Список изделий'!Y8121","v":0},{"$f":"'[13]Список изделий'!Z8121","v":0},{"$f":"'[13]Список изделий'!AA8121","v":0},{"$f":"'[13]Список изделий'!AB8121","v":0},{"$f":"'[13]Список изделий'!AC8121","v":"x"},{"$f":"'[13]Список изделий'!AD8121","v":0},{"$f":"'[13]Список изделий'!AE8121","v":0},{"$f":"'[13]Список изделий'!AF8121","v":"00:00:00"},{"$f":"'[13]Список изделий'!AY8121","v":0},{"$f":"'[13]Список изделий'!AZ8121","v":"00:00:00"},-43153,-43153,0,0,{"$f":"'[13]Список изделий'!BR8121","v":0},0]
[186,{"$f":"'[3]Список изделий'!D6973","v":86},{"$f":"'[3]Список изделий'!E6973","v":"Пят-Яр-Авиат-86"},{"$f":"'[3]Список изделий'!F6973","v":"Переделка Пятерочки полностью"},{"$f":"'[3]Список изделий'!I6973","v":1},{"$f":"'[3]Список изделий'!X6973","v":"Лимонченко"},{"$f":"'[3]Список изделий'!Y6973","v":"Топоров"},{"$f":"'[3]Список изделий'!Z6973","v":"Топоров"},{"$f":"'[3]Список изделий'!AA6973","v":"Замотаев"},{"$f":"'[3]Список изделий'!AB6973","v":0},{"$f":"'[3]Список изделий'!AC6973","v":"x"},{"$f":"'[3]Список изделий'!AD6973","v":0},{"$f":"'[3]Список изделий'!AE6973","v":0},{"$f":"'[3]Список изделий'!AF6973","v":"2018-03-10"},{"$f":"'[3]Список изделий'!AY6973","v":4},{"$f":"'[3]Список изделий'!AZ6973","v":"2018-03-08"},10,14,1,1,{"$f":"'[3]Список изделий'!BR6973","v":0},1]
[1102,{"$f":"'[4]Список изделий'!D85","v":2},{"$f":"'[4]Список изделий'!E85","v":0},{"$f":"'[4]Список изделий'!F85","v":"Фризы подвесные двухсторонние"},{"$f":"'[4]Список изделий'!I85","v":0},{"$f":"'[4]Список изделий'!X85","v":0},{"$f":"'[4]Список изделий'!Y85","v":0},{"$f":"'[4]Список изделий'!Z85","v":0},{"$f":"'[4]Список изделий'!AA85","v":0},{"$f":"'[4]Список изделий'!AB85","v":0},{"$f":"'[4]Список изделий'!AC85","v":"x"},{"$f":"'[4]Список изделий'!AD85","v":0},{"$f":"'[4]Список изделий'!AE85","v":0},{"$f":"'[4]Список изделий'!AF85","v":"00:00:00"},{"$f":"'[4]Список изделий'!AY85","v":0},{"$f":"'[4]Список изделий'!AZ85","v":"00:00:00"},-43153,-43153,0,0,{"$f":"'[4]Список изделий'!BR85","v":0},0]
[801,{"$f":"'[11]Список изделий'!D3","v":1},{"$f":"'[11]Список изделий'!E3","v":"Перек-Савуш-1"},{"$f":"'[11]Список изделий'!F3","v":"СТАНДАРТ - Информационные стенды "},{"$f":"'[11]Список изделий'!I3","v":1},{"$f":"'[11]Список изделий'!X3","v":0},{"$f":"'[11]Список изделий'!Y3","v":0},{"$f":"'[11]Список изделий'!Z3","v":0},{"$f":"'[11]Список изделий'!AA3","v":0},{"$f":"'[11]Список изделий'!AB3","v":0},{"$f":"'[11]Список изделий'!AC3","v":"x"},{"$f":"'[11]Список изделий'!AD3","v":0},{"$f":"'[11]Список изделий'!AE3","v":"к-т"},{"$f":"'[11]Список изделий'!AF3","v":"2018-02-26"},{"$f":"'[11]Список изделий'!AY3","v":6},{"$f":"'[11]Список изделий'!AZ3","v":"2018-02-21"},-7,-1,0,0,{"$f":"'[11]Список изделий'!BR3","v":"\\\\SERVER\\Data1\\П\\Перекресток\\2018\\ТЕХ. ДОКУМЕНТАЦИЯ рабочая\\01-Стандарт"},0]
[802,{"$f":"'[11]Список изделий'!D4","v":2},{"$f":"'[11]Список изделий'!E4","v":"Перек-Савуш-2"},{"$f":"'[11]Список изделий'!F4","v":"СТАНДАРТ2 - Информационные таблички"},{"$f":"'[11]Список изделий'!I4","v":1},{"$f":"'[11]Список изделий'!X4","v":0},{"$f":"'[11]Список изделий'!Y4","v":0},{"$f":"'[11]Список изделий'!Z4","v":0},{"$f":"'[11]Список изделий'!AA4","v":0},{"$f":"'[11]Список изделий'!AB4","v":0},{"$f":"'[11]Список изделий'!AC4","v":"x"},{"$f":"'[11]Список изделий'!AD4","v":0},{"$f":"'[11]Список изделий'!AE4","v":"к-т"},{"$f":"'[11]Список изделий'!AF4","v":"2018-02-26"},{"$f":"'[11]Список изделий'!AY4","v":6},{"$f":"'[11]Список изделий'!AZ4","v":"2018-02-21"},-7,-1,0,0,{"$f":"'[11]Список изделий'!BR4","v":"\\\\SERVER\\Data1\\П\\Перекресток\\2018\\ТЕХ. ДОКУМЕНТАЦИЯ рабочая\\02-Стандарт_2"},0]
[803,{"$f":"'[11]Список изделий'!D5","v":3},{"$f":"'[11]Список изделий'!E5","v":"Перек-Савуш-3"},{"$f":"'[11]Список изделий'!F5","v":"3-Разделители в АЛКОГОЛЬ (черные)"},{"$f":"'[11]Список изделий'!I5","v":60},{"$f":"'[11]Список изделий'!X5","v":0},{"$f":"'[11]Список изделий'!Y5","v":0},{"$f":"'[11]Список изделий'!Z5","v":0},{"$f":"'[11]Список изделий'!AA5","v":0},{"$f":"'[11]Список изделий'!AB5","v":330},{"$f":"'[11]Список изделий'!AC5","v":"x"},{"$f":"'[11]Список изделий'!AD5","v":200},{"$f":"'[11]Список изделий'!AE5","v":"шт."},{"$f":"'[11]Список изделий'!AF5","v":"2018-02-26"},{"$f":"'[11]Список изделий'!AY5","v":6},{"$f":"'[11]Список изделий'!AZ5","v":"2018-02-21"},-7,-1,0.5,0.5,{"$f":"'[11]Список изделий'!BR5","v":"\\\\SERVER\\Data1\\П\\Перекресток\\2018\\ТЕХ. ДОКУМЕНТАЦИЯ рабочая\\03-Разделители в отдел алкоголя"},0.5]
[804,{"$f":"'[11]Список изделий'!D6","v":4},{"$f":"'[11]Список изделий'!E6","v":"Перек-Савуш-4"},{"$f":"'[11]Список изделий'!F6","v":"4-Разделители в АЛКОГОЛЬ"},{"$f":"'[11]Список изделий'!I6","v":60},{"$f":"'[11]Список изделий'!X6","v":0},{"$f":"'[11]Список изделий'!Y6","v":0},{"$f":"'[11]Список изделий'!Z6","v":0},{"$f":"'[11]Список изделий'!AA6","v":0},{"$f":"'[11]Список изделий'!AB6","v":200},{"$f":"'[11]Список изделий'!AC6","v":"x"},{"$f":"'[11]Список изделий'!AD6","v":38},{"$f":"'[11]Список изделий'!AE6","v":"шт."},{"$f":"'[11]Список изделий'!AF6","v":"2018-02-26"},{"$f":"'[11]Список изделий'!AY6","v":6},{"$f":"'[11]Список изделий'!AZ6","v":"2018-02-21"},-7,-1,0,0,{"$f":"'[11]Список изделий'!BR6","v":"\\\\SERVER\\Data1\\П\\Перекресток\\2018\\ТЕХ. ДОКУМЕНТАЦИЯ рабочая\\04-Алкогольные_разделители-200х38"},0]
[805,{"$f":"'[11]Список изделий'!D7","v":5},{"$f":"'[11]Список изделий'!E7","v":"Перек-Савуш-5"},{"$f":"'[11]Список изделий'!F7","v":"5-Стойка \"Перекресток\" "},{"$f":"'[11]Список изделий'!I7","v":1},{"$f":"'[11]Список изделий'!X7","v":0},{"$f":"'[11]Список изделий'!Y7","v":0},{"$f":"'[11]Список изделий'!Z7","v":0},{"$f":"'[11]Список изделий'!AA7","v":0},{"$f":"'[11]Список изделий'!AB7","v":0},{"$f":"'[11]Список изделий'!AC7","v":"x"},{"$f":"'[11]Список изделий'!AD7","v":0},{"$f":"'[11]Список изделий'!AE7","v":"шт."},{"$f":"'[11]Список изделий'!AF7","v":"2018-02-26"},{"$f":"'[11]Список изделий'!AY7","v":6},{"$f":"'[11]Список изделий'!AZ7","v":"2018-02-21"},-7,-1,0,0,{"$f":"'[11]Список изделий'!BR7","v":"\\\\SERVER\\Data1\\П\\Перекресток\\2018\\ТЕХ. ДОКУМЕНТАЦИЯ рабочая\\05-Стойка_ПРАЗДНИК-Перекресток"},0]
[1108,{"$f":"'[4]Список изделий'!D577","v":8},{"$f":"'[4]Список изделий'!E577","v":0},{"$f":"'[4]Список изделий'!F577","v":"Потолочные указатели 2хст. 1500х300"},{"$f":"'[4]Список изделий'!I577","v":0},{"$f":"'[4]Список изделий'!X577","v":0},{"$f":"'[4]Список изделий'!Y577","v":0},{"$f":"'[4]Список изделий'!Z577","v":0},{"$f":"'[4]Список изделий'!AA577","v":0},{"$f":"'[4]Список изделий'!AB577","v":0},{"$f":"'[4]Список изделий'!AC577","v":"x"},{"$f":"'[4]Список изделий'!AD577","v":0},{"$f":"'[4]Список изделий'!AE577","v":0},{"$f":"'[4]Список изделий'!AF577","v":"00:00:00"},{"$f":"'[4]Список изделий'!AY577","v":0},{"$f":"'[4]Список изделий'!AZ577","v":"00:00:00"},-43153,-43153,0,0,{"$f":"'[4]Список изделий'!BR577","v":0},0]
[806,{"$f":"'[11]Список изделий'!D8","v":6},{"$f":"'[11]Список изделий'!E8","v":"Перек-Савуш-6"},{"$f":"'[11]Список изделий'!F8","v":"6-МЯСНОЙ РАЗРУБ оформление"},{"$f":"'[11]Список изделий'!I8","v":1},{"$f":"'[11]Список изделий'!X8","v":0},{"$f":"'[11]Список изделий'!Y8","v":0},{"$f":"'[11]Список изделий'!Z8","v":0},{"$f":"'[11]Список изделий'!AA8","v":0},{"$f":"'[11]Список изделий'!AB8","v":0},{"$f":"'[11]Список изделий'!AC8","v":"x"},{"$f":"'[11]Список изделий'!AD8","v":0},{"$f":"'[11]Список изделий'!AE8","v":"к-т"},{"$f":"'[11]Список изделий'!AF8","v":"2018-02-26"},{"$f":"'[11]Список изделий'!AY8","v":6},{"$f":"'[11]Список изделий'!AZ8","v":"2018-02-21"},-7,-1,0,0,{"$f":"'[11]Список изделий'!BR8","v":"\\\\SERVER\\Data1\\П\\Перекресток\\2018\\ТЕХ. ДОКУМЕНТАЦИЯ рабочая\\06-Мясной_разруб"},0]
[807,{"$f":"'[11]Список изделий'!D9","v":7},{"$f":"'[11]Список изделий'!E9","v":"Перек-Савуш-7"},{"$f":"'[11]Список изделий'!F9","v":"7-БЫСТРО И ВКУСНО оформление отдела"},{"$f":"'[11]Список изделий'!I9","v":1},{"$f":"'[11]Список изделий'!X9","v":0},{"$f":"'[11]Список изделий'!Y9","v":0},{"$f":"'[11]Список изделий'!Z9","v":0},{"$f":"'[11]Список изделий'!AA9","v":0},{"$f":"'[11]Список изделий'!AB9","v":0},{"$f":"'[11]Список изделий'!AC9","v":"x"},{"$f":"'[11]Список изделий'!AD9","v":0},{"$f":"'[11]Список изделий'!AE9","v":"к-т"},{"$f":"'[11]Список изделий'!AF9","v":"2018-02-26"},{"$f":"'[11]Список изделий'!AY9","v":6},{"$f":"'[11]Список изделий'!AZ9","v":"2018-02-21"},-7,-1,0,0,{"$f":"'[11]Список изделий'!BR9","v":"\\\\SERVER\\Data1\\П\\Перекресток\\2018\\ТЕХ. ДОКУМЕНТАЦИЯ рабочая\\07-Быстро_и_вкусно"},0]
[808,{"$f":"'[11]Список изделий'!D10","v":8},{"$f":"'[11]Список изделий'!E10","v":"Перек-Савуш-8"},{"$f":"'[11]Список изделий'!F10","v":"8-Стикер на заднюю часть прайсдисплея ФРОВ (2 вида - 1комплект)"},{"$f":"'[11]Список изделий'!I10","v":20},{"$f":"'[11]Список изделий'!X10","v":0},{"$f":"'[11]Список изделий'!Y10","v":0},{"$f":"'[11]Список изделий'!Z10","v":0},{"$f":"'[11]Список изделий'!AA10","v":0},{"$f":"'[11]Список изделий'!AB10","v":340},{"$f":"'[11]Список изделий'!AC10","v":"x"},{"$f":"'[11]Список изделий'!AD10","v":440},{"$f":"'[11]Список изделий'!AE10","v":"к-т"},{"$f":"'[11]Список изделий'!AF10","v":"2018-02-26"},{"$f":"'[11]Список изделий'!AY10","v":6},{"$f":"'[11]Список изделий'!AZ10","v":"2018-02-21"},-7,-1,0,0,{"$f":"'[11]Список изделий'!BR10","v":"\\\\SERVER\\Data1\\П\\Перекресток\\2018\\ТЕХ. ДОКУМЕНТАЦИЯ рабочая\\08-Стикер-задник_ПД_ФРОВ"},0]
[1626,{"$f":"'[1]Список изделий'!D2053","v":26},{"$f":"'[1]Список изделий'!E2053","v":"Перек-Перин-26"},{"$f":"'[1]Список изделий'!F2053","v":"Демонтаж призмы Суперцена со стеллажа"},{"$f":"'[1]Список изделий'!I2053","v":1},{"$f":"'[1]Список изделий'!X2053","v":"ГМА"},{"$f":"'[1]Список изделий'!Y2053","v":"Топоров"},{"$f":"'[1]Список изделий'!Z2053","v":0},{"$f":"'[1]Список изделий'!AA2053","v":"Замотаев"},{"$f":"'[1]Список изделий'!AB2053","v":0},{"$f":"'[1]Список изделий'!AC2053","v":"x"},{"$f":"'[1]Список изделий'!AD2053","v":0},{"$f":"'[1]Список изделий'!AE2053","v":0},{"$f":"'[1]Список изделий'!AF2053","v":"2018-02-22"},{"$f":"'[1]Список изделий'!AY2053","v":1},{"$f":"'[1]Список изделий'!AZ2053","v":"2018-02-21"},-2,-1,1,1,{"$f":"'[1]Список изделий'!BR2053","v":0},1]
[1627,10010010,{"$f":"'[1]Список изделий'!E2135","v":"Перек-Перин-27"},{"$f":"'[1]Список изделий'!F2135","v":"Перемонтаж объемного стеллажного фриза Суперцена на новое место"},{"$f":"'[1]Список изделий'!I2135","v":1},{"$f":"'[1]Список изделий'!X2135","v":"ГМА"},{"$f":"'[1]Список изделий'!Y2135","v":"Топоров"},{"$f":"'[1]Список изделий'!Z2135","v":0},{"$f":"'[1]Список изделий'!AA2135","v":"Замотаев"},{"$f":"'[1]Список изделий'!AB2135","v":0},{"$f":"'[1]Список изделий'!AC2135","v":"x"},{"$f":"'[1]Список изделий'!AD2135","v":0},{"$f":"'[1]Список изделий'!AE2135","v":0},{"$f":"'[1]Список изделий'!AF2135","v":"2018-02-22"},{"$f":"'[1]Список изделий'!AY2135","v":1},{"$f":"'[1]Список изделий'!AZ2135","v":"2018-02-21"},-2,-1,1,1,{"$f":"'[1]Список изделий'!BR2135","v":0},1]
[1114,{"$f":"'[4]Список изделий'!D1069","v":14},{"$f":"'[4]Список изделий'!E1069","v":0},{"$f":"'[4]Список изделий'!F1069","v":"Стикеры на боковую часть холодильника Мороженое"},{"$f":"'[4]Список изделий'!I1069","v":0},{"$f":"'[4]Список изделий'!X1069","v":0},{"$f":"'[4]Список изделий'!Y1069","v":0},{"$f":"'[4]Список изделий'!Z1069","v":0},{"$f":"'[4]Список изделий'!AA1069","v":0},{"$f":"'[4]Список изделий'!AB1069","v":0},{"$f":"'[4]Список изделий'!AC1069","v":"x"},{"$f":"'[4]Список изделий'!AD1069","v":0},{"$f":"'[4]Список изделий'!AE1069","v":0},{"$f":"'[4]Список изделий'!AF1069","v":"00:00:00"},{"$f":"'[4]Список изделий'!AY1069","v":0},{"$f":"'[4]Список изделий'!AZ1069","v":"00:00:00"},-43153,-43153,0,0,{"$f":"'[4]Список изделий'!BR1069","v":0},0]
[1115,{"$f":"'[4]Список изделий'!D1151","v":15},{"$f":"'[4]Список изделий'!E1151","v":"Пер-Наст-15"},{"$f":"'[4]Список изделий'!F1151","v":"Оклейка Лаваля"},{"$f":"'[4]Список изделий'!I1151","v":12},{"$f":"'[4]Список изделий'!X1151","v":"ГМА"},{"$f":"'[4]Список изделий'!Y1151","v":"Микуло"},{"$f":"'[4]Список изделий'!Z1151","v":"Закурдаев"},{"$f":"'[4]Список изделий'!AA1151","v":"Замотаев"},{"$f":"'[4]Список изделий'!AB1151","v":0},{"$f":"'[4]Список изделий'!AC1151","v":"x"},{"$f":"'[4]Список изделий'!AD1151","v":360},{"$f":"'[4]Список изделий'!AE1151","v":"мм"},{"$f":"'[4]Список изделий'!AF1151","v":"2018-02-20"},{"$f":"'[4]Список изделий'!AY1151","v":8},{"$f":"'[4]Список изделий'!AZ1151","v":"2018-02-14"},-16,-8,0,0,{"$f":"'[4]Список изделий'!BR1151","v":"\\\\SERVER\\Data1\\П\\Перекресток\\2018\\ОКЕЙ_Перекресток\\Наставников 33\\техничка\\15-оклейка_ЛАВАЛЯ\\Сборка\\холод_ЛАВАЛЬ-сборка.cdr"},0]
[1116,{"$f":"'[4]Список изделий'!D1233","v":16},{"$f":"'[4]Список изделий'!E1233","v":0},{"$f":"'[4]Список изделий'!F1233","v":"Подготовка поверхности. Очистка, обезжиривание."},{"$f":"'[4]Список изделий'!I1233","v":0},{"$f":"'[4]Список изделий'!X1233","v":0},{"$f":"'[4]Список изделий'!Y1233","v":0},{"$f":"'[4]Список изделий'!Z1233","v":0},{"$f":"'[4]Список изделий'!AA1233","v":0},{"$f":"'[4]Список изделий'!AB1233","v":0},{"$f":"'[4]Список изделий'!AC1233","v":"x"},{"$f":"'[4]Список изделий'!AD1233","v":0},{"$f":"'[4]Список изделий'!AE1233","v":0},{"$f":"'[4]Список изделий'!AF1233","v":"00:00:00"},{"$f":"'[4]Список изделий'!AY1233","v":0},{"$f":"'[4]Список изделий'!AZ1233","v":"00:00:00"},-43153,-43153,0,0,{"$f":"'[4]Список изделий'!BR1233","v":0},0]
[1628,{"$f":"'[1]Список изделий'!D2217","v":28},{"$f":"'[1]Список изделий'!E2217","v":"Перек-Перин-28"},{"$f":"'[1]Список изделий'!F2217","v":"Изготовление таблички Орехи Сухофрукты на потолочную вывеску из бука"},{"$f":"'[1]Список изделий'!I2217","v":1},{"$f":"'[1]Список изделий'!X2217","v":"ГМА"},{"$f":"'[1]Список изделий'!Y2217","v":"Топоров"},{"$f":"'[1]Список изделий'!Z2217","v":"Каюк"},{"$f":"'[1]Список изделий'!AA2217","v":"Замотаев"},{"$f":"'[1]Список изделий'!AB2217","v":0},{"$f":"'[1]Список изделий'!AC2217","v":"x"},{"$f":"'[1]Список изделий'!AD2217","v":0},{"$f":"'[1]Список изделий'!AE2217","v":0},{"$f":"'[1]Список изделий'!AF2217","v":"2018-02-22"},{"$f":"'[1]Список изделий'!AY2217","v":1},{"$f":"'[1]Список изделий'!AZ2217","v":"2018-02-21"},-2,-1,1,1,{"$f":"'[1]Список изделий'!BR2217","v":0},1]
[1629,{"$f":"'[1]Список изделий'!D2299","v":29},{"$f":"'[1]Список изделий'!E2299","v":"Перек-Перин-29"},{"$f":"'[1]Список изделий'!F2299","v":"Обрезка существующего фриза Красота Уход и накатка на него Суперцена"},{"$f":"'[1]Список изделий'!I2299","v":1},{"$f":"'[1]Список изделий'!X2299","v":"ГМА"},{"$f":"'[1]Список изделий'!Y2299","v":"Топоров"},{"$f":"'[1]Список изделий'!Z2299","v":"Каюк"},{"$f":"'[1]Список изделий'!AA2299","v":"Замотаев"},{"$f":"'[1]Список изделий'!AB2299","v":2400},{"$f":"'[1]Список изделий'!AC2299","v":"x"},{"$f":"'[1]Список изделий'!AD2299","v":500},{"$f":"'[1]Список изделий'!AE2299","v":"мм"},{"$f":"'[1]Список изделий'!AF2299","v":"2018-02-22"},{"$f":"'[1]Список изделий'!AY2299","v":1},{"$f":"'[1]Список изделий'!AZ2299","v":"2018-02-21"},-2,-1,0,0,{"$f":"'[1]Список изделий'!BR2299","v":0},0]
[1630,{"$f":"'[1]Список изделий'!D2381","v":30},{"$f":"'[1]Список изделий'!E2381","v":"Перек-Перин-30"},{"$f":"'[1]Список изделий'!F2381","v":"Накатка пленки Суперцена на фриз Товары для дома"},{"$f":"'[1]Список изделий'!I2381","v":1},{"$f":"'[1]Список изделий'!X2381","v":"ГМА"},{"$f":"'[1]Список изделий'!Y2381","v":"Топоров"},{"$f":"'[1]Список изделий'!Z2381","v":"Каюк"},{"$f":"'[1]Список изделий'!AA2381","v":"Замотаев"},{"$f":"'[1]Список изделий'!AB2381","v":2400},{"$f":"'[1]Список изделий'!AC2381","v":"x"},{"$f":"'[1]Список изделий'!AD2381","v":500},{"$f":"'[1]Список изделий'!AE2381","v":"мм"},{"$f":"'[1]Список изделий'!AF2381","v":"2018-02-22"},{"$f":"'[1]Список изделий'!AY2381","v":1},{"$f":"'[1]Список изделий'!AZ2381","v":"2018-02-21"},-2,-1,0,0,{"$f":"'[1]Список изделий'!BR2381","v":0},0]
[1120,{"$f":"'[4]Список изделий'!D1561","v":20},{"$f":"'[4]Список изделий'!E1561","v":"Пер-Наст-20"},{"$f":"'[4]Список изделий'!F1561","v":"V-обр. делители на морозильную камеру"},{"$f":"'[4]Список изделий'!I1561","v":12},{"$f":"'[4]Список изделий'!X1561","v":"ГМА"},{"$f":"'[4]Список изделий'!Y1561","v":"Микуло"},{"$f":"'[4]Список изделий'!Z1561","v":"Закурдаев"},{"$f":"'[4]Список изделий'!AA1561","v":"Замотаев"},{"$f":"'[4]Список изделий'!AB1561","v":0},{"$f":"'[4]Список изделий'!AC1561","v":"x"},{"$f":"'[4]Список изделий'!AD1561","v":0},{"$f":"'[4]Список изделий'!AE1561","v":0},{"$f":"'[4]Список изделий'!AF1561","v":"2018-02-20"},{"$f":"'[4]Список изделий'!AY1561","v":8},{"$f":"'[4]Список изделий'!AZ1561","v":"2018-02-14"},-16,-8,0,0,{"$f":"'[4]Список изделий'!BR1561","v":"\\\\SERVER\\Data1\\П\\Перекресток\\2018\\ОКЕЙ_Перекресток\\Наставников 33\\техничка\\20-V-обр_делители_на_холодильники\\Сборка\\V-образные_разделители-сменные.cdr"},0]
[176,{"$f":"'[3]Список изделий'!D6153","v":76},{"$f":"'[3]Список изделий'!E6153","v":"П-выв-Искров76"},{"$f":"'[3]Список изделий'!F6153","v":"Вывеска перекресток супермаркет 20000 х 1600мм"},{"$f":"'[3]Список изделий'!I6153","v":1},{"$f":"'[3]Список изделий'!X6153","v":0},{"$f":"'[3]Список изделий'!Y6153","v":"Семаков"},{"$f":"'[3]Список изделий'!Z6153","v":0},{"$f":"'[3]Список изделий'!AA6153","v":0},{"$f":"'[3]Список изделий'!AB6153","v":20000},{"$f":"'[3]Список изделий'!AC6153","v":"x"},{"$f":"'[3]Список изделий'!AD6153","v":1600},{"$f":"'[3]Список изделий'!AE6153","v":"мм"},{"$f":"'[3]Список изделий'!AF6153","v":"2018-02-24"},{"$f":"'[3]Список изделий'!AY6153","v":12},{"$f":"'[3]Список изделий'!AZ6153","v":"2018-02-23"},-11,1,0.01,0.01,{"$f":"'[3]Список изделий'!BR6153","v":0},0.01]
[1122,{"$f":"'[4]Список изделий'!D1725","v":22},{"$f":"'[4]Список изделий'!E1725","v":0},{"$f":"'[4]Список изделий'!F1725","v":"Входной фриз"},{"$f":"'[4]Список изделий'!I1725","v":0},{"$f":"'[4]Список изделий'!X1725","v":0},{"$f":"'[4]Список изделий'!Y1725","v":0},{"$f":"'[4]Список изделий'!Z1725","v":0},{"$f":"'[4]Список изделий'!AA1725","v":0},{"$f":"'[4]Список изделий'!AB1725","v":0},{"$f":"'[4]Список изделий'!AC1725","v":"x"},{"$f":"'[4]Список изделий'!AD1725","v":0},{"$f":"'[4]Список изделий'!AE1725","v":0},{"$f":"'[4]Список изделий'!AF1725","v":"00:00:00"},{"$f":"'[4]Список изделий'!AY1725","v":0},{"$f":"'[4]Список изделий'!AZ1725","v":"00:00:00"},-43153,-43153,0,0,{"$f":"'[4]Список изделий'!BR1725","v":0},0]
[1123,{"$f":"'[4]Список изделий'!D1807","v":23},{"$f":"'[4]Список изделий'!E1807","v":0},{"$f":"'[4]Список изделий'!F1807","v":"Входной фриз закатка обратной стороны"},{"$f":"'[4]Список изделий'!I1807","v":0},{"$f":"'[4]Список изделий'!X1807","v":0},{"$f":"'[4]Список изделий'!Y1807","v":0},{"$f":"'[4]Список изделий'!Z1807","v":0},{"$f":"'[4]Список изделий'!AA1807","v":0},{"$f":"'[4]Список изделий'!AB1807","v":0},{"$f":"'[4]Список изделий'!AC1807","v":"x"},{"$f":"'[4]Список изделий'!AD1807","v":0},{"$f":"'[4]Список изделий'!AE1807","v":0},{"$f":"'[4]Список изделий'!AF1807","v":"00:00:00"},{"$f":"'[4]Список изделий'!AY1807","v":0},{"$f":"'[4]Список изделий'!AZ1807","v":"00:00:00"},-43153,-43153,0,0,{"$f":"'[4]Список изделий'!BR1807","v":0},0]
[177,{"$f":"'[3]Список изделий'!D6235","v":77},{"$f":"'[3]Список изделий'!E6235","v":"П-выв-Искров77"},{"$f":"'[3]Список изделий'!F6235","v":"Вывеска перекресток супермаркет 16000 х 1280мм"},{"$f":"'[3]Список изделий'!I6235","v":1},{"$f":"'[3]Список изделий'!X6235","v":0},{"$f":"'[3]Список изделий'!Y6235","v":"Семаков"},{"$f":"'[3]Список изделий'!Z6235","v":0},{"$f":"'[3]Список изделий'!AA6235","v":0},{"$f":"'[3]Список изделий'!AB6235","v":16000},{"$f":"'[3]Список изделий'!AC6235","v":"x"},{"$f":"'[3]Список изделий'!AD6235","v":1280},{"$f":"'[3]Список изделий'!AE6235","v":"мм"},{"$f":"'[3]Список изделий'!AF6235","v":"2018-02-24"},{"$f":"'[3]Список изделий'!AY6235","v":12},{"$f":"'[3]Список изделий'!AZ6235","v":"2018-02-23"},-11,1,0,0,{"$f":"'[3]Список изделий'!BR6235","v":0},0]
[901,{"$f":"'[12]Список изделий'!D3","v":1},{"$f":"'[12]Список изделий'!E3","v":"Пер-прибреж-1"},{"$f":"'[12]Список изделий'!F3","v":"Фризы настенные односторонние"},{"$f":"'[12]Список изделий'!I3","v":13},{"$f":"'[12]Список изделий'!X3","v":"ГМА"},{"$f":"'[12]Список изделий'!Y3","v":"Микуло"},{"$f":"'[12]Список изделий'!Z3","v":"Закурдаев"},{"$f":"'[12]Список изделий'!AA3","v":"Замотаев"},{"$f":"'[12]Список изделий'!AB3","v":0},{"$f":"'[12]Список изделий'!AC3","v":0},{"$f":"'[12]Список изделий'!AD3","v":500},{"$f":"'[12]Список изделий'!AE3","v":"мм"},{"$f":"'[12]Список изделий'!AF3","v":"2018-03-01"},{"$f":"'[12]Список изделий'!AY3","v":7},{"$f":"'[12]Список изделий'!AZ3","v":"2018-02-23"},-6,1,1,1,{"$f":"'[12]Список изделий'!BR3","v":0},1]
[1126,{"$f":"'[4]Список изделий'!D2053","v":26},{"$f":"'[4]Список изделий'!E2053","v":0},{"$f":"'[4]Список изделий'!F2053","v":"Оформление Фиксики"},{"$f":"'[4]Список изделий'!I2053","v":0},{"$f":"'[4]Список изделий'!X2053","v":0},{"$f":"'[4]Список изделий'!Y2053","v":0},{"$f":"'[4]Список изделий'!Z2053","v":0},{"$f":"'[4]Список изделий'!AA2053","v":0},{"$f":"'[4]Список изделий'!AB2053","v":0},{"$f":"'[4]Список изделий'!AC2053","v":"x"},{"$f":"'[4]Список изделий'!AD2053","v":0},{"$f":"'[4]Список изделий'!AE2053","v":0},{"$f":"'[4]Список изделий'!AF2053","v":"00:00:00"},{"$f":"'[4]Список изделий'!AY2053","v":0},{"$f":"'[4]Список изделий'!AZ2053","v":"00:00:00"},-43153,-43153,0,{"$f":"V1128","v":0},{"$f":"'[4]Список изделий'!BR2053","v":0},0]
[903,{"$f":"'[12]Список изделий'!D167","v":3},{"$f":"'[12]Список изделий'!E167","v":"Пер-прибреж-3"},{"$f":"'[12]Список изделий'!F167","v":"Световые вывески клееные"},{"$f":"'[12]Список изделий'!I167","v":8},{"$f":"'[12]Список изделий'!X167","v":"ГМА"},{"$f":"'[12]Список изделий'!Y167","v":"Микуло"},{"$f":"'[12]Список изделий'!Z167","v":"Закурдаев"},{"$f":"'[12]Список изделий'!AA167","v":"Замотаев"},{"$f":"'[12]Список изделий'!AB167","v":2000},{"$f":"'[12]Список изделий'!AC167","v":"x"},{"$f":"'[12]Список изделий'!AD167","v":350},{"$f":"'[12]Список изделий'!AE167","v":"мм"},{"$f":"'[12]Список изделий'!AF167","v":"2018-03-01"},{"$f":"'[12]Список изделий'!AY167","v":7},{"$f":"'[12]Список изделий'!AZ167","v":"2018-02-23"},-6,1,1,1,{"$f":"'[12]Список изделий'!BR167","v":"\\\\SERVER\\Data1\\П\\Перекресток\\2018\\ОКЕЙ_Перекресток\\Прибрежная 13\\техничка\\03-Световые_вывески_отделов\\Сборка\\световые вывески высота 350 бок 3 мм.cdr"},1]
[907,{"$f":"'[12]Список изделий'!D495","v":7},{"$f":"'[12]Список изделий'!E495","v":"Пер-прибреж-7"},{"$f":"'[12]Список изделий'!F495","v":"Потолочные указатели 2хст. 2000х400"},{"$f":"'[12]Список изделий'!I495","v":20},{"$f":"'[12]Список изделий'!X495","v":"ГМА"},{"$f":"'[12]Список изделий'!Y495","v":"Микуло"},{"$f":"'[12]Список изделий'!Z495","v":"Закурдаев"},{"$f":"'[12]Список изделий'!AA495","v":"Замотаев"},{"$f":"'[12]Список изделий'!AB495","v":600},{"$f":"'[12]Список изделий'!AC495","v":"x"},{"$f":"'[12]Список изделий'!AD495","v":600},{"$f":"'[12]Список изделий'!AE495","v":"мм"},{"$f":"'[12]Список изделий'!AF495","v":"2018-03-01"},{"$f":"'[12]Список изделий'!AY495","v":7},{"$f":"'[12]Список изделий'!AZ495","v":"2018-02-23"},-6,1,1,1,{"$f":"'[12]Список изделий'!BR495","v":"\\\\SERVER\\Data1\\П\\Перекресток\\2018\\ОКЕЙ_Перекресток\\Прибрежная 13\\техничка\\07-Потолочные_вывески-2000х400"},1]
[1129,{"$f":"'[4]Список изделий'!D2299","v":29},{"$f":"'[4]Список изделий'!E2299","v":"Пер-Наст-29"},{"$f":"'[4]Список изделий'!F2299","v":"Фриз стеллажный 2хст. Объемный \"Конфеты\""},{"$f":"'[4]Список изделий'!I2299","v":2},{"$f":"'[4]Список изделий'!X2299","v":"ГМА"},{"$f":"'[4]Список изделий'!Y2299","v":"Микуло"},{"$f":"'[4]Список изделий'!Z2299","v":"Закурдаев"},{"$f":"'[4]Список изделий'!AA2299","v":"Замотаев"},{"$f":"'[4]Список изделий'!AB2299","v":0},{"$f":"'[4]Список изделий'!AC2299","v":"x"},{"$f":"'[4]Список изделий'!AD2299","v":0},{"$f":"'[4]Список изделий'!AE2299","v":0},{"$f":"'[4]Список изделий'!AF2299","v":"2018-02-20"},{"$f":"'[4]Список изделий'!AY2299","v":8},{"$f":"'[4]Список изделий'!AZ2299","v":"2018-02-14"},-16,-8,0,0,{"$f":"'[4]Список изделий'!BR2299","v":"\\\\SERVER\\Data1\\П\\Перекресток\\2018\\ОКЕЙ_Перекресток\\Наставников 33\\техничка\\29-фриз_Конфеты\\Сборка\\Конфеты-сборка.cdr"},0]
[911,{"$f":"'[12]Список изделий'!D823","v":11},{"$f":"'[12]Список изделий'!E823","v":"Пер-прибреж-11"},{"$f":"'[12]Список изделий'!F823","v":"Карман круглый двухсторонний (люверс + крючок) (к-во предварительное)"},{"$f":"'[12]Список изделий'!I823","v":18},{"$f":"'[12]Список изделий'!X823","v":"ГМА"},{"$f":"'[12]Список изделий'!Y823","v":"Микуло"},{"$f":"'[12]Список изделий'!Z823","v":"Закурдаев"},{"$f":"'[12]Список изделий'!AA823","v":"Замотаев"},{"$f":"'[12]Список изделий'!AB823","v":0},{"$f":"'[12]Список изделий'!AC823","v":"x"},{"$f":"'[12]Список изделий'!AD823","v":0},{"$f":"'[12]Список изделий'!AE823","v":0},{"$f":"'[12]Список изделий'!AF823","v":"2018-03-01"},{"$f":"'[12]Список изделий'!AY823","v":7},{"$f":"'[12]Список изделий'!AZ823","v":"2018-02-23"},-6,1,1,1,{"$f":"'[12]Список изделий'!BR823","v":"\\\\SERVER\\Data1\\П\\Перекресток\\2018\\ТЕХНИЧЕСКАЯ ДОКУМЕНТАЦИЯ\\11-Карман_круглый_двухсторонний_(ПромоКруг)\\Сборка\\Круг_Промо-сборка.cdr"},1]
[912,{"$f":"'[12]Список изделий'!D905","v":12},{"$f":"'[12]Список изделий'!E905","v":"Пер-прибреж-12"},{"$f":"'[12]Список изделий'!F905","v":"Таблички \"Здесь можно проверить цену\" (комплект 4 шт.) (к-во предварительное)"},{"$f":"'[12]Список изделий'!I905","v":2},{"$f":"'[12]Список изделий'!X905","v":"ГМА"},{"$f":"'[12]Список изделий'!Y905","v":"Микуло"},{"$f":"'[12]Список изделий'!Z905","v":"Закурдаев"},{"$f":"'[12]Список изделий'!AA905","v":"Замотаев"},{"$f":"'[12]Список изделий'!AB905","v":0},{"$f":"'[12]Список изделий'!AC905","v":"x"},{"$f":"'[12]Список изделий'!AD905","v":0},{"$f":"'[12]Список изделий'!AE905","v":0},{"$f":"'[12]Список изделий'!AF905","v":"2018-03-01"},{"$f":"'[12]Список изделий'!AY905","v":7},{"$f":"'[12]Список изделий'!AZ905","v":"2018-02-23"},-6,1,1,1,{"$f":"'[12]Список изделий'!BR905","v":0},1]
[1132,{"$f":"'[4]Список изделий'!D2545","v":32},{"$f":"'[4]Список изделий'!E2545","v":0},{"$f":"'[4]Список изделий'!F2545","v":"Световая вывеска Клевер Перекресток СУПЕРМАРКЕТ  на входном фризе"},{"$f":"'[4]Список изделий'!I2545","v":0},{"$f":"'[4]Список изделий'!X2545","v":0},{"$f":"'[4]Список изделий'!Y2545","v":0},{"$f":"'[4]Список изделий'!Z2545","v":0},{"$f":"'[4]Список изделий'!AA2545","v":0},{"$f":"'[4]Список изделий'!AB2545","v":0},{"$f":"'[4]Список изделий'!AC2545","v":"x"},{"$f":"'[4]Список изделий'!AD2545","v":0},{"$f":"'[4]Список изделий'!AE2545","v":0},{"$f":"'[4]Список изделий'!AF2545","v":"00:00:00"},{"$f":"'[4]Список изделий'!AY2545","v":0},{"$f":"'[4]Список изделий'!AZ2545","v":"00:00:00"},-43153,-43153,0,0,{"$f":"'[4]Список изделий'!BR2545","v":0},0]
[1133,{"$f":"'[4]Список изделий'!D2627","v":33},{"$f":"'[4]Список изделий'!E2627","v":0},{"$f":"'[4]Список изделий'!F2627","v":"Проектно-конструкторская документация для светового короба"},{"$f":"'[4]Список изделий'!I2627","v":0},{"$f":"'[4]Список изделий'!X2627","v":0},{"$f":"'[4]Список изделий'!Y2627","v":0},{"$f":"'[4]Список изделий'!Z2627","v":0},{"$f":"'[4]Список изделий'!AA2627","v":0},{"$f":"'[4]Список изделий'!AB2627","v":0},{"$f":"'[4]Список изделий'!AC2627","v":"x"},{"$f":"'[4]Список изделий'!AD2627","v":0},{"$f":"'[4]Список изделий'!AE2627","v":0},{"$f":"'[4]Список изделий'!AF2627","v":"00:00:00"},{"$f":"'[4]Список изделий'!AY2627","v":0},{"$f":"'[4]Список изделий'!AZ2627","v":"00:00:00"},-43153,-43153,0,0,{"$f":"'[4]Список изделий'!BR2627","v":0},0]
[1134,{"$f":"'[4]Список изделий'!D2709","v":34},{"$f":"'[4]Список изделий'!E2709","v":0},{"$f":"'[4]Список изделий'!F2709","v":"Электропроект для светового короба"},{"$f":"'[4]Список изделий'!I2709","v":0},{"$f":"'[4]Список изделий'!X2709","v":0},{"$f":"'[4]Список изделий'!Y2709","v":0},{"$f":"'[4]Список изделий'!Z2709","v":0},{"$f":"'[4]Список изделий'!AA2709","v":0},{"$f":"'[4]Список изделий'!AB2709","v":0},{"$f":"'[4]Список изделий'!AC2709","v":"x"},{"$f":"'[4]Список изделий'!AD2709","v":0},{"$f":"'[4]Список изделий'!AE2709","v":0},{"$f":"'[4]Список изделий'!AF2709","v":"00:00:00"},{"$f":"'[4]Список изделий'!AY2709","v":0},{"$f":"'[4]Список изделий'!AZ2709","v":"00:00:00"},-43153,-43153,0,0,{"$f":"'[4]Список изделий'!BR2709","v":0},0]
[1135,{"$f":"'[4]Список изделий'!D2791","v":35},{"$f":"'[4]Список изделий'!E2791","v":0},{"$f":"'[4]Список изделий'!F2791","v":"Баннеры (Праздник 7500х2400) и  (Праздник 570х2400)"},{"$f":"'[4]Список изделий'!I2791","v":0},{"$f":"'[4]Список изделий'!X2791","v":0},{"$f":"'[4]Список изделий'!Y2791","v":0},{"$f":"'[4]Список изделий'!Z2791","v":0},{"$f":"'[4]Список изделий'!AA2791","v":0},{"$f":"'[4]Список изделий'!AB2791","v":0},{"$f":"'[4]Список изделий'!AC2791","v":"x"},{"$f":"'[4]Список изделий'!AD2791","v":0},{"$f":"'[4]Список изделий'!AE2791","v":0},{"$f":"'[4]Список изделий'!AF2791","v":"00:00:00"},{"$f":"'[4]Список изделий'!AY2791","v":0},{"$f":"'[4]Список изделий'!AZ2791","v":"00:00:00"},-43153,-43153,0,0,{"$f":"'[4]Список изделий'!BR2791","v":0},0]
[917,{"$f":"'[12]Список изделий'!D1315","v":17},{"$f":"'[12]Список изделий'!E1315","v":"Пер-прибреж-17"},{"$f":"'[12]Список изделий'!F1315","v":"Стикер на заднюю часть прайсдисплея ФРОВ (2 вида-комплект)(к-во предварительное)"},{"$f":"'[12]Список изделий'!I1315","v":20},{"$f":"'[12]Список изделий'!X1315","v":"ГМА"},{"$f":"'[12]Список изделий'!Y1315","v":"Микуло"},{"$f":"'[12]Список изделий'!Z1315","v":"Закурдаев"},{"$f":"'[12]Список изделий'!AA1315","v":"Замотаев"},{"$f":"'[12]Список изделий'!AB1315","v":0},{"$f":"'[12]Список изделий'!AC1315","v":"x"},{"$f":"'[12]Список изделий'!AD1315","v":0},{"$f":"'[12]Список изделий'!AE1315","v":0},{"$f":"'[12]Список изделий'!AF1315","v":"2018-03-01"},{"$f":"'[12]Список изделий'!AY1315","v":7},{"$f":"'[12]Список изделий'!AZ1315","v":"2018-02-23"},-6,1,1,1,{"$f":"'[12]Список изделий'!BR1315","v":"\\\\SERVER\\Data1\\П\\Перекресток\\2018\\ТЕХНИЧЕСКАЯ ДОКУМЕНТАЦИЯ\\17-Стикер-задник_ПД_ФРОВ\\Сборка\\стикеры_зад_ПД-ФРОВ-сборка.cdr"},1]
[1137,{"$f":"'[4]Список изделий'!D2955","v":37},{"$f":"'[4]Список изделий'!E2955","v":0},{"$f":"'[4]Список изделий'!F2955","v":"Монтаж скайтреков"},{"$f":"'[4]Список изделий'!I2955","v":0},{"$f":"'[4]Список изделий'!X2955","v":0},{"$f":"'[4]Список изделий'!Y2955","v":0},{"$f":"'[4]Список изделий'!Z2955","v":0},{"$f":"'[4]Список изделий'!AA2955","v":0},{"$f":"'[4]Список изделий'!AB2955","v":0},{"$f":"'[4]Список изделий'!AC2955","v":"x"},{"$f":"'[4]Список изделий'!AD2955","v":0},{"$f":"'[4]Список изделий'!AE2955","v":0},{"$f":"'[4]Список изделий'!AF2955","v":"00:00:00"},{"$f":"'[4]Список изделий'!AY2955","v":0},{"$f":"'[4]Список изделий'!AZ2955","v":"00:00:00"},-43153,-43153,0,0,{"$f":"'[4]Список изделий'!BR2955","v":0},0]
[919,{"$f":"'[12]Список изделий'!D1479","v":19},{"$f":"'[12]Список изделий'!E1479","v":"Пер-прибреж-19"},{"$f":"'[12]Список изделий'!F1479","v":"комплект ПРОТЕУС"},{"$f":"'[12]Список изделий'!I1479","v":1},{"$f":"'[12]Список изделий'!X1479","v":"ГМА"},{"$f":"'[12]Список изделий'!Y1479","v":"Микуло"},{"$f":"'[12]Список изделий'!Z1479","v":"Закурдаев"},{"$f":"'[12]Список изделий'!AA1479","v":"Замотаев"},{"$f":"'[12]Список изделий'!AB1479","v":0},{"$f":"'[12]Список изделий'!AC1479","v":"x"},{"$f":"'[12]Список изделий'!AD1479","v":0},{"$f":"'[12]Список изделий'!AE1479","v":0},{"$f":"'[12]Список изделий'!AF1479","v":"2018-03-01"},{"$f":"'[12]Список изделий'!AY1479","v":7},{"$f":"'[12]Список изделий'!AZ1479","v":"2018-02-23"},-6,1,0,0,{"$f":"'[12]Список изделий'!BR1479","v":0},0]
[1139,{"$f":"'[4]Список изделий'!D3119","v":39},{"$f":"'[4]Список изделий'!E3119","v":0},{"$f":"'[4]Список изделий'!F3119","v":"Фризы стеллажные \"Хлеб\" плоский двухсторонний"},{"$f":"'[4]Список изделий'!I3119","v":0},{"$f":"'[4]Список изделий'!X3119","v":0},{"$f":"'[4]Список изделий'!Y3119","v":0},{"$f":"'[4]Список изделий'!Z3119","v":0},{"$f":"'[4]Список изделий'!AA3119","v":0},{"$f":"'[4]Список изделий'!AB3119","v":0},{"$f":"'[4]Список изделий'!AC3119","v":"x"},{"$f":"'[4]Список изделий'!AD3119","v":0},{"$f":"'[4]Список изделий'!AE3119","v":0},{"$f":"'[4]Список изделий'!AF3119","v":"00:00:00"},{"$f":"'[4]Список изделий'!AY3119","v":0},{"$f":"'[4]Список изделий'!AZ3119","v":"00:00:00"},-43153,-43153,0,0,{"$f":"'[4]Список изделий'!BR3119","v":0},0]
[921,{"$f":"'[12]Список изделий'!D1643","v":21},{"$f":"'[12]Список изделий'!E1643","v":"Пер-прибреж-21"},{"$f":"'[12]Список изделий'!F1643","v":"Разделители в алкоголь"},{"$f":"'[12]Список изделий'!I1643","v":60},{"$f":"'[12]Список изделий'!X1643","v":"ГМА"},{"$f":"'[12]Список изделий'!Y1643","v":"Микуло"},{"$f":"'[12]Список изделий'!Z1643","v":"Закурдаев"},{"$f":"'[12]Список изделий'!AA1643","v":"Замотаев"},{"$f":"'[12]Список изделий'!AB1643","v":0},{"$f":"'[12]Список изделий'!AC1643","v":"х"},{"$f":"'[12]Список изделий'!AD1643","v":0},{"$f":"'[12]Список изделий'!AE1643","v":0},{"$f":"'[12]Список изделий'!AF1643","v":"2018-03-01"},{"$f":"'[12]Список изделий'!AY1643","v":7},{"$f":"'[12]Список изделий'!AZ1643","v":"2018-02-23"},-6,1,1,1,{"$f":"'[12]Список изделий'!BR1643","v":0},1]
[924,{"$f":"'[12]Список изделий'!D1889","v":24},{"$f":"'[12]Список изделий'!E1889","v":"Пер-прибреж-24"},{"$f":"'[12]Список изделий'!F1889","v":"Оформление холодильника Икра"},{"$f":"'[12]Список изделий'!I1889","v":1},{"$f":"'[12]Список изделий'!X1889","v":"ГМА"},{"$f":"'[12]Список изделий'!Y1889","v":"Микуло"},{"$f":"'[12]Список изделий'!Z1889","v":"Закурдаев"},{"$f":"'[12]Список изделий'!AA1889","v":"Замотаев"},{"$f":"'[12]Список изделий'!AB1889","v":0},{"$f":"'[12]Список изделий'!AC1889","v":"x"},{"$f":"'[12]Список изделий'!AD1889","v":0},{"$f":"'[12]Список изделий'!AE1889","v":0},{"$f":"'[12]Список изделий'!AF1889","v":"2018-03-01"},{"$f":"'[12]Список изделий'!AY1889","v":7},{"$f":"'[12]Список изделий'!AZ1889","v":"2018-02-23"},-6,1,0,0,{"$f":"'[12]Список изделий'!BR1889","v":"\\\\SERVER\\Data1\\П\\Перекресток\\2018\\МОСКВА_18\\Балаклавский пр. 16А\\Техничка\\24-холодильник_ИКРА"},0]
[925,{"$f":"'[12]Список изделий'!D1971","v":25},{"$f":"'[12]Список изделий'!E1971","v":"Пер-прибреж-25"},{"$f":"'[12]Список изделий'!F1971","v":"Оформление Мясной Разруб"},{"$f":"'[12]Список изделий'!I1971","v":1},{"$f":"'[12]Список изделий'!X1971","v":"ГМА"},{"$f":"'[12]Список изделий'!Y1971","v":"Микуло"},{"$f":"'[12]Список изделий'!Z1971","v":"Закурдаев"},{"$f":"'[12]Список изделий'!AA1971","v":"Замотаев"},{"$f":"'[12]Список изделий'!AB1971","v":0},{"$f":"'[12]Список изделий'!AC1971","v":"x"},{"$f":"'[12]Список изделий'!AD1971","v":0},{"$f":"'[12]Список изделий'!AE1971","v":0},{"$f":"'[12]Список изделий'!AF1971","v":"2018-03-01"},{"$f":"'[12]Список изделий'!AY1971","v":7},{"$f":"'[12]Список изделий'!AZ1971","v":"2018-02-23"},-6,1,1,1,{"$f":"'[12]Список изделий'!BR1971","v":"\\\\SERVER\\Data1\\П\\Перекресток\\2018\\МОСКВА_18\\Балаклавский пр. 16А\\Техничка\\25-Мясной_разруб"},1]
[1143,{"$f":"'[4]Список изделий'!D3447","v":43},{"$f":"'[4]Список изделий'!E3447","v":"Пер-Наст-43"},{"$f":"'[4]Список изделий'!F3447","v":"Оклейка люков"},{"$f":"'[4]Список изделий'!I3447","v":3},{"$f":"'[4]Список изделий'!X3447","v":"ГМА"},{"$f":"'[4]Список изделий'!Y3447","v":"Микуло"},{"$f":"'[4]Список изделий'!Z3447","v":"Закурдаев"},{"$f":"'[4]Список изделий'!AA3447","v":"Замотаев"},{"$f":"'[4]Список изделий'!AB3447","v":0},{"$f":"'[4]Список изделий'!AC3447","v":"x"},{"$f":"'[4]Список изделий'!AD3447","v":0},{"$f":"'[4]Список изделий'!AE3447","v":0},{"$f":"'[4]Список изделий'!AF3447","v":"2018-02-20"},{"$f":"'[4]Список изделий'!AY3447","v":8},{"$f":"'[4]Список изделий'!AZ3447","v":"2018-02-14"},-16,-8,0,0,{"$f":"'[4]Список изделий'!BR3447","v":"\\\\SERVER\\Data1\\П\\Перекресток\\2018\\ОКЕЙ_Перекресток\\Наставников 33\\техничка\\43-оклейка люков\\Сборка\\Оклейка люков сборка.cdr"},0]
[927,{"$f":"'[12]Список изделий'!D2135","v":27},{"$f":"'[12]Список изделий'!E2135","v":"Пер-прибреж-27"},{"$f":"'[12]Список изделий'!F2135","v":"Оформление отдела Быстро и вкусно"},{"$f":"'[12]Список изделий'!I2135","v":4},{"$f":"'[12]Список изделий'!X2135","v":"ГМА"},{"$f":"'[12]Список изделий'!Y2135","v":"Микуло"},{"$f":"'[12]Список изделий'!Z2135","v":"Закурдаев"},{"$f":"'[12]Список изделий'!AA2135","v":"Замотаев"},{"$f":"'[12]Список изделий'!AB2135","v":0},{"$f":"'[12]Список изделий'!AC2135","v":"x"},{"$f":"'[12]Список изделий'!AD2135","v":0},{"$f":"'[12]Список изделий'!AE2135","v":0},{"$f":"'[12]Список изделий'!AF2135","v":"2018-03-01"},{"$f":"'[12]Список изделий'!AY2135","v":7},{"$f":"'[12]Список изделий'!AZ2135","v":"2018-02-23"},-6,1,1,1,{"$f":"'[12]Список изделий'!BR2135","v":"\\\\SERVER\\Data1\\П\\Перекресток\\2018\\ТЕХНИЧЕСКАЯ ДОКУМЕНТАЦИЯ\\27-Быстро_и_вкусно\\Сборка\\БиВ-комплект.jpg"},1]
[1145,{"$f":"'[4]Список изделий'!D3611","v":45},{"$f":"'[4]Список изделий'!E3611","v":0},{"$f":"'[4]Список изделий'!F3611","v":"таблички и стикеры по навигации"},{"$f":"'[4]Список изделий'!I3611","v":0},{"$f":"'[4]Список изделий'!X3611","v":0},{"$f":"'[4]Список изделий'!Y3611","v":0},{"$f":"'[4]Список изделий'!Z3611","v":0},{"$f":"'[4]Список изделий'!AA3611","v":0},{"$f":"'[4]Список изделий'!AB3611","v":0},{"$f":"'[4]Список изделий'!AC3611","v":"x"},{"$f":"'[4]Список изделий'!AD3611","v":0},{"$f":"'[4]Список изделий'!AE3611","v":0},{"$f":"'[4]Список изделий'!AF3611","v":"00:00:00"},{"$f":"'[4]Список изделий'!AY3611","v":0},{"$f":"'[4]Список изделий'!AZ3611","v":"00:00:00"},-43153,-43153,0,0,{"$f":"'[4]Список изделий'!BR3611","v":0},0]
[928,{"$f":"'[12]Список изделий'!D2217","v":28},{"$f":"'[12]Список изделий'!E2217","v":"Пер-прибреж-28"},{"$f":"'[12]Список изделий'!F2217","v":"Стойка деревянная \"Перекресток\" с крючками"},{"$f":"'[12]Список изделий'!I2217","v":1},{"$f":"'[12]Список изделий'!X2217","v":"ГМА"},{"$f":"'[12]Список изделий'!Y2217","v":"Микуло"},{"$f":"'[12]Список изделий'!Z2217","v":"Закурдаев"},{"$f":"'[12]Список изделий'!AA2217","v":"Замотаев"},{"$f":"'[12]Список изделий'!AB2217","v":0},{"$f":"'[12]Список изделий'!AC2217","v":"x"},{"$f":"'[12]Список изделий'!AD2217","v":0},{"$f":"'[12]Список изделий'!AE2217","v":0},{"$f":"'[12]Список изделий'!AF2217","v":"2018-03-01"},{"$f":"'[12]Список изделий'!AY2217","v":7},{"$f":"'[12]Список изделий'!AZ2217","v":"2018-02-23"},-6,1,1,1,{"$f":"'[12]Список изделий'!BR2217","v":0},1]
[930,{"$f":"'[12]Список изделий'!D2381","v":30},{"$f":"'[12]Список изделий'!E2381","v":"Пер-прибреж-30"},{"$f":"'[12]Список изделий'!F2381","v":"Оформление отдела Детство"},{"$f":"'[12]Список изделий'!I2381","v":1},{"$f":"'[12]Список изделий'!X2381","v":"ГМА"},{"$f":"'[12]Список изделий'!Y2381","v":"Микуло"},{"$f":"'[12]Список изделий'!Z2381","v":"Закурдаев"},{"$f":"'[12]Список изделий'!AA2381","v":"Замотаев"},{"$f":"'[12]Список изделий'!AB2381","v":0},{"$f":"'[12]Список изделий'!AC2381","v":"x"},{"$f":"'[12]Список изделий'!AD2381","v":0},{"$f":"'[12]Список изделий'!AE2381","v":0},{"$f":"'[12]Список изделий'!AF2381","v":"2018-03-01"},{"$f":"'[12]Список изделий'!AY2381","v":7},{"$f":"'[12]Список изделий'!AZ2381","v":"2018-02-23"},-6,1,0,0,{"$f":"'[12]Список изделий'!BR2381","v":0},0]
[931,{"$f":"'[12]Список изделий'!D2463","v":31},{"$f":"'[12]Список изделий'!E2463","v":"Пер-прибреж-31"},{"$f":"'[12]Список изделий'!F2463","v":"Подвес на 3 кармана в проходы между касс (комплект с пп печатью)"},{"$f":"'[12]Список изделий'!I2463","v":4},{"$f":"'[12]Список изделий'!X2463","v":"ГМА"},{"$f":"'[12]Список изделий'!Y2463","v":"Микуло"},{"$f":"'[12]Список изделий'!Z2463","v":"Закурдаев"},{"$f":"'[12]Список изделий'!AA2463","v":"Замотаев"},{"$f":"'[12]Список изделий'!AB2463","v":0},{"$f":"'[12]Список изделий'!AC2463","v":"x"},{"$f":"'[12]Список изделий'!AD2463","v":0},{"$f":"'[12]Список изделий'!AE2463","v":0},{"$f":"'[12]Список изделий'!AF2463","v":"2018-03-01"},{"$f":"'[12]Список изделий'!AY2463","v":7},{"$f":"'[12]Список изделий'!AZ2463","v":"2018-02-23"},-6,1,1,1,{"$f":"'[12]Список изделий'!BR2463","v":0},1]
[936,{"$f":"'[12]Список изделий'!D2873","v":36},{"$f":"'[12]Список изделий'!E2873","v":"Пер-прибреж-36"},{"$f":"'[12]Список изделий'!F2873","v":"Служебные таблички (комплект)"},{"$f":"'[12]Список изделий'!I2873","v":1},{"$f":"'[12]Список изделий'!X2873","v":"ГМА"},{"$f":"'[12]Список изделий'!Y2873","v":"Микуло"},{"$f":"'[12]Список изделий'!Z2873","v":"Закурдаев"},{"$f":"'[12]Список изделий'!AA2873","v":"Замотаев"},{"$f":"'[12]Список изделий'!AB2873","v":0},{"$f":"'[12]Список изделий'!AC2873","v":"x"},{"$f":"'[12]Список изделий'!AD2873","v":0},{"$f":"'[12]Список изделий'!AE2873","v":0},{"$f":"'[12]Список изделий'!AF2873","v":"2018-03-01"},{"$f":"'[12]Список изделий'!AY2873","v":7},{"$f":"'[12]Список изделий'!AZ2873","v":"2018-02-23"},-6,1,0,0,{"$f":"'[12]Список изделий'!BR2873","v":"\\\\SERVER\\Data1\\П\\Перекресток\\2018\\МОСКВА_18\\Балаклавский пр. 16А\\Техничка\\36-Служебные_таблички"},0]
[940,{"$f":"'[12]Список изделий'!D3201","v":40},{"$f":"'[12]Список изделий'!E3201","v":"Пер-прибреж-40"},{"$f":"'[12]Список изделий'!F3201","v":"Информационные стенды (фото, служебный 7 (2шт), служебный А4-А3)"},{"$f":"'[12]Список изделий'!I3201","v":4},{"$f":"'[12]Список изделий'!X3201","v":"ГМА"},{"$f":"'[12]Список изделий'!Y3201","v":"Микуло"},{"$f":"'[12]Список изделий'!Z3201","v":"Закурдаев"},{"$f":"'[12]Список изделий'!AA3201","v":"Замотаев"},{"$f":"'[12]Список изделий'!AB3201","v":0},{"$f":"'[12]Список изделий'!AC3201","v":"x"},{"$f":"'[12]Список изделий'!AD3201","v":0},{"$f":"'[12]Список изделий'!AE3201","v":0},{"$f":"'[12]Список изделий'!AF3201","v":"2018-03-01"},{"$f":"'[12]Список изделий'!AY3201","v":7},{"$f":"'[12]Список изделий'!AZ3201","v":"2018-02-23"},-6,1,1,1,{"$f":"'[12]Список изделий'!BR3201","v":"\\\\SERVER\\Data1\\П\\Перекресток\\2018\\ОКЕЙ_Перекресток\\Прибрежная 13\\техничка\\40-Информационные стенды\\Сборка"},1]
[941,{"$f":"'[12]Список изделий'!D3283","v":41},{"$f":"'[12]Список изделий'!E3283","v":"Пер-прибреж-41"},{"$f":"'[12]Список изделий'!F3283","v":"Табличка \"Весы самообслуживания\" (как взвесить)"},{"$f":"'[12]Список изделий'!I3283","v":4},{"$f":"'[12]Список изделий'!X3283","v":"ГМА"},{"$f":"'[12]Список изделий'!Y3283","v":"Микуло"},{"$f":"'[12]Список изделий'!Z3283","v":"Закурдаев"},{"$f":"'[12]Список изделий'!AA3283","v":"Замотаев"},{"$f":"'[12]Список изделий'!AB3283","v":0},{"$f":"'[12]Список изделий'!AC3283","v":"x"},{"$f":"'[12]Список изделий'!AD3283","v":0},{"$f":"'[12]Список изделий'!AE3283","v":0},{"$f":"'[12]Список изделий'!AF3283","v":"2018-03-01"},{"$f":"'[12]Список изделий'!AY3283","v":7},{"$f":"'[12]Список изделий'!AZ3283","v":"2018-02-23"},-6,1,1,1,{"$f":"'[12]Список изделий'!BR3283","v":0},1]
[1152,{"$f":"'[4]Список изделий'!D4185","v":52},{"$f":"'[4]Список изделий'!E4185","v":0},{"$f":"'[4]Список изделий'!F4185","v":0},{"$f":"'[4]Список изделий'!I4185","v":0},{"$f":"'[4]Список изделий'!X4185","v":0},{"$f":"'[4]Список изделий'!Y4185","v":0},{"$f":"'[4]Список изделий'!Z4185","v":0},{"$f":"'[4]Список изделий'!AA4185","v":0},{"$f":"'[4]Список изделий'!AB4185","v":0},{"$f":"'[4]Список изделий'!AC4185","v":"x"},{"$f":"'[4]Список изделий'!AD4185","v":0},{"$f":"'[4]Список изделий'!AE4185","v":0},{"$f":"'[4]Список изделий'!AF4185","v":"00:00:00"},{"$f":"'[4]Список изделий'!AY4185","v":0},{"$f":"'[4]Список изделий'!AZ4185","v":"00:00:00"},-43153,-43153,0,0,{"$f":"'[4]Список изделий'!BR4185","v":0},0]
[1153,{"$f":"'[4]Список изделий'!D4267","v":53},{"$f":"'[4]Список изделий'!E4267","v":0},{"$f":"'[4]Список изделий'!F4267","v":0},{"$f":"'[4]Список изделий'!I4267","v":0},{"$f":"'[4]Список изделий'!X4267","v":0},{"$f":"'[4]Список изделий'!Y4267","v":0},{"$f":"'[4]Список изделий'!Z4267","v":0},{"$f":"'[4]Список изделий'!AA4267","v":0},{"$f":"'[4]Список изделий'!AB4267","v":0},{"$f":"'[4]Список изделий'!AC4267","v":"x"},{"$f":"'[4]Список изделий'!AD4267","v":0},{"$f":"'[4]Список изделий'!AE4267","v":0},{"$f":"'[4]Список изделий'!AF4267","v":"00:00:00"},{"$f":"'[4]Список изделий'!AY4267","v":0},{"$f":"'[4]Список изделий'!AZ4267","v":"00:00:00"},-43153,-43153,0,0,{"$f":"'[4]Список изделий'!BR4267","v":0},0]
[942,{"$f":"'[12]Список изделий'!D3365","v":42},{"$f":"'[12]Список изделий'!E3365","v":"Пер-прибреж-42"},{"$f":"'[12]Список изделий'!F3365","v":"Табличка Контрольные весы"},{"$f":"'[12]Список изделий'!I3365","v":1},{"$f":"'[12]Список изделий'!X3365","v":"ГМА"},{"$f":"'[12]Список изделий'!Y3365","v":"Микуло"},{"$f":"'[12]Список изделий'!Z3365","v":"Закурдаев"},{"$f":"'[12]Список изделий'!AA3365","v":"Замотаев"},{"$f":"'[12]Список изделий'!AB3365","v":0},{"$f":"'[12]Список изделий'!AC3365","v":"x"},{"$f":"'[12]Список изделий'!AD3365","v":0},{"$f":"'[12]Список изделий'!AE3365","v":0},{"$f":"'[12]Список изделий'!AF3365","v":"2018-03-01"},{"$f":"'[12]Список изделий'!AY3365","v":7},{"$f":"'[12]Список изделий'!AZ3365","v":"2018-02-23"},{"$f":"IF(O1156=\"нет в заказе\",\"нет в заказе\",-(TODAY()-(P1156-O1156)))","v":-6},{"$f":"IF(Q1156=\"нет в заказе\",\"нет взаказе\",-(IF(O1156=\"нет в заказе\",\"нет в заказе\",TODAY()-P1156)))","v":1},1,1,{"$f":"'[12]Список изделий'!BR3365","v":"\\\\SERVER\\Data1\\П\\Перекресток\\2018\\МОСКВА_18\\Балаклавский пр. 16А\\Техничка\\42-Табличка_Контрольные_Весы"},{"$f":"IF(S1156>=0,S1156,IF(T1156>S1156,T1156,S1156))","v":1}]
[1155,{"$f":"'[4]Список изделий'!D4431","v":55},{"$f":"'[4]Список изделий'!E4431","v":0},{"$f":"'[4]Список изделий'!F4431","v":"Табличка \"режим работы\" 24 часа"},{"$f":"'[4]Список изделий'!I4431","v":0},{"$f":"'[4]Список изделий'!X4431","v":0},{"$f":"'[4]Список изделий'!Y4431","v":0},{"$f":"'[4]Список изделий'!Z4431","v":0},{"$f":"'[4]Список изделий'!AA4431","v":0},{"$f":"'[4]Список изделий'!AB4431","v":0},{"$f":"'[4]Список изделий'!AC4431","v":"x"},{"$f":"'[4]Список изделий'!AD4431","v":0},{"$f":"'[4]Список изделий'!AE4431","v":0},{"$f":"'[4]Список изделий'!AF4431","v":"00:00:00"},{"$f":"'[4]Список изделий'!AY4431","v":0},{"$f":"'[4]Список изделий'!AZ4431","v":"00:00:00"},-43153,-43153,0,0,{"$f":"'[4]Список изделий'!BR4431","v":0},0]
[944,{"$f":"'[12]Список изделий'!D3529","v":44},{"$f":"'[12]Список изделий'!E3529","v":"Пер-прибреж-44"},{"$f":"'[12]Список изделий'!F3529","v":"Алкогольные разделители 200х38"},{"$f":"'[12]Список изделий'!I3529","v":60},{"$f":"'[12]Список изделий'!X3529","v":"ГМА"},{"$f":"'[12]Список изделий'!Y3529","v":"Микуло"},{"$f":"'[12]Список изделий'!Z3529","v":"Закурдаев"},{"$f":"'[12]Список изделий'!AA3529","v":"Замотаев"},{"$f":"'[12]Список изделий'!AB3529","v":0},{"$f":"'[12]Список изделий'!AC3529","v":"x"},{"$f":"'[12]Список изделий'!AD3529","v":0},{"$f":"'[12]Список изделий'!AE3529","v":0},{"$f":"'[12]Список изделий'!AF3529","v":"2018-03-01"},{"$f":"'[12]Список изделий'!AY3529","v":7},{"$f":"'[12]Список изделий'!AZ3529","v":"2018-02-23"},-6,1,1,1,{"$f":"'[12]Список изделий'!BR3529","v":"\\\\SERVER\\Data1\\П\\Перекресток\\2018\\МОСКВА_18\\Балаклавский пр. 16А\\Техничка\\44-Алкогольные_разделители-200х38"},1]
[946,{"$f":"'[12]Список изделий'!D3693","v":46},{"$f":"'[12]Список изделий'!E3693","v":"Пер-прибреж-46"},{"$f":"'[12]Список изделий'!F3693","v":"Табличка двухст. \"Суперцена\" для подвеса к ценникодержателю ФРОВ"},{"$f":"'[12]Список изделий'!I3693","v":30},{"$f":"'[12]Список изделий'!X3693","v":"ГМА"},{"$f":"'[12]Список изделий'!Y3693","v":"Микуло"},{"$f":"'[12]Список изделий'!Z3693","v":"Закурдаев"},{"$f":"'[12]Список изделий'!AA3693","v":"Замотаев"},{"$f":"'[12]Список изделий'!AB3693","v":0},{"$f":"'[12]Список изделий'!AC3693","v":"x"},{"$f":"'[12]Список изделий'!AD3693","v":0},{"$f":"'[12]Список изделий'!AE3693","v":0},{"$f":"'[12]Список изделий'!AF3693","v":"2018-03-01"},{"$f":"'[12]Список изделий'!AY3693","v":7},{"$f":"'[12]Список изделий'!AZ3693","v":"2018-02-23"},-6,1,0,0,{"$f":"'[12]Список изделий'!BR3693","v":0},0]
[947,{"$f":"'[12]Список изделий'!D3775","v":47},{"$f":"'[12]Список изделий'!E3775","v":"Пер-прибреж-47"},{"$f":"'[12]Список изделий'!F3775","v":"Доска РТО"},{"$f":"'[12]Список изделий'!I3775","v":1},{"$f":"'[12]Список изделий'!X3775","v":"ГМА"},{"$f":"'[12]Список изделий'!Y3775","v":"Микуло"},{"$f":"'[12]Список изделий'!Z3775","v":"Закурдаев"},{"$f":"'[12]Список изделий'!AA3775","v":"Замотаев"},{"$f":"'[12]Список изделий'!AB3775","v":0},{"$f":"'[12]Список изделий'!AC3775","v":"x"},{"$f":"'[12]Список изделий'!AD3775","v":0},{"$f":"'[12]Список изделий'!AE3775","v":0},{"$f":"'[12]Список изделий'!AF3775","v":"2018-03-01"},{"$f":"'[12]Список изделий'!AY3775","v":7},{"$f":"'[12]Список изделий'!AZ3775","v":"2018-02-23"},-6,1,0,0,{"$f":"'[12]Список изделий'!BR3775","v":0},0]
[948,{"$f":"'[12]Список изделий'!D3857","v":48},{"$f":"'[12]Список изделий'!E3857","v":"Пер-прибреж-48"},{"$f":"'[12]Список изделий'!F3857","v":"Вывеска \"запрещающие знаки\" подвесная двусторонняя"},{"$f":"'[12]Список изделий'!I3857","v":1},{"$f":"'[12]Список изделий'!X3857","v":"ГМА"},{"$f":"'[12]Список изделий'!Y3857","v":"Микуло"},{"$f":"'[12]Список изделий'!Z3857","v":"Закурдаев"},{"$f":"'[12]Список изделий'!AA3857","v":"Замотаев"},{"$f":"'[12]Список изделий'!AB3857","v":0},{"$f":"'[12]Список изделий'!AC3857","v":"x"},{"$f":"'[12]Список изделий'!AD3857","v":0},{"$f":"'[12]Список изделий'!AE3857","v":0},{"$f":"'[12]Список изделий'!AF3857","v":"2018-03-01"},{"$f":"'[12]Список изделий'!AY3857","v":7},{"$f":"'[12]Список изделий'!AZ3857","v":"2018-02-23"},-6,1,1,1,{"$f":"'[12]Список изделий'!BR3857","v":0},1]
[1160,{"$f":"'[4]Список изделий'!D4841","v":60},{"$f":"'[4]Список изделий'!E4841","v":0},{"$f":"'[4]Список изделий'!F4841","v":" Фриз стеллажный объемный. Двухсторонний СУПЕРЦЕНА. Обратная сторона - имитация стелажного фриза Товары для дома Красота уход"},{"$f":"'[4]Список изделий'!I4841","v":0},{"$f":"'[4]Список изделий'!X4841","v":0},{"$f":"'[4]Список изделий'!Y4841","v":0},{"$f":"'[4]Список изделий'!Z4841","v":0},{"$f":"'[4]Список изделий'!AA4841","v":0},{"$f":"'[4]Список изделий'!AB4841","v":0},{"$f":"'[4]Список изделий'!AC4841","v":"x"},{"$f":"'[4]Список изделий'!AD4841","v":0},{"$f":"'[4]Список изделий'!AE4841","v":0},{"$f":"'[4]Список изделий'!AF4841","v":"00:00:00"},{"$f":"'[4]Список изделий'!AY4841","v":0},{"$f":"'[4]Список изделий'!AZ4841","v":"00:00:00"},-43153,-43153,0,0,{"$f":"'[4]Список изделий'!BR4841","v":0},0]
[949,{"$f":"'[12]Список изделий'!D3939","v":49},{"$f":"'[12]Список изделий'!E3939","v":"Пер-прибреж-49"},{"$f":"'[12]Список изделий'!F3939","v":"Вывеска \"камеры хранения\""},{"$f":"'[12]Список изделий'!I3939","v":1},{"$f":"'[12]Список изделий'!X3939","v":"ГМА"},{"$f":"'[12]Список изделий'!Y3939","v":"Микуло"},{"$f":"'[12]Список изделий'!Z3939","v":"Закурдаев"},{"$f":"'[12]Список изделий'!AA3939","v":"Замотаев"},{"$f":"'[12]Список изделий'!AB3939","v":0},{"$f":"'[12]Список изделий'!AC3939","v":"x"},{"$f":"'[12]Список изделий'!AD3939","v":0},{"$f":"'[12]Список изделий'!AE3939","v":0},{"$f":"'[12]Список изделий'!AF3939","v":"2018-03-01"},{"$f":"'[12]Список изделий'!AY3939","v":7},{"$f":"'[12]Список изделий'!AZ3939","v":"2018-02-23"},-6,1,1,1,{"$f":"'[12]Список изделий'!BR3939","v":0},1]
[950,{"$f":"'[12]Список изделий'!D4021","v":50},{"$f":"'[12]Список изделий'!E4021","v":"Пер-прибреж-50"},{"$f":"'[12]Список изделий'!F4021","v":"Вывеска \"Улыбнитесь\" двухсторонняя подвесная"},{"$f":"'[12]Список изделий'!I4021","v":2},{"$f":"'[12]Список изделий'!X4021","v":"ГМА"},{"$f":"'[12]Список изделий'!Y4021","v":"Микуло"},{"$f":"'[12]Список изделий'!Z4021","v":"Закурдаев"},{"$f":"'[12]Список изделий'!AA4021","v":"Замотаев"},{"$f":"'[12]Список изделий'!AB4021","v":0},{"$f":"'[12]Список изделий'!AC4021","v":"x"},{"$f":"'[12]Список изделий'!AD4021","v":0},{"$f":"'[12]Список изделий'!AE4021","v":0},{"$f":"'[12]Список изделий'!AF4021","v":"2018-03-01"},{"$f":"'[12]Список изделий'!AY4021","v":7},{"$f":"'[12]Список изделий'!AZ4021","v":"2018-02-23"},-6,1,1,1,{"$f":"'[12]Список изделий'!BR4021","v":0},1]
[956,{"$f":"'[12]Список изделий'!D4513","v":56},{"$f":"'[12]Список изделий'!E4513","v":"Пер-прибреж-56"},{"$f":"'[12]Список изделий'!F4513","v":"Вывеска-тележки - ВТ"},{"$f":"'[12]Список изделий'!I4513","v":1},{"$f":"'[12]Список изделий'!X4513","v":"ГМА"},{"$f":"'[12]Список изделий'!Y4513","v":"Микуло"},{"$f":"'[12]Список изделий'!Z4513","v":"Закурдаев"},{"$f":"'[12]Список изделий'!AA4513","v":"Замотаев"},{"$f":"'[12]Список изделий'!AB4513","v":0},{"$f":"'[12]Список изделий'!AC4513","v":"x"},{"$f":"'[12]Список изделий'!AD4513","v":0},{"$f":"'[12]Список изделий'!AE4513","v":0},{"$f":"'[12]Список изделий'!AF4513","v":"2018-03-01"},{"$f":"'[12]Список изделий'!AY4513","v":7},{"$f":"'[12]Список изделий'!AZ4513","v":"2018-02-23"},-6,1,1,1,{"$f":"'[12]Список изделий'!BR4513","v":0},1]
[957,{"$f":"'[12]Список изделий'!D4595","v":57},{"$f":"'[12]Список изделий'!E4595","v":"Пер-прибреж-57"},{"$f":"'[12]Список изделий'!F4595","v":"Конструкции \"Суперцена\" треугольная (к-во предварительно)"},{"$f":"'[12]Список изделий'!I4595","v":8},{"$f":"'[12]Список изделий'!X4595","v":"ГМА"},{"$f":"'[12]Список изделий'!Y4595","v":"Микуло"},{"$f":"'[12]Список изделий'!Z4595","v":"Закурдаев"},{"$f":"'[12]Список изделий'!AA4595","v":"Замотаев"},{"$f":"'[12]Список изделий'!AB4595","v":0},{"$f":"'[12]Список изделий'!AC4595","v":"x"},{"$f":"'[12]Список изделий'!AD4595","v":0},{"$f":"'[12]Список изделий'!AE4595","v":0},{"$f":"'[12]Список изделий'!AF4595","v":"2018-03-01"},{"$f":"'[12]Список изделий'!AY4595","v":7},{"$f":"'[12]Список изделий'!AZ4595","v":"2018-02-23"},-6,1,0,0,{"$f":"'[12]Список изделий'!BR4595","v":"\\\\SERVER\\Data1\\П\\Перекресток\\2018\\ОКЕЙ_Перекресток\\Прибрежная 13\\техничка\\57-СУПЕРЦЕНА-треугольная(Призма)"},0]
[958,{"$f":"'[12]Список изделий'!D4677","v":58},{"$f":"'[12]Список изделий'!E4677","v":"Пер-прибреж-58"},{"$f":"'[12]Список изделий'!F4677","v":"Конструкция \"Суперцена\" одинарная, один карман, подвесная к-во предварительное"},{"$f":"'[12]Список изделий'!I4677","v":10},{"$f":"'[12]Список изделий'!X4677","v":"ГМА"},{"$f":"'[12]Список изделий'!Y4677","v":"Микуло"},{"$f":"'[12]Список изделий'!Z4677","v":"Закурдаев"},{"$f":"'[12]Список изделий'!AA4677","v":"Замотаев"},{"$f":"'[12]Список изделий'!AB4677","v":0},{"$f":"'[12]Список изделий'!AC4677","v":"x"},{"$f":"'[12]Список изделий'!AD4677","v":0},{"$f":"'[12]Список изделий'!AE4677","v":0},{"$f":"'[12]Список изделий'!AF4677","v":"2018-03-01"},{"$f":"'[12]Список изделий'!AY4677","v":7},{"$f":"'[12]Список изделий'!AZ4677","v":"2018-02-23"},-6,1,0.5,0.5,{"$f":"'[12]Список изделий'!BR4677","v":"\\\\SERVER\\Data1\\П\\Перекресток\\2018\\ТЕХНИЧЕСКАЯ ДОКУМЕНТАЦИЯ\\58-СУПЕРЦЕНА-одинарная_подвесная\\Сборка\\суперцена_плоская-сборка.cdr"},0.5]
[1166,{"$f":"'[4]Список изделий'!D5333","v":66},{"$f":"'[4]Список изделий'!E5333","v":0},{"$f":"'[4]Список изделий'!F5333","v":"Оформление витрин имиджи двухсторонние"},{"$f":"'[4]Список изделий'!I5333","v":0},{"$f":"'[4]Список изделий'!X5333","v":0},{"$f":"'[4]Список изделий'!Y5333","v":0},{"$f":"'[4]Список изделий'!Z5333","v":0},{"$f":"'[4]Список изделий'!AA5333","v":0},{"$f":"'[4]Список изделий'!AB5333","v":0},{"$f":"'[4]Список изделий'!AC5333","v":"x"},{"$f":"'[4]Список изделий'!AD5333","v":0},{"$f":"'[4]Список изделий'!AE5333","v":0},{"$f":"'[4]Список изделий'!AF5333","v":"00:00:00"},{"$f":"'[4]Список изделий'!AY5333","v":0},{"$f":"'[4]Список изделий'!AZ5333","v":"00:00:00"},-43153,-43153,0,0,{"$f":"'[4]Список изделий'!BR5333","v":0},0]
[1167,{"$f":"'[4]Список изделий'!D5415","v":67},{"$f":"'[4]Список изделий'!E5415","v":0},{"$f":"'[4]Список изделий'!F5415","v":"Фриз стеллажный \"Шапка\" - Восточные сладости (комплект из 3х частей)"},{"$f":"'[4]Список изделий'!I5415","v":0},{"$f":"'[4]Список изделий'!X5415","v":0},{"$f":"'[4]Список изделий'!Y5415","v":0},{"$f":"'[4]Список изделий'!Z5415","v":0},{"$f":"'[4]Список изделий'!AA5415","v":0},{"$f":"'[4]Список изделий'!AB5415","v":0},{"$f":"'[4]Список изделий'!AC5415","v":"x"},{"$f":"'[4]Список изделий'!AD5415","v":0},{"$f":"'[4]Список изделий'!AE5415","v":0},{"$f":"'[4]Список изделий'!AF5415","v":"00:00:00"},{"$f":"'[4]Список изделий'!AY5415","v":0},{"$f":"'[4]Список изделий'!AZ5415","v":"00:00:00"},-43153,-43153,0,0,{"$f":"'[4]Список изделий'!BR5415","v":0},0]
[959,{"$f":"'[12]Список изделий'!D4759","v":59},{"$f":"'[12]Список изделий'!E4759","v":"Пер-прибреж-59"},{"$f":"'[12]Список изделий'!F4759","v":"Стикеры \"Суперцена\", на карманы (треугольные конструкции)"},{"$f":"'[12]Список изделий'!I4759","v":8},{"$f":"'[12]Список изделий'!X4759","v":"ГМА"},{"$f":"'[12]Список изделий'!Y4759","v":"Микуло"},{"$f":"'[12]Список изделий'!Z4759","v":"Закурдаев"},{"$f":"'[12]Список изделий'!AA4759","v":"Замотаев"},{"$f":"'[12]Список изделий'!AB4759","v":0},{"$f":"'[12]Список изделий'!AC4759","v":"x"},{"$f":"'[12]Список изделий'!AD4759","v":0},{"$f":"'[12]Список изделий'!AE4759","v":0},{"$f":"'[12]Список изделий'!AF4759","v":"2018-03-01"},{"$f":"'[12]Список изделий'!AY4759","v":7},{"$f":"'[12]Список изделий'!AZ4759","v":"2018-02-23"},-6,1,1,1,{"$f":"'[12]Список изделий'!BR4759","v":0},1]
[1169,{"$f":"'[4]Список изделий'!D5579","v":69},{"$f":"'[4]Список изделий'!E5579","v":0},{"$f":"'[4]Список изделий'!F5579","v":"Фриз стеллажный \"Шапка\" - Наша марка (разная комплектащия)"},{"$f":"'[4]Список изделий'!I5579","v":0},{"$f":"'[4]Список изделий'!X5579","v":0},{"$f":"'[4]Список изделий'!Y5579","v":0},{"$f":"'[4]Список изделий'!Z5579","v":0},{"$f":"'[4]Список изделий'!AA5579","v":0},{"$f":"'[4]Список изделий'!AB5579","v":0},{"$f":"'[4]Список изделий'!AC5579","v":"x"},{"$f":"'[4]Список изделий'!AD5579","v":0},{"$f":"'[4]Список изделий'!AE5579","v":0},{"$f":"'[4]Список изделий'!AF5579","v":"00:00:00"},{"$f":"'[4]Список изделий'!AY5579","v":0},{"$f":"'[4]Список изделий'!AZ5579","v":"00:00:00"},-43153,-43153,0,0,{"$f":"'[4]Список изделий'!BR5579","v":0},0]
[1170,{"$f":"'[4]Список изделий'!D5661","v":70},{"$f":"'[4]Список изделий'!E5661","v":0},{"$f":"'[4]Список изделий'!F5661","v":"Подвес 2хст. В Bistro \"Перекуси в Перекрестке\""},{"$f":"'[4]Список изделий'!I5661","v":0},{"$f":"'[4]Список изделий'!X5661","v":0},{"$f":"'[4]Список изделий'!Y5661","v":0},{"$f":"'[4]Список изделий'!Z5661","v":0},{"$f":"'[4]Список изделий'!AA5661","v":0},{"$f":"'[4]Список изделий'!AB5661","v":0},{"$f":"'[4]Список изделий'!AC5661","v":"x"},{"$f":"'[4]Список изделий'!AD5661","v":0},{"$f":"'[4]Список изделий'!AE5661","v":0},{"$f":"'[4]Список изделий'!AF5661","v":"00:00:00"},{"$f":"'[4]Список изделий'!AY5661","v":0},{"$f":"'[4]Список изделий'!AZ5661","v":"00:00:00"},-43153,-43153,0,0,{"$f":"'[4]Список изделий'!BR5661","v":0},0]
[1171,{"$f":"'[4]Список изделий'!D5743","v":71},{"$f":"'[4]Список изделий'!E5743","v":0},{"$f":"'[4]Список изделий'!F5743","v":"Вывеска световая клееная \"КАФЕ BISTRO CAFE\""},{"$f":"'[4]Список изделий'!I5743","v":0},{"$f":"'[4]Список изделий'!X5743","v":0},{"$f":"'[4]Список изделий'!Y5743","v":0},{"$f":"'[4]Список изделий'!Z5743","v":0},{"$f":"'[4]Список изделий'!AA5743","v":0},{"$f":"'[4]Список изделий'!AB5743","v":0},{"$f":"'[4]Список изделий'!AC5743","v":"x"},{"$f":"'[4]Список изделий'!AD5743","v":0},{"$f":"'[4]Список изделий'!AE5743","v":0},{"$f":"'[4]Список изделий'!AF5743","v":"00:00:00"},{"$f":"'[4]Список изделий'!AY5743","v":0},{"$f":"'[4]Список изделий'!AZ5743","v":"00:00:00"},-43153,-43153,0,0,{"$f":"'[4]Список изделий'!BR5743","v":0},0]
[1172,{"$f":"'[4]Список изделий'!D5825","v":72},{"$f":"'[4]Список изделий'!E5825","v":0},{"$f":"'[4]Список изделий'!F5825","v":"Плоская эмблема комплект (Ложки, Бургер, Чашка)"},{"$f":"'[4]Список изделий'!I5825","v":0},{"$f":"'[4]Список изделий'!X5825","v":0},{"$f":"'[4]Список изделий'!Y5825","v":0},{"$f":"'[4]Список изделий'!Z5825","v":0},{"$f":"'[4]Список изделий'!AA5825","v":0},{"$f":"'[4]Список изделий'!AB5825","v":0},{"$f":"'[4]Список изделий'!AC5825","v":"x"},{"$f":"'[4]Список изделий'!AD5825","v":0},{"$f":"'[4]Список изделий'!AE5825","v":0},{"$f":"'[4]Список изделий'!AF5825","v":"00:00:00"},{"$f":"'[4]Список изделий'!AY5825","v":0},{"$f":"'[4]Список изделий'!AZ5825","v":"00:00:00"},-43153,-43153,0,0,{"$f":"'[4]Список изделий'!BR5825","v":0},0]
[1173,{"$f":"'[4]Список изделий'!D5907","v":73},{"$f":"'[4]Список изделий'!E5907","v":0},{"$f":"'[4]Список изделий'!F5907","v":"Подвес 2хст. В Bistro \"Тарелки/Стол с чашками\""},{"$f":"'[4]Список изделий'!I5907","v":0},{"$f":"'[4]Список изделий'!X5907","v":0},{"$f":"'[4]Список изделий'!Y5907","v":0},{"$f":"'[4]Список изделий'!Z5907","v":0},{"$f":"'[4]Список изделий'!AA5907","v":0},{"$f":"'[4]Список изделий'!AB5907","v":0},{"$f":"'[4]Список изделий'!AC5907","v":"x"},{"$f":"'[4]Список изделий'!AD5907","v":0},{"$f":"'[4]Список изделий'!AE5907","v":0},{"$f":"'[4]Список изделий'!AF5907","v":"00:00:00"},{"$f":"'[4]Список изделий'!AY5907","v":0},{"$f":"'[4]Список изделий'!AZ5907","v":"00:00:00"},-43153,-43153,0,0,{"$f":"'[4]Список изделий'!BR5907","v":0},0]
[1174,{"$f":"'[4]Список изделий'!D5989","v":74},{"$f":"'[4]Список изделий'!E5989","v":0},{"$f":"'[4]Список изделий'!F5989","v":"Подвес 2хст. В Bistro \"Присесть- поесть\""},{"$f":"'[4]Список изделий'!I5989","v":0},{"$f":"'[4]Список изделий'!X5989","v":0},{"$f":"'[4]Список изделий'!Y5989","v":0},{"$f":"'[4]Список изделий'!Z5989","v":0},{"$f":"'[4]Список изделий'!AA5989","v":0},{"$f":"'[4]Список изделий'!AB5989","v":0},{"$f":"'[4]Список изделий'!AC5989","v":"x"},{"$f":"'[4]Список изделий'!AD5989","v":0},{"$f":"'[4]Список изделий'!AE5989","v":0},{"$f":"'[4]Список изделий'!AF5989","v":"00:00:00"},{"$f":"'[4]Список изделий'!AY5989","v":0},{"$f":"'[4]Список изделий'!AZ5989","v":"00:00:00"},-43153,-43153,0,0,{"$f":"'[4]Список изделий'!BR5989","v":0},0]
[1175,{"$f":"'[4]Список изделий'!D6071","v":75},{"$f":"'[4]Список изделий'!E6071","v":0},{"$f":"'[4]Список изделий'!F6071","v":"Световой короб круглый подвесной одност. \"BISTRO\" в витрину"},{"$f":"'[4]Список изделий'!I6071","v":0},{"$f":"'[4]Список изделий'!X6071","v":0},{"$f":"'[4]Список изделий'!Y6071","v":0},{"$f":"'[4]Список изделий'!Z6071","v":0},{"$f":"'[4]Список изделий'!AA6071","v":0},{"$f":"'[4]Список изделий'!AB6071","v":0},{"$f":"'[4]Список изделий'!AC6071","v":"x"},{"$f":"'[4]Список изделий'!AD6071","v":0},{"$f":"'[4]Список изделий'!AE6071","v":0},{"$f":"'[4]Список изделий'!AF6071","v":"00:00:00"},{"$f":"'[4]Список изделий'!AY6071","v":0},{"$f":"'[4]Список изделий'!AZ6071","v":"00:00:00"},-43153,-43153,0,0,{"$f":"'[4]Список изделий'!BR6071","v":0},0]
[961,{"$f":"'[12]Список изделий'!D4923","v":61},{"$f":"'[12]Список изделий'!E4923","v":"Пер-прибреж-61"},{"$f":"'[12]Список изделий'!F4923","v":"Подвес кассы на трубе 20х20 (двухсторонний) (к-во предварительно)"},{"$f":"'[12]Список изделий'!I4923","v":2},{"$f":"'[12]Список изделий'!X4923","v":"ГМА"},{"$f":"'[12]Список изделий'!Y4923","v":"Микуло"},{"$f":"'[12]Список изделий'!Z4923","v":"Закурдаев"},{"$f":"'[12]Список изделий'!AA4923","v":"Замотаев"},{"$f":"'[12]Список изделий'!AB4923","v":0},{"$f":"'[12]Список изделий'!AC4923","v":"x"},{"$f":"'[12]Список изделий'!AD4923","v":0},{"$f":"'[12]Список изделий'!AE4923","v":0},{"$f":"'[12]Список изделий'!AF4923","v":"2018-03-01"},{"$f":"'[12]Список изделий'!AY4923","v":7},{"$f":"'[12]Список изделий'!AZ4923","v":"2018-02-23"},-6,1,0,0,{"$f":"'[12]Список изделий'!BR4923","v":0},0]
[976,{"$f":"'[12]Список изделий'!D6153","v":76},{"$f":"'[12]Список изделий'!E6153","v":"Пер-прибреж-76"},{"$f":"'[12]Список изделий'!F6153","v":"Пилон несветовой"},{"$f":"'[12]Список изделий'!I6153","v":1},{"$f":"'[12]Список изделий'!X6153","v":"ГМА"},{"$f":"'[12]Список изделий'!Y6153","v":"Микуло"},{"$f":"'[12]Список изделий'!Z6153","v":"Закурдаев"},{"$f":"'[12]Список изделий'!AA6153","v":"Замотаев"},{"$f":"'[12]Список изделий'!AB6153","v":0},{"$f":"'[12]Список изделий'!AC6153","v":"x"},{"$f":"'[12]Список изделий'!AD6153","v":0},{"$f":"'[12]Список изделий'!AE6153","v":0},{"$f":"'[12]Список изделий'!AF6153","v":"2018-03-01"},{"$f":"'[12]Список изделий'!AY6153","v":7},{"$f":"'[12]Список изделий'!AZ6153","v":"2018-02-23"},-6,1,0,0,{"$f":"'[12]Список изделий'!BR6153","v":"\\\\SERVER\\Data1\\П\\Перекресток\\2018\\МОСКВА_18\\Балаклавский пр. 16А\\Техничка\\76-Пилон-660х1600"},0]
[1178,{"$f":"'[4]Список изделий'!D6317","v":78},{"$f":"'[4]Список изделий'!E6317","v":0},{"$f":"'[4]Список изделий'!F6317","v":0},{"$f":"'[4]Список изделий'!I6317","v":0},{"$f":"'[4]Список изделий'!X6317","v":0},{"$f":"'[4]Список изделий'!Y6317","v":0},{"$f":"'[4]Список изделий'!Z6317","v":0},{"$f":"'[4]Список изделий'!AA6317","v":0},{"$f":"'[4]Список изделий'!AB6317","v":0},{"$f":"'[4]Список изделий'!AC6317","v":"x"},{"$f":"'[4]Список изделий'!AD6317","v":0},{"$f":"'[4]Список изделий'!AE6317","v":0},{"$f":"'[4]Список изделий'!AF6317","v":"00:00:00"},{"$f":"'[4]Список изделий'!AY6317","v":0},{"$f":"'[4]Список изделий'!AZ6317","v":"00:00:00"},-43153,-43153,0,0,{"$f":"'[4]Список изделий'!BR6317","v":0},0]
[1179,{"$f":"'[4]Список изделий'!D6399","v":79},{"$f":"'[4]Список изделий'!E6399","v":0},{"$f":"'[4]Список изделий'!F6399","v":0},{"$f":"'[4]Список изделий'!I6399","v":0},{"$f":"'[4]Список изделий'!X6399","v":0},{"$f":"'[4]Список изделий'!Y6399","v":0},{"$f":"'[4]Список изделий'!Z6399","v":0},{"$f":"'[4]Список изделий'!AA6399","v":0},{"$f":"'[4]Список изделий'!AB6399","v":0},{"$f":"'[4]Список изделий'!AC6399","v":"x"},{"$f":"'[4]Список изделий'!AD6399","v":0},{"$f":"'[4]Список изделий'!AE6399","v":0},{"$f":"'[4]Список изделий'!AF6399","v":"00:00:00"},{"$f":"'[4]Список изделий'!AY6399","v":0},{"$f":"'[4]Список изделий'!AZ6399","v":"00:00:00"},-43153,-43153,0,0,{"$f":"'[4]Список изделий'!BR6399","v":0},0]
[1180,{"$f":"'[4]Список изделий'!D6481","v":80},{"$f":"'[4]Список изделий'!E6481","v":0},{"$f":"'[4]Список изделий'!F6481","v":0},{"$f":"'[4]Список изделий'!I6481","v":0},{"$f":"'[4]Список изделий'!X6481","v":0},{"$f":"'[4]Список изделий'!Y6481","v":0},{"$f":"'[4]Список изделий'!Z6481","v":0},{"$f":"'[4]Список изделий'!AA6481","v":0},{"$f":"'[4]Список изделий'!AB6481","v":0},{"$f":"'[4]Список изделий'!AC6481","v":"x"},{"$f":"'[4]Список изделий'!AD6481","v":0},{"$f":"'[4]Список изделий'!AE6481","v":0},{"$f":"'[4]Список изделий'!AF6481","v":"00:00:00"},{"$f":"'[4]Список изделий'!AY6481","v":0},{"$f":"'[4]Список изделий'!AZ6481","v":"00:00:00"},-43153,-43153,0,0,{"$f":"'[4]Список изделий'!BR6481","v":0},0]
[1181,{"$f":"'[4]Список изделий'!D6563","v":81},{"$f":"'[4]Список изделий'!E6563","v":0},{"$f":"'[4]Список изделий'!F6563","v":0},{"$f":"'[4]Список изделий'!I6563","v":0},{"$f":"'[4]Список изделий'!X6563","v":0},{"$f":"'[4]Список изделий'!Y6563","v":0},{"$f":"'[4]Список изделий'!Z6563","v":0},{"$f":"'[4]Список изделий'!AA6563","v":0},{"$f":"'[4]Список изделий'!AB6563","v":0},{"$f":"'[4]Список изделий'!AC6563","v":"x"},{"$f":"'[4]Список изделий'!AD6563","v":0},{"$f":"'[4]Список изделий'!AE6563","v":0},{"$f":"'[4]Список изделий'!AF6563","v":"00:00:00"},{"$f":"'[4]Список изделий'!AY6563","v":0},{"$f":"'[4]Список изделий'!AZ6563","v":"00:00:00"},-43153,-43153,0,0,{"$f":"'[4]Список изделий'!BR6563","v":0},0]
[1182,{"$f":"'[4]Список изделий'!D6645","v":82},{"$f":"'[4]Список изделий'!E6645","v":0},{"$f":"'[4]Список изделий'!F6645","v":0},{"$f":"'[4]Список изделий'!I6645","v":0},{"$f":"'[4]Список изделий'!X6645","v":0},{"$f":"'[4]Список изделий'!Y6645","v":0},{"$f":"'[4]Список изделий'!Z6645","v":0},{"$f":"'[4]Список изделий'!AA6645","v":0},{"$f":"'[4]Список изделий'!AB6645","v":0},{"$f":"'[4]Список изделий'!AC6645","v":"x"},{"$f":"'[4]Список изделий'!AD6645","v":0},{"$f":"'[4]Список изделий'!AE6645","v":0},{"$f":"'[4]Список изделий'!AF6645","v":"00:00:00"},{"$f":"'[4]Список изделий'!AY6645","v":0},{"$f":"'[4]Список изделий'!AZ6645","v":"00:00:00"},-43153,-43153,0,0,{"$f":"'[4]Список изделий'!BR6645","v":0},0]
[1183,{"$f":"'[4]Список изделий'!D6727","v":83},{"$f":"'[4]Список изделий'!E6727","v":0},{"$f":"'[4]Список изделий'!F6727","v":0},{"$f":"'[4]Список изделий'!I6727","v":0},{"$f":"'[4]Список изделий'!X6727","v":0},{"$f":"'[4]Список изделий'!Y6727","v":0},{"$f":"'[4]Список изделий'!Z6727","v":0},{"$f":"'[4]Список изделий'!AA6727","v":0},{"$f":"'[4]Список изделий'!AB6727","v":0},{"$f":"'[4]Список изделий'!AC6727","v":"x"},{"$f":"'[4]Список изделий'!AD6727","v":0},{"$f":"'[4]Список изделий'!AE6727","v":0},{"$f":"'[4]Список изделий'!AF6727","v":"00:00:00"},{"$f":"'[4]Список изделий'!AY6727","v":0},{"$f":"'[4]Список изделий'!AZ6727","v":"00:00:00"},-43153,-43153,0,0,{"$f":"'[4]Список изделий'!BR6727","v":0},0]
[1184,{"$f":"'[4]Список изделий'!D6809","v":84},{"$f":"'[4]Список изделий'!E6809","v":0},{"$f":"'[4]Список изделий'!F6809","v":0},{"$f":"'[4]Список изделий'!I6809","v":0},{"$f":"'[4]Список изделий'!X6809","v":0},{"$f":"'[4]Список изделий'!Y6809","v":0},{"$f":"'[4]Список изделий'!Z6809","v":0},{"$f":"'[4]Список изделий'!AA6809","v":0},{"$f":"'[4]Список изделий'!AB6809","v":0},{"$f":"'[4]Список изделий'!AC6809","v":"x"},{"$f":"'[4]Список изделий'!AD6809","v":0},{"$f":"'[4]Список изделий'!AE6809","v":0},{"$f":"'[4]Список изделий'!AF6809","v":"00:00:00"},{"$f":"'[4]Список изделий'!AY6809","v":0},{"$f":"'[4]Список изделий'!AZ6809","v":"00:00:00"},-43153,-43153,0,0,{"$f":"'[4]Список изделий'!BR6809","v":0},0]
[1185,{"$f":"'[4]Список изделий'!D6891","v":85},{"$f":"'[4]Список изделий'!E6891","v":"Пер-Наст-85"},{"$f":"'[4]Список изделий'!F6891","v":"Подвес указатель Перекрёсток кассы"},{"$f":"'[4]Список изделий'!I6891","v":1},{"$f":"'[4]Список изделий'!X6891","v":"ГМА"},{"$f":"'[4]Список изделий'!Y6891","v":"Микуло"},{"$f":"'[4]Список изделий'!Z6891","v":"Закурдаев"},{"$f":"'[4]Список изделий'!AA6891","v":"Замотаев"},{"$f":"'[4]Список изделий'!AB6891","v":1400},{"$f":"'[4]Список изделий'!AC6891","v":"x"},{"$f":"'[4]Список изделий'!AD6891","v":350},{"$f":"'[4]Список изделий'!AE6891","v":"мм"},{"$f":"'[4]Список изделий'!AF6891","v":"2018-02-20"},{"$f":"'[4]Список изделий'!AY6891","v":8},{"$f":"'[4]Список изделий'!AZ6891","v":"2018-02-14"},-16,-8,0,0,{"$f":"'[4]Список изделий'!BR6891","v":"\\\\SERVER\\Data1\\П\\Перекресток\\2018\\ОКЕЙ_Перекресток\\Наставников 33\\техничка\\85-подвес-указатель-Перекресток+кассы\\Сборка\\Кассы_1400х350-сборка.cdr"},0]
[1186,{"$f":"'[4]Список изделий'!D6973","v":86},{"$f":"'[4]Список изделий'!E6973","v":0},{"$f":"'[4]Список изделий'!F6973","v":0},{"$f":"'[4]Список изделий'!I6973","v":0},{"$f":"'[4]Список изделий'!X6973","v":0},{"$f":"'[4]Список изделий'!Y6973","v":0},{"$f":"'[4]Список изделий'!Z6973","v":0},{"$f":"'[4]Список изделий'!AA6973","v":0},{"$f":"'[4]Список изделий'!AB6973","v":0},{"$f":"'[4]Список изделий'!AC6973","v":"x"},{"$f":"'[4]Список изделий'!AD6973","v":0},{"$f":"'[4]Список изделий'!AE6973","v":0},{"$f":"'[4]Список изделий'!AF6973","v":"00:00:00"},{"$f":"'[4]Список изделий'!AY6973","v":0},{"$f":"'[4]Список изделий'!AZ6973","v":"00:00:00"},-43153,-43153,0,0,{"$f":"'[4]Список изделий'!BR6973","v":0},0]
[1187,{"$f":"'[4]Список изделий'!D7055","v":87},{"$f":"'[4]Список изделий'!E7055","v":0},{"$f":"'[4]Список изделий'!F7055","v":0},{"$f":"'[4]Список изделий'!I7055","v":0},{"$f":"'[4]Список изделий'!X7055","v":0},{"$f":"'[4]Список изделий'!Y7055","v":0},{"$f":"'[4]Список изделий'!Z7055","v":0},{"$f":"'[4]Список изделий'!AA7055","v":0},{"$f":"'[4]Список изделий'!AB7055","v":0},{"$f":"'[4]Список изделий'!AC7055","v":"x"},{"$f":"'[4]Список изделий'!AD7055","v":0},{"$f":"'[4]Список изделий'!AE7055","v":0},{"$f":"'[4]Список изделий'!AF7055","v":"00:00:00"},{"$f":"'[4]Список изделий'!AY7055","v":0},{"$f":"'[4]Список изделий'!AZ7055","v":"00:00:00"},-43153,-43153,0,0,{"$f":"'[4]Список изделий'!BR7055","v":0},0]
[1188,{"$f":"'[4]Список изделий'!D7137","v":88},{"$f":"'[4]Список изделий'!E7137","v":0},{"$f":"'[4]Список изделий'!F7137","v":0},{"$f":"'[4]Список изделий'!I7137","v":0},{"$f":"'[4]Список изделий'!X7137","v":0},{"$f":"'[4]Список изделий'!Y7137","v":0},{"$f":"'[4]Список изделий'!Z7137","v":0},{"$f":"'[4]Список изделий'!AA7137","v":0},{"$f":"'[4]Список изделий'!AB7137","v":0},{"$f":"'[4]Список изделий'!AC7137","v":"x"},{"$f":"'[4]Список изделий'!AD7137","v":0},{"$f":"'[4]Список изделий'!AE7137","v":0},{"$f":"'[4]Список изделий'!AF7137","v":"00:00:00"},{"$f":"'[4]Список изделий'!AY7137","v":0},{"$f":"'[4]Список изделий'!AZ7137","v":"00:00:00"},-43153,-43153,0,0,{"$f":"'[4]Список изделий'!BR7137","v":0},0]
[1189,{"$f":"'[4]Список изделий'!D7219","v":89},{"$f":"'[4]Список изделий'!E7219","v":0},{"$f":"'[4]Список изделий'!F7219","v":0},{"$f":"'[4]Список изделий'!I7219","v":0},{"$f":"'[4]Список изделий'!X7219","v":0},{"$f":"'[4]Список изделий'!Y7219","v":0},{"$f":"'[4]Список изделий'!Z7219","v":0},{"$f":"'[4]Список изделий'!AA7219","v":0},{"$f":"'[4]Список изделий'!AB7219","v":0},{"$f":"'[4]Список изделий'!AC7219","v":"x"},{"$f":"'[4]Список изделий'!AD7219","v":0},{"$f":"'[4]Список изделий'!AE7219","v":0},{"$f":"'[4]Список изделий'!AF7219","v":"00:00:00"},{"$f":"'[4]Список изделий'!AY7219","v":0},{"$f":"'[4]Список изделий'!AZ7219","v":"00:00:00"},-43153,-43153,0,0,{"$f":"'[4]Список изделий'!BR7219","v":0},0]
[1190,{"$f":"'[4]Список изделий'!D7301","v":90},{"$f":"'[4]Список изделий'!E7301","v":0},{"$f":"'[4]Список изделий'!F7301","v":0},{"$f":"'[4]Список изделий'!I7301","v":0},{"$f":"'[4]Список изделий'!X7301","v":0},{"$f":"'[4]Список изделий'!Y7301","v":0},{"$f":"'[4]Список изделий'!Z7301","v":0},{"$f":"'[4]Список изделий'!AA7301","v":0},{"$f":"'[4]Список изделий'!AB7301","v":0},{"$f":"'[4]Список изделий'!AC7301","v":"x"},{"$f":"'[4]Список изделий'!AD7301","v":0},{"$f":"'[4]Список изделий'!AE7301","v":0},{"$f":"'[4]Список изделий'!AF7301","v":"00:00:00"},{"$f":"'[4]Список изделий'!AY7301","v":0},{"$f":"'[4]Список изделий'!AZ7301","v":"00:00:00"},-43153,-43153,0,{"$f":"V1192","v":0},{"$f":"'[4]Список изделий'!BR7301","v":0},0,"\\\\SERVER\\Data1\\Т\\Торговый Дом Петрович\\2018\\проект\\печать плакаты.cdr"]
[1191,{"$f":"'[4]Список изделий'!D7383","v":91},{"$f":"'[4]Список изделий'!E7383","v":0},{"$f":"'[4]Список изделий'!F7383","v":0},{"$f":"'[4]Список изделий'!I7383","v":0},{"$f":"'[4]Список изделий'!X7383","v":0},{"$f":"'[4]Список изделий'!Y7383","v":0},{"$f":"'[4]Список изделий'!Z7383","v":0},{"$f":"'[4]Список изделий'!AA7383","v":0},{"$f":"'[4]Список изделий'!AB7383","v":0},{"$f":"'[4]Список изделий'!AC7383","v":"x"},{"$f":"'[4]Список изделий'!AD7383","v":0},{"$f":"'[4]Список изделий'!AE7383","v":0},{"$f":"'[4]Список изделий'!AF7383","v":"00:00:00"},{"$f":"'[4]Список изделий'!AY7383","v":0},{"$f":"'[4]Список изделий'!AZ7383","v":"00:00:00"},-43153,-43153,0,0,{"$f":"'[4]Список изделий'!BR7383","v":0},0]
[1192,{"$f":"'[4]Список изделий'!D7465","v":92},{"$f":"'[4]Список изделий'!E7465","v":0},{"$f":"'[4]Список изделий'!F7465","v":0},{"$f":"'[4]Список изделий'!I7465","v":0},{"$f":"'[4]Список изделий'!X7465","v":0},{"$f":"'[4]Список изделий'!Y7465","v":0},{"$f":"'[4]Список изделий'!Z7465","v":0},{"$f":"'[4]Список изделий'!AA7465","v":0},{"$f":"'[4]Список изделий'!AB7465","v":0},{"$f":"'[4]Список изделий'!AC7465","v":"x"},{"$f":"'[4]Список изделий'!AD7465","v":0},{"$f":"'[4]Список изделий'!AE7465","v":0},{"$f":"'[4]Список изделий'!AF7465","v":"00:00:00"},{"$f":"'[4]Список изделий'!AY7465","v":0},{"$f":"'[4]Список изделий'!AZ7465","v":"00:00:00"},-43153,-43153,0,0,{"$f":"'[4]Список изделий'!BR7465","v":0},0]
[1193,{"$f":"'[4]Список изделий'!D7547","v":93},{"$f":"'[4]Список изделий'!E7547","v":0},{"$f":"'[4]Список изделий'!F7547","v":0},{"$f":"'[4]Список изделий'!I7547","v":0},{"$f":"'[4]Список изделий'!X7547","v":0},{"$f":"'[4]Список изделий'!Y7547","v":0},{"$f":"'[4]Список изделий'!Z7547","v":0},{"$f":"'[4]Список изделий'!AA7547","v":0},{"$f":"'[4]Список изделий'!AB7547","v":0},{"$f":"'[4]Список изделий'!AC7547","v":"x"},{"$f":"'[4]Список изделий'!AD7547","v":0},{"$f":"'[4]Список изделий'!AE7547","v":0},{"$f":"'[4]Список изделий'!AF7547","v":"00:00:00"},{"$f":"'[4]Список изделий'!AY7547","v":0},{"$f":"'[4]Список изделий'!AZ7547","v":"00:00:00"},-43153,-43153,0,0,{"$f":"'[4]Список изделий'!BR7547","v":0},0]
[1194,{"$f":"'[4]Список изделий'!D7629","v":94},{"$f":"'[4]Список изделий'!E7629","v":0},{"$f":"'[4]Список изделий'!F7629","v":0},{"$f":"'[4]Список изделий'!I7629","v":0},{"$f":"'[4]Список изделий'!X7629","v":0},{"$f":"'[4]Список изделий'!Y7629","v":0},{"$f":"'[4]Список изделий'!Z7629","v":0},{"$f":"'[4]Список изделий'!AA7629","v":0},{"$f":"'[4]Список изделий'!AB7629","v":0},{"$f":"'[4]Список изделий'!AC7629","v":"x"},{"$f":"'[4]Список изделий'!AD7629","v":0},{"$f":"'[4]Список изделий'!AE7629","v":0},{"$f":"'[4]Список изделий'!AF7629","v":"00:00:00"},{"$f":"'[4]Список изделий'!AY7629","v":0},{"$f":"'[4]Список изделий'!AZ7629","v":"00:00:00"},-43153,-43153,0,0,{"$f":"'[4]Список изделий'!BR7629","v":0},0]
[1195,{"$f":"'[4]Список изделий'!D7711","v":95},{"$f":"'[4]Список изделий'!E7711","v":0},{"$f":"'[4]Список изделий'!F7711","v":0},{"$f":"'[4]Список изделий'!I7711","v":0},{"$f":"'[4]Список изделий'!X7711","v":0},{"$f":"'[4]Список изделий'!Y7711","v":0},{"$f":"'[4]Список изделий'!Z7711","v":0},{"$f":"'[4]Список изделий'!AA7711","v":0},{"$f":"'[4]Список изделий'!AB7711","v":0},{"$f":"'[4]Список изделий'!AC7711","v":"x"},{"$f":"'[4]Список изделий'!AD7711","v":0},{"$f":"'[4]Список изделий'!AE7711","v":0},{"$f":"'[4]Список изделий'!AF7711","v":"00:00:00"},{"$f":"'[4]Список изделий'!AY7711","v":0},{"$f":"'[4]Список изделий'!AZ7711","v":"00:00:00"},-43153,-43153,0,0,{"$f":"'[4]Список изделий'!BR7711","v":0},0]
[1196,{"$f":"'[4]Список изделий'!D7793","v":96},{"$f":"'[4]Список изделий'!E7793","v":0},{"$f":"'[4]Список изделий'!F7793","v":0},{"$f":"'[4]Список изделий'!I7793","v":0},{"$f":"'[4]Список изделий'!X7793","v":0},{"$f":"'[4]Список изделий'!Y7793","v":0},{"$f":"'[4]Список изделий'!Z7793","v":0},{"$f":"'[4]Список изделий'!AA7793","v":0},{"$f":"'[4]Список изделий'!AB7793","v":0},{"$f":"'[4]Список изделий'!AC7793","v":"x"},{"$f":"'[4]Список изделий'!AD7793","v":0},{"$f":"'[4]Список изделий'!AE7793","v":0},{"$f":"'[4]Список изделий'!AF7793","v":"00:00:00"},{"$f":"'[4]Список изделий'!AY7793","v":0},{"$f":"'[4]Список изделий'!AZ7793","v":"00:00:00"},-43153,-43153,0,0,{"$f":"'[4]Список изделий'!BR7793","v":0},0]
[1197,{"$f":"'[4]Список изделий'!D7875","v":97},{"$f":"'[4]Список изделий'!E7875","v":0},{"$f":"'[4]Список изделий'!F7875","v":0},{"$f":"'[4]Список изделий'!I7875","v":0},{"$f":"'[4]Список изделий'!X7875","v":0},{"$f":"'[4]Список изделий'!Y7875","v":0},{"$f":"'[4]Список изделий'!Z7875","v":0},{"$f":"'[4]Список изделий'!AA7875","v":0},{"$f":"'[4]Список изделий'!AB7875","v":0},{"$f":"'[4]Список изделий'!AC7875","v":"x"},{"$f":"'[4]Список изделий'!AD7875","v":0},{"$f":"'[4]Список изделий'!AE7875","v":0},{"$f":"'[4]Список изделий'!AF7875","v":"00:00:00"},{"$f":"'[4]Список изделий'!AY7875","v":0},{"$f":"'[4]Список изделий'!AZ7875","v":"00:00:00"},-43153,-43153,0,0,{"$f":"'[4]Список изделий'!BR7875","v":0},0]
[1198,{"$f":"'[4]Список изделий'!D7957","v":98},{"$f":"'[4]Список изделий'!E7957","v":0},{"$f":"'[4]Список изделий'!F7957","v":0},{"$f":"'[4]Список изделий'!I7957","v":0},{"$f":"'[4]Список изделий'!X7957","v":0},{"$f":"'[4]Список изделий'!Y7957","v":0},{"$f":"'[4]Список изделий'!Z7957","v":0},{"$f":"'[4]Список изделий'!AA7957","v":0},{"$f":"'[4]Список изделий'!AB7957","v":0},{"$f":"'[4]Список изделий'!AC7957","v":"x"},{"$f":"'[4]Список изделий'!AD7957","v":0},{"$f":"'[4]Список изделий'!AE7957","v":0},{"$f":"'[4]Список изделий'!AF7957","v":"00:00:00"},{"$f":"'[4]Список изделий'!AY7957","v":0},{"$f":"'[4]Список изделий'!AZ7957","v":"00:00:00"},-43153,-43153,0,0,{"$f":"'[4]Список изделий'!BR7957","v":0},0]
[1199,{"$f":"'[4]Список изделий'!D8039","v":99},{"$f":"'[4]Список изделий'!E8039","v":0},{"$f":"'[4]Список изделий'!F8039","v":0},{"$f":"'[4]Список изделий'!I8039","v":0},{"$f":"'[4]Список изделий'!X8039","v":0},{"$f":"'[4]Список изделий'!Y8039","v":0},{"$f":"'[4]Список изделий'!Z8039","v":0},{"$f":"'[4]Список изделий'!AA8039","v":0},{"$f":"'[4]Список изделий'!AB8039","v":0},{"$f":"'[4]Список изделий'!AC8039","v":"x"},{"$f":"'[4]Список изделий'!AD8039","v":0},{"$f":"'[4]Список изделий'!AE8039","v":0},{"$f":"'[4]Список изделий'!AF8039","v":"00:00:00"},{"$f":"'[4]Список изделий'!AY8039","v":0},{"$f":"'[4]Список изделий'!AZ8039","v":"00:00:00"},-43153,-43153,0,0,{"$f":"'[4]Список изделий'!BR8039","v":0},0]
[1200,{"$f":"'[4]Список изделий'!D8121","v":100},{"$f":"'[4]Список изделий'!E8121","v":0},{"$f":"'[4]Список изделий'!F8121","v":0},{"$f":"'[4]Список изделий'!I8121","v":0},{"$f":"'[4]Список изделий'!X8121","v":0},{"$f":"'[4]Список изделий'!Y8121","v":0},{"$f":"'[4]Список изделий'!Z8121","v":0},{"$f":"'[4]Список изделий'!AA8121","v":0},{"$f":"'[4]Список изделий'!AB8121","v":0},{"$f":"'[4]Список изделий'!AC8121","v":"x"},{"$f":"'[4]Список изделий'!AD8121","v":0},{"$f":"'[4]Список изделий'!AE8121","v":0},{"$f":"'[4]Список изделий'!AF8121","v":"00:00:00"},{"$f":"'[4]Список изделий'!AY8121","v":0},{"$f":"'[4]Список изделий'!AZ8121","v":"00:00:00"},-43153,-43153,0,0,{"$f":"'[4]Список изделий'!BR8121","v":0},0]
[977,{"$f":"'[12]Список изделий'!D6235","v":77},{"$f":"'[12]Список изделий'!E6235","v":"Пер-прибреж-77"},{"$f":"'[12]Список изделий'!F6235","v":"Печать на бумаге для пилона (комплект из 2шт.)"},{"$f":"'[12]Список изделий'!I6235","v":1},{"$f":"'[12]Список изделий'!X6235","v":"ГМА"},{"$f":"'[12]Список изделий'!Y6235","v":"Микуло"},{"$f":"'[12]Список изделий'!Z6235","v":"Закурдаев"},{"$f":"'[12]Список изделий'!AA6235","v":"Замотаев"},{"$f":"'[12]Список изделий'!AB6235","v":0},{"$f":"'[12]Список изделий'!AC6235","v":"x"},{"$f":"'[12]Список изделий'!AD6235","v":0},{"$f":"'[12]Список изделий'!AE6235","v":0},{"$f":"'[12]Список изделий'!AF6235","v":"2018-03-01"},{"$f":"'[12]Список изделий'!AY6235","v":7},{"$f":"'[12]Список изделий'!AZ6235","v":"2018-02-23"},-6,1,0,0,{"$f":"'[12]Список изделий'!BR6235","v":"\\\\SERVER\\Data1\\П\\Перекресток\\2018\\МОСКВА_18\\Балаклавский пр. 16А\\Техничка\\77-Бумага_для_пилона"},0]
[171,{"$f":"'[3]Список изделий'!D5743","v":71},{"$f":"'[3]Список изделий'!E5743","v":"П-выв-Ленин71"},{"$f":"'[3]Список изделий'!F5743","v":"Вывеска перекресток супермаркет 24000 х 1950мм"},{"$f":"'[3]Список изделий'!I5743","v":1},{"$f":"'[3]Список изделий'!X5743","v":0},{"$f":"'[3]Список изделий'!Y5743","v":"Семаков"},{"$f":"'[3]Список изделий'!Z5743","v":0},{"$f":"'[3]Список изделий'!AA5743","v":0},{"$f":"'[3]Список изделий'!AB5743","v":24000},{"$f":"'[3]Список изделий'!AC5743","v":"x"},{"$f":"'[3]Список изделий'!AD5743","v":1950},{"$f":"'[3]Список изделий'!AE5743","v":"мм"},{"$f":"'[3]Список изделий'!AF5743","v":"2018-02-25"},{"$f":"'[3]Список изделий'!AY5743","v":11},{"$f":"'[3]Список изделий'!AZ5743","v":"2018-02-24"},-9,2,0.1,0.1,{"$f":"'[3]Список изделий'!BR5743","v":0},0.1]
[172,{"$f":"'[3]Список изделий'!D5825","v":72},{"$f":"'[3]Список изделий'!E5825","v":"П-выв-Ленин72"},{"$f":"'[3]Список изделий'!F5825","v":"Вывеска перекресток супермаркет 24000 х 1950мм (2-ая)"},{"$f":"'[3]Список изделий'!I5825","v":1},{"$f":"'[3]Список изделий'!X5825","v":0},{"$f":"'[3]Список изделий'!Y5825","v":"Семаков"},{"$f":"'[3]Список изделий'!Z5825","v":0},{"$f":"'[3]Список изделий'!AA5825","v":0},{"$f":"'[3]Список изделий'!AB5825","v":24000},{"$f":"'[3]Список изделий'!AC5825","v":"x"},{"$f":"'[3]Список изделий'!AD5825","v":1950},{"$f":"'[3]Список изделий'!AE5825","v":"мм"},{"$f":"'[3]Список изделий'!AF5825","v":"2018-02-25"},{"$f":"'[3]Список изделий'!AY5825","v":11},{"$f":"'[3]Список изделий'!AZ5825","v":"2018-02-24"},-9,2,0.1,0.1,{"$f":"'[3]Список изделий'!BR5825","v":0},0.1]
[216,{"$f":"'[5]Список изделий'!D1233","v":16},{"$f":"'[5]Список изделий'!E1233","v":"Перек-Галер-16"},{"$f":"'[5]Список изделий'!F1233","v":"Световой будильник 24 часа на входную группу"},{"$f":"'[5]Список изделий'!I1233","v":1},{"$f":"'[5]Список изделий'!X1233","v":"ГМА"},{"$f":"'[5]Список изделий'!Y1233","v":"Дешевой"},{"$f":"'[5]Список изделий'!Z1233","v":"Жаворонков"},{"$f":"'[5]Список изделий'!AA1233","v":"Замотаев"},{"$f":"'[5]Список изделий'!AB1233","v":0},{"$f":"'[5]Список изделий'!AC1233","v":"x"},{"$f":"'[5]Список изделий'!AD1233","v":0},{"$f":"'[5]Список изделий'!AE1233","v":0},{"$f":"'[5]Список изделий'!AF1233","v":"2018-02-26"},{"$f":"'[5]Список изделий'!AY1233","v":1},{"$f":"'[5]Список изделий'!AZ1233","v":"2018-02-25"},2,3,0,0,{"$f":"'[5]Список изделий'!BR1233","v":"\\\\SERVER\\Data1\\П\\Перекресток\\2018\\ОКЕЙ_Перекресток\\Лиговский 30а (Галерея)\\техничка\\БУДИЛЬНИК-Перек-Галер-16"},0]
[217,{"$f":"'[5]Список изделий'!D1315","v":17},{"$f":"'[5]Список изделий'!E1315","v":"Перек-Галер-17"},{"$f":"'[5]Список изделий'!F1315","v":"Оклейка двери Алкоголь"},{"$f":"'[5]Список изделий'!I1315","v":1},{"$f":"'[5]Список изделий'!X1315","v":"ГМА"},{"$f":"'[5]Список изделий'!Y1315","v":"Дешевой"},{"$f":"'[5]Список изделий'!Z1315","v":"Жаворонков"},{"$f":"'[5]Список изделий'!AA1315","v":"Замотаев"},{"$f":"'[5]Список изделий'!AB1315","v":0},{"$f":"'[5]Список изделий'!AC1315","v":"x"},{"$f":"'[5]Список изделий'!AD1315","v":0},{"$f":"'[5]Список изделий'!AE1315","v":0},{"$f":"'[5]Список изделий'!AF1315","v":"2018-02-26"},{"$f":"'[5]Список изделий'!AY1315","v":1},{"$f":"'[5]Список изделий'!AZ1315","v":"2018-02-25"},2,3,0,0,{"$f":"'[5]Список изделий'!BR1315","v":"\\\\SERVER\\Data1\\П\\Перекресток\\2018\\ОКЕЙ_Перекресток\\Лиговский 30а (Галерея)\\техничка\\ДВЕРЬ-Перек-Галер-17"},0]
[218,{"$f":"'[5]Список изделий'!D1397","v":18},{"$f":"'[5]Список изделий'!E1397","v":"Перек-Галер-18"},{"$f":"'[5]Список изделий'!F1397","v":"Монтаж недостающих черных боковин"},{"$f":"'[5]Список изделий'!I1397","v":8},{"$f":"'[5]Список изделий'!X1397","v":"ГМА"},{"$f":"'[5]Список изделий'!Y1397","v":"Дешевой"},{"$f":"'[5]Список изделий'!Z1397","v":"Жаворонков"},{"$f":"'[5]Список изделий'!AA1397","v":"Замотаев"},{"$f":"'[5]Список изделий'!AB1397","v":0},{"$f":"'[5]Список изделий'!AC1397","v":"x"},{"$f":"'[5]Список изделий'!AD1397","v":0},{"$f":"'[5]Список изделий'!AE1397","v":0},{"$f":"'[5]Список изделий'!AF1397","v":"2018-02-26"},{"$f":"'[5]Список изделий'!AY1397","v":1},{"$f":"'[5]Список изделий'!AZ1397","v":"2018-02-25"},2,3,0,0,{"$f":"'[5]Список изделий'!BR1397","v":0},0]
[219,{"$f":"'[5]Список изделий'!D1479","v":19},{"$f":"'[5]Список изделий'!E1479","v":"Перек-Галер-19"},{"$f":"'[5]Список изделий'!F1479","v":"Демонтаж тросика от круга, который демонтирован в отделе Кафе"},{"$f":"'[5]Список изделий'!I1479","v":1},{"$f":"'[5]Список изделий'!X1479","v":"ГМА"},{"$f":"'[5]Список изделий'!Y1479","v":"Дешевой"},{"$f":"'[5]Список изделий'!Z1479","v":"Жаворонков"},{"$f":"'[5]Список изделий'!AA1479","v":"Замотаев"},{"$f":"'[5]Список изделий'!AB1479","v":0},{"$f":"'[5]Список изделий'!AC1479","v":"x"},{"$f":"'[5]Список изделий'!AD1479","v":0},{"$f":"'[5]Список изделий'!AE1479","v":0},{"$f":"'[5]Список изделий'!AF1479","v":"2018-02-26"},{"$f":"'[5]Список изделий'!AY1479","v":1},{"$f":"'[5]Список изделий'!AZ1479","v":"2018-02-25"},2,3,0,0,{"$f":"'[5]Список изделий'!BR1479","v":0},0]
[1311,{"$f":"'[14]Список изделий'!D823","v":11},{"$f":"'[14]Список изделий'!E823","v":"Пер-Щербак-11"},{"$f":"'[14]Список изделий'!F823","v":"Карман круглый двухсторонний (люверс + крючок) (к-во предварительное)"},{"$f":"'[14]Список изделий'!I823","v":18},{"$f":"'[14]Список изделий'!X823","v":"ГМА"},{"$f":"'[14]Список изделий'!Y823","v":"Микуло"},{"$f":"'[14]Список изделий'!Z823","v":"Закурдаев"},{"$f":"'[14]Список изделий'!AA823","v":"Замотаев"},{"$f":"'[14]Список изделий'!AB823","v":0},{"$f":"'[14]Список изделий'!AC823","v":"x"},{"$f":"'[14]Список изделий'!AD823","v":0},{"$f":"'[14]Список изделий'!AE823","v":0},{"$f":"'[14]Список изделий'!AF823","v":"2018-03-01"},{"$f":"'[14]Список изделий'!AY823","v":7},{"$f":"'[14]Список изделий'!AZ823","v":"2018-02-23"},-6,1,0,0,{"$f":"'[14]Список изделий'!BR823","v":"\\\\SERVER\\Data1\\П\\Перекресток\\2018\\ТЕХНИЧЕСКАЯ ДОКУМЕНТАЦИЯ\\11-Карман_круглый_двухсторонний_(ПромоКруг)\\Сборка\\Круг_Промо-сборка.cdr"},0]
[1209,{"$f":"'[15]Список изделий'!D11","v":9},{"$f":"'[15]Список изделий'!E11","v":0},{"$f":"'[15]Список изделий'!F11","v":"Баннер фасад"},{"$f":"'[15]Список изделий'!I11","v":0},{"$f":"'[15]Список изделий'!X11","v":0},{"$f":"'[15]Список изделий'!Y11","v":0},{"$f":"'[15]Список изделий'!Z11","v":0},{"$f":"'[15]Список изделий'!AA11","v":0},{"$f":"'[15]Список изделий'!AB11","v":0},{"$f":"'[15]Список изделий'!AC11","v":"x"},{"$f":"'[15]Список изделий'!AD11","v":0},{"$f":"'[15]Список изделий'!AE11","v":"шт."},{"$f":"'[15]Список изделий'!AF11","v":"00:00:00"},{"$f":"'[15]Список изделий'!AY11","v":0},{"$f":"'[15]Список изделий'!AZ11","v":"00:00:00"},-43153,-43153,0,0,{"$f":"'[15]Список изделий'!BR11","v":0},0]
[1210,{"$f":"'[15]Список изделий'!D12","v":10},{"$f":"'[15]Список изделий'!E12","v":0},{"$f":"'[15]Список изделий'!F12","v":"Баннер интерьерный"},{"$f":"'[15]Список изделий'!I12","v":0},{"$f":"'[15]Список изделий'!X12","v":0},{"$f":"'[15]Список изделий'!Y12","v":0},{"$f":"'[15]Список изделий'!Z12","v":0},{"$f":"'[15]Список изделий'!AA12","v":0},{"$f":"'[15]Список изделий'!AB12","v":0},{"$f":"'[15]Список изделий'!AC12","v":"x"},{"$f":"'[15]Список изделий'!AD12","v":0},{"$f":"'[15]Список изделий'!AE12","v":"шт."},{"$f":"'[15]Список изделий'!AF12","v":"00:00:00"},{"$f":"'[15]Список изделий'!AY12","v":0},{"$f":"'[15]Список изделий'!AZ12","v":"00:00:00"},-43153,-43153,0,0,{"$f":"'[15]Список изделий'!BR12","v":0},0]
[1211,{"$f":"'[15]Список изделий'!D13","v":11},{"$f":"'[15]Список изделий'!E13","v":0},{"$f":"'[15]Список изделий'!F13","v":"Боковины \"Бокалы\" на боковые части энда стеллажа"},{"$f":"'[15]Список изделий'!I13","v":0},{"$f":"'[15]Список изделий'!X13","v":0},{"$f":"'[15]Список изделий'!Y13","v":0},{"$f":"'[15]Список изделий'!Z13","v":0},{"$f":"'[15]Список изделий'!AA13","v":0},{"$f":"'[15]Список изделий'!AB13","v":0},{"$f":"'[15]Список изделий'!AC13","v":"x"},{"$f":"'[15]Список изделий'!AD13","v":0},{"$f":"'[15]Список изделий'!AE13","v":"шт."},{"$f":"'[15]Список изделий'!AF13","v":"00:00:00"},{"$f":"'[15]Список изделий'!AY13","v":0},{"$f":"'[15]Список изделий'!AZ13","v":"00:00:00"},-43153,-43153,0,0,{"$f":"'[15]Список изделий'!BR13","v":0},0]
[1212,{"$f":"'[15]Список изделий'!D14","v":12},{"$f":"'[15]Список изделий'!E14","v":0},{"$f":"'[15]Список изделий'!F14","v":"Витрины оформление"},{"$f":"'[15]Список изделий'!I14","v":0},{"$f":"'[15]Список изделий'!X14","v":0},{"$f":"'[15]Список изделий'!Y14","v":0},{"$f":"'[15]Список изделий'!Z14","v":0},{"$f":"'[15]Список изделий'!AA14","v":0},{"$f":"'[15]Список изделий'!AB14","v":0},{"$f":"'[15]Список изделий'!AC14","v":"x"},{"$f":"'[15]Список изделий'!AD14","v":0},{"$f":"'[15]Список изделий'!AE14","v":"к-т"},{"$f":"'[15]Список изделий'!AF14","v":"00:00:00"},{"$f":"'[15]Список изделий'!AY14","v":0},{"$f":"'[15]Список изделий'!AZ14","v":"00:00:00"},-43153,-43153,0,0,{"$f":"'[15]Список изделий'!BR14","v":0},0]
[1213,{"$f":"'[15]Список изделий'!D15","v":13},{"$f":"'[15]Список изделий'!E15","v":0},{"$f":"'[15]Список изделий'!F15","v":"Входной фриз"},{"$f":"'[15]Список изделий'!I15","v":0},{"$f":"'[15]Список изделий'!X15","v":0},{"$f":"'[15]Список изделий'!Y15","v":0},{"$f":"'[15]Список изделий'!Z15","v":0},{"$f":"'[15]Список изделий'!AA15","v":0},{"$f":"'[15]Список изделий'!AB15","v":0},{"$f":"'[15]Список изделий'!AC15","v":"x"},{"$f":"'[15]Список изделий'!AD15","v":0},{"$f":"'[15]Список изделий'!AE15","v":"к-т"},{"$f":"'[15]Список изделий'!AF15","v":"00:00:00"},{"$f":"'[15]Список изделий'!AY15","v":0},{"$f":"'[15]Список изделий'!AZ15","v":"00:00:00"},-43153,-43153,0,0,{"$f":"'[15]Список изделий'!BR15","v":0},0]
[1214,{"$f":"'[15]Список изделий'!D16","v":14},{"$f":"'[15]Список изделий'!E16","v":0},{"$f":"'[15]Список изделий'!F16","v":"Грифельная доска двухст. со стикером"},{"$f":"'[15]Список изделий'!I16","v":0},{"$f":"'[15]Список изделий'!X16","v":0},{"$f":"'[15]Список изделий'!Y16","v":0},{"$f":"'[15]Список изделий'!Z16","v":0},{"$f":"'[15]Список изделий'!AA16","v":0},{"$f":"'[15]Список изделий'!AB16","v":600},{"$f":"'[15]Список изделий'!AC16","v":"x"},{"$f":"'[15]Список изделий'!AD16","v":900},{"$f":"'[15]Список изделий'!AE16","v":"шт."},{"$f":"'[15]Список изделий'!AF16","v":"00:00:00"},{"$f":"'[15]Список изделий'!AY16","v":0},{"$f":"'[15]Список изделий'!AZ16","v":"00:00:00"},-43153,-43153,0,0,{"$f":"'[15]Список изделий'!BR16","v":0},0]
[1215,{"$f":"'[15]Список изделий'!D17","v":15},{"$f":"'[15]Список изделий'!E17","v":0},{"$f":"'[15]Список изделий'!F17","v":"ДВЕРИ стикер"},{"$f":"'[15]Список изделий'!I17","v":0},{"$f":"'[15]Список изделий'!X17","v":0},{"$f":"'[15]Список изделий'!Y17","v":0},{"$f":"'[15]Список изделий'!Z17","v":0},{"$f":"'[15]Список изделий'!AA17","v":0},{"$f":"'[15]Список изделий'!AB17","v":0},{"$f":"'[15]Список изделий'!AC17","v":"x"},{"$f":"'[15]Список изделий'!AD17","v":0},{"$f":"'[15]Список изделий'!AE17","v":"шт."},{"$f":"'[15]Список изделий'!AF17","v":"00:00:00"},{"$f":"'[15]Список изделий'!AY17","v":0},{"$f":"'[15]Список изделий'!AZ17","v":"00:00:00"},-43153,-43153,0,0,{"$f":"'[15]Список изделий'!BR17","v":0},0]
[1216,{"$f":"'[15]Список изделий'!D18","v":16},{"$f":"'[15]Список изделий'!E18","v":0},{"$f":"'[15]Список изделий'!F18","v":"делители V-обр.  на холодильник заморозка"},{"$f":"'[15]Список изделий'!I18","v":0},{"$f":"'[15]Список изделий'!X18","v":0},{"$f":"'[15]Список изделий'!Y18","v":0},{"$f":"'[15]Список изделий'!Z18","v":0},{"$f":"'[15]Список изделий'!AA18","v":0},{"$f":"'[15]Список изделий'!AB18","v":700},{"$f":"'[15]Список изделий'!AC18","v":"x"},{"$f":"'[15]Список изделий'!AD18","v":200},{"$f":"'[15]Список изделий'!AE18","v":"шт."},{"$f":"'[15]Список изделий'!AF18","v":"00:00:00"},{"$f":"'[15]Список изделий'!AY18","v":0},{"$f":"'[15]Список изделий'!AZ18","v":"00:00:00"},-43153,-43153,0,0,{"$f":"'[15]Список изделий'!BR18","v":0},0]
[1217,{"$f":"'[15]Список изделий'!D19","v":17},{"$f":"'[15]Список изделий'!E19","v":0},{"$f":"'[15]Список изделий'!F19","v":"ДЕТСТВО Оформление отдела "},{"$f":"'[15]Список изделий'!I19","v":0},{"$f":"'[15]Список изделий'!X19","v":0},{"$f":"'[15]Список изделий'!Y19","v":0},{"$f":"'[15]Список изделий'!Z19","v":0},{"$f":"'[15]Список изделий'!AA19","v":0},{"$f":"'[15]Список изделий'!AB19","v":0},{"$f":"'[15]Список изделий'!AC19","v":"x"},{"$f":"'[15]Список изделий'!AD19","v":0},{"$f":"'[15]Список изделий'!AE19","v":"к-т"},{"$f":"'[15]Список изделий'!AF19","v":"00:00:00"},{"$f":"'[15]Список изделий'!AY19","v":0},{"$f":"'[15]Список изделий'!AZ19","v":"00:00:00"},-43153,-43153,0,0,{"$f":"'[15]Список изделий'!BR19","v":0},0]
[1218,{"$f":"'[15]Список изделий'!D20","v":18},{"$f":"'[15]Список изделий'!E20","v":0},{"$f":"'[15]Список изделий'!F20","v":"Задник оборудования оформление"},{"$f":"'[15]Список изделий'!I20","v":0},{"$f":"'[15]Список изделий'!X20","v":0},{"$f":"'[15]Список изделий'!Y20","v":0},{"$f":"'[15]Список изделий'!Z20","v":0},{"$f":"'[15]Список изделий'!AA20","v":0},{"$f":"'[15]Список изделий'!AB20","v":0},{"$f":"'[15]Список изделий'!AC20","v":"x"},{"$f":"'[15]Список изделий'!AD20","v":0},{"$f":"'[15]Список изделий'!AE20","v":"шт."},{"$f":"'[15]Список изделий'!AF20","v":"00:00:00"},{"$f":"'[15]Список изделий'!AY20","v":0},{"$f":"'[15]Список изделий'!AZ20","v":"00:00:00"},{"$f":"IF(O1220=\"нет в заказе\",\"нет в заказе\",-(TODAY()-(P1220-O1220)))","v":-43153},{"$f":"IF(Q1220=\"нет в заказе\",\"нет взаказе\",-(IF(O1220=\"нет в заказе\",\"нет в заказе\",TODAY()-P1220)))","v":-43153},0,0,{"$f":"'[15]Список изделий'!BR20","v":0},{"$f":"IF(S1220>=0,S1220,IF(T1220>S1220,T1220,S1220))","v":0}]
[1219,{"$f":"'[15]Список изделий'!D21","v":19},{"$f":"'[15]Список изделий'!E21","v":0},{"$f":"'[15]Список изделий'!F21","v":"Имиджи"},{"$f":"'[15]Список изделий'!I21","v":0},{"$f":"'[15]Список изделий'!X21","v":0},{"$f":"'[15]Список изделий'!Y21","v":0},{"$f":"'[15]Список изделий'!Z21","v":0},{"$f":"'[15]Список изделий'!AA21","v":0},{"$f":"'[15]Список изделий'!AB21","v":0},{"$f":"'[15]Список изделий'!AC21","v":"x"},{"$f":"'[15]Список изделий'!AD21","v":0},{"$f":"'[15]Список изделий'!AE21","v":"шт."},{"$f":"'[15]Список изделий'!AF21","v":"00:00:00"},{"$f":"'[15]Список изделий'!AY21","v":0},{"$f":"'[15]Список изделий'!AZ21","v":"00:00:00"},-43153,-43153,0,0,{"$f":"'[15]Список изделий'!BR21","v":0},0]
[1220,{"$f":"'[15]Список изделий'!D22","v":20},{"$f":"'[15]Список изделий'!E22","v":0},{"$f":"'[15]Список изделий'!F22","v":"Имиджи на колонны"},{"$f":"'[15]Список изделий'!I22","v":0},{"$f":"'[15]Список изделий'!X22","v":0},{"$f":"'[15]Список изделий'!Y22","v":0},{"$f":"'[15]Список изделий'!Z22","v":0},{"$f":"'[15]Список изделий'!AA22","v":0},{"$f":"'[15]Список изделий'!AB22","v":0},{"$f":"'[15]Список изделий'!AC22","v":"x"},{"$f":"'[15]Список изделий'!AD22","v":0},{"$f":"'[15]Список изделий'!AE22","v":"к-т"},{"$f":"'[15]Список изделий'!AF22","v":"00:00:00"},{"$f":"'[15]Список изделий'!AY22","v":0},{"$f":"'[15]Список изделий'!AZ22","v":"00:00:00"},-43153,-43153,0,0,{"$f":"'[15]Список изделий'!BR22","v":0},0]
[1221,{"$f":"'[15]Список изделий'!D23","v":21},{"$f":"'[15]Список изделий'!E23","v":"Перек-Испыт-21"},{"$f":"'[15]Список изделий'!F23","v":"Карман круглый двухсторонний (ПРОМОКРУГ) "},{"$f":"'[15]Список изделий'!I23","v":15},{"$f":"'[15]Список изделий'!X23","v":"ГМА"},{"$f":"'[15]Список изделий'!Y23","v":"Микуло"},{"$f":"'[15]Список изделий'!Z23","v":"Закурдаев"},{"$f":"'[15]Список изделий'!AA23","v":"Замотаев"},{"$f":"'[15]Список изделий'!AB23","v":600},{"$f":"'[15]Список изделий'!AC23","v":"x"},{"$f":"'[15]Список изделий'!AD23","v":600},{"$f":"'[15]Список изделий'!AE23","v":"шт."},{"$f":"'[15]Список изделий'!AF23","v":"2018-02-27"},{"$f":"'[15]Список изделий'!AY23","v":1},{"$f":"'[15]Список изделий'!AZ23","v":"2018-02-26"},3,4,0,0,{"$f":"'[15]Список изделий'!BR23","v":"\\\\SERVER\\Data1\\П\\Перекресток\\2018\\ТЕХ. ДОКУМЕНТАЦИЯ рабочая\\21-Карман_круглый_(ПромоКруг)"},0]
[1222,{"$f":"'[15]Список изделий'!D24","v":22},{"$f":"'[15]Список изделий'!E24","v":"Перек-Испыт-22"},{"$f":"'[15]Список изделий'!F24","v":"КАРМАН под бумагу А 1. крепление к стене"},{"$f":"'[15]Список изделий'!I24","v":5},{"$f":"'[15]Список изделий'!X24","v":"ГМА"},{"$f":"'[15]Список изделий'!Y24","v":"Микуло"},{"$f":"'[15]Список изделий'!Z24","v":"Закурдаев"},{"$f":"'[15]Список изделий'!AA24","v":"Замотаев"},{"$f":"'[15]Список изделий'!AB24","v":610},{"$f":"'[15]Список изделий'!AC24","v":"x"},{"$f":"'[15]Список изделий'!AD24","v":880},{"$f":"'[15]Список изделий'!AE24","v":"к-т"},{"$f":"'[15]Список изделий'!AF24","v":"2018-02-27"},{"$f":"'[15]Список изделий'!AY24","v":1},{"$f":"'[15]Список изделий'!AZ24","v":"2018-02-26"},3,4,0,0,{"$f":"'[15]Список изделий'!BR24","v":"\\\\SERVER\\Data1\\П\\Перекресток\\2018\\ТЕХ. ДОКУМЕНТАЦИЯ рабочая\\22-Карман_под_бумагу_А1"},0]
[1223,{"$f":"'[15]Список изделий'!D25","v":23},{"$f":"'[15]Список изделий'!E25","v":0},{"$f":"'[15]Список изделий'!F25","v":"Кассы самообслуживания (КСО)"},{"$f":"'[15]Список изделий'!I25","v":0},{"$f":"'[15]Список изделий'!X25","v":0},{"$f":"'[15]Список изделий'!Y25","v":0},{"$f":"'[15]Список изделий'!Z25","v":0},{"$f":"'[15]Список изделий'!AA25","v":0},{"$f":"'[15]Список изделий'!AB25","v":0},{"$f":"'[15]Список изделий'!AC25","v":"x"},{"$f":"'[15]Список изделий'!AD25","v":0},{"$f":"'[15]Список изделий'!AE25","v":"к-т"},{"$f":"'[15]Список изделий'!AF25","v":"00:00:00"},{"$f":"'[15]Список изделий'!AY25","v":0},{"$f":"'[15]Список изделий'!AZ25","v":"00:00:00"},-43153,-43153,0,0,{"$f":"'[15]Список изделий'!BR25","v":0},0]
[1224,{"$f":"'[15]Список изделий'!D26","v":24},{"$f":"'[15]Список изделий'!E26","v":0},{"$f":"'[15]Список изделий'!F26","v":"КАФЕ оформление"},{"$f":"'[15]Список изделий'!I26","v":0},{"$f":"'[15]Список изделий'!X26","v":0},{"$f":"'[15]Список изделий'!Y26","v":0},{"$f":"'[15]Список изделий'!Z26","v":0},{"$f":"'[15]Список изделий'!AA26","v":0},{"$f":"'[15]Список изделий'!AB26","v":0},{"$f":"'[15]Список изделий'!AC26","v":"x"},{"$f":"'[15]Список изделий'!AD26","v":0},{"$f":"'[15]Список изделий'!AE26","v":"к-т"},{"$f":"'[15]Список изделий'!AF26","v":"00:00:00"},{"$f":"'[15]Список изделий'!AY26","v":0},{"$f":"'[15]Список изделий'!AZ26","v":"00:00:00"},-43153,-43153,0,0,{"$f":"'[15]Список изделий'!BR26","v":0},0]
[1225,{"$f":"'[15]Список изделий'!D27","v":25},{"$f":"'[15]Список изделий'!E27","v":"Перек-Испыт-25"},{"$f":"'[15]Список изделий'!F27","v":"Конструкции \"СУПЕРЦЕНА\" треугольная "},{"$f":"'[15]Список изделий'!I27","v":8},{"$f":"'[15]Список изделий'!X27","v":"ГМА"},{"$f":"'[15]Список изделий'!Y27","v":"Микуло"},{"$f":"'[15]Список изделий'!Z27","v":"Закурдаев"},{"$f":"'[15]Список изделий'!AA27","v":"Замотаев"},{"$f":"'[15]Список изделий'!AB27","v":0},{"$f":"'[15]Список изделий'!AC27","v":"x"},{"$f":"'[15]Список изделий'!AD27","v":0},{"$f":"'[15]Список изделий'!AE27","v":"шт."},{"$f":"'[15]Список изделий'!AF27","v":"2018-02-27"},{"$f":"'[15]Список изделий'!AY27","v":1},{"$f":"'[15]Список изделий'!AZ27","v":"2018-02-26"},3,4,0,0,{"$f":"'[15]Список изделий'!BR27","v":"\\\\SERVER\\Data1\\П\\Перекресток\\2018\\ТЕХ. ДОКУМЕНТАЦИЯ рабочая\\25-СУПЕРЦЕНА-треугольная(Призма)"},0]
[1226,{"$f":"'[15]Список изделий'!D28","v":26},{"$f":"'[15]Список изделий'!E28","v":0},{"$f":"'[15]Список изделий'!F28","v":"Конструкция \"СУПЕРЦЕНА\" одинарная, один карман, подвесная"},{"$f":"'[15]Список изделий'!I28","v":0},{"$f":"'[15]Список изделий'!X28","v":0},{"$f":"'[15]Список изделий'!Y28","v":0},{"$f":"'[15]Список изделий'!Z28","v":0},{"$f":"'[15]Список изделий'!AA28","v":0},{"$f":"'[15]Список изделий'!AB28","v":0},{"$f":"'[15]Список изделий'!AC28","v":"x"},{"$f":"'[15]Список изделий'!AD28","v":0},{"$f":"'[15]Список изделий'!AE28","v":"шт."},{"$f":"'[15]Список изделий'!AF28","v":"00:00:00"},{"$f":"'[15]Список изделий'!AY28","v":0},{"$f":"'[15]Список изделий'!AZ28","v":"00:00:00"},-43153,-43153,0,0,{"$f":"'[15]Список изделий'!BR28","v":"\\\\SERVER\\Data1\\П\\Перекресток\\2018\\ТЕХ. ДОКУМЕНТАЦИЯ рабочая\\26-СУПЕРЦЕНА-одинарная_подвесная"},0]
[1227,{"$f":"'[15]Список изделий'!D29","v":27},{"$f":"'[15]Список изделий'!E29","v":0},{"$f":"'[15]Список изделий'!F29","v":"МОРОЖЕНОЕ стикеры на боковую часть холодильника "},{"$f":"'[15]Список изделий'!I29","v":0},{"$f":"'[15]Список изделий'!X29","v":0},{"$f":"'[15]Список изделий'!Y29","v":0},{"$f":"'[15]Список изделий'!Z29","v":0},{"$f":"'[15]Список изделий'!AA29","v":0},{"$f":"'[15]Список изделий'!AB29","v":0},{"$f":"'[15]Список изделий'!AC29","v":"x"},{"$f":"'[15]Список изделий'!AD29","v":0},{"$f":"'[15]Список изделий'!AE29","v":"к-т"},{"$f":"'[15]Список изделий'!AF29","v":"00:00:00"},{"$f":"'[15]Список изделий'!AY29","v":0},{"$f":"'[15]Список изделий'!AZ29","v":"00:00:00"},-43153,-43153,0,0,{"$f":"'[15]Список изделий'!BR29","v":0},0]
[1228,{"$f":"'[15]Список изделий'!D30","v":28},{"$f":"'[15]Список изделий'!E30","v":0},{"$f":"'[15]Список изделий'!F30","v":"Навигация"},{"$f":"'[15]Список изделий'!I30","v":0},{"$f":"'[15]Список изделий'!X30","v":0},{"$f":"'[15]Список изделий'!Y30","v":0},{"$f":"'[15]Список изделий'!Z30","v":0},{"$f":"'[15]Список изделий'!AA30","v":0},{"$f":"'[15]Список изделий'!AB30","v":0},{"$f":"'[15]Список изделий'!AC30","v":"x"},{"$f":"'[15]Список изделий'!AD30","v":0},{"$f":"'[15]Список изделий'!AE30","v":"к-т"},{"$f":"'[15]Список изделий'!AF30","v":"00:00:00"},{"$f":"'[15]Список изделий'!AY30","v":0},{"$f":"'[15]Список изделий'!AZ30","v":"00:00:00"},-43153,-43153,0,0,{"$f":"'[15]Список изделий'!BR30","v":0},0]
[1229,{"$f":"'[15]Список изделий'!D31","v":29},{"$f":"'[15]Список изделий'!E31","v":0},{"$f":"'[15]Список изделий'!F31","v":"НОМЕР КАССЫ стикер  - количество касс (комплект из 2 шт. печать с 1 по ХХ)"},{"$f":"'[15]Список изделий'!I31","v":0},{"$f":"'[15]Список изделий'!X31","v":0},{"$f":"'[15]Список изделий'!Y31","v":0},{"$f":"'[15]Список изделий'!Z31","v":0},{"$f":"'[15]Список изделий'!AA31","v":0},{"$f":"'[15]Список изделий'!AB31","v":0},{"$f":"'[15]Список изделий'!AC31","v":"x"},{"$f":"'[15]Список изделий'!AD31","v":0},{"$f":"'[15]Список изделий'!AE31","v":"к-т"},{"$f":"'[15]Список изделий'!AF31","v":"00:00:00"},{"$f":"'[15]Список изделий'!AY31","v":0},{"$f":"'[15]Список изделий'!AZ31","v":"00:00:00"},-43153,-43153,0,0,{"$f":"'[15]Список изделий'!BR31","v":"\\\\SERVER\\Data1\\П\\Перекресток\\2018\\ТЕХ. ДОКУМЕНТАЦИЯ рабочая\\29-Номер_КАССЫ стикер"},0]
[1230,{"$f":"'[15]Список изделий'!D32","v":30},{"$f":"'[15]Список изделий'!E32","v":0},{"$f":"'[15]Список изделий'!F32","v":"Оклейка ПАТТЕРН плоттерная резка "},{"$f":"'[15]Список изделий'!I32","v":0},{"$f":"'[15]Список изделий'!X32","v":0},{"$f":"'[15]Список изделий'!Y32","v":0},{"$f":"'[15]Список изделий'!Z32","v":0},{"$f":"'[15]Список изделий'!AA32","v":0},{"$f":"'[15]Список изделий'!AB32","v":0},{"$f":"'[15]Список изделий'!AC32","v":"x"},{"$f":"'[15]Список изделий'!AD32","v":0},{"$f":"'[15]Список изделий'!AE32","v":"к-т"},{"$f":"'[15]Список изделий'!AF32","v":"00:00:00"},{"$f":"'[15]Список изделий'!AY32","v":0},{"$f":"'[15]Список изделий'!AZ32","v":"00:00:00"},-43153,-43153,0,0,{"$f":"'[15]Список изделий'!BR32","v":0},0]
[1231,{"$f":"'[15]Список изделий'!D33","v":31},{"$f":"'[15]Список изделий'!E33","v":0},{"$f":"'[15]Список изделий'!F33","v":"Оформление дополнительного оборудования"},{"$f":"'[15]Список изделий'!I33","v":0},{"$f":"'[15]Список изделий'!X33","v":0},{"$f":"'[15]Список изделий'!Y33","v":0},{"$f":"'[15]Список изделий'!Z33","v":0},{"$f":"'[15]Список изделий'!AA33","v":0},{"$f":"'[15]Список изделий'!AB33","v":0},{"$f":"'[15]Список изделий'!AC33","v":"x"},{"$f":"'[15]Список изделий'!AD33","v":0},{"$f":"'[15]Список изделий'!AE33","v":"шт."},{"$f":"'[15]Список изделий'!AF33","v":"00:00:00"},{"$f":"'[15]Список изделий'!AY33","v":0},{"$f":"'[15]Список изделий'!AZ33","v":"00:00:00"},-43153,-43153,0,0,{"$f":"'[15]Список изделий'!BR33","v":0},0]
[1232,{"$f":"'[15]Список изделий'!D34","v":32},{"$f":"'[15]Список изделий'!E34","v":0},{"$f":"'[15]Список изделий'!F34","v":"ПИЛОН вставка - печать на бумаге"},{"$f":"'[15]Список изделий'!I34","v":0},{"$f":"'[15]Список изделий'!X34","v":0},{"$f":"'[15]Список изделий'!Y34","v":0},{"$f":"'[15]Список изделий'!Z34","v":0},{"$f":"'[15]Список изделий'!AA34","v":0},{"$f":"'[15]Список изделий'!AB34","v":0},{"$f":"'[15]Список изделий'!AC34","v":"x"},{"$f":"'[15]Список изделий'!AD34","v":0},{"$f":"'[15]Список изделий'!AE34","v":"шт."},{"$f":"'[15]Список изделий'!AF34","v":"00:00:00"},{"$f":"'[15]Список изделий'!AY34","v":0},{"$f":"'[15]Список изделий'!AZ34","v":"00:00:00"},-43153,-43153,0,0,{"$f":"'[15]Список изделий'!BR34","v":0},0]
[1233,{"$f":"'[15]Список изделий'!D35","v":33},{"$f":"'[15]Список изделий'!E35","v":0},{"$f":"'[15]Список изделий'!F35","v":"ПИКТОГРАММЫ на стену"},{"$f":"'[15]Список изделий'!I35","v":0},{"$f":"'[15]Список изделий'!X35","v":0},{"$f":"'[15]Список изделий'!Y35","v":0},{"$f":"'[15]Список изделий'!Z35","v":0},{"$f":"'[15]Список изделий'!AA35","v":0},{"$f":"'[15]Список изделий'!AB35","v":0},{"$f":"'[15]Список изделий'!AC35","v":"x"},{"$f":"'[15]Список изделий'!AD35","v":0},{"$f":"'[15]Список изделий'!AE35","v":"к-т"},{"$f":"'[15]Список изделий'!AF35","v":"00:00:00"},{"$f":"'[15]Список изделий'!AY35","v":0},{"$f":"'[15]Список изделий'!AZ35","v":"00:00:00"},-43153,-43153,0,0,{"$f":"'[15]Список изделий'!BR35","v":0},0]
[1234,{"$f":"'[15]Список изделий'!D36","v":34},{"$f":"'[15]Список изделий'!E36","v":"Перек-Испыт-34"},{"$f":"'[15]Список изделий'!F36","v":"ПИЛОН несветовой"},{"$f":"'[15]Список изделий'!I36","v":1},{"$f":"'[15]Список изделий'!X36","v":"ГМА"},{"$f":"'[15]Список изделий'!Y36","v":"Микуло"},{"$f":"'[15]Список изделий'!Z36","v":"Закурдаев"},{"$f":"'[15]Список изделий'!AA36","v":"Замотаев"},{"$f":"'[15]Список изделий'!AB36","v":660},{"$f":"'[15]Список изделий'!AC36","v":"x"},{"$f":"'[15]Список изделий'!AD36","v":1600},{"$f":"'[15]Список изделий'!AE36","v":"к-т"},{"$f":"'[15]Список изделий'!AF36","v":"2018-02-27"},{"$f":"'[15]Список изделий'!AY36","v":1},{"$f":"'[15]Список изделий'!AZ36","v":"2018-02-26"},3,4,0,0,{"$f":"'[15]Список изделий'!BR36","v":"\\\\SERVER\\Data1\\П\\Перекресток\\2018\\ТЕХ. ДОКУМЕНТАЦИЯ рабочая\\34-Пилон-660х1600"},0]
[1235,{"$f":"'[15]Список изделий'!D37","v":35},{"$f":"'[15]Список изделий'!E37","v":"Перек-Испыт-35"},{"$f":"'[15]Список изделий'!F37","v":"Подвес- УКАЗАТЕЛЬ  КАСС (двухсторонний)  (яблоки)"},{"$f":"'[15]Список изделий'!I37","v":2},{"$f":"'[15]Список изделий'!X37","v":"ГМА"},{"$f":"'[15]Список изделий'!Y37","v":"Микуло"},{"$f":"'[15]Список изделий'!Z37","v":"Закурдаев"},{"$f":"'[15]Список изделий'!AA37","v":"Замотаев"},{"$f":"'[15]Список изделий'!AB37","v":400},{"$f":"'[15]Список изделий'!AC37","v":"x"},{"$f":"'[15]Список изделий'!AD37","v":1500},{"$f":"'[15]Список изделий'!AE37","v":"к-т"},{"$f":"'[15]Список изделий'!AF37","v":"2018-02-27"},{"$f":"'[15]Список изделий'!AY37","v":1},{"$f":"'[15]Список изделий'!AZ37","v":"2018-02-26"},3,4,0,0,{"$f":"'[15]Список изделий'!BR37","v":"\\\\SERVER\\Data1\\П\\Перекресток\\2018\\ОКЕЙ_Перекресток\\Испытателей 27\\техничка\\35-Подвес_УКАЗАТЕЛЬ_КАССЫ_(яблоки)"},0]
[1236,{"$f":"'[15]Список изделий'!D38","v":36},{"$f":"'[15]Список изделий'!E38","v":0},{"$f":"'[15]Список изделий'!F38","v":"ПОТОЛОЧНЫЕ ВЫВЕСКИ двусторонние"},{"$f":"'[15]Список изделий'!I38","v":0},{"$f":"'[15]Список изделий'!X38","v":0},{"$f":"'[15]Список изделий'!Y38","v":0},{"$f":"'[15]Список изделий'!Z38","v":0},{"$f":"'[15]Список изделий'!AA38","v":0},{"$f":"'[15]Список изделий'!AB38","v":2000},{"$f":"'[15]Список изделий'!AC38","v":"x"},{"$f":"'[15]Список изделий'!AD38","v":400},{"$f":"'[15]Список изделий'!AE38","v":"шт."},{"$f":"'[15]Список изделий'!AF38","v":"00:00:00"},{"$f":"'[15]Список изделий'!AY38","v":0},{"$f":"'[15]Список изделий'!AZ38","v":"00:00:00"},-43153,-43153,0,0,{"$f":"'[15]Список изделий'!BR38","v":0},0]
[1237,{"$f":"'[15]Список изделий'!D39","v":37},{"$f":"'[15]Список изделий'!E39","v":0},{"$f":"'[15]Список изделий'!F39","v":"Проектно-конструкторская документация "},{"$f":"'[15]Список изделий'!I39","v":0},{"$f":"'[15]Список изделий'!X39","v":0},{"$f":"'[15]Список изделий'!Y39","v":0},{"$f":"'[15]Список изделий'!Z39","v":0},{"$f":"'[15]Список изделий'!AA39","v":0},{"$f":"'[15]Список изделий'!AB39","v":0},{"$f":"'[15]Список изделий'!AC39","v":"x"},{"$f":"'[15]Список изделий'!AD39","v":0},{"$f":"'[15]Список изделий'!AE39","v":"к-т"},{"$f":"'[15]Список изделий'!AF39","v":"00:00:00"},{"$f":"'[15]Список изделий'!AY39","v":0},{"$f":"'[15]Список изделий'!AZ39","v":"00:00:00"},-43153,-43153,0,0,{"$f":"'[15]Список изделий'!BR39","v":0},0]
[1238,{"$f":"'[15]Список изделий'!D40","v":38},{"$f":"'[15]Список изделий'!E40","v":0},{"$f":"'[15]Список изделий'!F40","v":"ПРОТЕУС"},{"$f":"'[15]Список изделий'!I40","v":0},{"$f":"'[15]Список изделий'!X40","v":0},{"$f":"'[15]Список изделий'!Y40","v":0},{"$f":"'[15]Список изделий'!Z40","v":0},{"$f":"'[15]Список изделий'!AA40","v":0},{"$f":"'[15]Список изделий'!AB40","v":0},{"$f":"'[15]Список изделий'!AC40","v":"x"},{"$f":"'[15]Список изделий'!AD40","v":0},{"$f":"'[15]Список изделий'!AE40","v":"к-т"},{"$f":"'[15]Список изделий'!AF40","v":"00:00:00"},{"$f":"'[15]Список изделий'!AY40","v":0},{"$f":"'[15]Список изделий'!AZ40","v":"00:00:00"},-43153,-43153,0,0,{"$f":"'[15]Список изделий'!BR40","v":0},0]
[1239,{"$f":"'[15]Список изделий'!D41","v":39},{"$f":"'[15]Список изделий'!E41","v":0},{"$f":"'[15]Список изделий'!F41","v":"РЕЖИМ РАБОТ стикер"},{"$f":"'[15]Список изделий'!I41","v":0},{"$f":"'[15]Список изделий'!X41","v":0},{"$f":"'[15]Список изделий'!Y41","v":0},{"$f":"'[15]Список изделий'!Z41","v":0},{"$f":"'[15]Список изделий'!AA41","v":0},{"$f":"'[15]Список изделий'!AB41","v":0},{"$f":"'[15]Список изделий'!AC41","v":"x"},{"$f":"'[15]Список изделий'!AD41","v":0},{"$f":"'[15]Список изделий'!AE41","v":"к-т"},{"$f":"'[15]Список изделий'!AF41","v":"00:00:00"},{"$f":"'[15]Список изделий'!AY41","v":0},{"$f":"'[15]Список изделий'!AZ41","v":"00:00:00"},-43153,-43153,0,0,{"$f":"'[15]Список изделий'!BR41","v":0},0]
[1240,{"$f":"'[15]Список изделий'!D42","v":40},{"$f":"'[15]Список изделий'!E42","v":0},{"$f":"'[15]Список изделий'!F42","v":"РЕЖИМ РАБОТ табличка"},{"$f":"'[15]Список изделий'!I42","v":0},{"$f":"'[15]Список изделий'!X42","v":0},{"$f":"'[15]Список изделий'!Y42","v":0},{"$f":"'[15]Список изделий'!Z42","v":0},{"$f":"'[15]Список изделий'!AA42","v":0},{"$f":"'[15]Список изделий'!AB42","v":0},{"$f":"'[15]Список изделий'!AC42","v":"x"},{"$f":"'[15]Список изделий'!AD42","v":0},{"$f":"'[15]Список изделий'!AE42","v":"к-т"},{"$f":"'[15]Список изделий'!AF42","v":"00:00:00"},{"$f":"'[15]Список изделий'!AY42","v":0},{"$f":"'[15]Список изделий'!AZ42","v":"00:00:00"},-43153,-43153,0,0,{"$f":"'[15]Список изделий'!BR42","v":0},0]
[1241,{"$f":"'[15]Список изделий'!D43","v":41},{"$f":"'[15]Список изделий'!E43","v":"Перек-Испыт-41"},{"$f":"'[15]Список изделий'!F43","v":"Световые ВЫВЕСКИ ОТДЕЛОВ"},{"$f":"'[15]Список изделий'!I43","v":8},{"$f":"'[15]Список изделий'!X43","v":"ГМА"},{"$f":"'[15]Список изделий'!Y43","v":"Микуло"},{"$f":"'[15]Список изделий'!Z43","v":"Закурдаев"},{"$f":"'[15]Список изделий'!AA43","v":"Замотаев"},{"$f":"'[15]Список изделий'!AB43","v":0},{"$f":"'[15]Список изделий'!AC43","v":"x"},{"$f":"'[15]Список изделий'!AD43","v":350},{"$f":"'[15]Список изделий'!AE43","v":"шт."},{"$f":"'[15]Список изделий'!AF43","v":"2018-02-27"},{"$f":"'[15]Список изделий'!AY43","v":1},{"$f":"'[15]Список изделий'!AZ43","v":"2018-02-26"},3,4,0,0,{"$f":"'[15]Список изделий'!BR43","v":"\\\\SERVER\\Data1\\П\\Перекресток\\2018\\ОКЕЙ_Перекресток\\Испытателей 27\\техничка\\03-Световые_вывески_отделов"},0]
[1242,{"$f":"'[15]Список изделий'!D44","v":42},{"$f":"'[15]Список изделий'!E44","v":0},{"$f":"'[15]Список изделий'!F44","v":"Скайтреки монтаж"},{"$f":"'[15]Список изделий'!I44","v":0},{"$f":"'[15]Список изделий'!X44","v":0},{"$f":"'[15]Список изделий'!Y44","v":0},{"$f":"'[15]Список изделий'!Z44","v":0},{"$f":"'[15]Список изделий'!AA44","v":0},{"$f":"'[15]Список изделий'!AB44","v":0},{"$f":"'[15]Список изделий'!AC44","v":"x"},{"$f":"'[15]Список изделий'!AD44","v":0},{"$f":"'[15]Список изделий'!AE44","v":"шт."},{"$f":"'[15]Список изделий'!AF44","v":"00:00:00"},{"$f":"'[15]Список изделий'!AY44","v":0},{"$f":"'[15]Список изделий'!AZ44","v":"00:00:00"},-43153,-43153,0,0,{"$f":"'[15]Список изделий'!BR44","v":0},0]
[1243,{"$f":"'[15]Список изделий'!D45","v":43},{"$f":"'[15]Список изделий'!E45","v":"Перек-Испыт-43"},{"$f":"'[15]Список изделий'!F45","v":"СЛУЖЕБНЫЕ ТАБЛИЧКИ (комплект 800-1200)"},{"$f":"'[15]Список изделий'!I45","v":1},{"$f":"'[15]Список изделий'!X45","v":"ГМА"},{"$f":"'[15]Список изделий'!Y45","v":"Микуло"},{"$f":"'[15]Список изделий'!Z45","v":"Закурдаев"},{"$f":"'[15]Список изделий'!AA45","v":"Замотаев"},{"$f":"'[15]Список изделий'!AB45","v":0},{"$f":"'[15]Список изделий'!AC45","v":"x"},{"$f":"'[15]Список изделий'!AD45","v":0},{"$f":"'[15]Список изделий'!AE45","v":"шт."},{"$f":"'[15]Список изделий'!AF45","v":"2018-02-27"},{"$f":"'[15]Список изделий'!AY45","v":1},{"$f":"'[15]Список изделий'!AZ45","v":"2018-02-26"},3,4,0,0,{"$f":"'[15]Список изделий'!BR45","v":"\\\\SERVER\\Data1\\П\\Перекресток\\2018\\ОКЕЙ_Перекресток\\Испытателей 27\\техничка\\43-Служебные_таблички"},0]
[1244,{"$f":"'[15]Список изделий'!D46","v":44},{"$f":"'[15]Список изделий'!E46","v":0},{"$f":"'[15]Список изделий'!F46","v":"Стикер заморозка ВЕРТИКАЛЬНЫЙ  на дверь"},{"$f":"'[15]Список изделий'!I46","v":0},{"$f":"'[15]Список изделий'!X46","v":0},{"$f":"'[15]Список изделий'!Y46","v":0},{"$f":"'[15]Список изделий'!Z46","v":0},{"$f":"'[15]Список изделий'!AA46","v":0},{"$f":"'[15]Список изделий'!AB46","v":0},{"$f":"'[15]Список изделий'!AC46","v":"x"},{"$f":"'[15]Список изделий'!AD46","v":0},{"$f":"'[15]Список изделий'!AE46","v":"шт."},{"$f":"'[15]Список изделий'!AF46","v":"00:00:00"},{"$f":"'[15]Список изделий'!AY46","v":0},{"$f":"'[15]Список изделий'!AZ46","v":"00:00:00"},-43153,-43153,0,0,{"$f":"'[15]Список изделий'!BR46","v":0},0]
[1245,{"$f":"'[15]Список изделий'!D47","v":45},{"$f":"'[15]Список изделий'!E47","v":0},{"$f":"'[15]Список изделий'!F47","v":"Табличка двухст. \"Суперцена\" для подвеса к ценникодержателю ФРОВ"},{"$f":"'[15]Список изделий'!I47","v":0},{"$f":"'[15]Список изделий'!X47","v":0},{"$f":"'[15]Список изделий'!Y47","v":0},{"$f":"'[15]Список изделий'!Z47","v":0},{"$f":"'[15]Список изделий'!AA47","v":0},{"$f":"'[15]Список изделий'!AB47","v":0},{"$f":"'[15]Список изделий'!AC47","v":"x"},{"$f":"'[15]Список изделий'!AD47","v":0},{"$f":"'[15]Список изделий'!AE47","v":"шт."},{"$f":"'[15]Список изделий'!AF47","v":"00:00:00"},{"$f":"'[15]Список изделий'!AY47","v":0},{"$f":"'[15]Список изделий'!AZ47","v":"00:00:00"},-43153,-43153,0,0,{"$f":"'[15]Список изделий'!BR47","v":"\\\\SERVER\\Data1\\П\\Перекресток\\2018\\ТЕХ. ДОКУМЕНТАЦИЯ рабочая\\45-Подвес_Суперцена_ФРОВ"},0]
[1246,{"$f":"'[15]Список изделий'!D48","v":46},{"$f":"'[15]Список изделий'!E48","v":"Перек-Испыт-46"},{"$f":"'[15]Список изделий'!F48","v":"Таблички над кассами с карманами  А3 (три кармана)"},{"$f":"'[15]Список изделий'!I48","v":2},{"$f":"'[15]Список изделий'!X48","v":"ГМА"},{"$f":"'[15]Список изделий'!Y48","v":"Микуло"},{"$f":"'[15]Список изделий'!Z48","v":"Закурдаев"},{"$f":"'[15]Список изделий'!AA48","v":"Замотаев"},{"$f":"'[15]Список изделий'!AB48","v":1350},{"$f":"'[15]Список изделий'!AC48","v":"x"},{"$f":"'[15]Список изделий'!AD48","v":350},{"$f":"'[15]Список изделий'!AE48","v":0},{"$f":"'[15]Список изделий'!AF48","v":"2018-02-27"},{"$f":"'[15]Список изделий'!AY48","v":1},{"$f":"'[15]Список изделий'!AZ48","v":"2018-02-26"},3,4,0,0,{"$f":"'[15]Список изделий'!BR48","v":"\\\\SERVER\\Data1\\П\\Перекресток\\2018\\ТЕХ. ДОКУМЕНТАЦИЯ рабочая\\46-Табл. над кассами с карманами А3"},0]
[1247,{"$f":"'[15]Список изделий'!D49","v":47},{"$f":"'[15]Список изделий'!E49","v":0},{"$f":"'[15]Список изделий'!F49","v":"УКАЗАТЕЛЬ ВХОДА  подвесной двусторонний"},{"$f":"'[15]Список изделий'!I49","v":0},{"$f":"'[15]Список изделий'!X49","v":0},{"$f":"'[15]Список изделий'!Y49","v":0},{"$f":"'[15]Список изделий'!Z49","v":0},{"$f":"'[15]Список изделий'!AA49","v":0},{"$f":"'[15]Список изделий'!AB49","v":0},{"$f":"'[15]Список изделий'!AC49","v":"x"},{"$f":"'[15]Список изделий'!AD49","v":0},{"$f":"'[15]Список изделий'!AE49","v":"к-т"},{"$f":"'[15]Список изделий'!AF49","v":"00:00:00"},{"$f":"'[15]Список изделий'!AY49","v":0},{"$f":"'[15]Список изделий'!AZ49","v":"00:00:00"},-43153,-43153,0,0,{"$f":"'[15]Список изделий'!BR49","v":"\\\\SERVER\\Data1\\П\\Перекресток\\2018\\ТЕХ. ДОКУМЕНТАЦИЯ рабочая\\47-указатель-Перекресток+кассы"},0]
[1248,{"$f":"'[15]Список изделий'!D50","v":48},{"$f":"'[15]Список изделий'!E50","v":0},{"$f":"'[15]Список изделий'!F50","v":"ФЕРМЕРСКИЙ УГОЛОК оформление"},{"$f":"'[15]Список изделий'!I50","v":0},{"$f":"'[15]Список изделий'!X50","v":0},{"$f":"'[15]Список изделий'!Y50","v":0},{"$f":"'[15]Список изделий'!Z50","v":0},{"$f":"'[15]Список изделий'!AA50","v":0},{"$f":"'[15]Список изделий'!AB50","v":0},{"$f":"'[15]Список изделий'!AC50","v":"x"},{"$f":"'[15]Список изделий'!AD50","v":0},{"$f":"'[15]Список изделий'!AE50","v":"шт."},{"$f":"'[15]Список изделий'!AF50","v":"00:00:00"},{"$f":"'[15]Список изделий'!AY50","v":0},{"$f":"'[15]Список изделий'!AZ50","v":"00:00:00"},-43153,-43153,0,0,{"$f":"'[15]Список изделий'!BR50","v":0},0]
[1249,{"$f":"'[15]Список изделий'!D51","v":49},{"$f":"'[15]Список изделий'!E51","v":0},{"$f":"'[15]Список изделий'!F51","v":"Фриз \"КОНФЕТЫ\" стеллажный 2хст. Объемный"},{"$f":"'[15]Список изделий'!I51","v":0},{"$f":"'[15]Список изделий'!X51","v":0},{"$f":"'[15]Список изделий'!Y51","v":0},{"$f":"'[15]Список изделий'!Z51","v":0},{"$f":"'[15]Список изделий'!AA51","v":0},{"$f":"'[15]Список изделий'!AB51","v":0},{"$f":"'[15]Список изделий'!AC51","v":"x"},{"$f":"'[15]Список изделий'!AD51","v":0},{"$f":"'[15]Список изделий'!AE51","v":"шт."},{"$f":"'[15]Список изделий'!AF51","v":"00:00:00"},{"$f":"'[15]Список изделий'!AY51","v":0},{"$f":"'[15]Список изделий'!AZ51","v":"00:00:00"},-43153,-43153,0,0,{"$f":"'[15]Список изделий'!BR51","v":0},0]
[1250,{"$f":"'[15]Список изделий'!D52","v":50},{"$f":"'[15]Список изделий'!E52","v":0},{"$f":"'[15]Список изделий'!F52","v":"Фриз стеллажный объемный. Двухсторонний СУПЕРЦЕНА. "},{"$f":"'[15]Список изделий'!I52","v":0},{"$f":"'[15]Список изделий'!X52","v":0},{"$f":"'[15]Список изделий'!Y52","v":0},{"$f":"'[15]Список изделий'!Z52","v":0},{"$f":"'[15]Список изделий'!AA52","v":0},{"$f":"'[15]Список изделий'!AB52","v":0},{"$f":"'[15]Список изделий'!AC52","v":"x"},{"$f":"'[15]Список изделий'!AD52","v":0},{"$f":"'[15]Список изделий'!AE52","v":0},{"$f":"'[15]Список изделий'!AF52","v":"00:00:00"},{"$f":"'[15]Список изделий'!AY52","v":0},{"$f":"'[15]Список изделий'!AZ52","v":"00:00:00"},-43153,-43153,0,0,{"$f":"'[15]Список изделий'!BR52","v":0},0]
[1251,{"$f":"'[15]Список изделий'!D53","v":51},{"$f":"'[15]Список изделий'!E53","v":0},{"$f":"'[15]Список изделий'!F53","v":"ФРИЗЫ НАСТЕННЫЕ "},{"$f":"'[15]Список изделий'!I53","v":0},{"$f":"'[15]Список изделий'!X53","v":0},{"$f":"'[15]Список изделий'!Y53","v":0},{"$f":"'[15]Список изделий'!Z53","v":0},{"$f":"'[15]Список изделий'!AA53","v":0},{"$f":"'[15]Список изделий'!AB53","v":0},{"$f":"'[15]Список изделий'!AC53","v":"x"},{"$f":"'[15]Список изделий'!AD53","v":0},{"$f":"'[15]Список изделий'!AE53","v":"к-т"},{"$f":"'[15]Список изделий'!AF53","v":"00:00:00"},{"$f":"'[15]Список изделий'!AY53","v":0},{"$f":"'[15]Список изделий'!AZ53","v":"00:00:00"},-43153,-43153,0,0,{"$f":"'[15]Список изделий'!BR53","v":0},0]
[1252,{"$f":"'[15]Список изделий'!D54","v":52},{"$f":"'[15]Список изделий'!E54","v":0},{"$f":"'[15]Список изделий'!F54","v":"Фризы стеллажные \"ХЛЕБ\""},{"$f":"'[15]Список изделий'!I54","v":0},{"$f":"'[15]Список изделий'!X54","v":0},{"$f":"'[15]Список изделий'!Y54","v":0},{"$f":"'[15]Список изделий'!Z54","v":0},{"$f":"'[15]Список изделий'!AA54","v":0},{"$f":"'[15]Список изделий'!AB54","v":0},{"$f":"'[15]Список изделий'!AC54","v":"x"},{"$f":"'[15]Список изделий'!AD54","v":0},{"$f":"'[15]Список изделий'!AE54","v":"шт."},{"$f":"'[15]Список изделий'!AF54","v":"00:00:00"},{"$f":"'[15]Список изделий'!AY54","v":0},{"$f":"'[15]Список изделий'!AZ54","v":"00:00:00"},-43153,-43153,0,0,{"$f":"'[15]Список изделий'!BR54","v":0},0]
[1253,{"$f":"'[15]Список изделий'!D55","v":53},{"$f":"'[15]Список изделий'!E55","v":0},{"$f":"'[15]Список изделий'!F55","v":"Холодильник ЗАМОРОЗКА стикер на боковую часть"},{"$f":"'[15]Список изделий'!I55","v":0},{"$f":"'[15]Список изделий'!X55","v":0},{"$f":"'[15]Список изделий'!Y55","v":0},{"$f":"'[15]Список изделий'!Z55","v":0},{"$f":"'[15]Список изделий'!AA55","v":0},{"$f":"'[15]Список изделий'!AB55","v":0},{"$f":"'[15]Список изделий'!AC55","v":"x"},{"$f":"'[15]Список изделий'!AD55","v":0},{"$f":"'[15]Список изделий'!AE55","v":"к-т"},{"$f":"'[15]Список изделий'!AF55","v":"00:00:00"},{"$f":"'[15]Список изделий'!AY55","v":0},{"$f":"'[15]Список изделий'!AZ55","v":"00:00:00"},-43153,-43153,0,0,{"$f":"'[15]Список изделий'!BR55","v":0},0]
[1254,{"$f":"'[15]Список изделий'!D56","v":54},{"$f":"'[15]Список изделий'!E56","v":0},{"$f":"'[15]Список изделий'!F56","v":"Холодильник ИКРА оформление"},{"$f":"'[15]Список изделий'!I56","v":0},{"$f":"'[15]Список изделий'!X56","v":0},{"$f":"'[15]Список изделий'!Y56","v":0},{"$f":"'[15]Список изделий'!Z56","v":0},{"$f":"'[15]Список изделий'!AA56","v":0},{"$f":"'[15]Список изделий'!AB56","v":0},{"$f":"'[15]Список изделий'!AC56","v":"x"},{"$f":"'[15]Список изделий'!AD56","v":0},{"$f":"'[15]Список изделий'!AE56","v":"к-т"},{"$f":"'[15]Список изделий'!AF56","v":"00:00:00"},{"$f":"'[15]Список изделий'!AY56","v":0},{"$f":"'[15]Список изделий'!AZ56","v":"00:00:00"},-43153,-43153,0,{"$f":"V1256","v":0},{"$f":"'[15]Список изделий'!BR56","v":0},0]
[1255,{"$f":"'[15]Список изделий'!D57","v":55},{"$f":"'[15]Список изделий'!E57","v":0},{"$f":"'[15]Список изделий'!F57","v":"Холодильник ЛАВАЛЬ стикер на боковую часть"},{"$f":"'[15]Список изделий'!I57","v":0},{"$f":"'[15]Список изделий'!X57","v":0},{"$f":"'[15]Список изделий'!Y57","v":0},{"$f":"'[15]Список изделий'!Z57","v":0},{"$f":"'[15]Список изделий'!AA57","v":0},{"$f":"'[15]Список изделий'!AB57","v":0},{"$f":"'[15]Список изделий'!AC57","v":"x"},{"$f":"'[15]Список изделий'!AD57","v":0},{"$f":"'[15]Список изделий'!AE57","v":"шт."},{"$f":"'[15]Список изделий'!AF57","v":"00:00:00"},{"$f":"'[15]Список изделий'!AY57","v":0},{"$f":"'[15]Список изделий'!AZ57","v":"00:00:00"},-43153,-43153,0,0,{"$f":"'[15]Список изделий'!BR57","v":0},0]
[1256,{"$f":"'[15]Список изделий'!D58","v":56},{"$f":"'[15]Список изделий'!E58","v":0},{"$f":"'[15]Список изделий'!F58","v":"ХОЛОДИЛЬНИК стикер на боковую часть"},{"$f":"'[15]Список изделий'!I58","v":0},{"$f":"'[15]Список изделий'!X58","v":0},{"$f":"'[15]Список изделий'!Y58","v":0},{"$f":"'[15]Список изделий'!Z58","v":0},{"$f":"'[15]Список изделий'!AA58","v":0},{"$f":"'[15]Список изделий'!AB58","v":0},{"$f":"'[15]Список изделий'!AC58","v":"x"},{"$f":"'[15]Список изделий'!AD58","v":0},{"$f":"'[15]Список изделий'!AE58","v":"шт."},{"$f":"'[15]Список изделий'!AF58","v":"00:00:00"},{"$f":"'[15]Список изделий'!AY58","v":0},{"$f":"'[15]Список изделий'!AZ58","v":"00:00:00"},-43153,-43153,0,0,{"$f":"'[15]Список изделий'!BR58","v":0},0]
[1257,{"$f":"'[15]Список изделий'!D59","v":57},{"$f":"'[15]Список изделий'!E59","v":0},{"$f":"'[15]Список изделий'!F59","v":"Холодильник СЫРЫ стикер \"СОЛОМА\""},{"$f":"'[15]Список изделий'!I59","v":0},{"$f":"'[15]Список изделий'!X59","v":0},{"$f":"'[15]Список изделий'!Y59","v":0},{"$f":"'[15]Список изделий'!Z59","v":0},{"$f":"'[15]Список изделий'!AA59","v":0},{"$f":"'[15]Список изделий'!AB59","v":0},{"$f":"'[15]Список изделий'!AC59","v":"x"},{"$f":"'[15]Список изделий'!AD59","v":0},{"$f":"'[15]Список изделий'!AE59","v":"шт."},{"$f":"'[15]Список изделий'!AF59","v":"00:00:00"},{"$f":"'[15]Список изделий'!AY59","v":0},{"$f":"'[15]Список изделий'!AZ59","v":"00:00:00"},-43153,-43153,0,0,{"$f":"'[15]Список изделий'!BR59","v":0},0]
[1258,{"$f":"'[15]Список изделий'!D60","v":58},{"$f":"'[15]Список изделий'!E60","v":0},{"$f":"'[15]Список изделий'!F60","v":"Штендер ЧАШКА"},{"$f":"'[15]Список изделий'!I60","v":0},{"$f":"'[15]Список изделий'!X60","v":0},{"$f":"'[15]Список изделий'!Y60","v":0},{"$f":"'[15]Список изделий'!Z60","v":0},{"$f":"'[15]Список изделий'!AA60","v":0},{"$f":"'[15]Список изделий'!AB60","v":0},{"$f":"'[15]Список изделий'!AC60","v":"x"},{"$f":"'[15]Список изделий'!AD60","v":0},{"$f":"'[15]Список изделий'!AE60","v":"шт."},{"$f":"'[15]Список изделий'!AF60","v":"00:00:00"},{"$f":"'[15]Список изделий'!AY60","v":0},{"$f":"'[15]Список изделий'!AZ60","v":"00:00:00"},-43153,-43153,0,0,{"$f":"'[15]Список изделий'!BR60","v":0},0]
[1259,{"$f":"'[15]Список изделий'!D61","v":59},{"$f":"'[15]Список изделий'!E61","v":0},{"$f":"'[15]Список изделий'!F61","v":"Экспресс-КАССЫ"},{"$f":"'[15]Список изделий'!I61","v":0},{"$f":"'[15]Список изделий'!X61","v":0},{"$f":"'[15]Список изделий'!Y61","v":0},{"$f":"'[15]Список изделий'!Z61","v":0},{"$f":"'[15]Список изделий'!AA61","v":0},{"$f":"'[15]Список изделий'!AB61","v":0},{"$f":"'[15]Список изделий'!AC61","v":"x"},{"$f":"'[15]Список изделий'!AD61","v":0},{"$f":"'[15]Список изделий'!AE61","v":"к-т"},{"$f":"'[15]Список изделий'!AF61","v":"00:00:00"},{"$f":"'[15]Список изделий'!AY61","v":0},{"$f":"'[15]Список изделий'!AZ61","v":"00:00:00"},-43153,-43153,0,0,{"$f":"'[15]Список изделий'!BR61","v":0},0]
[1260,{"$f":"'[15]Список изделий'!D62","v":60},{"$f":"'[15]Список изделий'!E62","v":0},{"$f":"'[15]Список изделий'!F62","v":0},{"$f":"'[15]Список изделий'!I62","v":0},{"$f":"'[15]Список изделий'!X62","v":0},{"$f":"'[15]Список изделий'!Y62","v":0},{"$f":"'[15]Список изделий'!Z62","v":0},{"$f":"'[15]Список изделий'!AA62","v":0},{"$f":"'[15]Список изделий'!AB62","v":0},{"$f":"'[15]Список изделий'!AC62","v":"x"},{"$f":"'[15]Список изделий'!AD62","v":0},{"$f":"'[15]Список изделий'!AE62","v":"к-т"},{"$f":"'[15]Список изделий'!AF62","v":"00:00:00"},{"$f":"'[15]Список изделий'!AY62","v":0},{"$f":"'[15]Список изделий'!AZ62","v":"00:00:00"},-43153,-43153,0,0,{"$f":"'[15]Список изделий'!BR62","v":0},0]
[1261,{"$f":"'[15]Список изделий'!D63","v":61},{"$f":"'[15]Список изделий'!E63","v":0},{"$f":"'[15]Список изделий'!F63","v":0},{"$f":"'[15]Список изделий'!I63","v":0},{"$f":"'[15]Список изделий'!X63","v":0},{"$f":"'[15]Список изделий'!Y63","v":0},{"$f":"'[15]Список изделий'!Z63","v":0},{"$f":"'[15]Список изделий'!AA63","v":0},{"$f":"'[15]Список изделий'!AB63","v":0},{"$f":"'[15]Список изделий'!AC63","v":"x"},{"$f":"'[15]Список изделий'!AD63","v":0},{"$f":"'[15]Список изделий'!AE63","v":"шт."},{"$f":"'[15]Список изделий'!AF63","v":"00:00:00"},{"$f":"'[15]Список изделий'!AY63","v":0},{"$f":"'[15]Список изделий'!AZ63","v":"00:00:00"},-43153,-43153,0,0,{"$f":"'[15]Список изделий'!BR63","v":0},0]
[1262,{"$f":"'[15]Список изделий'!D64","v":62},{"$f":"'[15]Список изделий'!E64","v":0},{"$f":"'[15]Список изделий'!F64","v":0},{"$f":"'[15]Список изделий'!I64","v":0},{"$f":"'[15]Список изделий'!X64","v":0},{"$f":"'[15]Список изделий'!Y64","v":0},{"$f":"'[15]Список изделий'!Z64","v":0},{"$f":"'[15]Список изделий'!AA64","v":0},{"$f":"'[15]Список изделий'!AB64","v":0},{"$f":"'[15]Список изделий'!AC64","v":"x"},{"$f":"'[15]Список изделий'!AD64","v":0},{"$f":"'[15]Список изделий'!AE64","v":"шт."},{"$f":"'[15]Список изделий'!AF64","v":"00:00:00"},{"$f":"'[15]Список изделий'!AY64","v":0},{"$f":"'[15]Список изделий'!AZ64","v":"00:00:00"},-43153,-43153,0,0,{"$f":"'[15]Список изделий'!BR64","v":0},0]
[1263,{"$f":"'[15]Список изделий'!D65","v":63},{"$f":"'[15]Список изделий'!E65","v":0},{"$f":"'[15]Список изделий'!F65","v":0},{"$f":"'[15]Список изделий'!I65","v":0},{"$f":"'[15]Список изделий'!X65","v":0},{"$f":"'[15]Список изделий'!Y65","v":0},{"$f":"'[15]Список изделий'!Z65","v":0},{"$f":"'[15]Список изделий'!AA65","v":0},{"$f":"'[15]Список изделий'!AB65","v":0},{"$f":"'[15]Список изделий'!AC65","v":"x"},{"$f":"'[15]Список изделий'!AD65","v":0},{"$f":"'[15]Список изделий'!AE65","v":"шт."},{"$f":"'[15]Список изделий'!AF65","v":"00:00:00"},{"$f":"'[15]Список изделий'!AY65","v":0},{"$f":"'[15]Список изделий'!AZ65","v":"00:00:00"},-43153,-43153,0,0,{"$f":"'[15]Список изделий'!BR65","v":0},0]
[1264,{"$f":"'[15]Список изделий'!D66","v":64},{"$f":"'[15]Список изделий'!E66","v":0},{"$f":"'[15]Список изделий'!F66","v":0},{"$f":"'[15]Список изделий'!I66","v":0},{"$f":"'[15]Список изделий'!X66","v":0},{"$f":"'[15]Список изделий'!Y66","v":0},{"$f":"'[15]Список изделий'!Z66","v":0},{"$f":"'[15]Список изделий'!AA66","v":0},{"$f":"'[15]Список изделий'!AB66","v":0},{"$f":"'[15]Список изделий'!AC66","v":"x"},{"$f":"'[15]Список изделий'!AD66","v":0},{"$f":"'[15]Список изделий'!AE66","v":"шт."},{"$f":"'[15]Список изделий'!AF66","v":"00:00:00"},{"$f":"'[15]Список изделий'!AY66","v":0},{"$f":"'[15]Список изделий'!AZ66","v":"00:00:00"},-43153,-43153,0,0,{"$f":"'[15]Список изделий'!BR66","v":0},0]
[1265,{"$f":"'[15]Список изделий'!D67","v":65},{"$f":"'[15]Список изделий'!E67","v":0},{"$f":"'[15]Список изделий'!F67","v":0},{"$f":"'[15]Список изделий'!I67","v":0},{"$f":"'[15]Список изделий'!X67","v":0},{"$f":"'[15]Список изделий'!Y67","v":0},{"$f":"'[15]Список изделий'!Z67","v":0},{"$f":"'[15]Список изделий'!AA67","v":0},{"$f":"'[15]Список изделий'!AB67","v":0},{"$f":"'[15]Список изделий'!AC67","v":"x"},{"$f":"'[15]Список изделий'!AD67","v":0},{"$f":"'[15]Список изделий'!AE67","v":"шт."},{"$f":"'[15]Список изделий'!AF67","v":"00:00:00"},{"$f":"'[15]Список изделий'!AY67","v":0},{"$f":"'[15]Список изделий'!AZ67","v":"00:00:00"},-43153,-43153,0,0,{"$f":"'[15]Список изделий'!BR67","v":0},0]
[1266,{"$f":"'[15]Список изделий'!D68","v":66},{"$f":"'[15]Список изделий'!E68","v":0},{"$f":"'[15]Список изделий'!F68","v":0},{"$f":"'[15]Список изделий'!I68","v":0},{"$f":"'[15]Список изделий'!X68","v":0},{"$f":"'[15]Список изделий'!Y68","v":0},{"$f":"'[15]Список изделий'!Z68","v":0},{"$f":"'[15]Список изделий'!AA68","v":0},{"$f":"'[15]Список изделий'!AB68","v":0},{"$f":"'[15]Список изделий'!AC68","v":"x"},{"$f":"'[15]Список изделий'!AD68","v":0},{"$f":"'[15]Список изделий'!AE68","v":0},{"$f":"'[15]Список изделий'!AF68","v":"00:00:00"},{"$f":"'[15]Список изделий'!AY68","v":0},{"$f":"'[15]Список изделий'!AZ68","v":"00:00:00"},-43153,-43153,0,0,{"$f":"'[15]Список изделий'!BR68","v":0},0]
[1267,{"$f":"'[15]Список изделий'!D69","v":67},{"$f":"'[15]Список изделий'!E69","v":0},{"$f":"'[15]Список изделий'!F69","v":0},{"$f":"'[15]Список изделий'!I69","v":0},{"$f":"'[15]Список изделий'!X69","v":0},{"$f":"'[15]Список изделий'!Y69","v":0},{"$f":"'[15]Список изделий'!Z69","v":0},{"$f":"'[15]Список изделий'!AA69","v":0},{"$f":"'[15]Список изделий'!AB69","v":0},{"$f":"'[15]Список изделий'!AC69","v":"x"},{"$f":"'[15]Список изделий'!AD69","v":0},{"$f":"'[15]Список изделий'!AE69","v":0},{"$f":"'[15]Список изделий'!AF69","v":"00:00:00"},{"$f":"'[15]Список изделий'!AY69","v":0},{"$f":"'[15]Список изделий'!AZ69","v":"00:00:00"},-43153,-43153,0,0,{"$f":"'[15]Список изделий'!BR69","v":0},0]
[1268,{"$f":"'[15]Список изделий'!D70","v":68},{"$f":"'[15]Список изделий'!E70","v":0},{"$f":"'[15]Список изделий'!F70","v":0},{"$f":"'[15]Список изделий'!I70","v":0},{"$f":"'[15]Список изделий'!X70","v":0},{"$f":"'[15]Список изделий'!Y70","v":0},{"$f":"'[15]Список изделий'!Z70","v":0},{"$f":"'[15]Список изделий'!AA70","v":0},{"$f":"'[15]Список изделий'!AB70","v":0},{"$f":"'[15]Список изделий'!AC70","v":"x"},{"$f":"'[15]Список изделий'!AD70","v":0},{"$f":"'[15]Список изделий'!AE70","v":0},{"$f":"'[15]Список изделий'!AF70","v":"00:00:00"},{"$f":"'[15]Список изделий'!AY70","v":0},{"$f":"'[15]Список изделий'!AZ70","v":"00:00:00"},-43153,-43153,0,0,{"$f":"'[15]Список изделий'!BR70","v":0},0]
[1269,{"$f":"'[15]Список изделий'!D71","v":69},{"$f":"'[15]Список изделий'!E71","v":0},{"$f":"'[15]Список изделий'!F71","v":0},{"$f":"'[15]Список изделий'!I71","v":0},{"$f":"'[15]Список изделий'!X71","v":0},{"$f":"'[15]Список изделий'!Y71","v":0},{"$f":"'[15]Список изделий'!Z71","v":0},{"$f":"'[15]Список изделий'!AA71","v":0},{"$f":"'[15]Список изделий'!AB71","v":0},{"$f":"'[15]Список изделий'!AC71","v":"x"},{"$f":"'[15]Список изделий'!AD71","v":0},{"$f":"'[15]Список изделий'!AE71","v":0},{"$f":"'[15]Список изделий'!AF71","v":"00:00:00"},{"$f":"'[15]Список изделий'!AY71","v":0},{"$f":"'[15]Список изделий'!AZ71","v":"00:00:00"},-43153,-43153,0,0,{"$f":"'[15]Список изделий'!BR71","v":0},0]
[1270,{"$f":"'[15]Список изделий'!D72","v":70},{"$f":"'[15]Список изделий'!E72","v":0},{"$f":"'[15]Список изделий'!F72","v":0},{"$f":"'[15]Список изделий'!I72","v":0},{"$f":"'[15]Список изделий'!X72","v":0},{"$f":"'[15]Список изделий'!Y72","v":0},{"$f":"'[15]Список изделий'!Z72","v":0},{"$f":"'[15]Список изделий'!AA72","v":0},{"$f":"'[15]Список изделий'!AB72","v":0},{"$f":"'[15]Список изделий'!AC72","v":"x"},{"$f":"'[15]Список изделий'!AD72","v":0},{"$f":"'[15]Список изделий'!AE72","v":0},{"$f":"'[15]Список изделий'!AF72","v":"00:00:00"},{"$f":"'[15]Список изделий'!AY72","v":0},{"$f":"'[15]Список изделий'!AZ72","v":"00:00:00"},-43153,-43153,0,0,{"$f":"'[15]Список изделий'!BR72","v":0},0]
[1271,{"$f":"'[15]Список изделий'!D73","v":71},{"$f":"'[15]Список изделий'!E73","v":0},{"$f":"'[15]Список изделий'!F73","v":0},{"$f":"'[15]Список изделий'!I73","v":0},{"$f":"'[15]Список изделий'!X73","v":0},{"$f":"'[15]Список изделий'!Y73","v":0},{"$f":"'[15]Список изделий'!Z73","v":0},{"$f":"'[15]Список изделий'!AA73","v":0},{"$f":"'[15]Список изделий'!AB73","v":0},{"$f":"'[15]Список изделий'!AC73","v":"x"},{"$f":"'[15]Список изделий'!AD73","v":0},{"$f":"'[15]Список изделий'!AE73","v":"шт."},{"$f":"'[15]Список изделий'!AF73","v":"00:00:00"},{"$f":"'[15]Список изделий'!AY73","v":0},{"$f":"'[15]Список изделий'!AZ73","v":"00:00:00"},-43153,-43153,0,0,{"$f":"'[15]Список изделий'!BR73","v":0},0]
[1272,{"$f":"'[15]Список изделий'!D74","v":72},{"$f":"'[15]Список изделий'!E74","v":0},{"$f":"'[15]Список изделий'!F74","v":0},{"$f":"'[15]Список изделий'!I74","v":0},{"$f":"'[15]Список изделий'!X74","v":0},{"$f":"'[15]Список изделий'!Y74","v":0},{"$f":"'[15]Список изделий'!Z74","v":0},{"$f":"'[15]Список изделий'!AA74","v":0},{"$f":"'[15]Список изделий'!AB74","v":0},{"$f":"'[15]Список изделий'!AC74","v":"x"},{"$f":"'[15]Список изделий'!AD74","v":0},{"$f":"'[15]Список изделий'!AE74","v":"шт."},{"$f":"'[15]Список изделий'!AF74","v":"00:00:00"},{"$f":"'[15]Список изделий'!AY74","v":0},{"$f":"'[15]Список изделий'!AZ74","v":"00:00:00"},-43153,-43153,0,0,{"$f":"'[15]Список изделий'!BR74","v":0},0]
[1273,{"$f":"'[15]Список изделий'!D75","v":73},{"$f":"'[15]Список изделий'!E75","v":0},{"$f":"'[15]Список изделий'!F75","v":0},{"$f":"'[15]Список изделий'!I75","v":0},{"$f":"'[15]Список изделий'!X75","v":0},{"$f":"'[15]Список изделий'!Y75","v":0},{"$f":"'[15]Список изделий'!Z75","v":0},{"$f":"'[15]Список изделий'!AA75","v":0},{"$f":"'[15]Список изделий'!AB75","v":0},{"$f":"'[15]Список изделий'!AC75","v":"x"},{"$f":"'[15]Список изделий'!AD75","v":0},{"$f":"'[15]Список изделий'!AE75","v":0},{"$f":"'[15]Список изделий'!AF75","v":"00:00:00"},{"$f":"'[15]Список изделий'!AY75","v":0},{"$f":"'[15]Список изделий'!AZ75","v":"00:00:00"},-43153,-43153,0,0,{"$f":"'[15]Список изделий'!BR75","v":0},0]
[1274,{"$f":"'[15]Список изделий'!D76","v":74},{"$f":"'[15]Список изделий'!E76","v":0},{"$f":"'[15]Список изделий'!F76","v":0},{"$f":"'[15]Список изделий'!I76","v":0},{"$f":"'[15]Список изделий'!X76","v":0},{"$f":"'[15]Список изделий'!Y76","v":0},{"$f":"'[15]Список изделий'!Z76","v":0},{"$f":"'[15]Список изделий'!AA76","v":0},{"$f":"'[15]Список изделий'!AB76","v":0},{"$f":"'[15]Список изделий'!AC76","v":"x"},{"$f":"'[15]Список изделий'!AD76","v":0},{"$f":"'[15]Список изделий'!AE76","v":0},{"$f":"'[15]Список изделий'!AF76","v":"00:00:00"},{"$f":"'[15]Список изделий'!AY76","v":0},{"$f":"'[15]Список изделий'!AZ76","v":"00:00:00"},-43153,-43153,0,0,{"$f":"'[15]Список изделий'!BR76","v":0},0]
[1275,{"$f":"'[15]Список изделий'!D77","v":75},{"$f":"'[15]Список изделий'!E77","v":0},{"$f":"'[15]Список изделий'!F77","v":0},{"$f":"'[15]Список изделий'!I77","v":0},{"$f":"'[15]Список изделий'!X77","v":0},{"$f":"'[15]Список изделий'!Y77","v":0},{"$f":"'[15]Список изделий'!Z77","v":0},{"$f":"'[15]Список изделий'!AA77","v":0},{"$f":"'[15]Список изделий'!AB77","v":0},{"$f":"'[15]Список изделий'!AC77","v":"x"},{"$f":"'[15]Список изделий'!AD77","v":0},{"$f":"'[15]Список изделий'!AE77","v":0},{"$f":"'[15]Список изделий'!AF77","v":"00:00:00"},{"$f":"'[15]Список изделий'!AY77","v":0},{"$f":"'[15]Список изделий'!AZ77","v":"00:00:00"},-43153,-43153,0,0,{"$f":"'[15]Список изделий'!BR77","v":0},0]
[1276,{"$f":"'[15]Список изделий'!D78","v":76},{"$f":"'[15]Список изделий'!E78","v":0},{"$f":"'[15]Список изделий'!F78","v":0},{"$f":"'[15]Список изделий'!I78","v":0},{"$f":"'[15]Список изделий'!X78","v":0},{"$f":"'[15]Список изделий'!Y78","v":0},{"$f":"'[15]Список изделий'!Z78","v":0},{"$f":"'[15]Список изделий'!AA78","v":0},{"$f":"'[15]Список изделий'!AB78","v":0},{"$f":"'[15]Список изделий'!AC78","v":"x"},{"$f":"'[15]Список изделий'!AD78","v":0},{"$f":"'[15]Список изделий'!AE78","v":0},{"$f":"'[15]Список изделий'!AF78","v":"00:00:00"},{"$f":"'[15]Список изделий'!AY78","v":0},{"$f":"'[15]Список изделий'!AZ78","v":"00:00:00"},-43153,-43153,0,0,{"$f":"'[15]Список изделий'!BR78","v":0},0]
[1277,{"$f":"'[15]Список изделий'!D79","v":77},{"$f":"'[15]Список изделий'!E79","v":0},{"$f":"'[15]Список изделий'!F79","v":0},{"$f":"'[15]Список изделий'!I79","v":0},{"$f":"'[15]Список изделий'!X79","v":0},{"$f":"'[15]Список изделий'!Y79","v":0},{"$f":"'[15]Список изделий'!Z79","v":0},{"$f":"'[15]Список изделий'!AA79","v":0},{"$f":"'[15]Список изделий'!AB79","v":0},{"$f":"'[15]Список изделий'!AC79","v":"x"},{"$f":"'[15]Список изделий'!AD79","v":0},{"$f":"'[15]Список изделий'!AE79","v":0},{"$f":"'[15]Список изделий'!AF79","v":"00:00:00"},{"$f":"'[15]Список изделий'!AY79","v":0},{"$f":"'[15]Список изделий'!AZ79","v":"00:00:00"},-43153,-43153,0,0,{"$f":"'[15]Список изделий'!BR79","v":0},0]
[1278,{"$f":"'[15]Список изделий'!D80","v":78},{"$f":"'[15]Список изделий'!E80","v":0},{"$f":"'[15]Список изделий'!F80","v":0},{"$f":"'[15]Список изделий'!I80","v":0},{"$f":"'[15]Список изделий'!X80","v":0},{"$f":"'[15]Список изделий'!Y80","v":0},{"$f":"'[15]Список изделий'!Z80","v":0},{"$f":"'[15]Список изделий'!AA80","v":0},{"$f":"'[15]Список изделий'!AB80","v":0},{"$f":"'[15]Список изделий'!AC80","v":"x"},{"$f":"'[15]Список изделий'!AD80","v":0},{"$f":"'[15]Список изделий'!AE80","v":0},{"$f":"'[15]Список изделий'!AF80","v":"00:00:00"},{"$f":"'[15]Список изделий'!AY80","v":0},{"$f":"'[15]Список изделий'!AZ80","v":"00:00:00"},-43153,-43153,0,0,{"$f":"'[15]Список изделий'!BR80","v":0},0]
[1279,{"$f":"'[15]Список изделий'!D81","v":79},{"$f":"'[15]Список изделий'!E81","v":0},{"$f":"'[15]Список изделий'!F81","v":0},{"$f":"'[15]Список изделий'!I81","v":0},{"$f":"'[15]Список изделий'!X81","v":0},{"$f":"'[15]Список изделий'!Y81","v":0},{"$f":"'[15]Список изделий'!Z81","v":0},{"$f":"'[15]Список изделий'!AA81","v":0},{"$f":"'[15]Список изделий'!AB81","v":0},{"$f":"'[15]Список изделий'!AC81","v":"x"},{"$f":"'[15]Список изделий'!AD81","v":0},{"$f":"'[15]Список изделий'!AE81","v":0},{"$f":"'[15]Список изделий'!AF81","v":"00:00:00"},{"$f":"'[15]Список изделий'!AY81","v":0},{"$f":"'[15]Список изделий'!AZ81","v":"00:00:00"},-43153,-43153,0,0,{"$f":"'[15]Список изделий'!BR81","v":0},0]
[1280,{"$f":"'[15]Список изделий'!D82","v":80},{"$f":"'[15]Список изделий'!E82","v":0},{"$f":"'[15]Список изделий'!F82","v":0},{"$f":"'[15]Список изделий'!I82","v":0},{"$f":"'[15]Список изделий'!X82","v":0},{"$f":"'[15]Список изделий'!Y82","v":0},{"$f":"'[15]Список изделий'!Z82","v":0},{"$f":"'[15]Список изделий'!AA82","v":0},{"$f":"'[15]Список изделий'!AB82","v":0},{"$f":"'[15]Список изделий'!AC82","v":"x"},{"$f":"'[15]Список изделий'!AD82","v":0},{"$f":"'[15]Список изделий'!AE82","v":0},{"$f":"'[15]Список изделий'!AF82","v":"00:00:00"},{"$f":"'[15]Список изделий'!AY82","v":0},{"$f":"'[15]Список изделий'!AZ82","v":"00:00:00"},-43153,-43153,0,0,{"$f":"'[15]Список изделий'!BR82","v":0},0]
[1281,{"$f":"'[15]Список изделий'!D83","v":81},{"$f":"'[15]Список изделий'!E83","v":0},{"$f":"'[15]Список изделий'!F83","v":0},{"$f":"'[15]Список изделий'!I83","v":0},{"$f":"'[15]Список изделий'!X83","v":0},{"$f":"'[15]Список изделий'!Y83","v":0},{"$f":"'[15]Список изделий'!Z83","v":0},{"$f":"'[15]Список изделий'!AA83","v":0},{"$f":"'[15]Список изделий'!AB83","v":0},{"$f":"'[15]Список изделий'!AC83","v":"x"},{"$f":"'[15]Список изделий'!AD83","v":0},{"$f":"'[15]Список изделий'!AE83","v":0},{"$f":"'[15]Список изделий'!AF83","v":"00:00:00"},{"$f":"'[15]Список изделий'!AY83","v":0},{"$f":"'[15]Список изделий'!AZ83","v":"00:00:00"},-43153,-43153,0,0,{"$f":"'[15]Список изделий'!BR83","v":0},0]
[1282,{"$f":"'[15]Список изделий'!D84","v":82},{"$f":"'[15]Список изделий'!E84","v":0},{"$f":"'[15]Список изделий'!F84","v":0},{"$f":"'[15]Список изделий'!I84","v":0},{"$f":"'[15]Список изделий'!X84","v":0},{"$f":"'[15]Список изделий'!Y84","v":0},{"$f":"'[15]Список изделий'!Z84","v":0},{"$f":"'[15]Список изделий'!AA84","v":0},{"$f":"'[15]Список изделий'!AB84","v":0},{"$f":"'[15]Список изделий'!AC84","v":"x"},{"$f":"'[15]Список изделий'!AD84","v":0},{"$f":"'[15]Список изделий'!AE84","v":0},{"$f":"'[15]Список изделий'!AF84","v":"00:00:00"},{"$f":"'[15]Список изделий'!AY84","v":0},{"$f":"'[15]Список изделий'!AZ84","v":"00:00:00"},{"$f":"IF(O1284=\"нет в заказе\",\"нет в заказе\",-(TODAY()-(P1284-O1284)))","v":-43153},{"$f":"IF(Q1284=\"нет в заказе\",\"нет взаказе\",-(IF(O1284=\"нет в заказе\",\"нет в заказе\",TODAY()-P1284)))","v":-43153},0,0,{"$f":"'[15]Список изделий'!BR84","v":0},{"$f":"IF(S1284>=0,S1284,IF(T1284>S1284,T1284,S1284))","v":0}]
[1283,{"$f":"'[15]Список изделий'!D85","v":83},{"$f":"'[15]Список изделий'!E85","v":0},{"$f":"'[15]Список изделий'!F85","v":0},{"$f":"'[15]Список изделий'!I85","v":0},{"$f":"'[15]Список изделий'!X85","v":0},{"$f":"'[15]Список изделий'!Y85","v":0},{"$f":"'[15]Список изделий'!Z85","v":0},{"$f":"'[15]Список изделий'!AA85","v":0},{"$f":"'[15]Список изделий'!AB85","v":0},{"$f":"'[15]Список изделий'!AC85","v":"x"},{"$f":"'[15]Список изделий'!AD85","v":0},{"$f":"'[15]Список изделий'!AE85","v":0},{"$f":"'[15]Список изделий'!AF85","v":"00:00:00"},{"$f":"'[15]Список изделий'!AY85","v":0},{"$f":"'[15]Список изделий'!AZ85","v":"00:00:00"},-43153,-43153,0,0,{"$f":"'[15]Список изделий'!BR85","v":0},0]
[1284,{"$f":"'[15]Список изделий'!D86","v":84},{"$f":"'[15]Список изделий'!E86","v":0},{"$f":"'[15]Список изделий'!F86","v":0},{"$f":"'[15]Список изделий'!I86","v":0},{"$f":"'[15]Список изделий'!X86","v":0},{"$f":"'[15]Список изделий'!Y86","v":0},{"$f":"'[15]Список изделий'!Z86","v":0},{"$f":"'[15]Список изделий'!AA86","v":0},{"$f":"'[15]Список изделий'!AB86","v":0},{"$f":"'[15]Список изделий'!AC86","v":"x"},{"$f":"'[15]Список изделий'!AD86","v":0},{"$f":"'[15]Список изделий'!AE86","v":0},{"$f":"'[15]Список изделий'!AF86","v":"00:00:00"},{"$f":"'[15]Список изделий'!AY86","v":0},{"$f":"'[15]Список изделий'!AZ86","v":"00:00:00"},-43153,-43153,0,0,{"$f":"'[15]Список изделий'!BR86","v":0},0]
[1285,{"$f":"'[15]Список изделий'!D87","v":85},{"$f":"'[15]Список изделий'!E87","v":0},{"$f":"'[15]Список изделий'!F87","v":0},{"$f":"'[15]Список изделий'!I87","v":0},{"$f":"'[15]Список изделий'!X87","v":0},{"$f":"'[15]Список изделий'!Y87","v":0},{"$f":"'[15]Список изделий'!Z87","v":0},{"$f":"'[15]Список изделий'!AA87","v":0},{"$f":"'[15]Список изделий'!AB87","v":0},{"$f":"'[15]Список изделий'!AC87","v":"x"},{"$f":"'[15]Список изделий'!AD87","v":0},{"$f":"'[15]Список изделий'!AE87","v":0},{"$f":"'[15]Список изделий'!AF87","v":"00:00:00"},{"$f":"'[15]Список изделий'!AY87","v":0},{"$f":"'[15]Список изделий'!AZ87","v":"00:00:00"},-43153,-43153,0,0,{"$f":"'[15]Список изделий'!BR87","v":0},0]
[1286,{"$f":"'[15]Список изделий'!D88","v":86},{"$f":"'[15]Список изделий'!E88","v":0},{"$f":"'[15]Список изделий'!F88","v":0},{"$f":"'[15]Список изделий'!I88","v":0},{"$f":"'[15]Список изделий'!X88","v":0},{"$f":"'[15]Список изделий'!Y88","v":0},{"$f":"'[15]Список изделий'!Z88","v":0},{"$f":"'[15]Список изделий'!AA88","v":0},{"$f":"'[15]Список изделий'!AB88","v":0},{"$f":"'[15]Список изделий'!AC88","v":"x"},{"$f":"'[15]Список изделий'!AD88","v":0},{"$f":"'[15]Список изделий'!AE88","v":0},{"$f":"'[15]Список изделий'!AF88","v":"00:00:00"},{"$f":"'[15]Список изделий'!AY88","v":0},{"$f":"'[15]Список изделий'!AZ88","v":"00:00:00"},-43153,-43153,0,0,{"$f":"'[15]Список изделий'!BR88","v":0},0]
[1287,{"$f":"'[15]Список изделий'!D89","v":87},{"$f":"'[15]Список изделий'!E89","v":0},{"$f":"'[15]Список изделий'!F89","v":0},{"$f":"'[15]Список изделий'!I89","v":0},{"$f":"'[15]Список изделий'!X89","v":0},{"$f":"'[15]Список изделий'!Y89","v":0},{"$f":"'[15]Список изделий'!Z89","v":0},{"$f":"'[15]Список изделий'!AA89","v":0},{"$f":"'[15]Список изделий'!AB89","v":0},{"$f":"'[15]Список изделий'!AC89","v":"x"},{"$f":"'[15]Список изделий'!AD89","v":0},{"$f":"'[15]Список изделий'!AE89","v":0},{"$f":"'[15]Список изделий'!AF89","v":"00:00:00"},{"$f":"'[15]Список изделий'!AY89","v":0},{"$f":"'[15]Список изделий'!AZ89","v":"00:00:00"},-43153,-43153,0,0,{"$f":"'[15]Список изделий'!BR89","v":0},0]
[1288,{"$f":"'[15]Список изделий'!D90","v":88},{"$f":"'[15]Список изделий'!E90","v":0},{"$f":"'[15]Список изделий'!F90","v":0},{"$f":"'[15]Список изделий'!I90","v":0},{"$f":"'[15]Список изделий'!X90","v":0},{"$f":"'[15]Список изделий'!Y90","v":0},{"$f":"'[15]Список изделий'!Z90","v":0},{"$f":"'[15]Список изделий'!AA90","v":0},{"$f":"'[15]Список изделий'!AB90","v":0},{"$f":"'[15]Список изделий'!AC90","v":"x"},{"$f":"'[15]Список изделий'!AD90","v":0},{"$f":"'[15]Список изделий'!AE90","v":0},{"$f":"'[15]Список изделий'!AF90","v":"00:00:00"},{"$f":"'[15]Список изделий'!AY90","v":0},{"$f":"'[15]Список изделий'!AZ90","v":"00:00:00"},-43153,-43153,0,0,{"$f":"'[15]Список изделий'!BR90","v":0},0]
[1289,{"$f":"'[15]Список изделий'!D91","v":89},{"$f":"'[15]Список изделий'!E91","v":0},{"$f":"'[15]Список изделий'!F91","v":0},{"$f":"'[15]Список изделий'!I91","v":0},{"$f":"'[15]Список изделий'!X91","v":0},{"$f":"'[15]Список изделий'!Y91","v":0},{"$f":"'[15]Список изделий'!Z91","v":0},{"$f":"'[15]Список изделий'!AA91","v":0},{"$f":"'[15]Список изделий'!AB91","v":0},{"$f":"'[15]Список изделий'!AC91","v":"x"},{"$f":"'[15]Список изделий'!AD91","v":0},{"$f":"'[15]Список изделий'!AE91","v":0},{"$f":"'[15]Список изделий'!AF91","v":"00:00:00"},{"$f":"'[15]Список изделий'!AY91","v":0},{"$f":"'[15]Список изделий'!AZ91","v":"00:00:00"},-43153,-43153,0,0,{"$f":"'[15]Список изделий'!BR91","v":0},0]
[1290,{"$f":"'[15]Список изделий'!D92","v":90},{"$f":"'[15]Список изделий'!E92","v":0},{"$f":"'[15]Список изделий'!F92","v":0},{"$f":"'[15]Список изделий'!I92","v":0},{"$f":"'[15]Список изделий'!X92","v":0},{"$f":"'[15]Список изделий'!Y92","v":0},{"$f":"'[15]Список изделий'!Z92","v":0},{"$f":"'[15]Список изделий'!AA92","v":0},{"$f":"'[15]Список изделий'!AB92","v":0},{"$f":"'[15]Список изделий'!AC92","v":"x"},{"$f":"'[15]Список изделий'!AD92","v":0},{"$f":"'[15]Список изделий'!AE92","v":0},{"$f":"'[15]Список изделий'!AF92","v":"00:00:00"},{"$f":"'[15]Список изделий'!AY92","v":0},{"$f":"'[15]Список изделий'!AZ92","v":"00:00:00"},-43153,-43153,0,0,{"$f":"'[15]Список изделий'!BR92","v":0},0]
[1291,{"$f":"'[15]Список изделий'!D93","v":91},{"$f":"'[15]Список изделий'!E93","v":0},{"$f":"'[15]Список изделий'!F93","v":0},{"$f":"'[15]Список изделий'!I93","v":0},{"$f":"'[15]Список изделий'!X93","v":0},{"$f":"'[15]Список изделий'!Y93","v":0},{"$f":"'[15]Список изделий'!Z93","v":0},{"$f":"'[15]Список изделий'!AA93","v":0},{"$f":"'[15]Список изделий'!AB93","v":0},{"$f":"'[15]Список изделий'!AC93","v":"x"},{"$f":"'[15]Список изделий'!AD93","v":0},{"$f":"'[15]Список изделий'!AE93","v":0},{"$f":"'[15]Список изделий'!AF93","v":"00:00:00"},{"$f":"'[15]Список изделий'!AY93","v":0},{"$f":"'[15]Список изделий'!AZ93","v":"00:00:00"},-43153,-43153,0,0,{"$f":"'[15]Список изделий'!BR93","v":0},0]
[1292,{"$f":"'[15]Список изделий'!D94","v":92},{"$f":"'[15]Список изделий'!E94","v":0},{"$f":"'[15]Список изделий'!F94","v":0},{"$f":"'[15]Список изделий'!I94","v":0},{"$f":"'[15]Список изделий'!X94","v":0},{"$f":"'[15]Список изделий'!Y94","v":0},{"$f":"'[15]Список изделий'!Z94","v":0},{"$f":"'[15]Список изделий'!AA94","v":0},{"$f":"'[15]Список изделий'!AB94","v":0},{"$f":"'[15]Список изделий'!AC94","v":"x"},{"$f":"'[15]Список изделий'!AD94","v":0},{"$f":"'[15]Список изделий'!AE94","v":0},{"$f":"'[15]Список изделий'!AF94","v":"00:00:00"},{"$f":"'[15]Список изделий'!AY94","v":0},{"$f":"'[15]Список изделий'!AZ94","v":"00:00:00"},-43153,-43153,0,0,{"$f":"'[15]Список изделий'!BR94","v":0},0]
[1293,{"$f":"'[15]Список изделий'!D95","v":93},{"$f":"'[15]Список изделий'!E95","v":0},{"$f":"'[15]Список изделий'!F95","v":0},{"$f":"'[15]Список изделий'!I95","v":0},{"$f":"'[15]Список изделий'!X95","v":0},{"$f":"'[15]Список изделий'!Y95","v":0},{"$f":"'[15]Список изделий'!Z95","v":0},{"$f":"'[15]Список изделий'!AA95","v":0},{"$f":"'[15]Список изделий'!AB95","v":0},{"$f":"'[15]Список изделий'!AC95","v":"x"},{"$f":"'[15]Список изделий'!AD95","v":0},{"$f":"'[15]Список изделий'!AE95","v":0},{"$f":"'[15]Список изделий'!AF95","v":"00:00:00"},{"$f":"'[15]Список изделий'!AY95","v":0},{"$f":"'[15]Список изделий'!AZ95","v":"00:00:00"},-43153,-43153,0,0,{"$f":"'[15]Список изделий'!BR95","v":0},0]
[1294,{"$f":"'[15]Список изделий'!D96","v":94},{"$f":"'[15]Список изделий'!E96","v":0},{"$f":"'[15]Список изделий'!F96","v":0},{"$f":"'[15]Список изделий'!I96","v":0},{"$f":"'[15]Список изделий'!X96","v":0},{"$f":"'[15]Список изделий'!Y96","v":0},{"$f":"'[15]Список изделий'!Z96","v":0},{"$f":"'[15]Список изделий'!AA96","v":0},{"$f":"'[15]Список изделий'!AB96","v":0},{"$f":"'[15]Список изделий'!AC96","v":"x"},{"$f":"'[15]Список изделий'!AD96","v":0},{"$f":"'[15]Список изделий'!AE96","v":0},{"$f":"'[15]Список изделий'!AF96","v":"00:00:00"},{"$f":"'[15]Список изделий'!AY96","v":0},{"$f":"'[15]Список изделий'!AZ96","v":"00:00:00"},-43153,-43153,0,0,{"$f":"'[15]Список изделий'!BR96","v":0},0]
[1295,{"$f":"'[15]Список изделий'!D97","v":95},{"$f":"'[15]Список изделий'!E97","v":0},{"$f":"'[15]Список изделий'!F97","v":0},{"$f":"'[15]Список изделий'!I97","v":0},{"$f":"'[15]Список изделий'!X97","v":0},{"$f":"'[15]Список изделий'!Y97","v":0},{"$f":"'[15]Список изделий'!Z97","v":0},{"$f":"'[15]Список изделий'!AA97","v":0},{"$f":"'[15]Список изделий'!AB97","v":0},{"$f":"'[15]Список изделий'!AC97","v":"x"},{"$f":"'[15]Список изделий'!AD97","v":0},{"$f":"'[15]Список изделий'!AE97","v":0},{"$f":"'[15]Список изделий'!AF97","v":"00:00:00"},{"$f":"'[15]Список изделий'!AY97","v":0},{"$f":"'[15]Список изделий'!AZ97","v":"00:00:00"},-43153,-43153,0,0,{"$f":"'[15]Список изделий'!BR97","v":0},0]
[1296,{"$f":"'[15]Список изделий'!D98","v":96},{"$f":"'[15]Список изделий'!E98","v":0},{"$f":"'[15]Список изделий'!F98","v":0},{"$f":"'[15]Список изделий'!I98","v":0},{"$f":"'[15]Список изделий'!X98","v":0},{"$f":"'[15]Список изделий'!Y98","v":0},{"$f":"'[15]Список изделий'!Z98","v":0},{"$f":"'[15]Список изделий'!AA98","v":0},{"$f":"'[15]Список изделий'!AB98","v":0},{"$f":"'[15]Список изделий'!AC98","v":"x"},{"$f":"'[15]Список изделий'!AD98","v":0},{"$f":"'[15]Список изделий'!AE98","v":0},{"$f":"'[15]Список изделий'!AF98","v":"00:00:00"},{"$f":"'[15]Список изделий'!AY98","v":0},{"$f":"'[15]Список изделий'!AZ98","v":"00:00:00"},-43153,-43153,0,0,{"$f":"'[15]Список изделий'!BR98","v":0},0]
[1297,{"$f":"'[15]Список изделий'!D99","v":97},{"$f":"'[15]Список изделий'!E99","v":0},{"$f":"'[15]Список изделий'!F99","v":0},{"$f":"'[15]Список изделий'!I99","v":0},{"$f":"'[15]Список изделий'!X99","v":0},{"$f":"'[15]Список изделий'!Y99","v":0},{"$f":"'[15]Список изделий'!Z99","v":0},{"$f":"'[15]Список изделий'!AA99","v":0},{"$f":"'[15]Список изделий'!AB99","v":0},{"$f":"'[15]Список изделий'!AC99","v":"x"},{"$f":"'[15]Список изделий'!AD99","v":0},{"$f":"'[15]Список изделий'!AE99","v":0},{"$f":"'[15]Список изделий'!AF99","v":"00:00:00"},{"$f":"'[15]Список изделий'!AY99","v":0},{"$f":"'[15]Список изделий'!AZ99","v":"00:00:00"},-43153,-43153,0,0,{"$f":"'[15]Список изделий'!BR99","v":0},0]
[1298,{"$f":"'[15]Список изделий'!D100","v":98},{"$f":"'[15]Список изделий'!E100","v":0},{"$f":"'[15]Список изделий'!F100","v":0},{"$f":"'[15]Список изделий'!I100","v":0},{"$f":"'[15]Список изделий'!X100","v":0},{"$f":"'[15]Список изделий'!Y100","v":0},{"$f":"'[15]Список изделий'!Z100","v":0},{"$f":"'[15]Список изделий'!AA100","v":0},{"$f":"'[15]Список изделий'!AB100","v":0},{"$f":"'[15]Список изделий'!AC100","v":"x"},{"$f":"'[15]Список изделий'!AD100","v":0},{"$f":"'[15]Список изделий'!AE100","v":0},{"$f":"'[15]Список изделий'!AF100","v":"00:00:00"},{"$f":"'[15]Список изделий'!AY100","v":0},{"$f":"'[15]Список изделий'!AZ100","v":"00:00:00"},-43153,-43153,0,0,{"$f":"'[15]Список изделий'!BR100","v":0},0]
[1299,{"$f":"'[15]Список изделий'!D101","v":99},{"$f":"'[15]Список изделий'!E101","v":0},{"$f":"'[15]Список изделий'!F101","v":0},{"$f":"'[15]Список изделий'!I101","v":0},{"$f":"'[15]Список изделий'!X101","v":0},{"$f":"'[15]Список изделий'!Y101","v":0},{"$f":"'[15]Список изделий'!Z101","v":0},{"$f":"'[15]Список изделий'!AA101","v":0},{"$f":"'[15]Список изделий'!AB101","v":0},{"$f":"'[15]Список изделий'!AC101","v":"x"},{"$f":"'[15]Список изделий'!AD101","v":0},{"$f":"'[15]Список изделий'!AE101","v":0},{"$f":"'[15]Список изделий'!AF101","v":"00:00:00"},{"$f":"'[15]Список изделий'!AY101","v":0},{"$f":"'[15]Список изделий'!AZ101","v":"00:00:00"},-43153,-43153,0,0,{"$f":"'[15]Список изделий'!BR101","v":0},0]
[1300,{"$f":"'[15]Список изделий'!D102","v":100},{"$f":"'[15]Список изделий'!E102","v":0},{"$f":"'[15]Список изделий'!F102","v":0},{"$f":"'[15]Список изделий'!I102","v":0},{"$f":"'[15]Список изделий'!X102","v":0},{"$f":"'[15]Список изделий'!Y102","v":0},{"$f":"'[15]Список изделий'!Z102","v":0},{"$f":"'[15]Список изделий'!AA102","v":0},{"$f":"'[15]Список изделий'!AB102","v":0},{"$f":"'[15]Список изделий'!AC102","v":"x"},{"$f":"'[15]Список изделий'!AD102","v":0},{"$f":"'[15]Список изделий'!AE102","v":0},{"$f":"'[15]Список изделий'!AF102","v":"00:00:00"},{"$f":"'[15]Список изделий'!AY102","v":0},{"$f":"'[15]Список изделий'!AZ102","v":"00:00:00"},-43153,-43153,0,0,{"$f":"'[15]Список изделий'!BR102","v":0},0]
[1301,{"$f":"'[14]Список изделий'!D3","v":1},{"$f":"'[14]Список изделий'!E3","v":0},{"$f":"'[14]Список изделий'!F3","v":"Фризы настенные односторонние"},{"$f":"'[14]Список изделий'!I3","v":0},{"$f":"'[14]Список изделий'!X3","v":0},{"$f":"'[14]Список изделий'!Y3","v":0},{"$f":"'[14]Список изделий'!Z3","v":0},{"$f":"'[14]Список изделий'!AA3","v":0},{"$f":"'[14]Список изделий'!AB3","v":0},{"$f":"'[14]Список изделий'!AC3","v":0},{"$f":"'[14]Список изделий'!AD3","v":0},{"$f":"'[14]Список изделий'!AE3","v":0},{"$f":"'[14]Список изделий'!AF3","v":"00:00:00"},{"$f":"'[14]Список изделий'!AY3","v":0},{"$f":"'[14]Список изделий'!AZ3","v":"00:00:00"},-43153,-43153,0,0,{"$f":"'[14]Список изделий'!BR3","v":"\\\\SERVER\\Data1\\П\\Перекресток\\2018\\МОСКВА_18\\Балаклавский пр. 16А\\Техничка\\01-Фризы настенные"},0]
[1302,{"$f":"'[14]Список изделий'!D85","v":2},{"$f":"'[14]Список изделий'!E85","v":0},{"$f":"'[14]Список изделий'!F85","v":"Фризы подвесные двухсторонние"},{"$f":"'[14]Список изделий'!I85","v":0},{"$f":"'[14]Список изделий'!X85","v":0},{"$f":"'[14]Список изделий'!Y85","v":0},{"$f":"'[14]Список изделий'!Z85","v":0},{"$f":"'[14]Список изделий'!AA85","v":0},{"$f":"'[14]Список изделий'!AB85","v":0},{"$f":"'[14]Список изделий'!AC85","v":"x"},{"$f":"'[14]Список изделий'!AD85","v":0},{"$f":"'[14]Список изделий'!AE85","v":0},{"$f":"'[14]Список изделий'!AF85","v":"00:00:00"},{"$f":"'[14]Список изделий'!AY85","v":0},{"$f":"'[14]Список изделий'!AZ85","v":"00:00:00"},-43153,-43153,0,0,{"$f":"'[14]Список изделий'!BR85","v":0},0]
[1303,{"$f":"'[14]Список изделий'!D167","v":3},{"$f":"'[14]Список изделий'!E167","v":0},{"$f":"'[14]Список изделий'!F167","v":"Световые вывески клееные"},{"$f":"'[14]Список изделий'!I167","v":0},{"$f":"'[14]Список изделий'!X167","v":0},{"$f":"'[14]Список изделий'!Y167","v":0},{"$f":"'[14]Список изделий'!Z167","v":0},{"$f":"'[14]Список изделий'!AA167","v":0},{"$f":"'[14]Список изделий'!AB167","v":0},{"$f":"'[14]Список изделий'!AC167","v":"x"},{"$f":"'[14]Список изделий'!AD167","v":0},{"$f":"'[14]Список изделий'!AE167","v":0},{"$f":"'[14]Список изделий'!AF167","v":"00:00:00"},{"$f":"'[14]Список изделий'!AY167","v":0},{"$f":"'[14]Список изделий'!AZ167","v":"00:00:00"},-43153,-43153,0,0,{"$f":"'[14]Список изделий'!BR167","v":0},0]
[1304,{"$f":"'[14]Список изделий'!D249","v":4},{"$f":"'[14]Список изделий'!E249","v":0},{"$f":"'[14]Список изделий'!F249","v":"Пиктограммы на стену"},{"$f":"'[14]Список изделий'!I249","v":0},{"$f":"'[14]Список изделий'!X249","v":0},{"$f":"'[14]Список изделий'!Y249","v":0},{"$f":"'[14]Список изделий'!Z249","v":0},{"$f":"'[14]Список изделий'!AA249","v":0},{"$f":"'[14]Список изделий'!AB249","v":0},{"$f":"'[14]Список изделий'!AC249","v":"x"},{"$f":"'[14]Список изделий'!AD249","v":0},{"$f":"'[14]Список изделий'!AE249","v":0},{"$f":"'[14]Список изделий'!AF249","v":"00:00:00"},{"$f":"'[14]Список изделий'!AY249","v":0},{"$f":"'[14]Список изделий'!AZ249","v":"00:00:00"},-43153,-43153,0,0,{"$f":"'[14]Список изделий'!BR249","v":"\\\\SERVER\\Data1\\П\\Перекресток\\2018\\МОСКВА_18\\Балаклавский пр. 16А\\Техничка\\04-Пиктограммы"},0]
[1305,{"$f":"'[14]Список изделий'!D331","v":5},{"$f":"'[14]Список изделий'!E331","v":0},{"$f":"'[14]Список изделий'!F331","v":"Грифельные доски"},{"$f":"'[14]Список изделий'!I331","v":0},{"$f":"'[14]Список изделий'!X331","v":0},{"$f":"'[14]Список изделий'!Y331","v":0},{"$f":"'[14]Список изделий'!Z331","v":0},{"$f":"'[14]Список изделий'!AA331","v":0},{"$f":"'[14]Список изделий'!AB331","v":0},{"$f":"'[14]Список изделий'!AC331","v":"x"},{"$f":"'[14]Список изделий'!AD331","v":0},{"$f":"'[14]Список изделий'!AE331","v":0},{"$f":"'[14]Список изделий'!AF331","v":"00:00:00"},{"$f":"'[14]Список изделий'!AY331","v":0},{"$f":"'[14]Список изделий'!AZ331","v":"00:00:00"},-43153,-43153,0,0,{"$f":"'[14]Список изделий'!BR331","v":"\\\\SERVER\\Data1\\П\\Перекресток\\2018\\МОСКВА_18\\Балаклавский пр. 16А\\Техничка\\05-Грифельные_доски"},0]
[1306,{"$f":"'[14]Список изделий'!D413","v":6},{"$f":"'[14]Список изделий'!E413","v":0},{"$f":"'[14]Список изделий'!F413","v":"Стикеры \"Суперцена\" на гриф. Доски (задняя часть)"},{"$f":"'[14]Список изделий'!I413","v":0},{"$f":"'[14]Список изделий'!X413","v":0},{"$f":"'[14]Список изделий'!Y413","v":0},{"$f":"'[14]Список изделий'!Z413","v":0},{"$f":"'[14]Список изделий'!AA413","v":0},{"$f":"'[14]Список изделий'!AB413","v":0},{"$f":"'[14]Список изделий'!AC413","v":"x"},{"$f":"'[14]Список изделий'!AD413","v":0},{"$f":"'[14]Список изделий'!AE413","v":0},{"$f":"'[14]Список изделий'!AF413","v":"00:00:00"},{"$f":"'[14]Список изделий'!AY413","v":0},{"$f":"'[14]Список изделий'!AZ413","v":"00:00:00"},-43153,-43153,0,0,{"$f":"'[14]Список изделий'!BR413","v":"\\\\SERVER\\Data1\\П\\Перекресток\\2018\\МОСКВА_18\\Балаклавский пр. 16А\\Техничка\\06-стикер_СУПЕРЦЕНА_ГД"},0]
[1307,{"$f":"'[14]Список изделий'!D495","v":7},{"$f":"'[14]Список изделий'!E495","v":0},{"$f":"'[14]Список изделий'!F495","v":"Потолочные указатели 2хст. 2000х400"},{"$f":"'[14]Список изделий'!I495","v":0},{"$f":"'[14]Список изделий'!X495","v":0},{"$f":"'[14]Список изделий'!Y495","v":0},{"$f":"'[14]Список изделий'!Z495","v":0},{"$f":"'[14]Список изделий'!AA495","v":0},{"$f":"'[14]Список изделий'!AB495","v":0},{"$f":"'[14]Список изделий'!AC495","v":"x"},{"$f":"'[14]Список изделий'!AD495","v":0},{"$f":"'[14]Список изделий'!AE495","v":0},{"$f":"'[14]Список изделий'!AF495","v":"00:00:00"},{"$f":"'[14]Список изделий'!AY495","v":0},{"$f":"'[14]Список изделий'!AZ495","v":"00:00:00"},-43153,-43153,0,0,{"$f":"'[14]Список изделий'!BR495","v":0},0]
[1308,{"$f":"'[14]Список изделий'!D577","v":8},{"$f":"'[14]Список изделий'!E577","v":0},{"$f":"'[14]Список изделий'!F577","v":"Потолочные указатели 2хст. 1500х300"},{"$f":"'[14]Список изделий'!I577","v":0},{"$f":"'[14]Список изделий'!X577","v":0},{"$f":"'[14]Список изделий'!Y577","v":0},{"$f":"'[14]Список изделий'!Z577","v":0},{"$f":"'[14]Список изделий'!AA577","v":0},{"$f":"'[14]Список изделий'!AB577","v":0},{"$f":"'[14]Список изделий'!AC577","v":"x"},{"$f":"'[14]Список изделий'!AD577","v":0},{"$f":"'[14]Список изделий'!AE577","v":0},{"$f":"'[14]Список изделий'!AF577","v":"00:00:00"},{"$f":"'[14]Список изделий'!AY577","v":0},{"$f":"'[14]Список изделий'!AZ577","v":"00:00:00"},-43153,-43153,0,0,{"$f":"'[14]Список изделий'!BR577","v":0},0]
[1309,{"$f":"'[14]Список изделий'!D659","v":9},{"$f":"'[14]Список изделий'!E659","v":0},{"$f":"'[14]Список изделий'!F659","v":"Имиджи"},{"$f":"'[14]Список изделий'!I659","v":0},{"$f":"'[14]Список изделий'!X659","v":0},{"$f":"'[14]Список изделий'!Y659","v":0},{"$f":"'[14]Список изделий'!Z659","v":0},{"$f":"'[14]Список изделий'!AA659","v":0},{"$f":"'[14]Список изделий'!AB659","v":0},{"$f":"'[14]Список изделий'!AC659","v":"x"},{"$f":"'[14]Список изделий'!AD659","v":0},{"$f":"'[14]Список изделий'!AE659","v":0},{"$f":"'[14]Список изделий'!AF659","v":"00:00:00"},{"$f":"'[14]Список изделий'!AY659","v":0},{"$f":"'[14]Список изделий'!AZ659","v":"00:00:00"},-43153,-43153,0,0,{"$f":"'[14]Список изделий'!BR659","v":"\\\\SERVER\\Data1\\П\\Перекресток\\2018\\МОСКВА_18\\Балаклавский пр. 16А\\Техничка\\09-Имиджи"},0]
[1310,{"$f":"'[14]Список изделий'!D741","v":10},{"$f":"'[14]Список изделий'!E741","v":0},{"$f":"'[14]Список изделий'!F741","v":"Карман под бумагу А 1. крепление к стене (к-во предварительное)"},{"$f":"'[14]Список изделий'!I741","v":0},{"$f":"'[14]Список изделий'!X741","v":0},{"$f":"'[14]Список изделий'!Y741","v":0},{"$f":"'[14]Список изделий'!Z741","v":0},{"$f":"'[14]Список изделий'!AA741","v":0},{"$f":"'[14]Список изделий'!AB741","v":0},{"$f":"'[14]Список изделий'!AC741","v":"x"},{"$f":"'[14]Список изделий'!AD741","v":0},{"$f":"'[14]Список изделий'!AE741","v":0},{"$f":"'[14]Список изделий'!AF741","v":"00:00:00"},{"$f":"'[14]Список изделий'!AY741","v":0},{"$f":"'[14]Список изделий'!AZ741","v":"00:00:00"},-43153,-43153,0,0,{"$f":"'[14]Список изделий'!BR741","v":0},0]
[1312,{"$f":"'[14]Список изделий'!D905","v":12},{"$f":"'[14]Список изделий'!E905","v":"Пер-Щербак-12"},{"$f":"'[14]Список изделий'!F905","v":"Таблички \"Здесь можно проверить цену\" (комплект 4 шт.) (к-во предварительное)"},{"$f":"'[14]Список изделий'!I905","v":2},{"$f":"'[14]Список изделий'!X905","v":"ГМА"},{"$f":"'[14]Список изделий'!Y905","v":"Микуло"},{"$f":"'[14]Список изделий'!Z905","v":"Закурдаев"},{"$f":"'[14]Список изделий'!AA905","v":"Замотаев"},{"$f":"'[14]Список изделий'!AB905","v":0},{"$f":"'[14]Список изделий'!AC905","v":"x"},{"$f":"'[14]Список изделий'!AD905","v":0},{"$f":"'[14]Список изделий'!AE905","v":0},{"$f":"'[14]Список изделий'!AF905","v":"2018-03-01"},{"$f":"'[14]Список изделий'!AY905","v":7},{"$f":"'[14]Список изделий'!AZ905","v":"2018-02-23"},-6,1,0,0,{"$f":"'[14]Список изделий'!BR905","v":0},0]
[1317,{"$f":"'[14]Список изделий'!D1315","v":17},{"$f":"'[14]Список изделий'!E1315","v":"Пер-Щербак-17"},{"$f":"'[14]Список изделий'!F1315","v":"Стикер на заднюю часть прайсдисплея ФРОВ (2 вида-комплект)(к-во предварительное)"},{"$f":"'[14]Список изделий'!I1315","v":20},{"$f":"'[14]Список изделий'!X1315","v":"ГМА"},{"$f":"'[14]Список изделий'!Y1315","v":"Микуло"},{"$f":"'[14]Список изделий'!Z1315","v":"Закурдаев"},{"$f":"'[14]Список изделий'!AA1315","v":"Замотаев"},{"$f":"'[14]Список изделий'!AB1315","v":0},{"$f":"'[14]Список изделий'!AC1315","v":"x"},{"$f":"'[14]Список изделий'!AD1315","v":0},{"$f":"'[14]Список изделий'!AE1315","v":0},{"$f":"'[14]Список изделий'!AF1315","v":"2018-03-01"},{"$f":"'[14]Список изделий'!AY1315","v":7},{"$f":"'[14]Список изделий'!AZ1315","v":"2018-02-23"},-6,1,0,0,{"$f":"'[14]Список изделий'!BR1315","v":"\\\\SERVER\\Data1\\П\\Перекресток\\2018\\ТЕХНИЧЕСКАЯ ДОКУМЕНТАЦИЯ\\17-Стикер-задник_ПД_ФРОВ\\Сборка\\стикеры_зад_ПД-ФРОВ-сборка.cdr"},0]
[1313,{"$f":"'[14]Список изделий'!D987","v":13},{"$f":"'[14]Список изделий'!E987","v":0},{"$f":"'[14]Список изделий'!F987","v":"Оклейка дверей"},{"$f":"'[14]Список изделий'!I987","v":0},{"$f":"'[14]Список изделий'!X987","v":0},{"$f":"'[14]Список изделий'!Y987","v":0},{"$f":"'[14]Список изделий'!Z987","v":0},{"$f":"'[14]Список изделий'!AA987","v":0},{"$f":"'[14]Список изделий'!AB987","v":0},{"$f":"'[14]Список изделий'!AC987","v":"x"},{"$f":"'[14]Список изделий'!AD987","v":0},{"$f":"'[14]Список изделий'!AE987","v":0},{"$f":"'[14]Список изделий'!AF987","v":"00:00:00"},{"$f":"'[14]Список изделий'!AY987","v":0},{"$f":"'[14]Список изделий'!AZ987","v":"00:00:00"},-43153,-43153,0,0,{"$f":"'[14]Список изделий'!BR987","v":"\\\\SERVER\\Data1\\П\\Перекресток\\2018\\МОСКВА_18\\Балаклавский пр. 16А\\Техничка\\13-Оклейка_дверей"},0]
[1314,{"$f":"'[14]Список изделий'!D1069","v":14},{"$f":"'[14]Список изделий'!E1069","v":0},{"$f":"'[14]Список изделий'!F1069","v":"Стикеры на боковую часть холодильника Мороженое"},{"$f":"'[14]Список изделий'!I1069","v":0},{"$f":"'[14]Список изделий'!X1069","v":0},{"$f":"'[14]Список изделий'!Y1069","v":0},{"$f":"'[14]Список изделий'!Z1069","v":0},{"$f":"'[14]Список изделий'!AA1069","v":0},{"$f":"'[14]Список изделий'!AB1069","v":0},{"$f":"'[14]Список изделий'!AC1069","v":"x"},{"$f":"'[14]Список изделий'!AD1069","v":0},{"$f":"'[14]Список изделий'!AE1069","v":0},{"$f":"'[14]Список изделий'!AF1069","v":"00:00:00"},{"$f":"'[14]Список изделий'!AY1069","v":0},{"$f":"'[14]Список изделий'!AZ1069","v":"00:00:00"},-43153,-43153,0,0,{"$f":"'[14]Список изделий'!BR1069","v":0},0]
[1315,{"$f":"'[14]Список изделий'!D1151","v":15},{"$f":"'[14]Список изделий'!E1151","v":0},{"$f":"'[14]Список изделий'!F1151","v":"Оклейка Лаваля"},{"$f":"'[14]Список изделий'!I1151","v":0},{"$f":"'[14]Список изделий'!X1151","v":0},{"$f":"'[14]Список изделий'!Y1151","v":0},{"$f":"'[14]Список изделий'!Z1151","v":0},{"$f":"'[14]Список изделий'!AA1151","v":0},{"$f":"'[14]Список изделий'!AB1151","v":0},{"$f":"'[14]Список изделий'!AC1151","v":"x"},{"$f":"'[14]Список изделий'!AD1151","v":0},{"$f":"'[14]Список изделий'!AE1151","v":0},{"$f":"'[14]Список изделий'!AF1151","v":"00:00:00"},{"$f":"'[14]Список изделий'!AY1151","v":0},{"$f":"'[14]Список изделий'!AZ1151","v":"00:00:00"},-43153,-43153,0,0,{"$f":"'[14]Список изделий'!BR1151","v":"\\\\SERVER\\Data1\\П\\Перекресток\\2018\\МОСКВА_18\\Балаклавский пр. 16А\\Техничка\\15-оклейка_ЛАВАЛЯ"},0]
[1316,{"$f":"'[14]Список изделий'!D1233","v":16},{"$f":"'[14]Список изделий'!E1233","v":0},{"$f":"'[14]Список изделий'!F1233","v":"Подготовка поверхности. Очистка, обезжиривание."},{"$f":"'[14]Список изделий'!I1233","v":0},{"$f":"'[14]Список изделий'!X1233","v":0},{"$f":"'[14]Список изделий'!Y1233","v":0},{"$f":"'[14]Список изделий'!Z1233","v":0},{"$f":"'[14]Список изделий'!AA1233","v":0},{"$f":"'[14]Список изделий'!AB1233","v":0},{"$f":"'[14]Список изделий'!AC1233","v":"x"},{"$f":"'[14]Список изделий'!AD1233","v":0},{"$f":"'[14]Список изделий'!AE1233","v":0},{"$f":"'[14]Список изделий'!AF1233","v":"00:00:00"},{"$f":"'[14]Список изделий'!AY1233","v":0},{"$f":"'[14]Список изделий'!AZ1233","v":"00:00:00"},-43153,-43153,0,0,{"$f":"'[14]Список изделий'!BR1233","v":0},0]
[1319,{"$f":"'[14]Список изделий'!D1479","v":19},{"$f":"'[14]Список изделий'!E1479","v":"Пер-Щербак-19"},{"$f":"'[14]Список изделий'!F1479","v":"комплект ПРОТЕУС"},{"$f":"'[14]Список изделий'!I1479","v":1},{"$f":"'[14]Список изделий'!X1479","v":"ГМА"},{"$f":"'[14]Список изделий'!Y1479","v":"Микуло"},{"$f":"'[14]Список изделий'!Z1479","v":"Закурдаев"},{"$f":"'[14]Список изделий'!AA1479","v":"Замотаев"},{"$f":"'[14]Список изделий'!AB1479","v":0},{"$f":"'[14]Список изделий'!AC1479","v":"x"},{"$f":"'[14]Список изделий'!AD1479","v":0},{"$f":"'[14]Список изделий'!AE1479","v":0},{"$f":"'[14]Список изделий'!AF1479","v":"2018-03-01"},{"$f":"'[14]Список изделий'!AY1479","v":7},{"$f":"'[14]Список изделий'!AZ1479","v":"2018-02-23"},-6,1,0,0,{"$f":"'[14]Список изделий'!BR1479","v":0},0]
[1318,{"$f":"'[14]Список изделий'!D1397","v":18},{"$f":"'[14]Список изделий'!E1397","v":0},{"$f":"'[14]Список изделий'!F1397","v":"Стикеры на холодильники (оклейка боковин). Пленка или перфорация с ламинацией"},{"$f":"'[14]Список изделий'!I1397","v":0},{"$f":"'[14]Список изделий'!X1397","v":0},{"$f":"'[14]Список изделий'!Y1397","v":0},{"$f":"'[14]Список изделий'!Z1397","v":0},{"$f":"'[14]Список изделий'!AA1397","v":0},{"$f":"'[14]Список изделий'!AB1397","v":0},{"$f":"'[14]Список изделий'!AC1397","v":"x"},{"$f":"'[14]Список изделий'!AD1397","v":0},{"$f":"'[14]Список изделий'!AE1397","v":0},{"$f":"'[14]Список изделий'!AF1397","v":"00:00:00"},{"$f":"'[14]Список изделий'!AY1397","v":0},{"$f":"'[14]Список изделий'!AZ1397","v":"00:00:00"},-43153,-43153,0,{"$f":"V1320","v":0},{"$f":"'[14]Список изделий'!BR1397","v":"\\\\SERVER\\Data1\\П\\Перекресток\\2018\\МОСКВА_18\\Балаклавский пр. 16А\\Техничка\\18-оклейка_боковин_холодильников"},0]
[1321,{"$f":"'[14]Список изделий'!D1643","v":21},{"$f":"'[14]Список изделий'!E1643","v":"Пер-Щербак-21"},{"$f":"'[14]Список изделий'!F1643","v":"Разделители в алкоголь"},{"$f":"'[14]Список изделий'!I1643","v":60},{"$f":"'[14]Список изделий'!X1643","v":"ГМА"},{"$f":"'[14]Список изделий'!Y1643","v":"Микуло"},{"$f":"'[14]Список изделий'!Z1643","v":"Закурдаев"},{"$f":"'[14]Список изделий'!AA1643","v":"Замотаев"},{"$f":"'[14]Список изделий'!AB1643","v":0},{"$f":"'[14]Список изделий'!AC1643","v":"х"},{"$f":"'[14]Список изделий'!AD1643","v":0},{"$f":"'[14]Список изделий'!AE1643","v":0},{"$f":"'[14]Список изделий'!AF1643","v":"2018-03-01"},{"$f":"'[14]Список изделий'!AY1643","v":7},{"$f":"'[14]Список изделий'!AZ1643","v":"2018-02-23"},-6,1,0,0,{"$f":"'[14]Список изделий'!BR1643","v":0},0]
[1320,{"$f":"'[14]Список изделий'!D1561","v":20},{"$f":"'[14]Список изделий'!E1561","v":0},{"$f":"'[14]Список изделий'!F1561","v":"V-обр. делители на морозильную камеру"},{"$f":"'[14]Список изделий'!I1561","v":0},{"$f":"'[14]Список изделий'!X1561","v":0},{"$f":"'[14]Список изделий'!Y1561","v":0},{"$f":"'[14]Список изделий'!Z1561","v":0},{"$f":"'[14]Список изделий'!AA1561","v":0},{"$f":"'[14]Список изделий'!AB1561","v":0},{"$f":"'[14]Список изделий'!AC1561","v":"x"},{"$f":"'[14]Список изделий'!AD1561","v":0},{"$f":"'[14]Список изделий'!AE1561","v":0},{"$f":"'[14]Список изделий'!AF1561","v":"00:00:00"},{"$f":"'[14]Список изделий'!AY1561","v":0},{"$f":"'[14]Список изделий'!AZ1561","v":"00:00:00"},-43153,-43153,0,0,{"$f":"'[14]Список изделий'!BR1561","v":"\\\\SERVER\\Data1\\П\\Перекресток\\2018\\МОСКВА_18\\Балаклавский пр. 16А\\Техничка\\20-V-обр_делители_на_холодильники"},0]
[1324,{"$f":"'[14]Список изделий'!D1889","v":24},{"$f":"'[14]Список изделий'!E1889","v":"Пер-Щербак-24"},{"$f":"'[14]Список изделий'!F1889","v":"Оформление холодильника Икра"},{"$f":"'[14]Список изделий'!I1889","v":1},{"$f":"'[14]Список изделий'!X1889","v":"ГМА"},{"$f":"'[14]Список изделий'!Y1889","v":"Микуло"},{"$f":"'[14]Список изделий'!Z1889","v":"Закурдаев"},{"$f":"'[14]Список изделий'!AA1889","v":"Замотаев"},{"$f":"'[14]Список изделий'!AB1889","v":0},{"$f":"'[14]Список изделий'!AC1889","v":"x"},{"$f":"'[14]Список изделий'!AD1889","v":0},{"$f":"'[14]Список изделий'!AE1889","v":0},{"$f":"'[14]Список изделий'!AF1889","v":"2018-03-01"},{"$f":"'[14]Список изделий'!AY1889","v":7},{"$f":"'[14]Список изделий'!AZ1889","v":"2018-02-23"},-6,1,0,0,{"$f":"'[14]Список изделий'!BR1889","v":"\\\\SERVER\\Data1\\П\\Перекресток\\2018\\МОСКВА_18\\Балаклавский пр. 16А\\Техничка\\24-холодильник_ИКРА"},0]
[1322,{"$f":"'[14]Список изделий'!D1725","v":22},{"$f":"'[14]Список изделий'!E1725","v":0},{"$f":"'[14]Список изделий'!F1725","v":"Входной фриз"},{"$f":"'[14]Список изделий'!I1725","v":0},{"$f":"'[14]Список изделий'!X1725","v":0},{"$f":"'[14]Список изделий'!Y1725","v":0},{"$f":"'[14]Список изделий'!Z1725","v":0},{"$f":"'[14]Список изделий'!AA1725","v":0},{"$f":"'[14]Список изделий'!AB1725","v":0},{"$f":"'[14]Список изделий'!AC1725","v":"x"},{"$f":"'[14]Список изделий'!AD1725","v":0},{"$f":"'[14]Список изделий'!AE1725","v":0},{"$f":"'[14]Список изделий'!AF1725","v":"00:00:00"},{"$f":"'[14]Список изделий'!AY1725","v":0},{"$f":"'[14]Список изделий'!AZ1725","v":"00:00:00"},-43153,-43153,0,0,{"$f":"'[14]Список изделий'!BR1725","v":0},0]
[1323,{"$f":"'[14]Список изделий'!D1807","v":23},{"$f":"'[14]Список изделий'!E1807","v":0},{"$f":"'[14]Список изделий'!F1807","v":"Входной фриз закатка обратной стороны"},{"$f":"'[14]Список изделий'!I1807","v":0},{"$f":"'[14]Список изделий'!X1807","v":0},{"$f":"'[14]Список изделий'!Y1807","v":0},{"$f":"'[14]Список изделий'!Z1807","v":0},{"$f":"'[14]Список изделий'!AA1807","v":0},{"$f":"'[14]Список изделий'!AB1807","v":0},{"$f":"'[14]Список изделий'!AC1807","v":"x"},{"$f":"'[14]Список изделий'!AD1807","v":0},{"$f":"'[14]Список изделий'!AE1807","v":0},{"$f":"'[14]Список изделий'!AF1807","v":"00:00:00"},{"$f":"'[14]Список изделий'!AY1807","v":0},{"$f":"'[14]Список изделий'!AZ1807","v":"00:00:00"},-43153,-43153,0,0,{"$f":"'[14]Список изделий'!BR1807","v":0},0]
[1325,{"$f":"'[14]Список изделий'!D1971","v":25},{"$f":"'[14]Список изделий'!E1971","v":"Пер-Щербак-25"},{"$f":"'[14]Список изделий'!F1971","v":"Оформление Мясной Разруб"},{"$f":"'[14]Список изделий'!I1971","v":1},{"$f":"'[14]Список изделий'!X1971","v":"ГМА"},{"$f":"'[14]Список изделий'!Y1971","v":"Микуло"},{"$f":"'[14]Список изделий'!Z1971","v":"Закурдаев"},{"$f":"'[14]Список изделий'!AA1971","v":"Замотаев"},{"$f":"'[14]Список изделий'!AB1971","v":0},{"$f":"'[14]Список изделий'!AC1971","v":"x"},{"$f":"'[14]Список изделий'!AD1971","v":0},{"$f":"'[14]Список изделий'!AE1971","v":0},{"$f":"'[14]Список изделий'!AF1971","v":"2018-03-01"},{"$f":"'[14]Список изделий'!AY1971","v":7},{"$f":"'[14]Список изделий'!AZ1971","v":"2018-02-23"},-6,1,0,0,{"$f":"'[14]Список изделий'!BR1971","v":"\\\\SERVER\\Data1\\П\\Перекресток\\2018\\МОСКВА_18\\Балаклавский пр. 16А\\Техничка\\25-Мясной_разруб"},0]
[1327,{"$f":"'[14]Список изделий'!D2135","v":27},{"$f":"'[14]Список изделий'!E2135","v":"Пер-Щербак-27"},{"$f":"'[14]Список изделий'!F2135","v":"Оформление отдела Быстро и вкусно"},{"$f":"'[14]Список изделий'!I2135","v":4},{"$f":"'[14]Список изделий'!X2135","v":"ГМА"},{"$f":"'[14]Список изделий'!Y2135","v":"Микуло"},{"$f":"'[14]Список изделий'!Z2135","v":"Закурдаев"},{"$f":"'[14]Список изделий'!AA2135","v":"Замотаев"},{"$f":"'[14]Список изделий'!AB2135","v":0},{"$f":"'[14]Список изделий'!AC2135","v":"x"},{"$f":"'[14]Список изделий'!AD2135","v":0},{"$f":"'[14]Список изделий'!AE2135","v":0},{"$f":"'[14]Список изделий'!AF2135","v":"2018-03-01"},{"$f":"'[14]Список изделий'!AY2135","v":7},{"$f":"'[14]Список изделий'!AZ2135","v":"2018-02-23"},-6,1,0,0,{"$f":"'[14]Список изделий'!BR2135","v":"\\\\SERVER\\Data1\\П\\Перекресток\\2018\\ТЕХНИЧЕСКАЯ ДОКУМЕНТАЦИЯ\\27-Быстро_и_вкусно\\Сборка\\БиВ-комплект.jpg"},0]
[1326,{"$f":"'[14]Список изделий'!D2053","v":26},{"$f":"'[14]Список изделий'!E2053","v":0},{"$f":"'[14]Список изделий'!F2053","v":"Оформление Фиксики"},{"$f":"'[14]Список изделий'!I2053","v":0},{"$f":"'[14]Список изделий'!X2053","v":0},{"$f":"'[14]Список изделий'!Y2053","v":0},{"$f":"'[14]Список изделий'!Z2053","v":0},{"$f":"'[14]Список изделий'!AA2053","v":0},{"$f":"'[14]Список изделий'!AB2053","v":0},{"$f":"'[14]Список изделий'!AC2053","v":"x"},{"$f":"'[14]Список изделий'!AD2053","v":0},{"$f":"'[14]Список изделий'!AE2053","v":0},{"$f":"'[14]Список изделий'!AF2053","v":"00:00:00"},{"$f":"'[14]Список изделий'!AY2053","v":0},{"$f":"'[14]Список изделий'!AZ2053","v":"00:00:00"},-43153,-43153,0,0,{"$f":"'[14]Список изделий'!BR2053","v":0},0]
[1328,{"$f":"'[14]Список изделий'!D2217","v":28},{"$f":"'[14]Список изделий'!E2217","v":"Пер-Щербак-28"},{"$f":"'[14]Список изделий'!F2217","v":"Стойка деревянная \"Перекресток\" с крючками"},{"$f":"'[14]Список изделий'!I2217","v":1},{"$f":"'[14]Список изделий'!X2217","v":"ГМА"},{"$f":"'[14]Список изделий'!Y2217","v":"Микуло"},{"$f":"'[14]Список изделий'!Z2217","v":"Закурдаев"},{"$f":"'[14]Список изделий'!AA2217","v":"Замотаев"},{"$f":"'[14]Список изделий'!AB2217","v":0},{"$f":"'[14]Список изделий'!AC2217","v":"x"},{"$f":"'[14]Список изделий'!AD2217","v":0},{"$f":"'[14]Список изделий'!AE2217","v":0},{"$f":"'[14]Список изделий'!AF2217","v":"2018-03-01"},{"$f":"'[14]Список изделий'!AY2217","v":7},{"$f":"'[14]Список изделий'!AZ2217","v":"2018-02-23"},-6,1,0,0,{"$f":"'[14]Список изделий'!BR2217","v":0},0]
[1330,{"$f":"'[14]Список изделий'!D2381","v":30},{"$f":"'[14]Список изделий'!E2381","v":"Пер-Щербак-30"},{"$f":"'[14]Список изделий'!F2381","v":"Оформление отдела Детство"},{"$f":"'[14]Список изделий'!I2381","v":1},{"$f":"'[14]Список изделий'!X2381","v":"ГМА"},{"$f":"'[14]Список изделий'!Y2381","v":"Микуло"},{"$f":"'[14]Список изделий'!Z2381","v":"Закурдаев"},{"$f":"'[14]Список изделий'!AA2381","v":"Замотаев"},{"$f":"'[14]Список изделий'!AB2381","v":0},{"$f":"'[14]Список изделий'!AC2381","v":"x"},{"$f":"'[14]Список изделий'!AD2381","v":0},{"$f":"'[14]Список изделий'!AE2381","v":0},{"$f":"'[14]Список изделий'!AF2381","v":"2018-03-01"},{"$f":"'[14]Список изделий'!AY2381","v":7},{"$f":"'[14]Список изделий'!AZ2381","v":"2018-02-23"},-6,1,0,0,{"$f":"'[14]Список изделий'!BR2381","v":0},0]
[1329,{"$f":"'[14]Список изделий'!D2299","v":29},{"$f":"'[14]Список изделий'!E2299","v":0},{"$f":"'[14]Список изделий'!F2299","v":"Фриз стеллажный 2хст. Объемный \"Конфеты\""},{"$f":"'[14]Список изделий'!I2299","v":0},{"$f":"'[14]Список изделий'!X2299","v":0},{"$f":"'[14]Список изделий'!Y2299","v":0},{"$f":"'[14]Список изделий'!Z2299","v":0},{"$f":"'[14]Список изделий'!AA2299","v":0},{"$f":"'[14]Список изделий'!AB2299","v":0},{"$f":"'[14]Список изделий'!AC2299","v":"x"},{"$f":"'[14]Список изделий'!AD2299","v":0},{"$f":"'[14]Список изделий'!AE2299","v":0},{"$f":"'[14]Список изделий'!AF2299","v":"00:00:00"},{"$f":"'[14]Список изделий'!AY2299","v":0},{"$f":"'[14]Список изделий'!AZ2299","v":"00:00:00"},-43153,-43153,0,0,{"$f":"'[14]Список изделий'!BR2299","v":0},0]
[1331,{"$f":"'[14]Список изделий'!D2463","v":31},{"$f":"'[14]Список изделий'!E2463","v":"Пер-Щербак-31"},{"$f":"'[14]Список изделий'!F2463","v":"Подвес на 3 кармана в проходы между касс (комплект с пп печатью)"},{"$f":"'[14]Список изделий'!I2463","v":4},{"$f":"'[14]Список изделий'!X2463","v":"ГМА"},{"$f":"'[14]Список изделий'!Y2463","v":"Микуло"},{"$f":"'[14]Список изделий'!Z2463","v":"Закурдаев"},{"$f":"'[14]Список изделий'!AA2463","v":"Замотаев"},{"$f":"'[14]Список изделий'!AB2463","v":0},{"$f":"'[14]Список изделий'!AC2463","v":"x"},{"$f":"'[14]Список изделий'!AD2463","v":0},{"$f":"'[14]Список изделий'!AE2463","v":0},{"$f":"'[14]Список изделий'!AF2463","v":"2018-03-01"},{"$f":"'[14]Список изделий'!AY2463","v":7},{"$f":"'[14]Список изделий'!AZ2463","v":"2018-02-23"},-6,1,0,0,{"$f":"'[14]Список изделий'!BR2463","v":0},0]
[1336,{"$f":"'[14]Список изделий'!D2873","v":36},{"$f":"'[14]Список изделий'!E2873","v":"Пер-Щербак-36"},{"$f":"'[14]Список изделий'!F2873","v":"Служебные таблички (комплект)"},{"$f":"'[14]Список изделий'!I2873","v":1},{"$f":"'[14]Список изделий'!X2873","v":"ГМА"},{"$f":"'[14]Список изделий'!Y2873","v":"Микуло"},{"$f":"'[14]Список изделий'!Z2873","v":"Закурдаев"},{"$f":"'[14]Список изделий'!AA2873","v":"Замотаев"},{"$f":"'[14]Список изделий'!AB2873","v":0},{"$f":"'[14]Список изделий'!AC2873","v":"x"},{"$f":"'[14]Список изделий'!AD2873","v":0},{"$f":"'[14]Список изделий'!AE2873","v":0},{"$f":"'[14]Список изделий'!AF2873","v":"2018-03-01"},{"$f":"'[14]Список изделий'!AY2873","v":7},{"$f":"'[14]Список изделий'!AZ2873","v":"2018-02-23"},-6,1,0,0,{"$f":"'[14]Список изделий'!BR2873","v":"\\\\SERVER\\Data1\\П\\Перекресток\\2018\\МОСКВА_18\\Балаклавский пр. 16А\\Техничка\\36-Служебные_таблички"},0]
[1332,{"$f":"'[14]Список изделий'!D2545","v":32},{"$f":"'[14]Список изделий'!E2545","v":0},{"$f":"'[14]Список изделий'!F2545","v":"Световая вывеска Клевер Перекресток СУПЕРМАРКЕТ  на входном фризе"},{"$f":"'[14]Список изделий'!I2545","v":0},{"$f":"'[14]Список изделий'!X2545","v":0},{"$f":"'[14]Список изделий'!Y2545","v":0},{"$f":"'[14]Список изделий'!Z2545","v":0},{"$f":"'[14]Список изделий'!AA2545","v":0},{"$f":"'[14]Список изделий'!AB2545","v":0},{"$f":"'[14]Список изделий'!AC2545","v":"x"},{"$f":"'[14]Список изделий'!AD2545","v":0},{"$f":"'[14]Список изделий'!AE2545","v":0},{"$f":"'[14]Список изделий'!AF2545","v":"00:00:00"},{"$f":"'[14]Список изделий'!AY2545","v":0},{"$f":"'[14]Список изделий'!AZ2545","v":"00:00:00"},-43153,-43153,0,0,{"$f":"'[14]Список изделий'!BR2545","v":0},0]
[1333,{"$f":"'[14]Список изделий'!D2627","v":33},{"$f":"'[14]Список изделий'!E2627","v":0},{"$f":"'[14]Список изделий'!F2627","v":"Проектно-конструкторская документация для светового короба"},{"$f":"'[14]Список изделий'!I2627","v":0},{"$f":"'[14]Список изделий'!X2627","v":0},{"$f":"'[14]Список изделий'!Y2627","v":0},{"$f":"'[14]Список изделий'!Z2627","v":0},{"$f":"'[14]Список изделий'!AA2627","v":0},{"$f":"'[14]Список изделий'!AB2627","v":0},{"$f":"'[14]Список изделий'!AC2627","v":"x"},{"$f":"'[14]Список изделий'!AD2627","v":0},{"$f":"'[14]Список изделий'!AE2627","v":0},{"$f":"'[14]Список изделий'!AF2627","v":"00:00:00"},{"$f":"'[14]Список изделий'!AY2627","v":0},{"$f":"'[14]Список изделий'!AZ2627","v":"00:00:00"},-43153,-43153,0,0,{"$f":"'[14]Список изделий'!BR2627","v":0},0]
[1334,{"$f":"'[14]Список изделий'!D2709","v":34},{"$f":"'[14]Список изделий'!E2709","v":0},{"$f":"'[14]Список изделий'!F2709","v":"Электропроект для светового короба"},{"$f":"'[14]Список изделий'!I2709","v":0},{"$f":"'[14]Список изделий'!X2709","v":0},{"$f":"'[14]Список изделий'!Y2709","v":0},{"$f":"'[14]Список изделий'!Z2709","v":0},{"$f":"'[14]Список изделий'!AA2709","v":0},{"$f":"'[14]Список изделий'!AB2709","v":0},{"$f":"'[14]Список изделий'!AC2709","v":"x"},{"$f":"'[14]Список изделий'!AD2709","v":0},{"$f":"'[14]Список изделий'!AE2709","v":0},{"$f":"'[14]Список изделий'!AF2709","v":"00:00:00"},{"$f":"'[14]Список изделий'!AY2709","v":0},{"$f":"'[14]Список изделий'!AZ2709","v":"00:00:00"},-43153,-43153,0,0,{"$f":"'[14]Список изделий'!BR2709","v":0},0]
[1335,{"$f":"'[14]Список изделий'!D2791","v":35},{"$f":"'[14]Список изделий'!E2791","v":0},{"$f":"'[14]Список изделий'!F2791","v":"Баннеры (Праздник 7500х2400) и  (Праздник 570х2400)"},{"$f":"'[14]Список изделий'!I2791","v":0},{"$f":"'[14]Список изделий'!X2791","v":0},{"$f":"'[14]Список изделий'!Y2791","v":0},{"$f":"'[14]Список изделий'!Z2791","v":0},{"$f":"'[14]Список изделий'!AA2791","v":0},{"$f":"'[14]Список изделий'!AB2791","v":0},{"$f":"'[14]Список изделий'!AC2791","v":"x"},{"$f":"'[14]Список изделий'!AD2791","v":0},{"$f":"'[14]Список изделий'!AE2791","v":0},{"$f":"'[14]Список изделий'!AF2791","v":"00:00:00"},{"$f":"'[14]Список изделий'!AY2791","v":0},{"$f":"'[14]Список изделий'!AZ2791","v":"00:00:00"},-43153,-43153,0,0,{"$f":"'[14]Список изделий'!BR2791","v":0},0]
[1340,{"$f":"'[14]Список изделий'!D3201","v":40},{"$f":"'[14]Список изделий'!E3201","v":"Пер-Щербак-40"},{"$f":"'[14]Список изделий'!F3201","v":"Информационные стенды (фото, служебный 7 (2шт), служебный А4-А3)"},{"$f":"'[14]Список изделий'!I3201","v":4},{"$f":"'[14]Список изделий'!X3201","v":"ГМА"},{"$f":"'[14]Список изделий'!Y3201","v":"Микуло"},{"$f":"'[14]Список изделий'!Z3201","v":"Закурдаев"},{"$f":"'[14]Список изделий'!AA3201","v":"Замотаев"},{"$f":"'[14]Список изделий'!AB3201","v":0},{"$f":"'[14]Список изделий'!AC3201","v":"x"},{"$f":"'[14]Список изделий'!AD3201","v":0},{"$f":"'[14]Список изделий'!AE3201","v":0},{"$f":"'[14]Список изделий'!AF3201","v":"2018-03-01"},{"$f":"'[14]Список изделий'!AY3201","v":7},{"$f":"'[14]Список изделий'!AZ3201","v":"2018-02-23"},-6,1,0,0,{"$f":"'[14]Список изделий'!BR3201","v":"\\\\SERVER\\Data1\\П\\Перекресток\\2018\\ОКЕЙ_Перекресток\\Щербакова 7\\техничка\\40-Информационные стенды\\Сборка"},0]
[1337,{"$f":"'[14]Список изделий'!D2955","v":37},{"$f":"'[14]Список изделий'!E2955","v":0},{"$f":"'[14]Список изделий'!F2955","v":"Монтаж скайтреков"},{"$f":"'[14]Список изделий'!I2955","v":0},{"$f":"'[14]Список изделий'!X2955","v":0},{"$f":"'[14]Список изделий'!Y2955","v":0},{"$f":"'[14]Список изделий'!Z2955","v":0},{"$f":"'[14]Список изделий'!AA2955","v":0},{"$f":"'[14]Список изделий'!AB2955","v":0},{"$f":"'[14]Список изделий'!AC2955","v":"x"},{"$f":"'[14]Список изделий'!AD2955","v":0},{"$f":"'[14]Список изделий'!AE2955","v":0},{"$f":"'[14]Список изделий'!AF2955","v":"00:00:00"},{"$f":"'[14]Список изделий'!AY2955","v":0},{"$f":"'[14]Список изделий'!AZ2955","v":"00:00:00"},-43153,-43153,0,0,{"$f":"'[14]Список изделий'!BR2955","v":0},0]
[1338,{"$f":"'[14]Список изделий'!D3037","v":38},{"$f":"'[14]Список изделий'!E3037","v":0},{"$f":"'[14]Список изделий'!F3037","v":"Стикер Номер кассы (комплект из 2 шт.)"},{"$f":"'[14]Список изделий'!I3037","v":0},{"$f":"'[14]Список изделий'!X3037","v":0},{"$f":"'[14]Список изделий'!Y3037","v":0},{"$f":"'[14]Список изделий'!Z3037","v":0},{"$f":"'[14]Список изделий'!AA3037","v":0},{"$f":"'[14]Список изделий'!AB3037","v":0},{"$f":"'[14]Список изделий'!AC3037","v":"x"},{"$f":"'[14]Список изделий'!AD3037","v":0},{"$f":"'[14]Список изделий'!AE3037","v":0},{"$f":"'[14]Список изделий'!AF3037","v":"00:00:00"},{"$f":"'[14]Список изделий'!AY3037","v":0},{"$f":"'[14]Список изделий'!AZ3037","v":"00:00:00"},-43153,-43153,0,0,{"$f":"'[14]Список изделий'!BR3037","v":0},0]
[1339,{"$f":"'[14]Список изделий'!D3119","v":39},{"$f":"'[14]Список изделий'!E3119","v":0},{"$f":"'[14]Список изделий'!F3119","v":"Фризы стеллажные \"Хлеб\" плоский двухсторонний"},{"$f":"'[14]Список изделий'!I3119","v":0},{"$f":"'[14]Список изделий'!X3119","v":0},{"$f":"'[14]Список изделий'!Y3119","v":0},{"$f":"'[14]Список изделий'!Z3119","v":0},{"$f":"'[14]Список изделий'!AA3119","v":0},{"$f":"'[14]Список изделий'!AB3119","v":0},{"$f":"'[14]Список изделий'!AC3119","v":"x"},{"$f":"'[14]Список изделий'!AD3119","v":0},{"$f":"'[14]Список изделий'!AE3119","v":0},{"$f":"'[14]Список изделий'!AF3119","v":"00:00:00"},{"$f":"'[14]Список изделий'!AY3119","v":0},{"$f":"'[14]Список изделий'!AZ3119","v":"00:00:00"},-43153,-43153,0,0,{"$f":"'[14]Список изделий'!BR3119","v":0},0]
[1341,{"$f":"'[14]Список изделий'!D3283","v":41},{"$f":"'[14]Список изделий'!E3283","v":"Пер-Щербак-41"},{"$f":"'[14]Список изделий'!F3283","v":"Табличка \"Весы самообслуживания\" (как взвесить)"},{"$f":"'[14]Список изделий'!I3283","v":4},{"$f":"'[14]Список изделий'!X3283","v":"ГМА"},{"$f":"'[14]Список изделий'!Y3283","v":"Микуло"},{"$f":"'[14]Список изделий'!Z3283","v":"Закурдаев"},{"$f":"'[14]Список изделий'!AA3283","v":"Замотаев"},{"$f":"'[14]Список изделий'!AB3283","v":0},{"$f":"'[14]Список изделий'!AC3283","v":"x"},{"$f":"'[14]Список изделий'!AD3283","v":0},{"$f":"'[14]Список изделий'!AE3283","v":0},{"$f":"'[14]Список изделий'!AF3283","v":"2018-03-01"},{"$f":"'[14]Список изделий'!AY3283","v":7},{"$f":"'[14]Список изделий'!AZ3283","v":"2018-02-23"},-6,1,0,0,{"$f":"'[14]Список изделий'!BR3283","v":0},0]
[1342,{"$f":"'[14]Список изделий'!D3365","v":42},{"$f":"'[14]Список изделий'!E3365","v":"Пер-Щербак-42"},{"$f":"'[14]Список изделий'!F3365","v":"Табличка Контрольные весы"},{"$f":"'[14]Список изделий'!I3365","v":1},{"$f":"'[14]Список изделий'!X3365","v":"ГМА"},{"$f":"'[14]Список изделий'!Y3365","v":"Микуло"},{"$f":"'[14]Список изделий'!Z3365","v":"Закурдаев"},{"$f":"'[14]Список изделий'!AA3365","v":"Замотаев"},{"$f":"'[14]Список изделий'!AB3365","v":0},{"$f":"'[14]Список изделий'!AC3365","v":"x"},{"$f":"'[14]Список изделий'!AD3365","v":0},{"$f":"'[14]Список изделий'!AE3365","v":0},{"$f":"'[14]Список изделий'!AF3365","v":"2018-03-01"},{"$f":"'[14]Список изделий'!AY3365","v":7},{"$f":"'[14]Список изделий'!AZ3365","v":"2018-02-23"},-6,1,0,0,{"$f":"'[14]Список изделий'!BR3365","v":"\\\\SERVER\\Data1\\П\\Перекресток\\2018\\МОСКВА_18\\Балаклавский пр. 16А\\Техничка\\42-Табличка_Контрольные_Весы"},0]
[1344,{"$f":"'[14]Список изделий'!D3529","v":44},{"$f":"'[14]Список изделий'!E3529","v":"Пер-Щербак-44"},{"$f":"'[14]Список изделий'!F3529","v":"Алкогольные разделители 200х38"},{"$f":"'[14]Список изделий'!I3529","v":60},{"$f":"'[14]Список изделий'!X3529","v":"ГМА"},{"$f":"'[14]Список изделий'!Y3529","v":"Микуло"},{"$f":"'[14]Список изделий'!Z3529","v":"Закурдаев"},{"$f":"'[14]Список изделий'!AA3529","v":"Замотаев"},{"$f":"'[14]Список изделий'!AB3529","v":0},{"$f":"'[14]Список изделий'!AC3529","v":"x"},{"$f":"'[14]Список изделий'!AD3529","v":0},{"$f":"'[14]Список изделий'!AE3529","v":0},{"$f":"'[14]Список изделий'!AF3529","v":"2018-03-01"},{"$f":"'[14]Список изделий'!AY3529","v":7},{"$f":"'[14]Список изделий'!AZ3529","v":"2018-02-23"},-6,1,0,0,{"$f":"'[14]Список изделий'!BR3529","v":"\\\\SERVER\\Data1\\П\\Перекресток\\2018\\МОСКВА_18\\Балаклавский пр. 16А\\Техничка\\44-Алкогольные_разделители-200х38"},0]
[1343,{"$f":"'[14]Список изделий'!D3447","v":43},{"$f":"'[14]Список изделий'!E3447","v":0},{"$f":"'[14]Список изделий'!F3447","v":0},{"$f":"'[14]Список изделий'!I3447","v":0},{"$f":"'[14]Список изделий'!X3447","v":0},{"$f":"'[14]Список изделий'!Y3447","v":0},{"$f":"'[14]Список изделий'!Z3447","v":0},{"$f":"'[14]Список изделий'!AA3447","v":0},{"$f":"'[14]Список изделий'!AB3447","v":0},{"$f":"'[14]Список изделий'!AC3447","v":"x"},{"$f":"'[14]Список изделий'!AD3447","v":0},{"$f":"'[14]Список изделий'!AE3447","v":0},{"$f":"'[14]Список изделий'!AF3447","v":"00:00:00"},{"$f":"'[14]Список изделий'!AY3447","v":0},{"$f":"'[14]Список изделий'!AZ3447","v":"00:00:00"},-43153,-43153,0,0,{"$f":"'[14]Список изделий'!BR3447","v":0},0]
[1346,{"$f":"'[14]Список изделий'!D3693","v":46},{"$f":"'[14]Список изделий'!E3693","v":"Пер-Щербак-46"},{"$f":"'[14]Список изделий'!F3693","v":"Табличка двухст. \"Суперцена\" для подвеса к ценникодержателю ФРОВ"},{"$f":"'[14]Список изделий'!I3693","v":30},{"$f":"'[14]Список изделий'!X3693","v":"ГМА"},{"$f":"'[14]Список изделий'!Y3693","v":"Микуло"},{"$f":"'[14]Список изделий'!Z3693","v":"Закурдаев"},{"$f":"'[14]Список изделий'!AA3693","v":"Замотаев"},{"$f":"'[14]Список изделий'!AB3693","v":0},{"$f":"'[14]Список изделий'!AC3693","v":"x"},{"$f":"'[14]Список изделий'!AD3693","v":0},{"$f":"'[14]Список изделий'!AE3693","v":0},{"$f":"'[14]Список изделий'!AF3693","v":"2018-03-01"},{"$f":"'[14]Список изделий'!AY3693","v":7},{"$f":"'[14]Список изделий'!AZ3693","v":"2018-02-23"},-6,1,0,0,{"$f":"'[14]Список изделий'!BR3693","v":0},0]
[1345,{"$f":"'[14]Список изделий'!D3611","v":45},{"$f":"'[14]Список изделий'!E3611","v":0},{"$f":"'[14]Список изделий'!F3611","v":"таблички и стикеры по навигации"},{"$f":"'[14]Список изделий'!I3611","v":0},{"$f":"'[14]Список изделий'!X3611","v":0},{"$f":"'[14]Список изделий'!Y3611","v":0},{"$f":"'[14]Список изделий'!Z3611","v":0},{"$f":"'[14]Список изделий'!AA3611","v":0},{"$f":"'[14]Список изделий'!AB3611","v":0},{"$f":"'[14]Список изделий'!AC3611","v":"x"},{"$f":"'[14]Список изделий'!AD3611","v":0},{"$f":"'[14]Список изделий'!AE3611","v":0},{"$f":"'[14]Список изделий'!AF3611","v":"00:00:00"},{"$f":"'[14]Список изделий'!AY3611","v":0},{"$f":"'[14]Список изделий'!AZ3611","v":"00:00:00"},-43153,-43153,0,0,{"$f":"'[14]Список изделий'!BR3611","v":"\\\\SERVER\\Data1\\П\\Перекресток\\2018\\МОСКВА_18\\Балаклавский пр. 16А\\Техничка\\45-навигация_стикеры_таблички"},0]
[1347,{"$f":"'[14]Список изделий'!D3775","v":47},{"$f":"'[14]Список изделий'!E3775","v":"Пер-Щербак-47"},{"$f":"'[14]Список изделий'!F3775","v":"Доска РТО"},{"$f":"'[14]Список изделий'!I3775","v":1},{"$f":"'[14]Список изделий'!X3775","v":"ГМА"},{"$f":"'[14]Список изделий'!Y3775","v":"Микуло"},{"$f":"'[14]Список изделий'!Z3775","v":"Закурдаев"},{"$f":"'[14]Список изделий'!AA3775","v":"Замотаев"},{"$f":"'[14]Список изделий'!AB3775","v":0},{"$f":"'[14]Список изделий'!AC3775","v":"x"},{"$f":"'[14]Список изделий'!AD3775","v":0},{"$f":"'[14]Список изделий'!AE3775","v":0},{"$f":"'[14]Список изделий'!AF3775","v":"2018-03-01"},{"$f":"'[14]Список изделий'!AY3775","v":7},{"$f":"'[14]Список изделий'!AZ3775","v":"2018-02-23"},{"$f":"IF(O1348=\"нет в заказе\",\"нет в заказе\",-(TODAY()-(P1348-O1348)))","v":-6},{"$f":"IF(Q1348=\"нет в заказе\",\"нет взаказе\",-(IF(O1348=\"нет в заказе\",\"нет в заказе\",TODAY()-P1348)))","v":1},0,0,{"$f":"'[14]Список изделий'!BR3775","v":0},{"$f":"IF(S1348>=0,S1348,IF(T1348>S1348,T1348,S1348))","v":0}]
[1348,{"$f":"'[14]Список изделий'!D3857","v":48},{"$f":"'[14]Список изделий'!E3857","v":"Пер-Щербак-48"},{"$f":"'[14]Список изделий'!F3857","v":"Вывеска \"запрещающие знаки\" подвесная двусторонняя"},{"$f":"'[14]Список изделий'!I3857","v":1},{"$f":"'[14]Список изделий'!X3857","v":"ГМА"},{"$f":"'[14]Список изделий'!Y3857","v":"Микуло"},{"$f":"'[14]Список изделий'!Z3857","v":"Закурдаев"},{"$f":"'[14]Список изделий'!AA3857","v":"Замотаев"},{"$f":"'[14]Список изделий'!AB3857","v":0},{"$f":"'[14]Список изделий'!AC3857","v":"x"},{"$f":"'[14]Список изделий'!AD3857","v":0},{"$f":"'[14]Список изделий'!AE3857","v":0},{"$f":"'[14]Список изделий'!AF3857","v":"2018-03-01"},{"$f":"'[14]Список изделий'!AY3857","v":7},{"$f":"'[14]Список изделий'!AZ3857","v":"2018-02-23"},-6,1,0,0,{"$f":"'[14]Список изделий'!BR3857","v":0},0]
[1349,{"$f":"'[14]Список изделий'!D3939","v":49},{"$f":"'[14]Список изделий'!E3939","v":"Пер-Щербак-49"},{"$f":"'[14]Список изделий'!F3939","v":"Вывеска \"камеры хранения\""},{"$f":"'[14]Список изделий'!I3939","v":1},{"$f":"'[14]Список изделий'!X3939","v":"ГМА"},{"$f":"'[14]Список изделий'!Y3939","v":"Микуло"},{"$f":"'[14]Список изделий'!Z3939","v":"Закурдаев"},{"$f":"'[14]Список изделий'!AA3939","v":"Замотаев"},{"$f":"'[14]Список изделий'!AB3939","v":0},{"$f":"'[14]Список изделий'!AC3939","v":"x"},{"$f":"'[14]Список изделий'!AD3939","v":0},{"$f":"'[14]Список изделий'!AE3939","v":0},{"$f":"'[14]Список изделий'!AF3939","v":"2018-03-01"},{"$f":"'[14]Список изделий'!AY3939","v":7},{"$f":"'[14]Список изделий'!AZ3939","v":"2018-02-23"},-6,1,0,0,{"$f":"'[14]Список изделий'!BR3939","v":0},0]
[1350,{"$f":"'[14]Список изделий'!D4021","v":50},{"$f":"'[14]Список изделий'!E4021","v":"Пер-Щербак-50"},{"$f":"'[14]Список изделий'!F4021","v":"Вывеска \"Улыбнитесь\" двухсторонняя подвесная"},{"$f":"'[14]Список изделий'!I4021","v":2},{"$f":"'[14]Список изделий'!X4021","v":"ГМА"},{"$f":"'[14]Список изделий'!Y4021","v":"Микуло"},{"$f":"'[14]Список изделий'!Z4021","v":"Закурдаев"},{"$f":"'[14]Список изделий'!AA4021","v":"Замотаев"},{"$f":"'[14]Список изделий'!AB4021","v":0},{"$f":"'[14]Список изделий'!AC4021","v":"x"},{"$f":"'[14]Список изделий'!AD4021","v":0},{"$f":"'[14]Список изделий'!AE4021","v":0},{"$f":"'[14]Список изделий'!AF4021","v":"2018-03-01"},{"$f":"'[14]Список изделий'!AY4021","v":7},{"$f":"'[14]Список изделий'!AZ4021","v":"2018-02-23"},-6,1,0,0,{"$f":"'[14]Список изделий'!BR4021","v":0},0]
[1356,{"$f":"'[14]Список изделий'!D4513","v":56},{"$f":"'[14]Список изделий'!E4513","v":"Пер-Щербак-56"},{"$f":"'[14]Список изделий'!F4513","v":"Вывеска-тележки - ВТ"},{"$f":"'[14]Список изделий'!I4513","v":1},{"$f":"'[14]Список изделий'!X4513","v":"ГМА"},{"$f":"'[14]Список изделий'!Y4513","v":"Микуло"},{"$f":"'[14]Список изделий'!Z4513","v":"Закурдаев"},{"$f":"'[14]Список изделий'!AA4513","v":"Замотаев"},{"$f":"'[14]Список изделий'!AB4513","v":0},{"$f":"'[14]Список изделий'!AC4513","v":"x"},{"$f":"'[14]Список изделий'!AD4513","v":0},{"$f":"'[14]Список изделий'!AE4513","v":0},{"$f":"'[14]Список изделий'!AF4513","v":"2018-03-01"},{"$f":"'[14]Список изделий'!AY4513","v":7},{"$f":"'[14]Список изделий'!AZ4513","v":"2018-02-23"},-6,1,0,0,{"$f":"'[14]Список изделий'!BR4513","v":0},0]
[1351,{"$f":"'[14]Список изделий'!D4103","v":51},{"$f":"'[14]Список изделий'!E4103","v":0},{"$f":"'[14]Список изделий'!F4103","v":"имиджи на колонны"},{"$f":"'[14]Список изделий'!I4103","v":0},{"$f":"'[14]Список изделий'!X4103","v":0},{"$f":"'[14]Список изделий'!Y4103","v":0},{"$f":"'[14]Список изделий'!Z4103","v":0},{"$f":"'[14]Список изделий'!AA4103","v":0},{"$f":"'[14]Список изделий'!AB4103","v":0},{"$f":"'[14]Список изделий'!AC4103","v":"x"},{"$f":"'[14]Список изделий'!AD4103","v":0},{"$f":"'[14]Список изделий'!AE4103","v":0},{"$f":"'[14]Список изделий'!AF4103","v":"00:00:00"},{"$f":"'[14]Список изделий'!AY4103","v":0},{"$f":"'[14]Список изделий'!AZ4103","v":"00:00:00"},-43153,-43153,0,0,{"$f":"'[14]Список изделий'!BR4103","v":"\\\\SERVER\\Data1\\П\\Перекресток\\2018\\МОСКВА_18\\Балаклавский пр. 16А\\Техничка\\51-Имиджи_на_колонны"},0]
[1352,{"$f":"'[14]Список изделий'!D4185","v":52},{"$f":"'[14]Список изделий'!E4185","v":0},{"$f":"'[14]Список изделий'!F4185","v":0},{"$f":"'[14]Список изделий'!I4185","v":0},{"$f":"'[14]Список изделий'!X4185","v":0},{"$f":"'[14]Список изделий'!Y4185","v":0},{"$f":"'[14]Список изделий'!Z4185","v":0},{"$f":"'[14]Список изделий'!AA4185","v":0},{"$f":"'[14]Список изделий'!AB4185","v":0},{"$f":"'[14]Список изделий'!AC4185","v":"x"},{"$f":"'[14]Список изделий'!AD4185","v":0},{"$f":"'[14]Список изделий'!AE4185","v":0},{"$f":"'[14]Список изделий'!AF4185","v":"00:00:00"},{"$f":"'[14]Список изделий'!AY4185","v":0},{"$f":"'[14]Список изделий'!AZ4185","v":"00:00:00"},-43153,-43153,0,0,{"$f":"'[14]Список изделий'!BR4185","v":0},0,"\\\\SERVER\\Data1\\Х\\Хронограф\\2017\\техничка\\Табличка аренда (печать).cdr"]
[1353,{"$f":"'[14]Список изделий'!D4267","v":53},{"$f":"'[14]Список изделий'!E4267","v":0},{"$f":"'[14]Список изделий'!F4267","v":0},{"$f":"'[14]Список изделий'!I4267","v":0},{"$f":"'[14]Список изделий'!X4267","v":0},{"$f":"'[14]Список изделий'!Y4267","v":0},{"$f":"'[14]Список изделий'!Z4267","v":0},{"$f":"'[14]Список изделий'!AA4267","v":0},{"$f":"'[14]Список изделий'!AB4267","v":0},{"$f":"'[14]Список изделий'!AC4267","v":"x"},{"$f":"'[14]Список изделий'!AD4267","v":0},{"$f":"'[14]Список изделий'!AE4267","v":0},{"$f":"'[14]Список изделий'!AF4267","v":"00:00:00"},{"$f":"'[14]Список изделий'!AY4267","v":0},{"$f":"'[14]Список изделий'!AZ4267","v":"00:00:00"},-43153,-43153,0,0,{"$f":"'[14]Список изделий'!BR4267","v":0},0]
[1354,{"$f":"'[14]Список изделий'!D4349","v":54},{"$f":"'[14]Список изделий'!E4349","v":0},{"$f":"'[14]Список изделий'!F4349","v":"Стикер \"режим работ \" 24 часа"},{"$f":"'[14]Список изделий'!I4349","v":0},{"$f":"'[14]Список изделий'!X4349","v":0},{"$f":"'[14]Список изделий'!Y4349","v":0},{"$f":"'[14]Список изделий'!Z4349","v":0},{"$f":"'[14]Список изделий'!AA4349","v":0},{"$f":"'[14]Список изделий'!AB4349","v":0},{"$f":"'[14]Список изделий'!AC4349","v":"x"},{"$f":"'[14]Список изделий'!AD4349","v":0},{"$f":"'[14]Список изделий'!AE4349","v":0},{"$f":"'[14]Список изделий'!AF4349","v":"00:00:00"},{"$f":"'[14]Список изделий'!AY4349","v":0},{"$f":"'[14]Список изделий'!AZ4349","v":"00:00:00"},-43153,-43153,0,0,{"$f":"'[14]Список изделий'!BR4349","v":0},0]
[1355,{"$f":"'[14]Список изделий'!D4431","v":55},{"$f":"'[14]Список изделий'!E4431","v":0},{"$f":"'[14]Список изделий'!F4431","v":"Табличка \"режим работы\" 24 часа"},{"$f":"'[14]Список изделий'!I4431","v":0},{"$f":"'[14]Список изделий'!X4431","v":0},{"$f":"'[14]Список изделий'!Y4431","v":0},{"$f":"'[14]Список изделий'!Z4431","v":0},{"$f":"'[14]Список изделий'!AA4431","v":0},{"$f":"'[14]Список изделий'!AB4431","v":0},{"$f":"'[14]Список изделий'!AC4431","v":"x"},{"$f":"'[14]Список изделий'!AD4431","v":0},{"$f":"'[14]Список изделий'!AE4431","v":0},{"$f":"'[14]Список изделий'!AF4431","v":"00:00:00"},{"$f":"'[14]Список изделий'!AY4431","v":0},{"$f":"'[14]Список изделий'!AZ4431","v":"00:00:00"},-43153,-43153,0,0,{"$f":"'[14]Список изделий'!BR4431","v":0},0]
[1357,{"$f":"'[14]Список изделий'!D4595","v":57},{"$f":"'[14]Список изделий'!E4595","v":"Пер-Щербак-57"},{"$f":"'[14]Список изделий'!F4595","v":"Конструкции \"Суперцена\" треугольная (к-во предварительно)"},{"$f":"'[14]Список изделий'!I4595","v":5},{"$f":"'[14]Список изделий'!X4595","v":"ГМА"},{"$f":"'[14]Список изделий'!Y4595","v":"Микуло"},{"$f":"'[14]Список изделий'!Z4595","v":"Закурдаев"},{"$f":"'[14]Список изделий'!AA4595","v":"Замотаев"},{"$f":"'[14]Список изделий'!AB4595","v":0},{"$f":"'[14]Список изделий'!AC4595","v":"x"},{"$f":"'[14]Список изделий'!AD4595","v":0},{"$f":"'[14]Список изделий'!AE4595","v":0},{"$f":"'[14]Список изделий'!AF4595","v":"2018-03-01"},{"$f":"'[14]Список изделий'!AY4595","v":7},{"$f":"'[14]Список изделий'!AZ4595","v":"2018-02-23"},-6,1,0,0,{"$f":"'[14]Список изделий'!BR4595","v":"\\\\SERVER\\Data1\\П\\Перекресток\\2018\\ОКЕЙ_Перекресток\\Щербакова 7\\техничка\\57-СУПЕРЦЕНА-треугольная(Призма)"},0]
[1358,{"$f":"'[14]Список изделий'!D4677","v":58},{"$f":"'[14]Список изделий'!E4677","v":"Пер-Щербак-58"},{"$f":"'[14]Список изделий'!F4677","v":"Конструкция \"Суперцена\" одинарная, один карман, подвесная к-во предварительное"},{"$f":"'[14]Список изделий'!I4677","v":10},{"$f":"'[14]Список изделий'!X4677","v":"ГМА"},{"$f":"'[14]Список изделий'!Y4677","v":"Микуло"},{"$f":"'[14]Список изделий'!Z4677","v":"Закурдаев"},{"$f":"'[14]Список изделий'!AA4677","v":"Замотаев"},{"$f":"'[14]Список изделий'!AB4677","v":0},{"$f":"'[14]Список изделий'!AC4677","v":"x"},{"$f":"'[14]Список изделий'!AD4677","v":0},{"$f":"'[14]Список изделий'!AE4677","v":0},{"$f":"'[14]Список изделий'!AF4677","v":"2018-03-01"},{"$f":"'[14]Список изделий'!AY4677","v":7},{"$f":"'[14]Список изделий'!AZ4677","v":"2018-02-23"},-6,1,0,0,{"$f":"'[14]Список изделий'!BR4677","v":"\\\\SERVER\\Data1\\П\\Перекресток\\2018\\ТЕХНИЧЕСКАЯ ДОКУМЕНТАЦИЯ\\58-СУПЕРЦЕНА-одинарная_подвесная\\Сборка\\суперцена_плоская-сборка.cdr"},0]
[1359,{"$f":"'[14]Список изделий'!D4759","v":59},{"$f":"'[14]Список изделий'!E4759","v":"Пер-Щербак-59"},{"$f":"'[14]Список изделий'!F4759","v":"Стикеры \"Суперцена\", на карманы (треугольные конструкции)"},{"$f":"'[14]Список изделий'!I4759","v":8},{"$f":"'[14]Список изделий'!X4759","v":"ГМА"},{"$f":"'[14]Список изделий'!Y4759","v":"Микуло"},{"$f":"'[14]Список изделий'!Z4759","v":"Закурдаев"},{"$f":"'[14]Список изделий'!AA4759","v":"Замотаев"},{"$f":"'[14]Список изделий'!AB4759","v":0},{"$f":"'[14]Список изделий'!AC4759","v":"x"},{"$f":"'[14]Список изделий'!AD4759","v":0},{"$f":"'[14]Список изделий'!AE4759","v":0},{"$f":"'[14]Список изделий'!AF4759","v":"2018-03-01"},{"$f":"'[14]Список изделий'!AY4759","v":7},{"$f":"'[14]Список изделий'!AZ4759","v":"2018-02-23"},-6,1,0,0,{"$f":"'[14]Список изделий'!BR4759","v":0},0]
[1361,{"$f":"'[14]Список изделий'!D4923","v":61},{"$f":"'[14]Список изделий'!E4923","v":"Пер-Щербак-61"},{"$f":"'[14]Список изделий'!F4923","v":"Подвес кассы на трубе 20х20 (двухсторонний) (к-во предварительно)"},{"$f":"'[14]Список изделий'!I4923","v":2},{"$f":"'[14]Список изделий'!X4923","v":"ГМА"},{"$f":"'[14]Список изделий'!Y4923","v":"Микуло"},{"$f":"'[14]Список изделий'!Z4923","v":"Закурдаев"},{"$f":"'[14]Список изделий'!AA4923","v":"Замотаев"},{"$f":"'[14]Список изделий'!AB4923","v":0},{"$f":"'[14]Список изделий'!AC4923","v":"x"},{"$f":"'[14]Список изделий'!AD4923","v":0},{"$f":"'[14]Список изделий'!AE4923","v":0},{"$f":"'[14]Список изделий'!AF4923","v":"2018-03-01"},{"$f":"'[14]Список изделий'!AY4923","v":7},{"$f":"'[14]Список изделий'!AZ4923","v":"2018-02-23"},-6,1,0,0,{"$f":"'[14]Список изделий'!BR4923","v":0},0]
[1360,{"$f":"'[14]Список изделий'!D4841","v":60},{"$f":"'[14]Список изделий'!E4841","v":0},{"$f":"'[14]Список изделий'!F4841","v":" Фриз стеллажный объемный. Двухсторонний СУПЕРЦЕНА. Обратная сторона - имитация стелажного фриза Товары для дома Красота уход"},{"$f":"'[14]Список изделий'!I4841","v":0},{"$f":"'[14]Список изделий'!X4841","v":0},{"$f":"'[14]Список изделий'!Y4841","v":0},{"$f":"'[14]Список изделий'!Z4841","v":0},{"$f":"'[14]Список изделий'!AA4841","v":0},{"$f":"'[14]Список изделий'!AB4841","v":0},{"$f":"'[14]Список изделий'!AC4841","v":"x"},{"$f":"'[14]Список изделий'!AD4841","v":0},{"$f":"'[14]Список изделий'!AE4841","v":0},{"$f":"'[14]Список изделий'!AF4841","v":"00:00:00"},{"$f":"'[14]Список изделий'!AY4841","v":0},{"$f":"'[14]Список изделий'!AZ4841","v":"00:00:00"},-43153,-43153,0,0,{"$f":"'[14]Список изделий'!BR4841","v":0},0]
[1376,{"$f":"'[14]Список изделий'!D6153","v":76},{"$f":"'[14]Список изделий'!E6153","v":"Пер-Щербак-76"},{"$f":"'[14]Список изделий'!F6153","v":"Пилон несветовой"},{"$f":"'[14]Список изделий'!I6153","v":1},{"$f":"'[14]Список изделий'!X6153","v":"ГМА"},{"$f":"'[14]Список изделий'!Y6153","v":"Микуло"},{"$f":"'[14]Список изделий'!Z6153","v":"Закурдаев"},{"$f":"'[14]Список изделий'!AA6153","v":"Замотаев"},{"$f":"'[14]Список изделий'!AB6153","v":0},{"$f":"'[14]Список изделий'!AC6153","v":"x"},{"$f":"'[14]Список изделий'!AD6153","v":0},{"$f":"'[14]Список изделий'!AE6153","v":0},{"$f":"'[14]Список изделий'!AF6153","v":"2018-03-01"},{"$f":"'[14]Список изделий'!AY6153","v":7},{"$f":"'[14]Список изделий'!AZ6153","v":"2018-02-23"},-6,1,0,0,{"$f":"'[14]Список изделий'!BR6153","v":"\\\\SERVER\\Data1\\П\\Перекресток\\2018\\МОСКВА_18\\Балаклавский пр. 16А\\Техничка\\76-Пилон-660х1600"},0]
[1362,{"$f":"'[14]Список изделий'!D5005","v":62},{"$f":"'[14]Список изделий'!E5005","v":0},{"$f":"'[14]Список изделий'!F5005","v":"Боковины \"Бокалы\" на боковые части энда стеллажа"},{"$f":"'[14]Список изделий'!I5005","v":0},{"$f":"'[14]Список изделий'!X5005","v":0},{"$f":"'[14]Список изделий'!Y5005","v":0},{"$f":"'[14]Список изделий'!Z5005","v":0},{"$f":"'[14]Список изделий'!AA5005","v":0},{"$f":"'[14]Список изделий'!AB5005","v":0},{"$f":"'[14]Список изделий'!AC5005","v":"x"},{"$f":"'[14]Список изделий'!AD5005","v":0},{"$f":"'[14]Список изделий'!AE5005","v":0},{"$f":"'[14]Список изделий'!AF5005","v":"00:00:00"},{"$f":"'[14]Список изделий'!AY5005","v":0},{"$f":"'[14]Список изделий'!AZ5005","v":"00:00:00"},-43153,-43153,0,0,{"$f":"'[14]Список изделий'!BR5005","v":0},0]
[1363,{"$f":"'[14]Список изделий'!D5087","v":63},{"$f":"'[14]Список изделий'!E5087","v":0},{"$f":"'[14]Список изделий'!F5087","v":"Стикер заморозка в холодильники"},{"$f":"'[14]Список изделий'!I5087","v":0},{"$f":"'[14]Список изделий'!X5087","v":0},{"$f":"'[14]Список изделий'!Y5087","v":0},{"$f":"'[14]Список изделий'!Z5087","v":0},{"$f":"'[14]Список изделий'!AA5087","v":0},{"$f":"'[14]Список изделий'!AB5087","v":0},{"$f":"'[14]Список изделий'!AC5087","v":"x"},{"$f":"'[14]Список изделий'!AD5087","v":0},{"$f":"'[14]Список изделий'!AE5087","v":0},{"$f":"'[14]Список изделий'!AF5087","v":"00:00:00"},{"$f":"'[14]Список изделий'!AY5087","v":0},{"$f":"'[14]Список изделий'!AZ5087","v":"00:00:00"},-43153,-43153,0,0,{"$f":"'[14]Список изделий'!BR5087","v":0},0]
[1364,{"$f":"'[14]Список изделий'!D5169","v":64},{"$f":"'[14]Список изделий'!E5169","v":0},{"$f":"'[14]Список изделий'!F5169","v":"Оклейка витрин плоттерная резка (Паттерны)"},{"$f":"'[14]Список изделий'!I5169","v":0},{"$f":"'[14]Список изделий'!X5169","v":0},{"$f":"'[14]Список изделий'!Y5169","v":0},{"$f":"'[14]Список изделий'!Z5169","v":0},{"$f":"'[14]Список изделий'!AA5169","v":0},{"$f":"'[14]Список изделий'!AB5169","v":0},{"$f":"'[14]Список изделий'!AC5169","v":"x"},{"$f":"'[14]Список изделий'!AD5169","v":0},{"$f":"'[14]Список изделий'!AE5169","v":0},{"$f":"'[14]Список изделий'!AF5169","v":"00:00:00"},{"$f":"'[14]Список изделий'!AY5169","v":0},{"$f":"'[14]Список изделий'!AZ5169","v":"00:00:00"},-43153,-43153,0,0,{"$f":"'[14]Список изделий'!BR5169","v":0},0]
[1365,{"$f":"'[14]Список изделий'!D5251","v":65},{"$f":"'[14]Список изделий'!E5251","v":0},{"$f":"'[14]Список изделий'!F5251","v":"Для витрин конструкция \"Суперцена\" 2хст. (из двух односторонних)"},{"$f":"'[14]Список изделий'!I5251","v":0},{"$f":"'[14]Список изделий'!X5251","v":0},{"$f":"'[14]Список изделий'!Y5251","v":0},{"$f":"'[14]Список изделий'!Z5251","v":0},{"$f":"'[14]Список изделий'!AA5251","v":0},{"$f":"'[14]Список изделий'!AB5251","v":0},{"$f":"'[14]Список изделий'!AC5251","v":"x"},{"$f":"'[14]Список изделий'!AD5251","v":0},{"$f":"'[14]Список изделий'!AE5251","v":0},{"$f":"'[14]Список изделий'!AF5251","v":"00:00:00"},{"$f":"'[14]Список изделий'!AY5251","v":0},{"$f":"'[14]Список изделий'!AZ5251","v":"00:00:00"},-43153,-43153,0,0,{"$f":"'[14]Список изделий'!BR5251","v":0},0]
[1366,{"$f":"'[14]Список изделий'!D5333","v":66},{"$f":"'[14]Список изделий'!E5333","v":0},{"$f":"'[14]Список изделий'!F5333","v":"Оформление витрин имиджи двухсторонние"},{"$f":"'[14]Список изделий'!I5333","v":0},{"$f":"'[14]Список изделий'!X5333","v":0},{"$f":"'[14]Список изделий'!Y5333","v":0},{"$f":"'[14]Список изделий'!Z5333","v":0},{"$f":"'[14]Список изделий'!AA5333","v":0},{"$f":"'[14]Список изделий'!AB5333","v":0},{"$f":"'[14]Список изделий'!AC5333","v":"x"},{"$f":"'[14]Список изделий'!AD5333","v":0},{"$f":"'[14]Список изделий'!AE5333","v":0},{"$f":"'[14]Список изделий'!AF5333","v":"00:00:00"},{"$f":"'[14]Список изделий'!AY5333","v":0},{"$f":"'[14]Список изделий'!AZ5333","v":"00:00:00"},-43153,-43153,0,0,{"$f":"'[14]Список изделий'!BR5333","v":0},0]
[1367,{"$f":"'[14]Список изделий'!D5415","v":67},{"$f":"'[14]Список изделий'!E5415","v":0},{"$f":"'[14]Список изделий'!F5415","v":"Фриз стеллажный \"Шапка\" - Восточные сладости (комплект из 3х частей)"},{"$f":"'[14]Список изделий'!I5415","v":0},{"$f":"'[14]Список изделий'!X5415","v":0},{"$f":"'[14]Список изделий'!Y5415","v":0},{"$f":"'[14]Список изделий'!Z5415","v":0},{"$f":"'[14]Список изделий'!AA5415","v":0},{"$f":"'[14]Список изделий'!AB5415","v":0},{"$f":"'[14]Список изделий'!AC5415","v":"x"},{"$f":"'[14]Список изделий'!AD5415","v":0},{"$f":"'[14]Список изделий'!AE5415","v":0},{"$f":"'[14]Список изделий'!AF5415","v":"00:00:00"},{"$f":"'[14]Список изделий'!AY5415","v":0},{"$f":"'[14]Список изделий'!AZ5415","v":"00:00:00"},-43153,-43153,0,0,{"$f":"'[14]Список изделий'!BR5415","v":0},0]
[1368,{"$f":"'[14]Список изделий'!D5497","v":68},{"$f":"'[14]Список изделий'!E5497","v":0},{"$f":"'[14]Список изделий'!F5497","v":"Оформлениие Фермерского Уголка"},{"$f":"'[14]Список изделий'!I5497","v":0},{"$f":"'[14]Список изделий'!X5497","v":0},{"$f":"'[14]Список изделий'!Y5497","v":0},{"$f":"'[14]Список изделий'!Z5497","v":0},{"$f":"'[14]Список изделий'!AA5497","v":0},{"$f":"'[14]Список изделий'!AB5497","v":0},{"$f":"'[14]Список изделий'!AC5497","v":"x"},{"$f":"'[14]Список изделий'!AD5497","v":0},{"$f":"'[14]Список изделий'!AE5497","v":0},{"$f":"'[14]Список изделий'!AF5497","v":"00:00:00"},{"$f":"'[14]Список изделий'!AY5497","v":0},{"$f":"'[14]Список изделий'!AZ5497","v":"00:00:00"},-43153,-43153,0,0,{"$f":"'[14]Список изделий'!BR5497","v":0},0]
[1369,{"$f":"'[14]Список изделий'!D5579","v":69},{"$f":"'[14]Список изделий'!E5579","v":0},{"$f":"'[14]Список изделий'!F5579","v":"Фриз стеллажный \"Шапка\" - Наша марка (разная комплектащия)"},{"$f":"'[14]Список изделий'!I5579","v":0},{"$f":"'[14]Список изделий'!X5579","v":0},{"$f":"'[14]Список изделий'!Y5579","v":0},{"$f":"'[14]Список изделий'!Z5579","v":0},{"$f":"'[14]Список изделий'!AA5579","v":0},{"$f":"'[14]Список изделий'!AB5579","v":0},{"$f":"'[14]Список изделий'!AC5579","v":"x"},{"$f":"'[14]Список изделий'!AD5579","v":0},{"$f":"'[14]Список изделий'!AE5579","v":0},{"$f":"'[14]Список изделий'!AF5579","v":"00:00:00"},{"$f":"'[14]Список изделий'!AY5579","v":0},{"$f":"'[14]Список изделий'!AZ5579","v":"00:00:00"},-43153,-43153,0,0,{"$f":"'[14]Список изделий'!BR5579","v":0},0]
[1370,{"$f":"'[14]Список изделий'!D5661","v":70},{"$f":"'[14]Список изделий'!E5661","v":0},{"$f":"'[14]Список изделий'!F5661","v":"Подвес 2хст. В Bistro \"Перекуси в Перекрестке\""},{"$f":"'[14]Список изделий'!I5661","v":0},{"$f":"'[14]Список изделий'!X5661","v":0},{"$f":"'[14]Список изделий'!Y5661","v":0},{"$f":"'[14]Список изделий'!Z5661","v":0},{"$f":"'[14]Список изделий'!AA5661","v":0},{"$f":"'[14]Список изделий'!AB5661","v":0},{"$f":"'[14]Список изделий'!AC5661","v":"x"},{"$f":"'[14]Список изделий'!AD5661","v":0},{"$f":"'[14]Список изделий'!AE5661","v":0},{"$f":"'[14]Список изделий'!AF5661","v":"00:00:00"},{"$f":"'[14]Список изделий'!AY5661","v":0},{"$f":"'[14]Список изделий'!AZ5661","v":"00:00:00"},-43153,-43153,0,0,{"$f":"'[14]Список изделий'!BR5661","v":0},0]
[1371,{"$f":"'[14]Список изделий'!D5743","v":71},{"$f":"'[14]Список изделий'!E5743","v":0},{"$f":"'[14]Список изделий'!F5743","v":"Вывеска световая клееная \"КАФЕ BISTRO CAFE\""},{"$f":"'[14]Список изделий'!I5743","v":0},{"$f":"'[14]Список изделий'!X5743","v":0},{"$f":"'[14]Список изделий'!Y5743","v":0},{"$f":"'[14]Список изделий'!Z5743","v":0},{"$f":"'[14]Список изделий'!AA5743","v":0},{"$f":"'[14]Список изделий'!AB5743","v":0},{"$f":"'[14]Список изделий'!AC5743","v":"x"},{"$f":"'[14]Список изделий'!AD5743","v":0},{"$f":"'[14]Список изделий'!AE5743","v":0},{"$f":"'[14]Список изделий'!AF5743","v":"00:00:00"},{"$f":"'[14]Список изделий'!AY5743","v":0},{"$f":"'[14]Список изделий'!AZ5743","v":"00:00:00"},-43153,-43153,0,0,{"$f":"'[14]Список изделий'!BR5743","v":0},0]
[1372,{"$f":"'[14]Список изделий'!D5825","v":72},{"$f":"'[14]Список изделий'!E5825","v":0},{"$f":"'[14]Список изделий'!F5825","v":"Плоская эмблема комплект (Ложки, Бургер, Чашка)"},{"$f":"'[14]Список изделий'!I5825","v":0},{"$f":"'[14]Список изделий'!X5825","v":0},{"$f":"'[14]Список изделий'!Y5825","v":0},{"$f":"'[14]Список изделий'!Z5825","v":0},{"$f":"'[14]Список изделий'!AA5825","v":0},{"$f":"'[14]Список изделий'!AB5825","v":0},{"$f":"'[14]Список изделий'!AC5825","v":"x"},{"$f":"'[14]Список изделий'!AD5825","v":0},{"$f":"'[14]Список изделий'!AE5825","v":0},{"$f":"'[14]Список изделий'!AF5825","v":"00:00:00"},{"$f":"'[14]Список изделий'!AY5825","v":0},{"$f":"'[14]Список изделий'!AZ5825","v":"00:00:00"},-43153,-43153,0,0,{"$f":"'[14]Список изделий'!BR5825","v":0},0]
[1373,{"$f":"'[14]Список изделий'!D5907","v":73},{"$f":"'[14]Список изделий'!E5907","v":0},{"$f":"'[14]Список изделий'!F5907","v":"Подвес 2хст. В Bistro \"Тарелки/Стол с чашками\""},{"$f":"'[14]Список изделий'!I5907","v":0},{"$f":"'[14]Список изделий'!X5907","v":0},{"$f":"'[14]Список изделий'!Y5907","v":0},{"$f":"'[14]Список изделий'!Z5907","v":0},{"$f":"'[14]Список изделий'!AA5907","v":0},{"$f":"'[14]Список изделий'!AB5907","v":0},{"$f":"'[14]Список изделий'!AC5907","v":"x"},{"$f":"'[14]Список изделий'!AD5907","v":0},{"$f":"'[14]Список изделий'!AE5907","v":0},{"$f":"'[14]Список изделий'!AF5907","v":"00:00:00"},{"$f":"'[14]Список изделий'!AY5907","v":0},{"$f":"'[14]Список изделий'!AZ5907","v":"00:00:00"},-43153,-43153,0,0,{"$f":"'[14]Список изделий'!BR5907","v":0},0]
[1374,{"$f":"'[14]Список изделий'!D5989","v":74},{"$f":"'[14]Список изделий'!E5989","v":0},{"$f":"'[14]Список изделий'!F5989","v":"Подвес 2хст. В Bistro \"Присесть- поесть\""},{"$f":"'[14]Список изделий'!I5989","v":0},{"$f":"'[14]Список изделий'!X5989","v":0},{"$f":"'[14]Список изделий'!Y5989","v":0},{"$f":"'[14]Список изделий'!Z5989","v":0},{"$f":"'[14]Список изделий'!AA5989","v":0},{"$f":"'[14]Список изделий'!AB5989","v":0},{"$f":"'[14]Список изделий'!AC5989","v":"x"},{"$f":"'[14]Список изделий'!AD5989","v":0},{"$f":"'[14]Список изделий'!AE5989","v":0},{"$f":"'[14]Список изделий'!AF5989","v":"00:00:00"},{"$f":"'[14]Список изделий'!AY5989","v":0},{"$f":"'[14]Список изделий'!AZ5989","v":"00:00:00"},-43153,-43153,0,0,{"$f":"'[14]Список изделий'!BR5989","v":0},0]
[1375,{"$f":"'[14]Список изделий'!D6071","v":75},{"$f":"'[14]Список изделий'!E6071","v":0},{"$f":"'[14]Список изделий'!F6071","v":"Световой короб круглый подвесной одност. \"BISTRO\" в витрину"},{"$f":"'[14]Список изделий'!I6071","v":0},{"$f":"'[14]Список изделий'!X6071","v":0},{"$f":"'[14]Список изделий'!Y6071","v":0},{"$f":"'[14]Список изделий'!Z6071","v":0},{"$f":"'[14]Список изделий'!AA6071","v":0},{"$f":"'[14]Список изделий'!AB6071","v":0},{"$f":"'[14]Список изделий'!AC6071","v":"x"},{"$f":"'[14]Список изделий'!AD6071","v":0},{"$f":"'[14]Список изделий'!AE6071","v":0},{"$f":"'[14]Список изделий'!AF6071","v":"00:00:00"},{"$f":"'[14]Список изделий'!AY6071","v":0},{"$f":"'[14]Список изделий'!AZ6071","v":"00:00:00"},-43153,-43153,0,0,{"$f":"'[14]Список изделий'!BR6071","v":0},0]
[1377,{"$f":"'[14]Список изделий'!D6235","v":77},{"$f":"'[14]Список изделий'!E6235","v":"Пер-Щербак-77"},{"$f":"'[14]Список изделий'!F6235","v":"Печать на бумаге для пилона (комплект из 2шт.)"},{"$f":"'[14]Список изделий'!I6235","v":1},{"$f":"'[14]Список изделий'!X6235","v":"ГМА"},{"$f":"'[14]Список изделий'!Y6235","v":"Микуло"},{"$f":"'[14]Список изделий'!Z6235","v":"Закурдаев"},{"$f":"'[14]Список изделий'!AA6235","v":"Замотаев"},{"$f":"'[14]Список изделий'!AB6235","v":0},{"$f":"'[14]Список изделий'!AC6235","v":"x"},{"$f":"'[14]Список изделий'!AD6235","v":0},{"$f":"'[14]Список изделий'!AE6235","v":0},{"$f":"'[14]Список изделий'!AF6235","v":"2018-03-01"},{"$f":"'[14]Список изделий'!AY6235","v":7},{"$f":"'[14]Список изделий'!AZ6235","v":"2018-02-23"},-6,1,0,0,{"$f":"'[14]Список изделий'!BR6235","v":"\\\\SERVER\\Data1\\П\\Перекресток\\2018\\МОСКВА_18\\Балаклавский пр. 16А\\Техничка\\77-Бумага_для_пилона"},0]
[1201,{"$f":"'[15]Список изделий'!D3","v":1},{"$f":"'[15]Список изделий'!E3","v":"Перек-Испыт-1"},{"$f":"'[15]Список изделий'!F3","v":"СТАНДАРТ - Информационные стенды "},{"$f":"'[15]Список изделий'!I3","v":1},{"$f":"'[15]Список изделий'!X3","v":"ГМА"},{"$f":"'[15]Список изделий'!Y3","v":"Микуло"},{"$f":"'[15]Список изделий'!Z3","v":"Закурдаев"},{"$f":"'[15]Список изделий'!AA3","v":"Замотаев"},{"$f":"'[15]Список изделий'!AB3","v":0},{"$f":"'[15]Список изделий'!AC3","v":"x"},{"$f":"'[15]Список изделий'!AD3","v":0},{"$f":"'[15]Список изделий'!AE3","v":"к-т"},{"$f":"'[15]Список изделий'!AF3","v":"2018-02-27"},{"$f":"'[15]Список изделий'!AY3","v":1},{"$f":"'[15]Список изделий'!AZ3","v":"2018-02-26"},3,4,0,0,{"$f":"'[15]Список изделий'!BR3","v":"\\\\SERVER\\Data1\\П\\Перекресток\\2018\\ТЕХ. ДОКУМЕНТАЦИЯ рабочая\\01-Стандарт"},0]
[1378,{"$f":"'[14]Список изделий'!D6317","v":78},{"$f":"'[14]Список изделий'!E6317","v":0},{"$f":"'[14]Список изделий'!F6317","v":0},{"$f":"'[14]Список изделий'!I6317","v":0},{"$f":"'[14]Список изделий'!X6317","v":0},{"$f":"'[14]Список изделий'!Y6317","v":0},{"$f":"'[14]Список изделий'!Z6317","v":0},{"$f":"'[14]Список изделий'!AA6317","v":0},{"$f":"'[14]Список изделий'!AB6317","v":0},{"$f":"'[14]Список изделий'!AC6317","v":"x"},{"$f":"'[14]Список изделий'!AD6317","v":0},{"$f":"'[14]Список изделий'!AE6317","v":0},{"$f":"'[14]Список изделий'!AF6317","v":"00:00:00"},{"$f":"'[14]Список изделий'!AY6317","v":0},{"$f":"'[14]Список изделий'!AZ6317","v":"00:00:00"},-43153,-43153,0,0,{"$f":"'[14]Список изделий'!BR6317","v":0},0]
[1379,{"$f":"'[14]Список изделий'!D6399","v":79},{"$f":"'[14]Список изделий'!E6399","v":0},{"$f":"'[14]Список изделий'!F6399","v":0},{"$f":"'[14]Список изделий'!I6399","v":0},{"$f":"'[14]Список изделий'!X6399","v":0},{"$f":"'[14]Список изделий'!Y6399","v":0},{"$f":"'[14]Список изделий'!Z6399","v":0},{"$f":"'[14]Список изделий'!AA6399","v":0},{"$f":"'[14]Список изделий'!AB6399","v":0},{"$f":"'[14]Список изделий'!AC6399","v":"x"},{"$f":"'[14]Список изделий'!AD6399","v":0},{"$f":"'[14]Список изделий'!AE6399","v":0},{"$f":"'[14]Список изделий'!AF6399","v":"00:00:00"},{"$f":"'[14]Список изделий'!AY6399","v":0},{"$f":"'[14]Список изделий'!AZ6399","v":"00:00:00"},-43153,-43153,0,0,{"$f":"'[14]Список изделий'!BR6399","v":0},0]
[1380,{"$f":"'[14]Список изделий'!D6481","v":80},{"$f":"'[14]Список изделий'!E6481","v":0},{"$f":"'[14]Список изделий'!F6481","v":0},{"$f":"'[14]Список изделий'!I6481","v":0},{"$f":"'[14]Список изделий'!X6481","v":0},{"$f":"'[14]Список изделий'!Y6481","v":0},{"$f":"'[14]Список изделий'!Z6481","v":0},{"$f":"'[14]Список изделий'!AA6481","v":0},{"$f":"'[14]Список изделий'!AB6481","v":0},{"$f":"'[14]Список изделий'!AC6481","v":"x"},{"$f":"'[14]Список изделий'!AD6481","v":0},{"$f":"'[14]Список изделий'!AE6481","v":0},{"$f":"'[14]Список изделий'!AF6481","v":"00:00:00"},{"$f":"'[14]Список изделий'!AY6481","v":0},{"$f":"'[14]Список изделий'!AZ6481","v":"00:00:00"},-43153,-43153,0,0,{"$f":"'[14]Список изделий'!BR6481","v":0},0]
[1381,{"$f":"'[14]Список изделий'!D6563","v":81},{"$f":"'[14]Список изделий'!E6563","v":0},{"$f":"'[14]Список изделий'!F6563","v":0},{"$f":"'[14]Список изделий'!I6563","v":0},{"$f":"'[14]Список изделий'!X6563","v":0},{"$f":"'[14]Список изделий'!Y6563","v":0},{"$f":"'[14]Список изделий'!Z6563","v":0},{"$f":"'[14]Список изделий'!AA6563","v":0},{"$f":"'[14]Список изделий'!AB6563","v":0},{"$f":"'[14]Список изделий'!AC6563","v":"x"},{"$f":"'[14]Список изделий'!AD6563","v":0},{"$f":"'[14]Список изделий'!AE6563","v":0},{"$f":"'[14]Список изделий'!AF6563","v":"00:00:00"},{"$f":"'[14]Список изделий'!AY6563","v":0},{"$f":"'[14]Список изделий'!AZ6563","v":"00:00:00"},-43153,-43153,0,0,{"$f":"'[14]Список изделий'!BR6563","v":0},0]
[1382,{"$f":"'[14]Список изделий'!D6645","v":82},{"$f":"'[14]Список изделий'!E6645","v":0},{"$f":"'[14]Список изделий'!F6645","v":0},{"$f":"'[14]Список изделий'!I6645","v":0},{"$f":"'[14]Список изделий'!X6645","v":0},{"$f":"'[14]Список изделий'!Y6645","v":0},{"$f":"'[14]Список изделий'!Z6645","v":0},{"$f":"'[14]Список изделий'!AA6645","v":0},{"$f":"'[14]Список изделий'!AB6645","v":0},{"$f":"'[14]Список изделий'!AC6645","v":"x"},{"$f":"'[14]Список изделий'!AD6645","v":0},{"$f":"'[14]Список изделий'!AE6645","v":0},{"$f":"'[14]Список изделий'!AF6645","v":"00:00:00"},{"$f":"'[14]Список изделий'!AY6645","v":0},{"$f":"'[14]Список изделий'!AZ6645","v":"00:00:00"},-43153,-43153,0,{"$f":"V1384","v":0},{"$f":"'[14]Список изделий'!BR6645","v":0},0]
[1383,{"$f":"'[14]Список изделий'!D6727","v":83},{"$f":"'[14]Список изделий'!E6727","v":0},{"$f":"'[14]Список изделий'!F6727","v":0},{"$f":"'[14]Список изделий'!I6727","v":0},{"$f":"'[14]Список изделий'!X6727","v":0},{"$f":"'[14]Список изделий'!Y6727","v":0},{"$f":"'[14]Список изделий'!Z6727","v":0},{"$f":"'[14]Список изделий'!AA6727","v":0},{"$f":"'[14]Список изделий'!AB6727","v":0},{"$f":"'[14]Список изделий'!AC6727","v":"x"},{"$f":"'[14]Список изделий'!AD6727","v":0},{"$f":"'[14]Список изделий'!AE6727","v":0},{"$f":"'[14]Список изделий'!AF6727","v":"00:00:00"},{"$f":"'[14]Список изделий'!AY6727","v":0},{"$f":"'[14]Список изделий'!AZ6727","v":"00:00:00"},-43153,-43153,0,0,{"$f":"'[14]Список изделий'!BR6727","v":0},0]
[1384,{"$f":"'[14]Список изделий'!D6809","v":84},{"$f":"'[14]Список изделий'!E6809","v":0},{"$f":"'[14]Список изделий'!F6809","v":0},{"$f":"'[14]Список изделий'!I6809","v":0},{"$f":"'[14]Список изделий'!X6809","v":0},{"$f":"'[14]Список изделий'!Y6809","v":0},{"$f":"'[14]Список изделий'!Z6809","v":0},{"$f":"'[14]Список изделий'!AA6809","v":0},{"$f":"'[14]Список изделий'!AB6809","v":0},{"$f":"'[14]Список изделий'!AC6809","v":"x"},{"$f":"'[14]Список изделий'!AD6809","v":0},{"$f":"'[14]Список изделий'!AE6809","v":0},{"$f":"'[14]Список изделий'!AF6809","v":"00:00:00"},{"$f":"'[14]Список изделий'!AY6809","v":0},{"$f":"'[14]Список изделий'!AZ6809","v":"00:00:00"},-43153,-43153,0,0,{"$f":"'[14]Список изделий'!BR6809","v":0},0]
[1385,{"$f":"'[14]Список изделий'!D6891","v":85},{"$f":"'[14]Список изделий'!E6891","v":0},{"$f":"'[14]Список изделий'!F6891","v":0},{"$f":"'[14]Список изделий'!I6891","v":0},{"$f":"'[14]Список изделий'!X6891","v":0},{"$f":"'[14]Список изделий'!Y6891","v":0},{"$f":"'[14]Список изделий'!Z6891","v":0},{"$f":"'[14]Список изделий'!AA6891","v":0},{"$f":"'[14]Список изделий'!AB6891","v":0},{"$f":"'[14]Список изделий'!AC6891","v":"x"},{"$f":"'[14]Список изделий'!AD6891","v":0},{"$f":"'[14]Список изделий'!AE6891","v":0},{"$f":"'[14]Список изделий'!AF6891","v":"00:00:00"},{"$f":"'[14]Список изделий'!AY6891","v":0},{"$f":"'[14]Список изделий'!AZ6891","v":"00:00:00"},-43153,-43153,0,0,{"$f":"'[14]Список изделий'!BR6891","v":0},0]
[1386,{"$f":"'[14]Список изделий'!D6973","v":86},{"$f":"'[14]Список изделий'!E6973","v":0},{"$f":"'[14]Список изделий'!F6973","v":0},{"$f":"'[14]Список изделий'!I6973","v":0},{"$f":"'[14]Список изделий'!X6973","v":0},{"$f":"'[14]Список изделий'!Y6973","v":0},{"$f":"'[14]Список изделий'!Z6973","v":0},{"$f":"'[14]Список изделий'!AA6973","v":0},{"$f":"'[14]Список изделий'!AB6973","v":0},{"$f":"'[14]Список изделий'!AC6973","v":"x"},{"$f":"'[14]Список изделий'!AD6973","v":0},{"$f":"'[14]Список изделий'!AE6973","v":0},{"$f":"'[14]Список изделий'!AF6973","v":"00:00:00"},{"$f":"'[14]Список изделий'!AY6973","v":0},{"$f":"'[14]Список изделий'!AZ6973","v":"00:00:00"},-43153,-43153,0,0,{"$f":"'[14]Список изделий'!BR6973","v":0},0]
[1387,{"$f":"'[14]Список изделий'!D7055","v":87},{"$f":"'[14]Список изделий'!E7055","v":0},{"$f":"'[14]Список изделий'!F7055","v":0},{"$f":"'[14]Список изделий'!I7055","v":0},{"$f":"'[14]Список изделий'!X7055","v":0},{"$f":"'[14]Список изделий'!Y7055","v":0},{"$f":"'[14]Список изделий'!Z7055","v":0},{"$f":"'[14]Список изделий'!AA7055","v":0},{"$f":"'[14]Список изделий'!AB7055","v":0},{"$f":"'[14]Список изделий'!AC7055","v":"x"},{"$f":"'[14]Список изделий'!AD7055","v":0},{"$f":"'[14]Список изделий'!AE7055","v":0},{"$f":"'[14]Список изделий'!AF7055","v":"00:00:00"},{"$f":"'[14]Список изделий'!AY7055","v":0},{"$f":"'[14]Список изделий'!AZ7055","v":"00:00:00"},-43153,-43153,0,0,{"$f":"'[14]Список изделий'!BR7055","v":0},0]
[1388,{"$f":"'[14]Список изделий'!D7137","v":88},{"$f":"'[14]Список изделий'!E7137","v":0},{"$f":"'[14]Список изделий'!F7137","v":0},{"$f":"'[14]Список изделий'!I7137","v":0},{"$f":"'[14]Список изделий'!X7137","v":0},{"$f":"'[14]Список изделий'!Y7137","v":0},{"$f":"'[14]Список изделий'!Z7137","v":0},{"$f":"'[14]Список изделий'!AA7137","v":0},{"$f":"'[14]Список изделий'!AB7137","v":0},{"$f":"'[14]Список изделий'!AC7137","v":"x"},{"$f":"'[14]Список изделий'!AD7137","v":0},{"$f":"'[14]Список изделий'!AE7137","v":0},{"$f":"'[14]Список изделий'!AF7137","v":"00:00:00"},{"$f":"'[14]Список изделий'!AY7137","v":0},{"$f":"'[14]Список изделий'!AZ7137","v":"00:00:00"},-43153,-43153,0,0,{"$f":"'[14]Список изделий'!BR7137","v":0},0]
[1389,{"$f":"'[14]Список изделий'!D7219","v":89},{"$f":"'[14]Список изделий'!E7219","v":0},{"$f":"'[14]Список изделий'!F7219","v":0},{"$f":"'[14]Список изделий'!I7219","v":0},{"$f":"'[14]Список изделий'!X7219","v":0},{"$f":"'[14]Список изделий'!Y7219","v":0},{"$f":"'[14]Список изделий'!Z7219","v":0},{"$f":"'[14]Список изделий'!AA7219","v":0},{"$f":"'[14]Список изделий'!AB7219","v":0},{"$f":"'[14]Список изделий'!AC7219","v":"x"},{"$f":"'[14]Список изделий'!AD7219","v":0},{"$f":"'[14]Список изделий'!AE7219","v":0},{"$f":"'[14]Список изделий'!AF7219","v":"00:00:00"},{"$f":"'[14]Список изделий'!AY7219","v":0},{"$f":"'[14]Список изделий'!AZ7219","v":"00:00:00"},-43153,-43153,0,0,{"$f":"'[14]Список изделий'!BR7219","v":0},0]
[1390,{"$f":"'[14]Список изделий'!D7301","v":90},{"$f":"'[14]Список изделий'!E7301","v":0},{"$f":"'[14]Список изделий'!F7301","v":0},{"$f":"'[14]Список изделий'!I7301","v":0},{"$f":"'[14]Список изделий'!X7301","v":0},{"$f":"'[14]Список изделий'!Y7301","v":0},{"$f":"'[14]Список изделий'!Z7301","v":0},{"$f":"'[14]Список изделий'!AA7301","v":0},{"$f":"'[14]Список изделий'!AB7301","v":0},{"$f":"'[14]Список изделий'!AC7301","v":"x"},{"$f":"'[14]Список изделий'!AD7301","v":0},{"$f":"'[14]Список изделий'!AE7301","v":0},{"$f":"'[14]Список изделий'!AF7301","v":"00:00:00"},{"$f":"'[14]Список изделий'!AY7301","v":0},{"$f":"'[14]Список изделий'!AZ7301","v":"00:00:00"},-43153,-43153,0,0,{"$f":"'[14]Список изделий'!BR7301","v":0},0]
[1391,{"$f":"'[14]Список изделий'!D7383","v":91},{"$f":"'[14]Список изделий'!E7383","v":0},{"$f":"'[14]Список изделий'!F7383","v":0},{"$f":"'[14]Список изделий'!I7383","v":0},{"$f":"'[14]Список изделий'!X7383","v":0},{"$f":"'[14]Список изделий'!Y7383","v":0},{"$f":"'[14]Список изделий'!Z7383","v":0},{"$f":"'[14]Список изделий'!AA7383","v":0},{"$f":"'[14]Список изделий'!AB7383","v":0},{"$f":"'[14]Список изделий'!AC7383","v":"x"},{"$f":"'[14]Список изделий'!AD7383","v":0},{"$f":"'[14]Список изделий'!AE7383","v":0},{"$f":"'[14]Список изделий'!AF7383","v":"00:00:00"},{"$f":"'[14]Список изделий'!AY7383","v":0},{"$f":"'[14]Список изделий'!AZ7383","v":"00:00:00"},-43153,-43153,0,0,{"$f":"'[14]Список изделий'!BR7383","v":0},0]
[1392,{"$f":"'[14]Список изделий'!D7465","v":92},{"$f":"'[14]Список изделий'!E7465","v":0},{"$f":"'[14]Список изделий'!F7465","v":0},{"$f":"'[14]Список изделий'!I7465","v":0},{"$f":"'[14]Список изделий'!X7465","v":0},{"$f":"'[14]Список изделий'!Y7465","v":0},{"$f":"'[14]Список изделий'!Z7465","v":0},{"$f":"'[14]Список изделий'!AA7465","v":0},{"$f":"'[14]Список изделий'!AB7465","v":0},{"$f":"'[14]Список изделий'!AC7465","v":"x"},{"$f":"'[14]Список изделий'!AD7465","v":0},{"$f":"'[14]Список изделий'!AE7465","v":0},{"$f":"'[14]Список изделий'!AF7465","v":"00:00:00"},{"$f":"'[14]Список изделий'!AY7465","v":0},{"$f":"'[14]Список изделий'!AZ7465","v":"00:00:00"},-43153,-43153,0,0,{"$f":"'[14]Список изделий'!BR7465","v":0},0]
[1393,{"$f":"'[14]Список изделий'!D7547","v":93},{"$f":"'[14]Список изделий'!E7547","v":0},{"$f":"'[14]Список изделий'!F7547","v":0},{"$f":"'[14]Список изделий'!I7547","v":0},{"$f":"'[14]Список изделий'!X7547","v":0},{"$f":"'[14]Список изделий'!Y7547","v":0},{"$f":"'[14]Список изделий'!Z7547","v":0},{"$f":"'[14]Список изделий'!AA7547","v":0},{"$f":"'[14]Список изделий'!AB7547","v":0},{"$f":"'[14]Список изделий'!AC7547","v":"x"},{"$f":"'[14]Список изделий'!AD7547","v":0},{"$f":"'[14]Список изделий'!AE7547","v":0},{"$f":"'[14]Список изделий'!AF7547","v":"00:00:00"},{"$f":"'[14]Список изделий'!AY7547","v":0},{"$f":"'[14]Список изделий'!AZ7547","v":"00:00:00"},-43153,-43153,0,0,{"$f":"'[14]Список изделий'!BR7547","v":0},0]
[1394,{"$f":"'[14]Список изделий'!D7629","v":94},{"$f":"'[14]Список изделий'!E7629","v":0},{"$f":"'[14]Список изделий'!F7629","v":0},{"$f":"'[14]Список изделий'!I7629","v":0},{"$f":"'[14]Список изделий'!X7629","v":0},{"$f":"'[14]Список изделий'!Y7629","v":0},{"$f":"'[14]Список изделий'!Z7629","v":0},{"$f":"'[14]Список изделий'!AA7629","v":0},{"$f":"'[14]Список изделий'!AB7629","v":0},{"$f":"'[14]Список изделий'!AC7629","v":"x"},{"$f":"'[14]Список изделий'!AD7629","v":0},{"$f":"'[14]Список изделий'!AE7629","v":0},{"$f":"'[14]Список изделий'!AF7629","v":"00:00:00"},{"$f":"'[14]Список изделий'!AY7629","v":0},{"$f":"'[14]Список изделий'!AZ7629","v":"00:00:00"},-43153,-43153,0,0,{"$f":"'[14]Список изделий'!BR7629","v":0},0]
[1395,{"$f":"'[14]Список изделий'!D7711","v":95},{"$f":"'[14]Список изделий'!E7711","v":0},{"$f":"'[14]Список изделий'!F7711","v":0},{"$f":"'[14]Список изделий'!I7711","v":0},{"$f":"'[14]Список изделий'!X7711","v":0},{"$f":"'[14]Список изделий'!Y7711","v":0},{"$f":"'[14]Список изделий'!Z7711","v":0},{"$f":"'[14]Список изделий'!AA7711","v":0},{"$f":"'[14]Список изделий'!AB7711","v":0},{"$f":"'[14]Список изделий'!AC7711","v":"x"},{"$f":"'[14]Список изделий'!AD7711","v":0},{"$f":"'[14]Список изделий'!AE7711","v":0},{"$f":"'[14]Список изделий'!AF7711","v":"00:00:00"},{"$f":"'[14]Список изделий'!AY7711","v":0},{"$f":"'[14]Список изделий'!AZ7711","v":"00:00:00"},-43153,-43153,0,0,{"$f":"'[14]Список изделий'!BR7711","v":0},0]
[1396,{"$f":"'[14]Список изделий'!D7793","v":96},{"$f":"'[14]Список изделий'!E7793","v":0},{"$f":"'[14]Список изделий'!F7793","v":0},{"$f":"'[14]Список изделий'!I7793","v":0},{"$f":"'[14]Список изделий'!X7793","v":0},{"$f":"'[14]Список изделий'!Y7793","v":0},{"$f":"'[14]Список изделий'!Z7793","v":0},{"$f":"'[14]Список изделий'!AA7793","v":0},{"$f":"'[14]Список изделий'!AB7793","v":0},{"$f":"'[14]Список изделий'!AC7793","v":"x"},{"$f":"'[14]Список изделий'!AD7793","v":0},{"$f":"'[14]Список изделий'!AE7793","v":0},{"$f":"'[14]Список изделий'!AF7793","v":"00:00:00"},{"$f":"'[14]Список изделий'!AY7793","v":0},{"$f":"'[14]Список изделий'!AZ7793","v":"00:00:00"},-43153,-43153,0,0,{"$f":"'[14]Список изделий'!BR7793","v":0},0]
[1397,{"$f":"'[14]Список изделий'!D7875","v":97},{"$f":"'[14]Список изделий'!E7875","v":0},{"$f":"'[14]Список изделий'!F7875","v":0},{"$f":"'[14]Список изделий'!I7875","v":0},{"$f":"'[14]Список изделий'!X7875","v":0},{"$f":"'[14]Список изделий'!Y7875","v":0},{"$f":"'[14]Список изделий'!Z7875","v":0},{"$f":"'[14]Список изделий'!AA7875","v":0},{"$f":"'[14]Список изделий'!AB7875","v":0},{"$f":"'[14]Список изделий'!AC7875","v":"x"},{"$f":"'[14]Список изделий'!AD7875","v":0},{"$f":"'[14]Список изделий'!AE7875","v":0},{"$f":"'[14]Список изделий'!AF7875","v":"00:00:00"},{"$f":"'[14]Список изделий'!AY7875","v":0},{"$f":"'[14]Список изделий'!AZ7875","v":"00:00:00"},-43153,-43153,0,0,{"$f":"'[14]Список изделий'!BR7875","v":0},0]
[1398,{"$f":"'[14]Список изделий'!D7957","v":98},{"$f":"'[14]Список изделий'!E7957","v":0},{"$f":"'[14]Список изделий'!F7957","v":0},{"$f":"'[14]Список изделий'!I7957","v":0},{"$f":"'[14]Список изделий'!X7957","v":0},{"$f":"'[14]Список изделий'!Y7957","v":0},{"$f":"'[14]Список изделий'!Z7957","v":0},{"$f":"'[14]Список изделий'!AA7957","v":0},{"$f":"'[14]Список изделий'!AB7957","v":0},{"$f":"'[14]Список изделий'!AC7957","v":"x"},{"$f":"'[14]Список изделий'!AD7957","v":0},{"$f":"'[14]Список изделий'!AE7957","v":0},{"$f":"'[14]Список изделий'!AF7957","v":"00:00:00"},{"$f":"'[14]Список изделий'!AY7957","v":0},{"$f":"'[14]Список изделий'!AZ7957","v":"00:00:00"},-43153,-43153,0,0,{"$f":"'[14]Список изделий'!BR7957","v":0},0]
[1399,{"$f":"'[14]Список изделий'!D8039","v":99},{"$f":"'[14]Список изделий'!E8039","v":0},{"$f":"'[14]Список изделий'!F8039","v":0},{"$f":"'[14]Список изделий'!I8039","v":0},{"$f":"'[14]Список изделий'!X8039","v":0},{"$f":"'[14]Список изделий'!Y8039","v":0},{"$f":"'[14]Список изделий'!Z8039","v":0},{"$f":"'[14]Список изделий'!AA8039","v":0},{"$f":"'[14]Список изделий'!AB8039","v":0},{"$f":"'[14]Список изделий'!AC8039","v":"x"},{"$f":"'[14]Список изделий'!AD8039","v":0},{"$f":"'[14]Список изделий'!AE8039","v":0},{"$f":"'[14]Список изделий'!AF8039","v":"00:00:00"},{"$f":"'[14]Список изделий'!AY8039","v":0},{"$f":"'[14]Список изделий'!AZ8039","v":"00:00:00"},-43153,-43153,0,0,{"$f":"'[14]Список изделий'!BR8039","v":0},0]
[1400,{"$f":"'[14]Список изделий'!D8121","v":100},{"$f":"'[14]Список изделий'!E8121","v":0},{"$f":"'[14]Список изделий'!F8121","v":0},{"$f":"'[14]Список изделий'!I8121","v":0},{"$f":"'[14]Список изделий'!X8121","v":0},{"$f":"'[14]Список изделий'!Y8121","v":0},{"$f":"'[14]Список изделий'!Z8121","v":0},{"$f":"'[14]Список изделий'!AA8121","v":0},{"$f":"'[14]Список изделий'!AB8121","v":0},{"$f":"'[14]Список изделий'!AC8121","v":"x"},{"$f":"'[14]Список изделий'!AD8121","v":0},{"$f":"'[14]Список изделий'!AE8121","v":0},{"$f":"'[14]Список изделий'!AF8121","v":"00:00:00"},{"$f":"'[14]Список изделий'!AY8121","v":0},{"$f":"'[14]Список изделий'!AZ8121","v":"00:00:00"},-43153,-43153,0,0,{"$f":"'[14]Список изделий'!BR8121","v":0},0]
[1401,{"$f":"'[16]Список изделий'!D3","v":1},{"$f":"'[16]Список изделий'!E3","v":0},{"$f":"'[16]Список изделий'!F3","v":"Фризы настенные односторонние"},{"$f":"'[16]Список изделий'!I3","v":0},{"$f":"'[16]Список изделий'!X3","v":0},{"$f":"'[16]Список изделий'!Y3","v":0},{"$f":"'[16]Список изделий'!Z3","v":0},{"$f":"'[16]Список изделий'!AA3","v":0},{"$f":"'[16]Список изделий'!AB3","v":0},{"$f":"'[16]Список изделий'!AC3","v":0},{"$f":"'[16]Список изделий'!AD3","v":0},{"$f":"'[16]Список изделий'!AE3","v":0},{"$f":"'[16]Список изделий'!AF3","v":"00:00:00"},{"$f":"'[16]Список изделий'!AY3","v":0},{"$f":"'[16]Список изделий'!AZ3","v":"00:00:00"},-43153,-43153,0,0,{"$f":"'[16]Список изделий'!BR3","v":0},0]
[1402,{"$f":"'[16]Список изделий'!D85","v":2},{"$f":"'[16]Список изделий'!E85","v":0},{"$f":"'[16]Список изделий'!F85","v":"Фризы подвесные двухсторонние"},{"$f":"'[16]Список изделий'!I85","v":0},{"$f":"'[16]Список изделий'!X85","v":0},{"$f":"'[16]Список изделий'!Y85","v":0},{"$f":"'[16]Список изделий'!Z85","v":0},{"$f":"'[16]Список изделий'!AA85","v":0},{"$f":"'[16]Список изделий'!AB85","v":0},{"$f":"'[16]Список изделий'!AC85","v":"x"},{"$f":"'[16]Список изделий'!AD85","v":0},{"$f":"'[16]Список изделий'!AE85","v":0},{"$f":"'[16]Список изделий'!AF85","v":"00:00:00"},{"$f":"'[16]Список изделий'!AY85","v":0},{"$f":"'[16]Список изделий'!AZ85","v":"00:00:00"},-43153,-43153,0,0,{"$f":"'[16]Список изделий'!BR85","v":0},0]
[1403,{"$f":"'[16]Список изделий'!D167","v":3},{"$f":"'[16]Список изделий'!E167","v":0},{"$f":"'[16]Список изделий'!F167","v":"Световые вывески клееные"},{"$f":"'[16]Список изделий'!I167","v":0},{"$f":"'[16]Список изделий'!X167","v":0},{"$f":"'[16]Список изделий'!Y167","v":0},{"$f":"'[16]Список изделий'!Z167","v":0},{"$f":"'[16]Список изделий'!AA167","v":0},{"$f":"'[16]Список изделий'!AB167","v":0},{"$f":"'[16]Список изделий'!AC167","v":"x"},{"$f":"'[16]Список изделий'!AD167","v":0},{"$f":"'[16]Список изделий'!AE167","v":0},{"$f":"'[16]Список изделий'!AF167","v":"00:00:00"},{"$f":"'[16]Список изделий'!AY167","v":0},{"$f":"'[16]Список изделий'!AZ167","v":"00:00:00"},-43153,-43153,0,0,{"$f":"'[16]Список изделий'!BR167","v":0},0]
[1404,{"$f":"'[16]Список изделий'!D249","v":4},{"$f":"'[16]Список изделий'!E249","v":0},{"$f":"'[16]Список изделий'!F249","v":"Пиктограммы на стену"},{"$f":"'[16]Список изделий'!I249","v":0},{"$f":"'[16]Список изделий'!X249","v":0},{"$f":"'[16]Список изделий'!Y249","v":0},{"$f":"'[16]Список изделий'!Z249","v":0},{"$f":"'[16]Список изделий'!AA249","v":0},{"$f":"'[16]Список изделий'!AB249","v":0},{"$f":"'[16]Список изделий'!AC249","v":"x"},{"$f":"'[16]Список изделий'!AD249","v":0},{"$f":"'[16]Список изделий'!AE249","v":0},{"$f":"'[16]Список изделий'!AF249","v":"00:00:00"},{"$f":"'[16]Список изделий'!AY249","v":0},{"$f":"'[16]Список изделий'!AZ249","v":"00:00:00"},-43153,-43153,0,0,{"$f":"'[16]Список изделий'!BR249","v":0},0]
[1405,{"$f":"'[16]Список изделий'!D331","v":5},{"$f":"'[16]Список изделий'!E331","v":0},{"$f":"'[16]Список изделий'!F331","v":"Грифельные доски"},{"$f":"'[16]Список изделий'!I331","v":0},{"$f":"'[16]Список изделий'!X331","v":0},{"$f":"'[16]Список изделий'!Y331","v":0},{"$f":"'[16]Список изделий'!Z331","v":0},{"$f":"'[16]Список изделий'!AA331","v":0},{"$f":"'[16]Список изделий'!AB331","v":0},{"$f":"'[16]Список изделий'!AC331","v":"x"},{"$f":"'[16]Список изделий'!AD331","v":0},{"$f":"'[16]Список изделий'!AE331","v":0},{"$f":"'[16]Список изделий'!AF331","v":"00:00:00"},{"$f":"'[16]Список изделий'!AY331","v":0},{"$f":"'[16]Список изделий'!AZ331","v":"00:00:00"},-43153,-43153,0,0,{"$f":"'[16]Список изделий'!BR331","v":0},0]
[1406,{"$f":"'[16]Список изделий'!D413","v":6},{"$f":"'[16]Список изделий'!E413","v":0},{"$f":"'[16]Список изделий'!F413","v":"Стикеры \"Суперцена\" на гриф. Доски (задняя часть)"},{"$f":"'[16]Список изделий'!I413","v":0},{"$f":"'[16]Список изделий'!X413","v":0},{"$f":"'[16]Список изделий'!Y413","v":0},{"$f":"'[16]Список изделий'!Z413","v":0},{"$f":"'[16]Список изделий'!AA413","v":0},{"$f":"'[16]Список изделий'!AB413","v":0},{"$f":"'[16]Список изделий'!AC413","v":"x"},{"$f":"'[16]Список изделий'!AD413","v":0},{"$f":"'[16]Список изделий'!AE413","v":0},{"$f":"'[16]Список изделий'!AF413","v":"00:00:00"},{"$f":"'[16]Список изделий'!AY413","v":0},{"$f":"'[16]Список изделий'!AZ413","v":"00:00:00"},-43153,-43153,0,0,{"$f":"'[16]Список изделий'!BR413","v":0},0]
[1407,{"$f":"'[16]Список изделий'!D495","v":7},{"$f":"'[16]Список изделий'!E495","v":0},{"$f":"'[16]Список изделий'!F495","v":"Потолочные указатели 2хст. 2000х400"},{"$f":"'[16]Список изделий'!I495","v":0},{"$f":"'[16]Список изделий'!X495","v":0},{"$f":"'[16]Список изделий'!Y495","v":0},{"$f":"'[16]Список изделий'!Z495","v":0},{"$f":"'[16]Список изделий'!AA495","v":0},{"$f":"'[16]Список изделий'!AB495","v":0},{"$f":"'[16]Список изделий'!AC495","v":"x"},{"$f":"'[16]Список изделий'!AD495","v":0},{"$f":"'[16]Список изделий'!AE495","v":0},{"$f":"'[16]Список изделий'!AF495","v":"00:00:00"},{"$f":"'[16]Список изделий'!AY495","v":0},{"$f":"'[16]Список изделий'!AZ495","v":"00:00:00"},-43153,-43153,0,0,{"$f":"'[16]Список изделий'!BR495","v":0},0]
[1408,{"$f":"'[16]Список изделий'!D577","v":8},{"$f":"'[16]Список изделий'!E577","v":0},{"$f":"'[16]Список изделий'!F577","v":"Потолочные указатели 2хст. 1500х300"},{"$f":"'[16]Список изделий'!I577","v":0},{"$f":"'[16]Список изделий'!X577","v":0},{"$f":"'[16]Список изделий'!Y577","v":0},{"$f":"'[16]Список изделий'!Z577","v":0},{"$f":"'[16]Список изделий'!AA577","v":0},{"$f":"'[16]Список изделий'!AB577","v":0},{"$f":"'[16]Список изделий'!AC577","v":"x"},{"$f":"'[16]Список изделий'!AD577","v":0},{"$f":"'[16]Список изделий'!AE577","v":0},{"$f":"'[16]Список изделий'!AF577","v":"00:00:00"},{"$f":"'[16]Список изделий'!AY577","v":0},{"$f":"'[16]Список изделий'!AZ577","v":"00:00:00"},-43153,-43153,0,0,{"$f":"'[16]Список изделий'!BR577","v":0},0]
[1409,{"$f":"'[16]Список изделий'!D659","v":9},{"$f":"'[16]Список изделий'!E659","v":0},{"$f":"'[16]Список изделий'!F659","v":"Имиджи"},{"$f":"'[16]Список изделий'!I659","v":0},{"$f":"'[16]Список изделий'!X659","v":0},{"$f":"'[16]Список изделий'!Y659","v":0},{"$f":"'[16]Список изделий'!Z659","v":0},{"$f":"'[16]Список изделий'!AA659","v":0},{"$f":"'[16]Список изделий'!AB659","v":0},{"$f":"'[16]Список изделий'!AC659","v":"x"},{"$f":"'[16]Список изделий'!AD659","v":0},{"$f":"'[16]Список изделий'!AE659","v":0},{"$f":"'[16]Список изделий'!AF659","v":"00:00:00"},{"$f":"'[16]Список изделий'!AY659","v":0},{"$f":"'[16]Список изделий'!AZ659","v":"00:00:00"},-43153,-43153,0,0,{"$f":"'[16]Список изделий'!BR659","v":0},0]
[1410,{"$f":"'[16]Список изделий'!D741","v":10},{"$f":"'[16]Список изделий'!E741","v":0},{"$f":"'[16]Список изделий'!F741","v":"Карман под бумагу А 1. крепление к стене (к-во предварительное)"},{"$f":"'[16]Список изделий'!I741","v":0},{"$f":"'[16]Список изделий'!X741","v":0},{"$f":"'[16]Список изделий'!Y741","v":0},{"$f":"'[16]Список изделий'!Z741","v":0},{"$f":"'[16]Список изделий'!AA741","v":0},{"$f":"'[16]Список изделий'!AB741","v":0},{"$f":"'[16]Список изделий'!AC741","v":"x"},{"$f":"'[16]Список изделий'!AD741","v":0},{"$f":"'[16]Список изделий'!AE741","v":0},{"$f":"'[16]Список изделий'!AF741","v":"00:00:00"},{"$f":"'[16]Список изделий'!AY741","v":0},{"$f":"'[16]Список изделий'!AZ741","v":"00:00:00"},{"$f":"IF(O1412=\"нет в заказе\",\"нет в заказе\",-(TODAY()-(P1412-O1412)))","v":-43153},{"$f":"IF(Q1412=\"нет в заказе\",\"нет взаказе\",-(IF(O1412=\"нет в заказе\",\"нет в заказе\",TODAY()-P1412)))","v":-43153},0,0,{"$f":"'[16]Список изделий'!BR741","v":0},{"$f":"IF(S1412>=0,S1412,IF(T1412>S1412,T1412,S1412))","v":0}]
[1202,{"$f":"'[15]Список изделий'!D4","v":2},{"$f":"'[15]Список изделий'!E4","v":"Перек-Испыт-2"},{"$f":"'[15]Список изделий'!F4","v":"СТАНДАРТ2 - Информационные таблички"},{"$f":"'[15]Список изделий'!I4","v":1},{"$f":"'[15]Список изделий'!X4","v":"ГМА"},{"$f":"'[15]Список изделий'!Y4","v":"Микуло"},{"$f":"'[15]Список изделий'!Z4","v":"Закурдаев"},{"$f":"'[15]Список изделий'!AA4","v":"Замотаев"},{"$f":"'[15]Список изделий'!AB4","v":0},{"$f":"'[15]Список изделий'!AC4","v":"x"},{"$f":"'[15]Список изделий'!AD4","v":0},{"$f":"'[15]Список изделий'!AE4","v":"к-т"},{"$f":"'[15]Список изделий'!AF4","v":"2018-02-27"},{"$f":"'[15]Список изделий'!AY4","v":1},{"$f":"'[15]Список изделий'!AZ4","v":"2018-02-26"},3,4,0,0,{"$f":"'[15]Список изделий'!BR4","v":"\\\\SERVER\\Data1\\П\\Перекресток\\2018\\ТЕХ. ДОКУМЕНТАЦИЯ рабочая\\02-Стандарт_2"},0]
[1203,{"$f":"'[15]Список изделий'!D5","v":3},{"$f":"'[15]Список изделий'!E5","v":"Перек-Испыт-3"},{"$f":"'[15]Список изделий'!F5","v":"3-Разделители в АЛКОГОЛЬ (черные)"},{"$f":"'[15]Список изделий'!I5","v":60},{"$f":"'[15]Список изделий'!X5","v":"ГМА"},{"$f":"'[15]Список изделий'!Y5","v":"Микуло"},{"$f":"'[15]Список изделий'!Z5","v":"Закурдаев"},{"$f":"'[15]Список изделий'!AA5","v":"Замотаев"},{"$f":"'[15]Список изделий'!AB5","v":330},{"$f":"'[15]Список изделий'!AC5","v":"x"},{"$f":"'[15]Список изделий'!AD5","v":200},{"$f":"'[15]Список изделий'!AE5","v":"шт."},{"$f":"'[15]Список изделий'!AF5","v":"2018-02-27"},{"$f":"'[15]Список изделий'!AY5","v":1},{"$f":"'[15]Список изделий'!AZ5","v":"2018-02-26"},3,4,0,0,{"$f":"'[15]Список изделий'!BR5","v":"\\\\SERVER\\Data1\\П\\Перекресток\\2018\\ТЕХ. ДОКУМЕНТАЦИЯ рабочая\\03-Разделители в отдел алкоголя"},0]
[1413,{"$f":"'[16]Список изделий'!D987","v":13},{"$f":"'[16]Список изделий'!E987","v":0},{"$f":"'[16]Список изделий'!F987","v":"Оклейка дверей"},{"$f":"'[16]Список изделий'!I987","v":0},{"$f":"'[16]Список изделий'!X987","v":0},{"$f":"'[16]Список изделий'!Y987","v":0},{"$f":"'[16]Список изделий'!Z987","v":0},{"$f":"'[16]Список изделий'!AA987","v":0},{"$f":"'[16]Список изделий'!AB987","v":0},{"$f":"'[16]Список изделий'!AC987","v":"x"},{"$f":"'[16]Список изделий'!AD987","v":0},{"$f":"'[16]Список изделий'!AE987","v":0},{"$f":"'[16]Список изделий'!AF987","v":"00:00:00"},{"$f":"'[16]Список изделий'!AY987","v":0},{"$f":"'[16]Список изделий'!AZ987","v":"00:00:00"},-43153,-43153,0,0,{"$f":"'[16]Список изделий'!BR987","v":0},0]
[1414,{"$f":"'[16]Список изделий'!D1069","v":14},{"$f":"'[16]Список изделий'!E1069","v":0},{"$f":"'[16]Список изделий'!F1069","v":"Стикеры на боковую часть холодильника Мороженое"},{"$f":"'[16]Список изделий'!I1069","v":0},{"$f":"'[16]Список изделий'!X1069","v":0},{"$f":"'[16]Список изделий'!Y1069","v":0},{"$f":"'[16]Список изделий'!Z1069","v":0},{"$f":"'[16]Список изделий'!AA1069","v":0},{"$f":"'[16]Список изделий'!AB1069","v":0},{"$f":"'[16]Список изделий'!AC1069","v":"x"},{"$f":"'[16]Список изделий'!AD1069","v":0},{"$f":"'[16]Список изделий'!AE1069","v":0},{"$f":"'[16]Список изделий'!AF1069","v":"00:00:00"},{"$f":"'[16]Список изделий'!AY1069","v":0},{"$f":"'[16]Список изделий'!AZ1069","v":"00:00:00"},-43153,-43153,0,0,{"$f":"'[16]Список изделий'!BR1069","v":0},0]
[1415,{"$f":"'[16]Список изделий'!D1151","v":15},{"$f":"'[16]Список изделий'!E1151","v":0},{"$f":"'[16]Список изделий'!F1151","v":"Оклейка Лаваля"},{"$f":"'[16]Список изделий'!I1151","v":0},{"$f":"'[16]Список изделий'!X1151","v":0},{"$f":"'[16]Список изделий'!Y1151","v":0},{"$f":"'[16]Список изделий'!Z1151","v":0},{"$f":"'[16]Список изделий'!AA1151","v":0},{"$f":"'[16]Список изделий'!AB1151","v":0},{"$f":"'[16]Список изделий'!AC1151","v":"x"},{"$f":"'[16]Список изделий'!AD1151","v":0},{"$f":"'[16]Список изделий'!AE1151","v":0},{"$f":"'[16]Список изделий'!AF1151","v":"00:00:00"},{"$f":"'[16]Список изделий'!AY1151","v":0},{"$f":"'[16]Список изделий'!AZ1151","v":"00:00:00"},-43153,-43153,0,0,{"$f":"'[16]Список изделий'!BR1151","v":0},0]
[1416,{"$f":"'[16]Список изделий'!D1233","v":16},{"$f":"'[16]Список изделий'!E1233","v":0},{"$f":"'[16]Список изделий'!F1233","v":"Подготовка поверхности. Очистка, обезжиривание."},{"$f":"'[16]Список изделий'!I1233","v":0},{"$f":"'[16]Список изделий'!X1233","v":0},{"$f":"'[16]Список изделий'!Y1233","v":0},{"$f":"'[16]Список изделий'!Z1233","v":0},{"$f":"'[16]Список изделий'!AA1233","v":0},{"$f":"'[16]Список изделий'!AB1233","v":0},{"$f":"'[16]Список изделий'!AC1233","v":"x"},{"$f":"'[16]Список изделий'!AD1233","v":0},{"$f":"'[16]Список изделий'!AE1233","v":0},{"$f":"'[16]Список изделий'!AF1233","v":"00:00:00"},{"$f":"'[16]Список изделий'!AY1233","v":0},{"$f":"'[16]Список изделий'!AZ1233","v":"00:00:00"},-43153,-43153,0,0,{"$f":"'[16]Список изделий'!BR1233","v":0},0]
[1204,{"$f":"'[15]Список изделий'!D6","v":4},{"$f":"'[15]Список изделий'!E6","v":"Перек-Испыт-4"},{"$f":"'[15]Список изделий'!F6","v":"4-Разделители в АЛКОГОЛЬ"},{"$f":"'[15]Список изделий'!I6","v":60},{"$f":"'[15]Список изделий'!X6","v":"ГМА"},{"$f":"'[15]Список изделий'!Y6","v":"Микуло"},{"$f":"'[15]Список изделий'!Z6","v":"Закурдаев"},{"$f":"'[15]Список изделий'!AA6","v":"Замотаев"},{"$f":"'[15]Список изделий'!AB6","v":200},{"$f":"'[15]Список изделий'!AC6","v":"x"},{"$f":"'[15]Список изделий'!AD6","v":38},{"$f":"'[15]Список изделий'!AE6","v":"шт."},{"$f":"'[15]Список изделий'!AF6","v":"2018-02-27"},{"$f":"'[15]Список изделий'!AY6","v":1},{"$f":"'[15]Список изделий'!AZ6","v":"2018-02-26"},3,4,0,0,{"$f":"'[15]Список изделий'!BR6","v":"\\\\SERVER\\Data1\\П\\Перекресток\\2018\\ТЕХ. ДОКУМЕНТАЦИЯ рабочая\\04-Алкогольные_разделители-200х38"},0]
[1418,{"$f":"'[16]Список изделий'!D1397","v":18},{"$f":"'[16]Список изделий'!E1397","v":0},{"$f":"'[16]Список изделий'!F1397","v":"Стикеры на холодильники (оклейка боковин). Пленка или перфорация с ламинацией"},{"$f":"'[16]Список изделий'!I1397","v":0},{"$f":"'[16]Список изделий'!X1397","v":0},{"$f":"'[16]Список изделий'!Y1397","v":0},{"$f":"'[16]Список изделий'!Z1397","v":0},{"$f":"'[16]Список изделий'!AA1397","v":0},{"$f":"'[16]Список изделий'!AB1397","v":0},{"$f":"'[16]Список изделий'!AC1397","v":"x"},{"$f":"'[16]Список изделий'!AD1397","v":0},{"$f":"'[16]Список изделий'!AE1397","v":0},{"$f":"'[16]Список изделий'!AF1397","v":"00:00:00"},{"$f":"'[16]Список изделий'!AY1397","v":0},{"$f":"'[16]Список изделий'!AZ1397","v":"00:00:00"},-43153,-43153,0,0,{"$f":"'[16]Список изделий'!BR1397","v":"\\\\SERVER\\Data1\\П\\Перекресток\\2018\\МОСКВА_18\\Балаклавский пр. 16А\\Техничка\\18-оклейка_боковин_холодильников"},0]
[1205,{"$f":"'[15]Список изделий'!D7","v":5},{"$f":"'[15]Список изделий'!E7","v":"Перек-Испыт-5"},{"$f":"'[15]Список изделий'!F7","v":"5-Стойка - ПРАЗДНИК  \"Перекресток\" "},{"$f":"'[15]Список изделий'!I7","v":1},{"$f":"'[15]Список изделий'!X7","v":"ГМА"},{"$f":"'[15]Список изделий'!Y7","v":"Микуло"},{"$f":"'[15]Список изделий'!Z7","v":"Закурдаев"},{"$f":"'[15]Список изделий'!AA7","v":"Замотаев"},{"$f":"'[15]Список изделий'!AB7","v":0},{"$f":"'[15]Список изделий'!AC7","v":"x"},{"$f":"'[15]Список изделий'!AD7","v":0},{"$f":"'[15]Список изделий'!AE7","v":"шт."},{"$f":"'[15]Список изделий'!AF7","v":"2018-02-27"},{"$f":"'[15]Список изделий'!AY7","v":1},{"$f":"'[15]Список изделий'!AZ7","v":"2018-02-26"},3,4,0,0,{"$f":"'[15]Список изделий'!BR7","v":"\\\\SERVER\\Data1\\П\\Перекресток\\2018\\ТЕХ. ДОКУМЕНТАЦИЯ рабочая\\05-Стойка_ПРАЗДНИК-Перекресток"},0]
[1420,{"$f":"'[16]Список изделий'!D1561","v":20},{"$f":"'[16]Список изделий'!E1561","v":0},{"$f":"'[16]Список изделий'!F1561","v":"V-обр. делители на морозильную камеру"},{"$f":"'[16]Список изделий'!I1561","v":0},{"$f":"'[16]Список изделий'!X1561","v":0},{"$f":"'[16]Список изделий'!Y1561","v":0},{"$f":"'[16]Список изделий'!Z1561","v":0},{"$f":"'[16]Список изделий'!AA1561","v":0},{"$f":"'[16]Список изделий'!AB1561","v":0},{"$f":"'[16]Список изделий'!AC1561","v":"x"},{"$f":"'[16]Список изделий'!AD1561","v":0},{"$f":"'[16]Список изделий'!AE1561","v":0},{"$f":"'[16]Список изделий'!AF1561","v":"00:00:00"},{"$f":"'[16]Список изделий'!AY1561","v":0},{"$f":"'[16]Список изделий'!AZ1561","v":"00:00:00"},-43153,-43153,0,0,{"$f":"'[16]Список изделий'!BR1561","v":"\\\\SERVER\\Data1\\П\\Перекресток\\2018\\МОСКВА_18\\Балаклавский пр. 16А\\Техничка\\20-V-обр_делители_на_холодильники"},0]
[1206,{"$f":"'[15]Список изделий'!D8","v":6},{"$f":"'[15]Список изделий'!E8","v":"Перек-Испыт-6"},{"$f":"'[15]Список изделий'!F8","v":"6-МЯСНОЙ РАЗРУБ оформление"},{"$f":"'[15]Список изделий'!I8","v":1},{"$f":"'[15]Список изделий'!X8","v":"ГМА"},{"$f":"'[15]Список изделий'!Y8","v":"Микуло"},{"$f":"'[15]Список изделий'!Z8","v":"Закурдаев"},{"$f":"'[15]Список изделий'!AA8","v":"Замотаев"},{"$f":"'[15]Список изделий'!AB8","v":0},{"$f":"'[15]Список изделий'!AC8","v":"x"},{"$f":"'[15]Список изделий'!AD8","v":0},{"$f":"'[15]Список изделий'!AE8","v":"к-т"},{"$f":"'[15]Список изделий'!AF8","v":"2018-02-27"},{"$f":"'[15]Список изделий'!AY8","v":1},{"$f":"'[15]Список изделий'!AZ8","v":"2018-02-26"},3,4,0,0,{"$f":"'[15]Список изделий'!BR8","v":"\\\\SERVER\\Data1\\П\\Перекресток\\2018\\ТЕХ. ДОКУМЕНТАЦИЯ рабочая\\06-Мясной_разруб"},0]
[1422,{"$f":"'[16]Список изделий'!D1725","v":22},{"$f":"'[16]Список изделий'!E1725","v":0},{"$f":"'[16]Список изделий'!F1725","v":"Входной фриз"},{"$f":"'[16]Список изделий'!I1725","v":0},{"$f":"'[16]Список изделий'!X1725","v":0},{"$f":"'[16]Список изделий'!Y1725","v":0},{"$f":"'[16]Список изделий'!Z1725","v":0},{"$f":"'[16]Список изделий'!AA1725","v":0},{"$f":"'[16]Список изделий'!AB1725","v":0},{"$f":"'[16]Список изделий'!AC1725","v":"x"},{"$f":"'[16]Список изделий'!AD1725","v":0},{"$f":"'[16]Список изделий'!AE1725","v":0},{"$f":"'[16]Список изделий'!AF1725","v":"00:00:00"},{"$f":"'[16]Список изделий'!AY1725","v":0},{"$f":"'[16]Список изделий'!AZ1725","v":"00:00:00"},-43153,-43153,0,0,{"$f":"'[16]Список изделий'!BR1725","v":0},0]
[1423,{"$f":"'[16]Список изделий'!D1807","v":23},{"$f":"'[16]Список изделий'!E1807","v":0},{"$f":"'[16]Список изделий'!F1807","v":"Входной фриз закатка обратной стороны"},{"$f":"'[16]Список изделий'!I1807","v":0},{"$f":"'[16]Список изделий'!X1807","v":0},{"$f":"'[16]Список изделий'!Y1807","v":0},{"$f":"'[16]Список изделий'!Z1807","v":0},{"$f":"'[16]Список изделий'!AA1807","v":0},{"$f":"'[16]Список изделий'!AB1807","v":0},{"$f":"'[16]Список изделий'!AC1807","v":"x"},{"$f":"'[16]Список изделий'!AD1807","v":0},{"$f":"'[16]Список изделий'!AE1807","v":0},{"$f":"'[16]Список изделий'!AF1807","v":"00:00:00"},{"$f":"'[16]Список изделий'!AY1807","v":0},{"$f":"'[16]Список изделий'!AZ1807","v":"00:00:00"},-43153,-43153,0,0,{"$f":"'[16]Список изделий'!BR1807","v":0},0]
[1207,{"$f":"'[15]Список изделий'!D9","v":7},{"$f":"'[15]Список изделий'!E9","v":"Перек-Испыт-7"},{"$f":"'[15]Список изделий'!F9","v":"7-БЫСТРО И ВКУСНО оформление отдела"},{"$f":"'[15]Список изделий'!I9","v":1},{"$f":"'[15]Список изделий'!X9","v":"ГМА"},{"$f":"'[15]Список изделий'!Y9","v":"Микуло"},{"$f":"'[15]Список изделий'!Z9","v":"Закурдаев"},{"$f":"'[15]Список изделий'!AA9","v":"Замотаев"},{"$f":"'[15]Список изделий'!AB9","v":0},{"$f":"'[15]Список изделий'!AC9","v":"x"},{"$f":"'[15]Список изделий'!AD9","v":0},{"$f":"'[15]Список изделий'!AE9","v":"к-т"},{"$f":"'[15]Список изделий'!AF9","v":"2018-02-27"},{"$f":"'[15]Список изделий'!AY9","v":1},{"$f":"'[15]Список изделий'!AZ9","v":"2018-02-26"},3,4,0,0,{"$f":"'[15]Список изделий'!BR9","v":"\\\\SERVER\\Data1\\П\\Перекресток\\2018\\ТЕХ. ДОКУМЕНТАЦИЯ рабочая\\07-Быстро_и_вкусно"},0]
[1208,{"$f":"'[15]Список изделий'!D10","v":8},{"$f":"'[15]Список изделий'!E10","v":"Перек-Испыт-8"},{"$f":"'[15]Список изделий'!F10","v":"8-Стикер на заднюю часть прайсдисплея ФРОВ (2 вида - 1комплект)"},{"$f":"'[15]Список изделий'!I10","v":20},{"$f":"'[15]Список изделий'!X10","v":"ГМА"},{"$f":"'[15]Список изделий'!Y10","v":"Микуло"},{"$f":"'[15]Список изделий'!Z10","v":"Закурдаев"},{"$f":"'[15]Список изделий'!AA10","v":"Замотаев"},{"$f":"'[15]Список изделий'!AB10","v":340},{"$f":"'[15]Список изделий'!AC10","v":"x"},{"$f":"'[15]Список изделий'!AD10","v":440},{"$f":"'[15]Список изделий'!AE10","v":"к-т"},{"$f":"'[15]Список изделий'!AF10","v":"2018-02-27"},{"$f":"'[15]Список изделий'!AY10","v":1},{"$f":"'[15]Список изделий'!AZ10","v":"2018-02-26"},3,4,0,0,{"$f":"'[15]Список изделий'!BR10","v":"\\\\SERVER\\Data1\\П\\Перекресток\\2018\\ТЕХ. ДОКУМЕНТАЦИЯ рабочая\\08-Стикер-задник_ПД_ФРОВ"},0]
[1426,{"$f":"'[16]Список изделий'!D2053","v":26},{"$f":"'[16]Список изделий'!E2053","v":0},{"$f":"'[16]Список изделий'!F2053","v":"Оформление Фиксики"},{"$f":"'[16]Список изделий'!I2053","v":0},{"$f":"'[16]Список изделий'!X2053","v":0},{"$f":"'[16]Список изделий'!Y2053","v":0},{"$f":"'[16]Список изделий'!Z2053","v":0},{"$f":"'[16]Список изделий'!AA2053","v":0},{"$f":"'[16]Список изделий'!AB2053","v":0},{"$f":"'[16]Список изделий'!AC2053","v":"x"},{"$f":"'[16]Список изделий'!AD2053","v":0},{"$f":"'[16]Список изделий'!AE2053","v":0},{"$f":"'[16]Список изделий'!AF2053","v":"00:00:00"},{"$f":"'[16]Список изделий'!AY2053","v":0},{"$f":"'[16]Список изделий'!AZ2053","v":"00:00:00"},-43153,-43153,0,0,{"$f":"'[16]Список изделий'!BR2053","v":0},0]
[1411,{"$f":"'[16]Список изделий'!D823","v":11},{"$f":"'[16]Список изделий'!E823","v":"Пер-Колпин-11"},{"$f":"'[16]Список изделий'!F823","v":"Карман круглый двухсторонний (люверс + крючок) (к-во предварительное)"},{"$f":"'[16]Список изделий'!I823","v":18},{"$f":"'[16]Список изделий'!X823","v":"ГМА"},{"$f":"'[16]Список изделий'!Y823","v":"Микуло"},{"$f":"'[16]Список изделий'!Z823","v":"Закурдаев"},{"$f":"'[16]Список изделий'!AA823","v":"Замотаев"},{"$f":"'[16]Список изделий'!AB823","v":0},{"$f":"'[16]Список изделий'!AC823","v":"x"},{"$f":"'[16]Список изделий'!AD823","v":0},{"$f":"'[16]Список изделий'!AE823","v":0},{"$f":"'[16]Список изделий'!AF823","v":"2018-03-10"},{"$f":"'[16]Список изделий'!AY823","v":7},{"$f":"'[16]Список изделий'!AZ823","v":"2018-03-04"},3,10,0,0,{"$f":"'[16]Список изделий'!BR823","v":"\\\\SERVER\\Data1\\П\\Перекресток\\2018\\ТЕХНИЧЕСКАЯ ДОКУМЕНТАЦИЯ\\11-Карман_круглый_двухсторонний_(ПромоКруг)\\Сборка\\Круг_Промо-сборка.cdr"},0]
[1412,{"$f":"'[16]Список изделий'!D905","v":12},{"$f":"'[16]Список изделий'!E905","v":"Пер-Колпин-12"},{"$f":"'[16]Список изделий'!F905","v":"Таблички \"Здесь можно проверить цену\" (комплект 4 шт.) (к-во предварительное)"},{"$f":"'[16]Список изделий'!I905","v":2},{"$f":"'[16]Список изделий'!X905","v":"ГМА"},{"$f":"'[16]Список изделий'!Y905","v":"Микуло"},{"$f":"'[16]Список изделий'!Z905","v":"Закурдаев"},{"$f":"'[16]Список изделий'!AA905","v":"Замотаев"},{"$f":"'[16]Список изделий'!AB905","v":0},{"$f":"'[16]Список изделий'!AC905","v":"x"},{"$f":"'[16]Список изделий'!AD905","v":0},{"$f":"'[16]Список изделий'!AE905","v":0},{"$f":"'[16]Список изделий'!AF905","v":"2018-03-10"},{"$f":"'[16]Список изделий'!AY905","v":7},{"$f":"'[16]Список изделий'!AZ905","v":"2018-03-04"},3,10,0,0,{"$f":"'[16]Список изделий'!BR905","v":0},0]
[1429,{"$f":"'[16]Список изделий'!D2299","v":29},{"$f":"'[16]Список изделий'!E2299","v":0},{"$f":"'[16]Список изделий'!F2299","v":"Фриз стеллажный 2хст. Объемный \"Конфеты\""},{"$f":"'[16]Список изделий'!I2299","v":0},{"$f":"'[16]Список изделий'!X2299","v":0},{"$f":"'[16]Список изделий'!Y2299","v":0},{"$f":"'[16]Список изделий'!Z2299","v":0},{"$f":"'[16]Список изделий'!AA2299","v":0},{"$f":"'[16]Список изделий'!AB2299","v":0},{"$f":"'[16]Список изделий'!AC2299","v":"x"},{"$f":"'[16]Список изделий'!AD2299","v":0},{"$f":"'[16]Список изделий'!AE2299","v":0},{"$f":"'[16]Список изделий'!AF2299","v":"00:00:00"},{"$f":"'[16]Список изделий'!AY2299","v":0},{"$f":"'[16]Список изделий'!AZ2299","v":"00:00:00"},-43153,-43153,0,0,{"$f":"'[16]Список изделий'!BR2299","v":0},0,"\\\\SERVER\\Data1\\П\\Перекресток\\2018\\Липецк\\Техничка\\17-Стикер-задник_ПД_ФРОВ"]
[1417,{"$f":"'[16]Список изделий'!D1315","v":17},{"$f":"'[16]Список изделий'!E1315","v":"Пер-Колпин-17"},{"$f":"'[16]Список изделий'!F1315","v":"Стикер на заднюю часть прайсдисплея ФРОВ (2 вида-комплект)(к-во предварительное)"},{"$f":"'[16]Список изделий'!I1315","v":20},{"$f":"'[16]Список изделий'!X1315","v":"ГМА"},{"$f":"'[16]Список изделий'!Y1315","v":"Микуло"},{"$f":"'[16]Список изделий'!Z1315","v":"Закурдаев"},{"$f":"'[16]Список изделий'!AA1315","v":"Замотаев"},{"$f":"'[16]Список изделий'!AB1315","v":0},{"$f":"'[16]Список изделий'!AC1315","v":"x"},{"$f":"'[16]Список изделий'!AD1315","v":0},{"$f":"'[16]Список изделий'!AE1315","v":0},{"$f":"'[16]Список изделий'!AF1315","v":"2018-03-10"},{"$f":"'[16]Список изделий'!AY1315","v":7},{"$f":"'[16]Список изделий'!AZ1315","v":"2018-03-04"},3,10,0,0,{"$f":"'[16]Список изделий'!BR1315","v":"\\\\SERVER\\Data1\\П\\Перекресток\\2018\\ТЕХНИЧЕСКАЯ ДОКУМЕНТАЦИЯ\\17-Стикер-задник_ПД_ФРОВ\\Сборка\\стикеры_зад_ПД-ФРОВ-сборка.cdr"},0]
[1419,{"$f":"'[16]Список изделий'!D1479","v":19},{"$f":"'[16]Список изделий'!E1479","v":"Пер-Колпин-19"},{"$f":"'[16]Список изделий'!F1479","v":"комплект ПРОТЕУС"},{"$f":"'[16]Список изделий'!I1479","v":1},{"$f":"'[16]Список изделий'!X1479","v":"ГМА"},{"$f":"'[16]Список изделий'!Y1479","v":"Микуло"},{"$f":"'[16]Список изделий'!Z1479","v":"Закурдаев"},{"$f":"'[16]Список изделий'!AA1479","v":"Замотаев"},{"$f":"'[16]Список изделий'!AB1479","v":0},{"$f":"'[16]Список изделий'!AC1479","v":"x"},{"$f":"'[16]Список изделий'!AD1479","v":0},{"$f":"'[16]Список изделий'!AE1479","v":0},{"$f":"'[16]Список изделий'!AF1479","v":"2018-03-10"},{"$f":"'[16]Список изделий'!AY1479","v":7},{"$f":"'[16]Список изделий'!AZ1479","v":"2018-03-04"},3,10,0,0,{"$f":"'[16]Список изделий'!BR1479","v":0},0]
[1432,{"$f":"'[16]Список изделий'!D2545","v":32},{"$f":"'[16]Список изделий'!E2545","v":0},{"$f":"'[16]Список изделий'!F2545","v":"Световая вывеска Клевер Перекресток СУПЕРМАРКЕТ  на входном фризе"},{"$f":"'[16]Список изделий'!I2545","v":0},{"$f":"'[16]Список изделий'!X2545","v":0},{"$f":"'[16]Список изделий'!Y2545","v":0},{"$f":"'[16]Список изделий'!Z2545","v":0},{"$f":"'[16]Список изделий'!AA2545","v":0},{"$f":"'[16]Список изделий'!AB2545","v":0},{"$f":"'[16]Список изделий'!AC2545","v":"x"},{"$f":"'[16]Список изделий'!AD2545","v":0},{"$f":"'[16]Список изделий'!AE2545","v":0},{"$f":"'[16]Список изделий'!AF2545","v":"00:00:00"},{"$f":"'[16]Список изделий'!AY2545","v":0},{"$f":"'[16]Список изделий'!AZ2545","v":"00:00:00"},-43153,-43153,0,0,{"$f":"'[16]Список изделий'!BR2545","v":0},0]
[1433,{"$f":"'[16]Список изделий'!D2627","v":33},{"$f":"'[16]Список изделий'!E2627","v":0},{"$f":"'[16]Список изделий'!F2627","v":"Проектно-конструкторская документация для светового короба"},{"$f":"'[16]Список изделий'!I2627","v":0},{"$f":"'[16]Список изделий'!X2627","v":0},{"$f":"'[16]Список изделий'!Y2627","v":0},{"$f":"'[16]Список изделий'!Z2627","v":0},{"$f":"'[16]Список изделий'!AA2627","v":0},{"$f":"'[16]Список изделий'!AB2627","v":0},{"$f":"'[16]Список изделий'!AC2627","v":"x"},{"$f":"'[16]Список изделий'!AD2627","v":0},{"$f":"'[16]Список изделий'!AE2627","v":0},{"$f":"'[16]Список изделий'!AF2627","v":"00:00:00"},{"$f":"'[16]Список изделий'!AY2627","v":0},{"$f":"'[16]Список изделий'!AZ2627","v":"00:00:00"},-43153,-43153,0,0,{"$f":"'[16]Список изделий'!BR2627","v":0},0]
[1434,{"$f":"'[16]Список изделий'!D2709","v":34},{"$f":"'[16]Список изделий'!E2709","v":0},{"$f":"'[16]Список изделий'!F2709","v":"Электропроект для светового короба"},{"$f":"'[16]Список изделий'!I2709","v":0},{"$f":"'[16]Список изделий'!X2709","v":0},{"$f":"'[16]Список изделий'!Y2709","v":0},{"$f":"'[16]Список изделий'!Z2709","v":0},{"$f":"'[16]Список изделий'!AA2709","v":0},{"$f":"'[16]Список изделий'!AB2709","v":0},{"$f":"'[16]Список изделий'!AC2709","v":"x"},{"$f":"'[16]Список изделий'!AD2709","v":0},{"$f":"'[16]Список изделий'!AE2709","v":0},{"$f":"'[16]Список изделий'!AF2709","v":"00:00:00"},{"$f":"'[16]Список изделий'!AY2709","v":0},{"$f":"'[16]Список изделий'!AZ2709","v":"00:00:00"},-43153,-43153,0,0,{"$f":"'[16]Список изделий'!BR2709","v":0},0]
[1435,{"$f":"'[16]Список изделий'!D2791","v":35},{"$f":"'[16]Список изделий'!E2791","v":0},{"$f":"'[16]Список изделий'!F2791","v":"Баннеры (Праздник 7500х2400) и  (Праздник 570х2400)"},{"$f":"'[16]Список изделий'!I2791","v":0},{"$f":"'[16]Список изделий'!X2791","v":0},{"$f":"'[16]Список изделий'!Y2791","v":0},{"$f":"'[16]Список изделий'!Z2791","v":0},{"$f":"'[16]Список изделий'!AA2791","v":0},{"$f":"'[16]Список изделий'!AB2791","v":0},{"$f":"'[16]Список изделий'!AC2791","v":"x"},{"$f":"'[16]Список изделий'!AD2791","v":0},{"$f":"'[16]Список изделий'!AE2791","v":0},{"$f":"'[16]Список изделий'!AF2791","v":"00:00:00"},{"$f":"'[16]Список изделий'!AY2791","v":0},{"$f":"'[16]Список изделий'!AZ2791","v":"00:00:00"},-43153,-43153,0,0,{"$f":"'[16]Список изделий'!BR2791","v":0},0]
[1421,{"$f":"'[16]Список изделий'!D1643","v":21},{"$f":"'[16]Список изделий'!E1643","v":"Пер-Колпин-21"},{"$f":"'[16]Список изделий'!F1643","v":"Разделители в алкоголь"},{"$f":"'[16]Список изделий'!I1643","v":60},{"$f":"'[16]Список изделий'!X1643","v":"ГМА"},{"$f":"'[16]Список изделий'!Y1643","v":"Микуло"},{"$f":"'[16]Список изделий'!Z1643","v":"Закурдаев"},{"$f":"'[16]Список изделий'!AA1643","v":"Замотаев"},{"$f":"'[16]Список изделий'!AB1643","v":0},{"$f":"'[16]Список изделий'!AC1643","v":"х"},{"$f":"'[16]Список изделий'!AD1643","v":0},{"$f":"'[16]Список изделий'!AE1643","v":0},{"$f":"'[16]Список изделий'!AF1643","v":"2018-03-10"},{"$f":"'[16]Список изделий'!AY1643","v":7},{"$f":"'[16]Список изделий'!AZ1643","v":"2018-03-04"},3,10,0,0,{"$f":"'[16]Список изделий'!BR1643","v":0},0]
[1437,{"$f":"'[16]Список изделий'!D2955","v":37},{"$f":"'[16]Список изделий'!E2955","v":0},{"$f":"'[16]Список изделий'!F2955","v":"Монтаж скайтреков"},{"$f":"'[16]Список изделий'!I2955","v":0},{"$f":"'[16]Список изделий'!X2955","v":0},{"$f":"'[16]Список изделий'!Y2955","v":0},{"$f":"'[16]Список изделий'!Z2955","v":0},{"$f":"'[16]Список изделий'!AA2955","v":0},{"$f":"'[16]Список изделий'!AB2955","v":0},{"$f":"'[16]Список изделий'!AC2955","v":"x"},{"$f":"'[16]Список изделий'!AD2955","v":0},{"$f":"'[16]Список изделий'!AE2955","v":0},{"$f":"'[16]Список изделий'!AF2955","v":"00:00:00"},{"$f":"'[16]Список изделий'!AY2955","v":0},{"$f":"'[16]Список изделий'!AZ2955","v":"00:00:00"},-43153,-43153,0,0,{"$f":"'[16]Список изделий'!BR2955","v":0},0]
[1438,{"$f":"'[16]Список изделий'!D3037","v":38},{"$f":"'[16]Список изделий'!E3037","v":0},{"$f":"'[16]Список изделий'!F3037","v":"Стикер Номер кассы (комплект из 2 шт.)"},{"$f":"'[16]Список изделий'!I3037","v":0},{"$f":"'[16]Список изделий'!X3037","v":0},{"$f":"'[16]Список изделий'!Y3037","v":0},{"$f":"'[16]Список изделий'!Z3037","v":0},{"$f":"'[16]Список изделий'!AA3037","v":0},{"$f":"'[16]Список изделий'!AB3037","v":0},{"$f":"'[16]Список изделий'!AC3037","v":"x"},{"$f":"'[16]Список изделий'!AD3037","v":0},{"$f":"'[16]Список изделий'!AE3037","v":0},{"$f":"'[16]Список изделий'!AF3037","v":"00:00:00"},{"$f":"'[16]Список изделий'!AY3037","v":0},{"$f":"'[16]Список изделий'!AZ3037","v":"00:00:00"},-43153,-43153,0,0,{"$f":"'[16]Список изделий'!BR3037","v":0},0]
[1439,{"$f":"'[16]Список изделий'!D3119","v":39},{"$f":"'[16]Список изделий'!E3119","v":0},{"$f":"'[16]Список изделий'!F3119","v":"Фризы стеллажные \"Хлеб\" плоский двухсторонний"},{"$f":"'[16]Список изделий'!I3119","v":0},{"$f":"'[16]Список изделий'!X3119","v":0},{"$f":"'[16]Список изделий'!Y3119","v":0},{"$f":"'[16]Список изделий'!Z3119","v":0},{"$f":"'[16]Список изделий'!AA3119","v":0},{"$f":"'[16]Список изделий'!AB3119","v":0},{"$f":"'[16]Список изделий'!AC3119","v":"x"},{"$f":"'[16]Список изделий'!AD3119","v":0},{"$f":"'[16]Список изделий'!AE3119","v":0},{"$f":"'[16]Список изделий'!AF3119","v":"00:00:00"},{"$f":"'[16]Список изделий'!AY3119","v":0},{"$f":"'[16]Список изделий'!AZ3119","v":"00:00:00"},-43153,-43153,0,0,{"$f":"'[16]Список изделий'!BR3119","v":0},0]
[1424,{"$f":"'[16]Список изделий'!D1889","v":24},{"$f":"'[16]Список изделий'!E1889","v":"Пер-Колпин-24"},{"$f":"'[16]Список изделий'!F1889","v":"Оформление холодильника Икра"},{"$f":"'[16]Список изделий'!I1889","v":1},{"$f":"'[16]Список изделий'!X1889","v":"ГМА"},{"$f":"'[16]Список изделий'!Y1889","v":"Микуло"},{"$f":"'[16]Список изделий'!Z1889","v":"Закурдаев"},{"$f":"'[16]Список изделий'!AA1889","v":"Замотаев"},{"$f":"'[16]Список изделий'!AB1889","v":0},{"$f":"'[16]Список изделий'!AC1889","v":"x"},{"$f":"'[16]Список изделий'!AD1889","v":0},{"$f":"'[16]Список изделий'!AE1889","v":0},{"$f":"'[16]Список изделий'!AF1889","v":"2018-03-10"},{"$f":"'[16]Список изделий'!AY1889","v":7},{"$f":"'[16]Список изделий'!AZ1889","v":"2018-03-04"},3,10,0,0,{"$f":"'[16]Список изделий'!BR1889","v":"\\\\SERVER\\Data1\\П\\Перекресток\\2018\\МОСКВА_18\\Балаклавский пр. 16А\\Техничка\\24-холодильник_ИКРА"},0]
[1425,{"$f":"'[16]Список изделий'!D1971","v":25},{"$f":"'[16]Список изделий'!E1971","v":"Пер-Колпин-25"},{"$f":"'[16]Список изделий'!F1971","v":"Оформление Мясной Разруб"},{"$f":"'[16]Список изделий'!I1971","v":1},{"$f":"'[16]Список изделий'!X1971","v":"ГМА"},{"$f":"'[16]Список изделий'!Y1971","v":"Микуло"},{"$f":"'[16]Список изделий'!Z1971","v":"Закурдаев"},{"$f":"'[16]Список изделий'!AA1971","v":"Замотаев"},{"$f":"'[16]Список изделий'!AB1971","v":0},{"$f":"'[16]Список изделий'!AC1971","v":"x"},{"$f":"'[16]Список изделий'!AD1971","v":0},{"$f":"'[16]Список изделий'!AE1971","v":0},{"$f":"'[16]Список изделий'!AF1971","v":"2018-03-10"},{"$f":"'[16]Список изделий'!AY1971","v":7},{"$f":"'[16]Список изделий'!AZ1971","v":"2018-03-04"},3,10,1,1,{"$f":"'[16]Список изделий'!BR1971","v":"\\\\SERVER\\Data1\\П\\Перекресток\\2018\\МОСКВА_18\\Балаклавский пр. 16А\\Техничка\\25-Мясной_разруб"},1]
[1427,{"$f":"'[16]Список изделий'!D2135","v":27},{"$f":"'[16]Список изделий'!E2135","v":"Пер-Колпин-27"},{"$f":"'[16]Список изделий'!F2135","v":"Оформление отдела Быстро и вкусно"},{"$f":"'[16]Список изделий'!I2135","v":4},{"$f":"'[16]Список изделий'!X2135","v":"ГМА"},{"$f":"'[16]Список изделий'!Y2135","v":"Микуло"},{"$f":"'[16]Список изделий'!Z2135","v":"Закурдаев"},{"$f":"'[16]Список изделий'!AA2135","v":"Замотаев"},{"$f":"'[16]Список изделий'!AB2135","v":0},{"$f":"'[16]Список изделий'!AC2135","v":"x"},{"$f":"'[16]Список изделий'!AD2135","v":0},{"$f":"'[16]Список изделий'!AE2135","v":0},{"$f":"'[16]Список изделий'!AF2135","v":"2018-03-10"},{"$f":"'[16]Список изделий'!AY2135","v":7},{"$f":"'[16]Список изделий'!AZ2135","v":"2018-03-04"},3,10,0,0,{"$f":"'[16]Список изделий'!BR2135","v":"\\\\SERVER\\Data1\\П\\Перекресток\\2018\\ТЕХНИЧЕСКАЯ ДОКУМЕНТАЦИЯ\\27-Быстро_и_вкусно\\Сборка\\БиВ-комплект.jpg"},0]
[1443,{"$f":"'[16]Список изделий'!D3447","v":43},{"$f":"'[16]Список изделий'!E3447","v":0},{"$f":"'[16]Список изделий'!F3447","v":0},{"$f":"'[16]Список изделий'!I3447","v":0},{"$f":"'[16]Список изделий'!X3447","v":0},{"$f":"'[16]Список изделий'!Y3447","v":0},{"$f":"'[16]Список изделий'!Z3447","v":0},{"$f":"'[16]Список изделий'!AA3447","v":0},{"$f":"'[16]Список изделий'!AB3447","v":0},{"$f":"'[16]Список изделий'!AC3447","v":"x"},{"$f":"'[16]Список изделий'!AD3447","v":0},{"$f":"'[16]Список изделий'!AE3447","v":0},{"$f":"'[16]Список изделий'!AF3447","v":"00:00:00"},{"$f":"'[16]Список изделий'!AY3447","v":0},{"$f":"'[16]Список изделий'!AZ3447","v":"00:00:00"},-43153,-43153,0,0,{"$f":"'[16]Список изделий'!BR3447","v":0},0]
[1428,{"$f":"'[16]Список изделий'!D2217","v":28},{"$f":"'[16]Список изделий'!E2217","v":"Пер-Колпин-28"},{"$f":"'[16]Список изделий'!F2217","v":"Стойка деревянная \"Перекресток\" с крючками"},{"$f":"'[16]Список изделий'!I2217","v":1},{"$f":"'[16]Список изделий'!X2217","v":"ГМА"},{"$f":"'[16]Список изделий'!Y2217","v":"Микуло"},{"$f":"'[16]Список изделий'!Z2217","v":"Закурдаев"},{"$f":"'[16]Список изделий'!AA2217","v":"Замотаев"},{"$f":"'[16]Список изделий'!AB2217","v":0},{"$f":"'[16]Список изделий'!AC2217","v":"x"},{"$f":"'[16]Список изделий'!AD2217","v":0},{"$f":"'[16]Список изделий'!AE2217","v":0},{"$f":"'[16]Список изделий'!AF2217","v":"2018-03-10"},{"$f":"'[16]Список изделий'!AY2217","v":7},{"$f":"'[16]Список изделий'!AZ2217","v":"2018-03-04"},3,10,0,0,{"$f":"'[16]Список изделий'!BR2217","v":0},0]
[1445,{"$f":"'[16]Список изделий'!D3611","v":45},{"$f":"'[16]Список изделий'!E3611","v":0},{"$f":"'[16]Список изделий'!F3611","v":"таблички и стикеры по навигации"},{"$f":"'[16]Список изделий'!I3611","v":0},{"$f":"'[16]Список изделий'!X3611","v":0},{"$f":"'[16]Список изделий'!Y3611","v":0},{"$f":"'[16]Список изделий'!Z3611","v":0},{"$f":"'[16]Список изделий'!AA3611","v":0},{"$f":"'[16]Список изделий'!AB3611","v":0},{"$f":"'[16]Список изделий'!AC3611","v":"x"},{"$f":"'[16]Список изделий'!AD3611","v":0},{"$f":"'[16]Список изделий'!AE3611","v":0},{"$f":"'[16]Список изделий'!AF3611","v":"00:00:00"},{"$f":"'[16]Список изделий'!AY3611","v":0},{"$f":"'[16]Список изделий'!AZ3611","v":"00:00:00"},-43153,-43153,0,0,{"$f":"'[16]Список изделий'!BR3611","v":"\\\\SERVER\\Data1\\П\\Перекресток\\2018\\МОСКВА_18\\Балаклавский пр. 16А\\Техничка\\45-навигация_стикеры_таблички"},0]
[1430,{"$f":"'[16]Список изделий'!D2381","v":30},{"$f":"'[16]Список изделий'!E2381","v":"Пер-Колпин-30"},{"$f":"'[16]Список изделий'!F2381","v":"Оформление отдела Детство"},{"$f":"'[16]Список изделий'!I2381","v":1},{"$f":"'[16]Список изделий'!X2381","v":"ГМА"},{"$f":"'[16]Список изделий'!Y2381","v":"Микуло"},{"$f":"'[16]Список изделий'!Z2381","v":"Закурдаев"},{"$f":"'[16]Список изделий'!AA2381","v":"Замотаев"},{"$f":"'[16]Список изделий'!AB2381","v":0},{"$f":"'[16]Список изделий'!AC2381","v":"x"},{"$f":"'[16]Список изделий'!AD2381","v":0},{"$f":"'[16]Список изделий'!AE2381","v":0},{"$f":"'[16]Список изделий'!AF2381","v":"2018-03-10"},{"$f":"'[16]Список изделий'!AY2381","v":7},{"$f":"'[16]Список изделий'!AZ2381","v":"2018-03-04"},3,10,0,{"$f":"V1448","v":0},{"$f":"'[16]Список изделий'!BR2381","v":0},0]
[1431,{"$f":"'[16]Список изделий'!D2463","v":31},{"$f":"'[16]Список изделий'!E2463","v":"Пер-Колпин-31"},{"$f":"'[16]Список изделий'!F2463","v":"Подвес на 3 кармана в проходы между касс (комплект с пп печатью)"},{"$f":"'[16]Список изделий'!I2463","v":4},{"$f":"'[16]Список изделий'!X2463","v":"ГМА"},{"$f":"'[16]Список изделий'!Y2463","v":"Микуло"},{"$f":"'[16]Список изделий'!Z2463","v":"Закурдаев"},{"$f":"'[16]Список изделий'!AA2463","v":"Замотаев"},{"$f":"'[16]Список изделий'!AB2463","v":0},{"$f":"'[16]Список изделий'!AC2463","v":"x"},{"$f":"'[16]Список изделий'!AD2463","v":0},{"$f":"'[16]Список изделий'!AE2463","v":0},{"$f":"'[16]Список изделий'!AF2463","v":"2018-03-10"},{"$f":"'[16]Список изделий'!AY2463","v":7},{"$f":"'[16]Список изделий'!AZ2463","v":"2018-03-04"},3,10,0,0,{"$f":"'[16]Список изделий'!BR2463","v":0},0]
[1436,{"$f":"'[16]Список изделий'!D2873","v":36},{"$f":"'[16]Список изделий'!E2873","v":"Пер-Колпин-36"},{"$f":"'[16]Список изделий'!F2873","v":"Служебные таблички (комплект)"},{"$f":"'[16]Список изделий'!I2873","v":1},{"$f":"'[16]Список изделий'!X2873","v":"ГМА"},{"$f":"'[16]Список изделий'!Y2873","v":"Микуло"},{"$f":"'[16]Список изделий'!Z2873","v":"Закурдаев"},{"$f":"'[16]Список изделий'!AA2873","v":"Замотаев"},{"$f":"'[16]Список изделий'!AB2873","v":0},{"$f":"'[16]Список изделий'!AC2873","v":"x"},{"$f":"'[16]Список изделий'!AD2873","v":0},{"$f":"'[16]Список изделий'!AE2873","v":0},{"$f":"'[16]Список изделий'!AF2873","v":"2018-03-10"},{"$f":"'[16]Список изделий'!AY2873","v":7},{"$f":"'[16]Список изделий'!AZ2873","v":"2018-03-04"},3,10,0,0,{"$f":"'[16]Список изделий'!BR2873","v":"\\\\SERVER\\Data1\\П\\Перекресток\\2018\\МОСКВА_18\\Балаклавский пр. 16А\\Техничка\\36-Служебные_таблички"},0]
[1440,{"$f":"'[16]Список изделий'!D3201","v":40},{"$f":"'[16]Список изделий'!E3201","v":"Пер-Колпин-40"},{"$f":"'[16]Список изделий'!F3201","v":"Информационные стенды (фото, служебный 7 (2шт), служебный А4-А3)"},{"$f":"'[16]Список изделий'!I3201","v":4},{"$f":"'[16]Список изделий'!X3201","v":"ГМА"},{"$f":"'[16]Список изделий'!Y3201","v":"Микуло"},{"$f":"'[16]Список изделий'!Z3201","v":"Закурдаев"},{"$f":"'[16]Список изделий'!AA3201","v":"Замотаев"},{"$f":"'[16]Список изделий'!AB3201","v":0},{"$f":"'[16]Список изделий'!AC3201","v":"x"},{"$f":"'[16]Список изделий'!AD3201","v":0},{"$f":"'[16]Список изделий'!AE3201","v":0},{"$f":"'[16]Список изделий'!AF3201","v":"2018-03-10"},{"$f":"'[16]Список изделий'!AY3201","v":7},{"$f":"'[16]Список изделий'!AZ3201","v":"2018-03-04"},3,10,0,0,{"$f":"'[16]Список изделий'!BR3201","v":"\\\\SERVER\\Data1\\П\\Перекресток\\2018\\ОКЕЙ_Перекресток\\Колпино Тверская 36_9А\\техничка\\40-Информационные стенды\\Сборка"},0]
[1441,{"$f":"'[16]Список изделий'!D3283","v":41},{"$f":"'[16]Список изделий'!E3283","v":"Пер-Колпин-41"},{"$f":"'[16]Список изделий'!F3283","v":"Табличка \"Весы самообслуживания\" (как взвесить)"},{"$f":"'[16]Список изделий'!I3283","v":4},{"$f":"'[16]Список изделий'!X3283","v":"ГМА"},{"$f":"'[16]Список изделий'!Y3283","v":"Микуло"},{"$f":"'[16]Список изделий'!Z3283","v":"Закурдаев"},{"$f":"'[16]Список изделий'!AA3283","v":"Замотаев"},{"$f":"'[16]Список изделий'!AB3283","v":0},{"$f":"'[16]Список изделий'!AC3283","v":"x"},{"$f":"'[16]Список изделий'!AD3283","v":0},{"$f":"'[16]Список изделий'!AE3283","v":0},{"$f":"'[16]Список изделий'!AF3283","v":"2018-03-10"},{"$f":"'[16]Список изделий'!AY3283","v":7},{"$f":"'[16]Список изделий'!AZ3283","v":"2018-03-04"},3,10,0,0,{"$f":"'[16]Список изделий'!BR3283","v":0},0]
[1451,{"$f":"'[16]Список изделий'!D4103","v":51},{"$f":"'[16]Список изделий'!E4103","v":0},{"$f":"'[16]Список изделий'!F4103","v":"имиджи на колонны"},{"$f":"'[16]Список изделий'!I4103","v":0},{"$f":"'[16]Список изделий'!X4103","v":0},{"$f":"'[16]Список изделий'!Y4103","v":0},{"$f":"'[16]Список изделий'!Z4103","v":0},{"$f":"'[16]Список изделий'!AA4103","v":0},{"$f":"'[16]Список изделий'!AB4103","v":0},{"$f":"'[16]Список изделий'!AC4103","v":"x"},{"$f":"'[16]Список изделий'!AD4103","v":0},{"$f":"'[16]Список изделий'!AE4103","v":0},{"$f":"'[16]Список изделий'!AF4103","v":"00:00:00"},{"$f":"'[16]Список изделий'!AY4103","v":0},{"$f":"'[16]Список изделий'!AZ4103","v":"00:00:00"},-43153,-43153,0,0,{"$f":"'[16]Список изделий'!BR4103","v":0},0]
[1452,{"$f":"'[16]Список изделий'!D4185","v":52},{"$f":"'[16]Список изделий'!E4185","v":0},{"$f":"'[16]Список изделий'!F4185","v":0},{"$f":"'[16]Список изделий'!I4185","v":0},{"$f":"'[16]Список изделий'!X4185","v":0},{"$f":"'[16]Список изделий'!Y4185","v":0},{"$f":"'[16]Список изделий'!Z4185","v":0},{"$f":"'[16]Список изделий'!AA4185","v":0},{"$f":"'[16]Список изделий'!AB4185","v":0},{"$f":"'[16]Список изделий'!AC4185","v":"x"},{"$f":"'[16]Список изделий'!AD4185","v":0},{"$f":"'[16]Список изделий'!AE4185","v":0},{"$f":"'[16]Список изделий'!AF4185","v":"00:00:00"},{"$f":"'[16]Список изделий'!AY4185","v":0},{"$f":"'[16]Список изделий'!AZ4185","v":"00:00:00"},-43153,-43153,0,0,{"$f":"'[16]Список изделий'!BR4185","v":0},0]
[1453,{"$f":"'[16]Список изделий'!D4267","v":53},{"$f":"'[16]Список изделий'!E4267","v":0},{"$f":"'[16]Список изделий'!F4267","v":0},{"$f":"'[16]Список изделий'!I4267","v":0},{"$f":"'[16]Список изделий'!X4267","v":0},{"$f":"'[16]Список изделий'!Y4267","v":0},{"$f":"'[16]Список изделий'!Z4267","v":0},{"$f":"'[16]Список изделий'!AA4267","v":0},{"$f":"'[16]Список изделий'!AB4267","v":0},{"$f":"'[16]Список изделий'!AC4267","v":"x"},{"$f":"'[16]Список изделий'!AD4267","v":0},{"$f":"'[16]Список изделий'!AE4267","v":0},{"$f":"'[16]Список изделий'!AF4267","v":"00:00:00"},{"$f":"'[16]Список изделий'!AY4267","v":0},{"$f":"'[16]Список изделий'!AZ4267","v":"00:00:00"},-43153,-43153,0,0,{"$f":"'[16]Список изделий'!BR4267","v":0},0]
[1454,{"$f":"'[16]Список изделий'!D4349","v":54},{"$f":"'[16]Список изделий'!E4349","v":0},{"$f":"'[16]Список изделий'!F4349","v":"Стикер \"режим работ \" 24 часа"},{"$f":"'[16]Список изделий'!I4349","v":0},{"$f":"'[16]Список изделий'!X4349","v":0},{"$f":"'[16]Список изделий'!Y4349","v":0},{"$f":"'[16]Список изделий'!Z4349","v":0},{"$f":"'[16]Список изделий'!AA4349","v":0},{"$f":"'[16]Список изделий'!AB4349","v":0},{"$f":"'[16]Список изделий'!AC4349","v":"x"},{"$f":"'[16]Список изделий'!AD4349","v":0},{"$f":"'[16]Список изделий'!AE4349","v":0},{"$f":"'[16]Список изделий'!AF4349","v":"00:00:00"},{"$f":"'[16]Список изделий'!AY4349","v":0},{"$f":"'[16]Список изделий'!AZ4349","v":"00:00:00"},-43153,-43153,0,0,{"$f":"'[16]Список изделий'!BR4349","v":0},0]
[1455,{"$f":"'[16]Список изделий'!D4431","v":55},{"$f":"'[16]Список изделий'!E4431","v":0},{"$f":"'[16]Список изделий'!F4431","v":"Табличка \"режим работы\" 24 часа"},{"$f":"'[16]Список изделий'!I4431","v":0},{"$f":"'[16]Список изделий'!X4431","v":0},{"$f":"'[16]Список изделий'!Y4431","v":0},{"$f":"'[16]Список изделий'!Z4431","v":0},{"$f":"'[16]Список изделий'!AA4431","v":0},{"$f":"'[16]Список изделий'!AB4431","v":0},{"$f":"'[16]Список изделий'!AC4431","v":"x"},{"$f":"'[16]Список изделий'!AD4431","v":0},{"$f":"'[16]Список изделий'!AE4431","v":0},{"$f":"'[16]Список изделий'!AF4431","v":"00:00:00"},{"$f":"'[16]Список изделий'!AY4431","v":0},{"$f":"'[16]Список изделий'!AZ4431","v":"00:00:00"},-43153,-43153,0,0,{"$f":"'[16]Список изделий'!BR4431","v":0},0]
[1442,{"$f":"'[16]Список изделий'!D3365","v":42},{"$f":"'[16]Список изделий'!E3365","v":"Пер-Колпин-42"},{"$f":"'[16]Список изделий'!F3365","v":"Табличка Контрольные весы"},{"$f":"'[16]Список изделий'!I3365","v":1},{"$f":"'[16]Список изделий'!X3365","v":"ГМА"},{"$f":"'[16]Список изделий'!Y3365","v":"Микуло"},{"$f":"'[16]Список изделий'!Z3365","v":"Закурдаев"},{"$f":"'[16]Список изделий'!AA3365","v":"Замотаев"},{"$f":"'[16]Список изделий'!AB3365","v":0},{"$f":"'[16]Список изделий'!AC3365","v":"x"},{"$f":"'[16]Список изделий'!AD3365","v":0},{"$f":"'[16]Список изделий'!AE3365","v":0},{"$f":"'[16]Список изделий'!AF3365","v":"2018-03-10"},{"$f":"'[16]Список изделий'!AY3365","v":7},{"$f":"'[16]Список изделий'!AZ3365","v":"2018-03-04"},3,10,0,0,{"$f":"'[16]Список изделий'!BR3365","v":"\\\\SERVER\\Data1\\П\\Перекресток\\2018\\МОСКВА_18\\Балаклавский пр. 16А\\Техничка\\42-Табличка_Контрольные_Весы"},0]
[1444,{"$f":"'[16]Список изделий'!D3529","v":44},{"$f":"'[16]Список изделий'!E3529","v":"Пер-Колпин-44"},{"$f":"'[16]Список изделий'!F3529","v":"Алкогольные разделители 200х38"},{"$f":"'[16]Список изделий'!I3529","v":60},{"$f":"'[16]Список изделий'!X3529","v":"ГМА"},{"$f":"'[16]Список изделий'!Y3529","v":"Микуло"},{"$f":"'[16]Список изделий'!Z3529","v":"Закурдаев"},{"$f":"'[16]Список изделий'!AA3529","v":"Замотаев"},{"$f":"'[16]Список изделий'!AB3529","v":0},{"$f":"'[16]Список изделий'!AC3529","v":"x"},{"$f":"'[16]Список изделий'!AD3529","v":0},{"$f":"'[16]Список изделий'!AE3529","v":0},{"$f":"'[16]Список изделий'!AF3529","v":"2018-03-10"},{"$f":"'[16]Список изделий'!AY3529","v":7},{"$f":"'[16]Список изделий'!AZ3529","v":"2018-03-04"},3,10,0,0,{"$f":"'[16]Список изделий'!BR3529","v":"\\\\SERVER\\Data1\\П\\Перекресток\\2018\\МОСКВА_18\\Балаклавский пр. 16А\\Техничка\\44-Алкогольные_разделители-200х38"},0]
[1446,{"$f":"'[16]Список изделий'!D3693","v":46},{"$f":"'[16]Список изделий'!E3693","v":"Пер-Колпин-46"},{"$f":"'[16]Список изделий'!F3693","v":"Табличка двухст. \"Суперцена\" для подвеса к ценникодержателю ФРОВ"},{"$f":"'[16]Список изделий'!I3693","v":30},{"$f":"'[16]Список изделий'!X3693","v":"ГМА"},{"$f":"'[16]Список изделий'!Y3693","v":"Микуло"},{"$f":"'[16]Список изделий'!Z3693","v":"Закурдаев"},{"$f":"'[16]Список изделий'!AA3693","v":"Замотаев"},{"$f":"'[16]Список изделий'!AB3693","v":0},{"$f":"'[16]Список изделий'!AC3693","v":"x"},{"$f":"'[16]Список изделий'!AD3693","v":0},{"$f":"'[16]Список изделий'!AE3693","v":0},{"$f":"'[16]Список изделий'!AF3693","v":"2018-03-10"},{"$f":"'[16]Список изделий'!AY3693","v":7},{"$f":"'[16]Список изделий'!AZ3693","v":"2018-03-04"},3,10,0,0,{"$f":"'[16]Список изделий'!BR3693","v":0},0]
[1447,{"$f":"'[16]Список изделий'!D3775","v":47},{"$f":"'[16]Список изделий'!E3775","v":"Пер-Колпин-47"},{"$f":"'[16]Список изделий'!F3775","v":"Доска РТО"},{"$f":"'[16]Список изделий'!I3775","v":1},{"$f":"'[16]Список изделий'!X3775","v":"ГМА"},{"$f":"'[16]Список изделий'!Y3775","v":"Микуло"},{"$f":"'[16]Список изделий'!Z3775","v":"Закурдаев"},{"$f":"'[16]Список изделий'!AA3775","v":"Замотаев"},{"$f":"'[16]Список изделий'!AB3775","v":0},{"$f":"'[16]Список изделий'!AC3775","v":"x"},{"$f":"'[16]Список изделий'!AD3775","v":0},{"$f":"'[16]Список изделий'!AE3775","v":0},{"$f":"'[16]Список изделий'!AF3775","v":"2018-03-10"},{"$f":"'[16]Список изделий'!AY3775","v":7},{"$f":"'[16]Список изделий'!AZ3775","v":"2018-03-04"},3,10,0,0,{"$f":"'[16]Список изделий'!BR3775","v":0},0]
[1460,{"$f":"'[16]Список изделий'!D4841","v":60},{"$f":"'[16]Список изделий'!E4841","v":0},{"$f":"'[16]Список изделий'!F4841","v":" Фриз стеллажный объемный. Двухсторонний СУПЕРЦЕНА. Обратная сторона - имитация стелажного фриза Товары для дома Красота уход"},{"$f":"'[16]Список изделий'!I4841","v":0},{"$f":"'[16]Список изделий'!X4841","v":0},{"$f":"'[16]Список изделий'!Y4841","v":0},{"$f":"'[16]Список изделий'!Z4841","v":0},{"$f":"'[16]Список изделий'!AA4841","v":0},{"$f":"'[16]Список изделий'!AB4841","v":0},{"$f":"'[16]Список изделий'!AC4841","v":"x"},{"$f":"'[16]Список изделий'!AD4841","v":0},{"$f":"'[16]Список изделий'!AE4841","v":0},{"$f":"'[16]Список изделий'!AF4841","v":"00:00:00"},{"$f":"'[16]Список изделий'!AY4841","v":0},{"$f":"'[16]Список изделий'!AZ4841","v":"00:00:00"},-43153,-43153,0,0,{"$f":"'[16]Список изделий'!BR4841","v":0},0]
[1448,{"$f":"'[16]Список изделий'!D3857","v":48},{"$f":"'[16]Список изделий'!E3857","v":"Пер-Колпин-48"},{"$f":"'[16]Список изделий'!F3857","v":"Вывеска \"запрещающие знаки\" подвесная двусторонняя"},{"$f":"'[16]Список изделий'!I3857","v":1},{"$f":"'[16]Список изделий'!X3857","v":"ГМА"},{"$f":"'[16]Список изделий'!Y3857","v":"Микуло"},{"$f":"'[16]Список изделий'!Z3857","v":"Закурдаев"},{"$f":"'[16]Список изделий'!AA3857","v":"Замотаев"},{"$f":"'[16]Список изделий'!AB3857","v":0},{"$f":"'[16]Список изделий'!AC3857","v":"x"},{"$f":"'[16]Список изделий'!AD3857","v":0},{"$f":"'[16]Список изделий'!AE3857","v":0},{"$f":"'[16]Список изделий'!AF3857","v":"2018-03-10"},{"$f":"'[16]Список изделий'!AY3857","v":7},{"$f":"'[16]Список изделий'!AZ3857","v":"2018-03-04"},3,10,0,0,{"$f":"'[16]Список изделий'!BR3857","v":0},0,null,null,null,null,"\\\\SERVER\\Data1\\П\\Перекресток\\2018\\Энергетиков 8\\техничка\\22-Входной_фриз"]
[1462,{"$f":"'[16]Список изделий'!D5005","v":62},{"$f":"'[16]Список изделий'!E5005","v":0},{"$f":"'[16]Список изделий'!F5005","v":"Боковины \"Бокалы\" на боковые части энда стеллажа"},{"$f":"'[16]Список изделий'!I5005","v":0},{"$f":"'[16]Список изделий'!X5005","v":0},{"$f":"'[16]Список изделий'!Y5005","v":0},{"$f":"'[16]Список изделий'!Z5005","v":0},{"$f":"'[16]Список изделий'!AA5005","v":0},{"$f":"'[16]Список изделий'!AB5005","v":0},{"$f":"'[16]Список изделий'!AC5005","v":"x"},{"$f":"'[16]Список изделий'!AD5005","v":0},{"$f":"'[16]Список изделий'!AE5005","v":0},{"$f":"'[16]Список изделий'!AF5005","v":"00:00:00"},{"$f":"'[16]Список изделий'!AY5005","v":0},{"$f":"'[16]Список изделий'!AZ5005","v":"00:00:00"},-43153,-43153,0,0,{"$f":"'[16]Список изделий'!BR5005","v":0},0]
[1463,{"$f":"'[16]Список изделий'!D5087","v":63},{"$f":"'[16]Список изделий'!E5087","v":0},{"$f":"'[16]Список изделий'!F5087","v":"Стикер заморозка в холодильники"},{"$f":"'[16]Список изделий'!I5087","v":0},{"$f":"'[16]Список изделий'!X5087","v":0},{"$f":"'[16]Список изделий'!Y5087","v":0},{"$f":"'[16]Список изделий'!Z5087","v":0},{"$f":"'[16]Список изделий'!AA5087","v":0},{"$f":"'[16]Список изделий'!AB5087","v":0},{"$f":"'[16]Список изделий'!AC5087","v":"x"},{"$f":"'[16]Список изделий'!AD5087","v":0},{"$f":"'[16]Список изделий'!AE5087","v":0},{"$f":"'[16]Список изделий'!AF5087","v":"00:00:00"},{"$f":"'[16]Список изделий'!AY5087","v":0},{"$f":"'[16]Список изделий'!AZ5087","v":"00:00:00"},-43153,-43153,0,0,{"$f":"'[16]Список изделий'!BR5087","v":0},0]
[1464,{"$f":"'[16]Список изделий'!D5169","v":64},{"$f":"'[16]Список изделий'!E5169","v":0},{"$f":"'[16]Список изделий'!F5169","v":"Оклейка витрин плоттерная резка (Паттерны)"},{"$f":"'[16]Список изделий'!I5169","v":0},{"$f":"'[16]Список изделий'!X5169","v":0},{"$f":"'[16]Список изделий'!Y5169","v":0},{"$f":"'[16]Список изделий'!Z5169","v":0},{"$f":"'[16]Список изделий'!AA5169","v":0},{"$f":"'[16]Список изделий'!AB5169","v":0},{"$f":"'[16]Список изделий'!AC5169","v":"x"},{"$f":"'[16]Список изделий'!AD5169","v":0},{"$f":"'[16]Список изделий'!AE5169","v":0},{"$f":"'[16]Список изделий'!AF5169","v":"00:00:00"},{"$f":"'[16]Список изделий'!AY5169","v":0},{"$f":"'[16]Список изделий'!AZ5169","v":"00:00:00"},-43153,-43153,0,0,{"$f":"'[16]Список изделий'!BR5169","v":0},0]
[1465,{"$f":"'[16]Список изделий'!D5251","v":65},{"$f":"'[16]Список изделий'!E5251","v":0},{"$f":"'[16]Список изделий'!F5251","v":"Для витрин конструкция \"Суперцена\" 2хст. (из двух односторонних)"},{"$f":"'[16]Список изделий'!I5251","v":0},{"$f":"'[16]Список изделий'!X5251","v":0},{"$f":"'[16]Список изделий'!Y5251","v":0},{"$f":"'[16]Список изделий'!Z5251","v":0},{"$f":"'[16]Список изделий'!AA5251","v":0},{"$f":"'[16]Список изделий'!AB5251","v":0},{"$f":"'[16]Список изделий'!AC5251","v":"x"},{"$f":"'[16]Список изделий'!AD5251","v":0},{"$f":"'[16]Список изделий'!AE5251","v":0},{"$f":"'[16]Список изделий'!AF5251","v":"00:00:00"},{"$f":"'[16]Список изделий'!AY5251","v":0},{"$f":"'[16]Список изделий'!AZ5251","v":"00:00:00"},-43153,-43153,0,0,{"$f":"'[16]Список изделий'!BR5251","v":0},0]
[1466,{"$f":"'[16]Список изделий'!D5333","v":66},{"$f":"'[16]Список изделий'!E5333","v":0},{"$f":"'[16]Список изделий'!F5333","v":"Оформление витрин имиджи двухсторонние"},{"$f":"'[16]Список изделий'!I5333","v":0},{"$f":"'[16]Список изделий'!X5333","v":0},{"$f":"'[16]Список изделий'!Y5333","v":0},{"$f":"'[16]Список изделий'!Z5333","v":0},{"$f":"'[16]Список изделий'!AA5333","v":0},{"$f":"'[16]Список изделий'!AB5333","v":0},{"$f":"'[16]Список изделий'!AC5333","v":"x"},{"$f":"'[16]Список изделий'!AD5333","v":0},{"$f":"'[16]Список изделий'!AE5333","v":0},{"$f":"'[16]Список изделий'!AF5333","v":"00:00:00"},{"$f":"'[16]Список изделий'!AY5333","v":0},{"$f":"'[16]Список изделий'!AZ5333","v":"00:00:00"},-43153,-43153,0,0,{"$f":"'[16]Список изделий'!BR5333","v":0},0]
[1467,{"$f":"'[16]Список изделий'!D5415","v":67},{"$f":"'[16]Список изделий'!E5415","v":0},{"$f":"'[16]Список изделий'!F5415","v":"Фриз стеллажный \"Шапка\" - Восточные сладости (комплект из 3х частей)"},{"$f":"'[16]Список изделий'!I5415","v":0},{"$f":"'[16]Список изделий'!X5415","v":0},{"$f":"'[16]Список изделий'!Y5415","v":0},{"$f":"'[16]Список изделий'!Z5415","v":0},{"$f":"'[16]Список изделий'!AA5415","v":0},{"$f":"'[16]Список изделий'!AB5415","v":0},{"$f":"'[16]Список изделий'!AC5415","v":"x"},{"$f":"'[16]Список изделий'!AD5415","v":0},{"$f":"'[16]Список изделий'!AE5415","v":0},{"$f":"'[16]Список изделий'!AF5415","v":"00:00:00"},{"$f":"'[16]Список изделий'!AY5415","v":0},{"$f":"'[16]Список изделий'!AZ5415","v":"00:00:00"},-43153,-43153,0,0,{"$f":"'[16]Список изделий'!BR5415","v":0},0]
[1468,{"$f":"'[16]Список изделий'!D5497","v":68},{"$f":"'[16]Список изделий'!E5497","v":0},{"$f":"'[16]Список изделий'!F5497","v":"Оформлениие Фермерского Уголка"},{"$f":"'[16]Список изделий'!I5497","v":0},{"$f":"'[16]Список изделий'!X5497","v":0},{"$f":"'[16]Список изделий'!Y5497","v":0},{"$f":"'[16]Список изделий'!Z5497","v":0},{"$f":"'[16]Список изделий'!AA5497","v":0},{"$f":"'[16]Список изделий'!AB5497","v":0},{"$f":"'[16]Список изделий'!AC5497","v":"x"},{"$f":"'[16]Список изделий'!AD5497","v":0},{"$f":"'[16]Список изделий'!AE5497","v":0},{"$f":"'[16]Список изделий'!AF5497","v":"00:00:00"},{"$f":"'[16]Список изделий'!AY5497","v":0},{"$f":"'[16]Список изделий'!AZ5497","v":"00:00:00"},-43153,-43153,0,0,{"$f":"'[16]Список изделий'!BR5497","v":0},0]
[1469,{"$f":"'[16]Список изделий'!D5579","v":69},{"$f":"'[16]Список изделий'!E5579","v":0},{"$f":"'[16]Список изделий'!F5579","v":"Фриз стеллажный \"Шапка\" - Наша марка (разная комплектащия)"},{"$f":"'[16]Список изделий'!I5579","v":0},{"$f":"'[16]Список изделий'!X5579","v":0},{"$f":"'[16]Список изделий'!Y5579","v":0},{"$f":"'[16]Список изделий'!Z5579","v":0},{"$f":"'[16]Список изделий'!AA5579","v":0},{"$f":"'[16]Список изделий'!AB5579","v":0},{"$f":"'[16]Список изделий'!AC5579","v":"x"},{"$f":"'[16]Список изделий'!AD5579","v":0},{"$f":"'[16]Список изделий'!AE5579","v":0},{"$f":"'[16]Список изделий'!AF5579","v":"00:00:00"},{"$f":"'[16]Список изделий'!AY5579","v":0},{"$f":"'[16]Список изделий'!AZ5579","v":"00:00:00"},-43153,-43153,0,0,{"$f":"'[16]Список изделий'!BR5579","v":0},0]
[1470,{"$f":"'[16]Список изделий'!D5661","v":70},{"$f":"'[16]Список изделий'!E5661","v":0},{"$f":"'[16]Список изделий'!F5661","v":"Подвес 2хст. В Bistro \"Перекуси в Перекрестке\""},{"$f":"'[16]Список изделий'!I5661","v":0},{"$f":"'[16]Список изделий'!X5661","v":0},{"$f":"'[16]Список изделий'!Y5661","v":0},{"$f":"'[16]Список изделий'!Z5661","v":0},{"$f":"'[16]Список изделий'!AA5661","v":0},{"$f":"'[16]Список изделий'!AB5661","v":0},{"$f":"'[16]Список изделий'!AC5661","v":"x"},{"$f":"'[16]Список изделий'!AD5661","v":0},{"$f":"'[16]Список изделий'!AE5661","v":0},{"$f":"'[16]Список изделий'!AF5661","v":"00:00:00"},{"$f":"'[16]Список изделий'!AY5661","v":0},{"$f":"'[16]Список изделий'!AZ5661","v":"00:00:00"},-43153,-43153,0,0,{"$f":"'[16]Список изделий'!BR5661","v":0},0]
[1471,{"$f":"'[16]Список изделий'!D5743","v":71},{"$f":"'[16]Список изделий'!E5743","v":0},{"$f":"'[16]Список изделий'!F5743","v":"Вывеска световая клееная \"КАФЕ BISTRO CAFE\""},{"$f":"'[16]Список изделий'!I5743","v":0},{"$f":"'[16]Список изделий'!X5743","v":0},{"$f":"'[16]Список изделий'!Y5743","v":0},{"$f":"'[16]Список изделий'!Z5743","v":0},{"$f":"'[16]Список изделий'!AA5743","v":0},{"$f":"'[16]Список изделий'!AB5743","v":0},{"$f":"'[16]Список изделий'!AC5743","v":"x"},{"$f":"'[16]Список изделий'!AD5743","v":0},{"$f":"'[16]Список изделий'!AE5743","v":0},{"$f":"'[16]Список изделий'!AF5743","v":"00:00:00"},{"$f":"'[16]Список изделий'!AY5743","v":0},{"$f":"'[16]Список изделий'!AZ5743","v":"00:00:00"},-43153,-43153,0,0,{"$f":"'[16]Список изделий'!BR5743","v":0},0]
[1472,{"$f":"'[16]Список изделий'!D5825","v":72},{"$f":"'[16]Список изделий'!E5825","v":0},{"$f":"'[16]Список изделий'!F5825","v":"Плоская эмблема комплект (Ложки, Бургер, Чашка)"},{"$f":"'[16]Список изделий'!I5825","v":0},{"$f":"'[16]Список изделий'!X5825","v":0},{"$f":"'[16]Список изделий'!Y5825","v":0},{"$f":"'[16]Список изделий'!Z5825","v":0},{"$f":"'[16]Список изделий'!AA5825","v":0},{"$f":"'[16]Список изделий'!AB5825","v":0},{"$f":"'[16]Список изделий'!AC5825","v":"x"},{"$f":"'[16]Список изделий'!AD5825","v":0},{"$f":"'[16]Список изделий'!AE5825","v":0},{"$f":"'[16]Список изделий'!AF5825","v":"00:00:00"},{"$f":"'[16]Список изделий'!AY5825","v":0},{"$f":"'[16]Список изделий'!AZ5825","v":"00:00:00"},-43153,-43153,0,0,{"$f":"'[16]Список изделий'!BR5825","v":0},0]
[1473,{"$f":"'[16]Список изделий'!D5907","v":73},{"$f":"'[16]Список изделий'!E5907","v":0},{"$f":"'[16]Список изделий'!F5907","v":"Подвес 2хст. В Bistro \"Тарелки/Стол с чашками\""},{"$f":"'[16]Список изделий'!I5907","v":0},{"$f":"'[16]Список изделий'!X5907","v":0},{"$f":"'[16]Список изделий'!Y5907","v":0},{"$f":"'[16]Список изделий'!Z5907","v":0},{"$f":"'[16]Список изделий'!AA5907","v":0},{"$f":"'[16]Список изделий'!AB5907","v":0},{"$f":"'[16]Список изделий'!AC5907","v":"x"},{"$f":"'[16]Список изделий'!AD5907","v":0},{"$f":"'[16]Список изделий'!AE5907","v":0},{"$f":"'[16]Список изделий'!AF5907","v":"00:00:00"},{"$f":"'[16]Список изделий'!AY5907","v":0},{"$f":"'[16]Список изделий'!AZ5907","v":"00:00:00"},-43153,-43153,0,0,{"$f":"'[16]Список изделий'!BR5907","v":0},0]
[1474,{"$f":"'[16]Список изделий'!D5989","v":74},{"$f":"'[16]Список изделий'!E5989","v":0},{"$f":"'[16]Список изделий'!F5989","v":"Подвес 2хст. В Bistro \"Присесть- поесть\""},{"$f":"'[16]Список изделий'!I5989","v":0},{"$f":"'[16]Список изделий'!X5989","v":0},{"$f":"'[16]Список изделий'!Y5989","v":0},{"$f":"'[16]Список изделий'!Z5989","v":0},{"$f":"'[16]Список изделий'!AA5989","v":0},{"$f":"'[16]Список изделий'!AB5989","v":0},{"$f":"'[16]Список изделий'!AC5989","v":"x"},{"$f":"'[16]Список изделий'!AD5989","v":0},{"$f":"'[16]Список изделий'!AE5989","v":0},{"$f":"'[16]Список изделий'!AF5989","v":"00:00:00"},{"$f":"'[16]Список изделий'!AY5989","v":0},{"$f":"'[16]Список изделий'!AZ5989","v":"00:00:00"},{"$f":"IF(O1476=\"нет в заказе\",\"нет в заказе\",-(TODAY()-(P1476-O1476)))","v":-43153},{"$f":"IF(Q1476=\"нет в заказе\",\"нет взаказе\",-(IF(O1476=\"нет в заказе\",\"нет в заказе\",TODAY()-P1476)))","v":-43153},0,0,{"$f":"'[16]Список изделий'!BR5989","v":0},{"$f":"IF(S1476>=0,S1476,IF(T1476>S1476,T1476,S1476))","v":0}]
[1475,{"$f":"'[16]Список изделий'!D6071","v":75},{"$f":"'[16]Список изделий'!E6071","v":0},{"$f":"'[16]Список изделий'!F6071","v":"Световой короб круглый подвесной одност. \"BISTRO\" в витрину"},{"$f":"'[16]Список изделий'!I6071","v":0},{"$f":"'[16]Список изделий'!X6071","v":0},{"$f":"'[16]Список изделий'!Y6071","v":0},{"$f":"'[16]Список изделий'!Z6071","v":0},{"$f":"'[16]Список изделий'!AA6071","v":0},{"$f":"'[16]Список изделий'!AB6071","v":0},{"$f":"'[16]Список изделий'!AC6071","v":"x"},{"$f":"'[16]Список изделий'!AD6071","v":0},{"$f":"'[16]Список изделий'!AE6071","v":0},{"$f":"'[16]Список изделий'!AF6071","v":"00:00:00"},{"$f":"'[16]Список изделий'!AY6071","v":0},{"$f":"'[16]Список изделий'!AZ6071","v":"00:00:00"},-43153,-43153,0,0,{"$f":"'[16]Список изделий'!BR6071","v":0},0]
[1449,{"$f":"'[16]Список изделий'!D3939","v":49},{"$f":"'[16]Список изделий'!E3939","v":"Пер-Колпин-49"},{"$f":"'[16]Список изделий'!F3939","v":"Вывеска \"камеры хранения\""},{"$f":"'[16]Список изделий'!I3939","v":1},{"$f":"'[16]Список изделий'!X3939","v":"ГМА"},{"$f":"'[16]Список изделий'!Y3939","v":"Микуло"},{"$f":"'[16]Список изделий'!Z3939","v":"Закурдаев"},{"$f":"'[16]Список изделий'!AA3939","v":"Замотаев"},{"$f":"'[16]Список изделий'!AB3939","v":0},{"$f":"'[16]Список изделий'!AC3939","v":"x"},{"$f":"'[16]Список изделий'!AD3939","v":0},{"$f":"'[16]Список изделий'!AE3939","v":0},{"$f":"'[16]Список изделий'!AF3939","v":"2018-03-10"},{"$f":"'[16]Список изделий'!AY3939","v":7},{"$f":"'[16]Список изделий'!AZ3939","v":"2018-03-04"},3,10,0,0,{"$f":"'[16]Список изделий'!BR3939","v":0},0]
[1450,{"$f":"'[16]Список изделий'!D4021","v":50},{"$f":"'[16]Список изделий'!E4021","v":"Пер-Колпин-50"},{"$f":"'[16]Список изделий'!F4021","v":"Вывеска \"Улыбнитесь\" двухсторонняя подвесная"},{"$f":"'[16]Список изделий'!I4021","v":2},{"$f":"'[16]Список изделий'!X4021","v":"ГМА"},{"$f":"'[16]Список изделий'!Y4021","v":"Микуло"},{"$f":"'[16]Список изделий'!Z4021","v":"Закурдаев"},{"$f":"'[16]Список изделий'!AA4021","v":"Замотаев"},{"$f":"'[16]Список изделий'!AB4021","v":0},{"$f":"'[16]Список изделий'!AC4021","v":"x"},{"$f":"'[16]Список изделий'!AD4021","v":0},{"$f":"'[16]Список изделий'!AE4021","v":0},{"$f":"'[16]Список изделий'!AF4021","v":"2018-03-10"},{"$f":"'[16]Список изделий'!AY4021","v":7},{"$f":"'[16]Список изделий'!AZ4021","v":"2018-03-04"},3,10,0,0,{"$f":"'[16]Список изделий'!BR4021","v":0},0]
[1478,{"$f":"'[16]Список изделий'!D6317","v":78},{"$f":"'[16]Список изделий'!E6317","v":0},{"$f":"'[16]Список изделий'!F6317","v":0},{"$f":"'[16]Список изделий'!I6317","v":0},{"$f":"'[16]Список изделий'!X6317","v":0},{"$f":"'[16]Список изделий'!Y6317","v":0},{"$f":"'[16]Список изделий'!Z6317","v":0},{"$f":"'[16]Список изделий'!AA6317","v":0},{"$f":"'[16]Список изделий'!AB6317","v":0},{"$f":"'[16]Список изделий'!AC6317","v":"x"},{"$f":"'[16]Список изделий'!AD6317","v":0},{"$f":"'[16]Список изделий'!AE6317","v":0},{"$f":"'[16]Список изделий'!AF6317","v":"00:00:00"},{"$f":"'[16]Список изделий'!AY6317","v":0},{"$f":"'[16]Список изделий'!AZ6317","v":"00:00:00"},-43153,-43153,0,0,{"$f":"'[16]Список изделий'!BR6317","v":0},0]
[1479,{"$f":"'[16]Список изделий'!D6399","v":79},{"$f":"'[16]Список изделий'!E6399","v":0},{"$f":"'[16]Список изделий'!F6399","v":0},{"$f":"'[16]Список изделий'!I6399","v":0},{"$f":"'[16]Список изделий'!X6399","v":0},{"$f":"'[16]Список изделий'!Y6399","v":0},{"$f":"'[16]Список изделий'!Z6399","v":0},{"$f":"'[16]Список изделий'!AA6399","v":0},{"$f":"'[16]Список изделий'!AB6399","v":0},{"$f":"'[16]Список изделий'!AC6399","v":"x"},{"$f":"'[16]Список изделий'!AD6399","v":0},{"$f":"'[16]Список изделий'!AE6399","v":0},{"$f":"'[16]Список изделий'!AF6399","v":"00:00:00"},{"$f":"'[16]Список изделий'!AY6399","v":0},{"$f":"'[16]Список изделий'!AZ6399","v":"00:00:00"},-43153,-43153,0,0,{"$f":"'[16]Список изделий'!BR6399","v":0},0]
[1480,{"$f":"'[16]Список изделий'!D6481","v":80},{"$f":"'[16]Список изделий'!E6481","v":0},{"$f":"'[16]Список изделий'!F6481","v":0},{"$f":"'[16]Список изделий'!I6481","v":0},{"$f":"'[16]Список изделий'!X6481","v":0},{"$f":"'[16]Список изделий'!Y6481","v":0},{"$f":"'[16]Список изделий'!Z6481","v":0},{"$f":"'[16]Список изделий'!AA6481","v":0},{"$f":"'[16]Список изделий'!AB6481","v":0},{"$f":"'[16]Список изделий'!AC6481","v":"x"},{"$f":"'[16]Список изделий'!AD6481","v":0},{"$f":"'[16]Список изделий'!AE6481","v":0},{"$f":"'[16]Список изделий'!AF6481","v":"00:00:00"},{"$f":"'[16]Список изделий'!AY6481","v":0},{"$f":"'[16]Список изделий'!AZ6481","v":"00:00:00"},-43153,-43153,0,0,{"$f":"'[16]Список изделий'!BR6481","v":0},0]
[1481,{"$f":"'[16]Список изделий'!D6563","v":81},{"$f":"'[16]Список изделий'!E6563","v":0},{"$f":"'[16]Список изделий'!F6563","v":0},{"$f":"'[16]Список изделий'!I6563","v":0},{"$f":"'[16]Список изделий'!X6563","v":0},{"$f":"'[16]Список изделий'!Y6563","v":0},{"$f":"'[16]Список изделий'!Z6563","v":0},{"$f":"'[16]Список изделий'!AA6563","v":0},{"$f":"'[16]Список изделий'!AB6563","v":0},{"$f":"'[16]Список изделий'!AC6563","v":"x"},{"$f":"'[16]Список изделий'!AD6563","v":0},{"$f":"'[16]Список изделий'!AE6563","v":0},{"$f":"'[16]Список изделий'!AF6563","v":"00:00:00"},{"$f":"'[16]Список изделий'!AY6563","v":0},{"$f":"'[16]Список изделий'!AZ6563","v":"00:00:00"},-43153,-43153,0,0,{"$f":"'[16]Список изделий'!BR6563","v":0},0]
[1482,{"$f":"'[16]Список изделий'!D6645","v":82},{"$f":"'[16]Список изделий'!E6645","v":0},{"$f":"'[16]Список изделий'!F6645","v":0},{"$f":"'[16]Список изделий'!I6645","v":0},{"$f":"'[16]Список изделий'!X6645","v":0},{"$f":"'[16]Список изделий'!Y6645","v":0},{"$f":"'[16]Список изделий'!Z6645","v":0},{"$f":"'[16]Список изделий'!AA6645","v":0},{"$f":"'[16]Список изделий'!AB6645","v":0},{"$f":"'[16]Список изделий'!AC6645","v":"x"},{"$f":"'[16]Список изделий'!AD6645","v":0},{"$f":"'[16]Список изделий'!AE6645","v":0},{"$f":"'[16]Список изделий'!AF6645","v":"00:00:00"},{"$f":"'[16]Список изделий'!AY6645","v":0},{"$f":"'[16]Список изделий'!AZ6645","v":"00:00:00"},-43153,-43153,0,0,{"$f":"'[16]Список изделий'!BR6645","v":0},0]
[1483,{"$f":"'[16]Список изделий'!D6727","v":83},{"$f":"'[16]Список изделий'!E6727","v":0},{"$f":"'[16]Список изделий'!F6727","v":0},{"$f":"'[16]Список изделий'!I6727","v":0},{"$f":"'[16]Список изделий'!X6727","v":0},{"$f":"'[16]Список изделий'!Y6727","v":0},{"$f":"'[16]Список изделий'!Z6727","v":0},{"$f":"'[16]Список изделий'!AA6727","v":0},{"$f":"'[16]Список изделий'!AB6727","v":0},{"$f":"'[16]Список изделий'!AC6727","v":"x"},{"$f":"'[16]Список изделий'!AD6727","v":0},{"$f":"'[16]Список изделий'!AE6727","v":0},{"$f":"'[16]Список изделий'!AF6727","v":"00:00:00"},{"$f":"'[16]Список изделий'!AY6727","v":0},{"$f":"'[16]Список изделий'!AZ6727","v":"00:00:00"},-43153,-43153,0,0,{"$f":"'[16]Список изделий'!BR6727","v":0},0]
[1484,{"$f":"'[16]Список изделий'!D6809","v":84},{"$f":"'[16]Список изделий'!E6809","v":0},{"$f":"'[16]Список изделий'!F6809","v":0},{"$f":"'[16]Список изделий'!I6809","v":0},{"$f":"'[16]Список изделий'!X6809","v":0},{"$f":"'[16]Список изделий'!Y6809","v":0},{"$f":"'[16]Список изделий'!Z6809","v":0},{"$f":"'[16]Список изделий'!AA6809","v":0},{"$f":"'[16]Список изделий'!AB6809","v":0},{"$f":"'[16]Список изделий'!AC6809","v":"x"},{"$f":"'[16]Список изделий'!AD6809","v":0},{"$f":"'[16]Список изделий'!AE6809","v":0},{"$f":"'[16]Список изделий'!AF6809","v":"00:00:00"},{"$f":"'[16]Список изделий'!AY6809","v":0},{"$f":"'[16]Список изделий'!AZ6809","v":"00:00:00"},-43153,-43153,0,0,{"$f":"'[16]Список изделий'!BR6809","v":0},0]
[1485,{"$f":"'[16]Список изделий'!D6891","v":85},{"$f":"'[16]Список изделий'!E6891","v":0},{"$f":"'[16]Список изделий'!F6891","v":0},{"$f":"'[16]Список изделий'!I6891","v":0},{"$f":"'[16]Список изделий'!X6891","v":0},{"$f":"'[16]Список изделий'!Y6891","v":0},{"$f":"'[16]Список изделий'!Z6891","v":0},{"$f":"'[16]Список изделий'!AA6891","v":0},{"$f":"'[16]Список изделий'!AB6891","v":0},{"$f":"'[16]Список изделий'!AC6891","v":"x"},{"$f":"'[16]Список изделий'!AD6891","v":0},{"$f":"'[16]Список изделий'!AE6891","v":0},{"$f":"'[16]Список изделий'!AF6891","v":"00:00:00"},{"$f":"'[16]Список изделий'!AY6891","v":0},{"$f":"'[16]Список изделий'!AZ6891","v":"00:00:00"},-43153,-43153,0,0,{"$f":"'[16]Список изделий'!BR6891","v":0},0]
[1486,{"$f":"'[16]Список изделий'!D6973","v":86},{"$f":"'[16]Список изделий'!E6973","v":0},{"$f":"'[16]Список изделий'!F6973","v":0},{"$f":"'[16]Список изделий'!I6973","v":0},{"$f":"'[16]Список изделий'!X6973","v":0},{"$f":"'[16]Список изделий'!Y6973","v":0},{"$f":"'[16]Список изделий'!Z6973","v":0},{"$f":"'[16]Список изделий'!AA6973","v":0},{"$f":"'[16]Список изделий'!AB6973","v":0},{"$f":"'[16]Список изделий'!AC6973","v":"x"},{"$f":"'[16]Список изделий'!AD6973","v":0},{"$f":"'[16]Список изделий'!AE6973","v":0},{"$f":"'[16]Список изделий'!AF6973","v":"00:00:00"},{"$f":"'[16]Список изделий'!AY6973","v":0},{"$f":"'[16]Список изделий'!AZ6973","v":"00:00:00"},-43153,-43153,0,0,{"$f":"'[16]Список изделий'!BR6973","v":0},0]
[1487,{"$f":"'[16]Список изделий'!D7055","v":87},{"$f":"'[16]Список изделий'!E7055","v":0},{"$f":"'[16]Список изделий'!F7055","v":0},{"$f":"'[16]Список изделий'!I7055","v":0},{"$f":"'[16]Список изделий'!X7055","v":0},{"$f":"'[16]Список изделий'!Y7055","v":0},{"$f":"'[16]Список изделий'!Z7055","v":0},{"$f":"'[16]Список изделий'!AA7055","v":0},{"$f":"'[16]Список изделий'!AB7055","v":0},{"$f":"'[16]Список изделий'!AC7055","v":"x"},{"$f":"'[16]Список изделий'!AD7055","v":0},{"$f":"'[16]Список изделий'!AE7055","v":0},{"$f":"'[16]Список изделий'!AF7055","v":"00:00:00"},{"$f":"'[16]Список изделий'!AY7055","v":0},{"$f":"'[16]Список изделий'!AZ7055","v":"00:00:00"},-43153,-43153,0,0,{"$f":"'[16]Список изделий'!BR7055","v":0},0]
[1488,{"$f":"'[16]Список изделий'!D7137","v":88},{"$f":"'[16]Список изделий'!E7137","v":0},{"$f":"'[16]Список изделий'!F7137","v":0},{"$f":"'[16]Список изделий'!I7137","v":0},{"$f":"'[16]Список изделий'!X7137","v":0},{"$f":"'[16]Список изделий'!Y7137","v":0},{"$f":"'[16]Список изделий'!Z7137","v":0},{"$f":"'[16]Список изделий'!AA7137","v":0},{"$f":"'[16]Список изделий'!AB7137","v":0},{"$f":"'[16]Список изделий'!AC7137","v":"x"},{"$f":"'[16]Список изделий'!AD7137","v":0},{"$f":"'[16]Список изделий'!AE7137","v":0},{"$f":"'[16]Список изделий'!AF7137","v":"00:00:00"},{"$f":"'[16]Список изделий'!AY7137","v":0},{"$f":"'[16]Список изделий'!AZ7137","v":"00:00:00"},-43153,-43153,0,0,{"$f":"'[16]Список изделий'!BR7137","v":0},0]
[1489,{"$f":"'[16]Список изделий'!D7219","v":89},{"$f":"'[16]Список изделий'!E7219","v":0},{"$f":"'[16]Список изделий'!F7219","v":0},{"$f":"'[16]Список изделий'!I7219","v":0},{"$f":"'[16]Список изделий'!X7219","v":0},{"$f":"'[16]Список изделий'!Y7219","v":0},{"$f":"'[16]Список изделий'!Z7219","v":0},{"$f":"'[16]Список изделий'!AA7219","v":0},{"$f":"'[16]Список изделий'!AB7219","v":0},{"$f":"'[16]Список изделий'!AC7219","v":"x"},{"$f":"'[16]Список изделий'!AD7219","v":0},{"$f":"'[16]Список изделий'!AE7219","v":0},{"$f":"'[16]Список изделий'!AF7219","v":"00:00:00"},{"$f":"'[16]Список изделий'!AY7219","v":0},{"$f":"'[16]Список изделий'!AZ7219","v":"00:00:00"},-43153,-43153,0,0,{"$f":"'[16]Список изделий'!BR7219","v":0},0]
[1490,{"$f":"'[16]Список изделий'!D7301","v":90},{"$f":"'[16]Список изделий'!E7301","v":0},{"$f":"'[16]Список изделий'!F7301","v":0},{"$f":"'[16]Список изделий'!I7301","v":0},{"$f":"'[16]Список изделий'!X7301","v":0},{"$f":"'[16]Список изделий'!Y7301","v":0},{"$f":"'[16]Список изделий'!Z7301","v":0},{"$f":"'[16]Список изделий'!AA7301","v":0},{"$f":"'[16]Список изделий'!AB7301","v":0},{"$f":"'[16]Список изделий'!AC7301","v":"x"},{"$f":"'[16]Список изделий'!AD7301","v":0},{"$f":"'[16]Список изделий'!AE7301","v":0},{"$f":"'[16]Список изделий'!AF7301","v":"00:00:00"},{"$f":"'[16]Список изделий'!AY7301","v":0},{"$f":"'[16]Список изделий'!AZ7301","v":"00:00:00"},-43153,-43153,0,0,{"$f":"'[16]Список изделий'!BR7301","v":0},0]
[1491,{"$f":"'[16]Список изделий'!D7383","v":91},{"$f":"'[16]Список изделий'!E7383","v":0},{"$f":"'[16]Список изделий'!F7383","v":0},{"$f":"'[16]Список изделий'!I7383","v":0},{"$f":"'[16]Список изделий'!X7383","v":0},{"$f":"'[16]Список изделий'!Y7383","v":0},{"$f":"'[16]Список изделий'!Z7383","v":0},{"$f":"'[16]Список изделий'!AA7383","v":0},{"$f":"'[16]Список изделий'!AB7383","v":0},{"$f":"'[16]Список изделий'!AC7383","v":"x"},{"$f":"'[16]Список изделий'!AD7383","v":0},{"$f":"'[16]Список изделий'!AE7383","v":0},{"$f":"'[16]Список изделий'!AF7383","v":"00:00:00"},{"$f":"'[16]Список изделий'!AY7383","v":0},{"$f":"'[16]Список изделий'!AZ7383","v":"00:00:00"},-43153,-43153,0,0,{"$f":"'[16]Список изделий'!BR7383","v":0},0]
[1492,{"$f":"'[16]Список изделий'!D7465","v":92},{"$f":"'[16]Список изделий'!E7465","v":0},{"$f":"'[16]Список изделий'!F7465","v":0},{"$f":"'[16]Список изделий'!I7465","v":0},{"$f":"'[16]Список изделий'!X7465","v":0},{"$f":"'[16]Список изделий'!Y7465","v":0},{"$f":"'[16]Список изделий'!Z7465","v":0},{"$f":"'[16]Список изделий'!AA7465","v":0},{"$f":"'[16]Список изделий'!AB7465","v":0},{"$f":"'[16]Список изделий'!AC7465","v":"x"},{"$f":"'[16]Список изделий'!AD7465","v":0},{"$f":"'[16]Список изделий'!AE7465","v":0},{"$f":"'[16]Список изделий'!AF7465","v":"00:00:00"},{"$f":"'[16]Список изделий'!AY7465","v":0},{"$f":"'[16]Список изделий'!AZ7465","v":"00:00:00"},-43153,-43153,0,0,{"$f":"'[16]Список изделий'!BR7465","v":0},0]
[1493,{"$f":"'[16]Список изделий'!D7547","v":93},{"$f":"'[16]Список изделий'!E7547","v":0},{"$f":"'[16]Список изделий'!F7547","v":0},{"$f":"'[16]Список изделий'!I7547","v":0},{"$f":"'[16]Список изделий'!X7547","v":0},{"$f":"'[16]Список изделий'!Y7547","v":0},{"$f":"'[16]Список изделий'!Z7547","v":0},{"$f":"'[16]Список изделий'!AA7547","v":0},{"$f":"'[16]Список изделий'!AB7547","v":0},{"$f":"'[16]Список изделий'!AC7547","v":"x"},{"$f":"'[16]Список изделий'!AD7547","v":0},{"$f":"'[16]Список изделий'!AE7547","v":0},{"$f":"'[16]Список изделий'!AF7547","v":"00:00:00"},{"$f":"'[16]Список изделий'!AY7547","v":0},{"$f":"'[16]Список изделий'!AZ7547","v":"00:00:00"},-43153,-43153,0,0,{"$f":"'[16]Список изделий'!BR7547","v":0},0]
[1494,{"$f":"'[16]Список изделий'!D7629","v":94},{"$f":"'[16]Список изделий'!E7629","v":0},{"$f":"'[16]Список изделий'!F7629","v":0},{"$f":"'[16]Список изделий'!I7629","v":0},{"$f":"'[16]Список изделий'!X7629","v":0},{"$f":"'[16]Список изделий'!Y7629","v":0},{"$f":"'[16]Список изделий'!Z7629","v":0},{"$f":"'[16]Список изделий'!AA7629","v":0},{"$f":"'[16]Список изделий'!AB7629","v":0},{"$f":"'[16]Список изделий'!AC7629","v":"x"},{"$f":"'[16]Список изделий'!AD7629","v":0},{"$f":"'[16]Список изделий'!AE7629","v":0},{"$f":"'[16]Список изделий'!AF7629","v":"00:00:00"},{"$f":"'[16]Список изделий'!AY7629","v":0},{"$f":"'[16]Список изделий'!AZ7629","v":"00:00:00"},-43153,-43153,0,0,{"$f":"'[16]Список изделий'!BR7629","v":0},0]
[1495,{"$f":"'[16]Список изделий'!D7711","v":95},{"$f":"'[16]Список изделий'!E7711","v":0},{"$f":"'[16]Список изделий'!F7711","v":0},{"$f":"'[16]Список изделий'!I7711","v":0},{"$f":"'[16]Список изделий'!X7711","v":0},{"$f":"'[16]Список изделий'!Y7711","v":0},{"$f":"'[16]Список изделий'!Z7711","v":0},{"$f":"'[16]Список изделий'!AA7711","v":0},{"$f":"'[16]Список изделий'!AB7711","v":0},{"$f":"'[16]Список изделий'!AC7711","v":"x"},{"$f":"'[16]Список изделий'!AD7711","v":0},{"$f":"'[16]Список изделий'!AE7711","v":0},{"$f":"'[16]Список изделий'!AF7711","v":"00:00:00"},{"$f":"'[16]Список изделий'!AY7711","v":0},{"$f":"'[16]Список изделий'!AZ7711","v":"00:00:00"},-43153,-43153,0,0,{"$f":"'[16]Список изделий'!BR7711","v":0},0]
[1496,{"$f":"'[16]Список изделий'!D7793","v":96},{"$f":"'[16]Список изделий'!E7793","v":0},{"$f":"'[16]Список изделий'!F7793","v":0},{"$f":"'[16]Список изделий'!I7793","v":0},{"$f":"'[16]Список изделий'!X7793","v":0},{"$f":"'[16]Список изделий'!Y7793","v":0},{"$f":"'[16]Список изделий'!Z7793","v":0},{"$f":"'[16]Список изделий'!AA7793","v":0},{"$f":"'[16]Список изделий'!AB7793","v":0},{"$f":"'[16]Список изделий'!AC7793","v":"x"},{"$f":"'[16]Список изделий'!AD7793","v":0},{"$f":"'[16]Список изделий'!AE7793","v":0},{"$f":"'[16]Список изделий'!AF7793","v":"00:00:00"},{"$f":"'[16]Список изделий'!AY7793","v":0},{"$f":"'[16]Список изделий'!AZ7793","v":"00:00:00"},-43153,-43153,0,0,{"$f":"'[16]Список изделий'!BR7793","v":0},0]
[1497,{"$f":"'[16]Список изделий'!D7875","v":97},{"$f":"'[16]Список изделий'!E7875","v":0},{"$f":"'[16]Список изделий'!F7875","v":0},{"$f":"'[16]Список изделий'!I7875","v":0},{"$f":"'[16]Список изделий'!X7875","v":0},{"$f":"'[16]Список изделий'!Y7875","v":0},{"$f":"'[16]Список изделий'!Z7875","v":0},{"$f":"'[16]Список изделий'!AA7875","v":0},{"$f":"'[16]Список изделий'!AB7875","v":0},{"$f":"'[16]Список изделий'!AC7875","v":"x"},{"$f":"'[16]Список изделий'!AD7875","v":0},{"$f":"'[16]Список изделий'!AE7875","v":0},{"$f":"'[16]Список изделий'!AF7875","v":"00:00:00"},{"$f":"'[16]Список изделий'!AY7875","v":0},{"$f":"'[16]Список изделий'!AZ7875","v":"00:00:00"},-43153,-43153,0,0,{"$f":"'[16]Список изделий'!BR7875","v":0},0]
[1498,{"$f":"'[16]Список изделий'!D7957","v":98},{"$f":"'[16]Список изделий'!E7957","v":0},{"$f":"'[16]Список изделий'!F7957","v":0},{"$f":"'[16]Список изделий'!I7957","v":0},{"$f":"'[16]Список изделий'!X7957","v":0},{"$f":"'[16]Список изделий'!Y7957","v":0},{"$f":"'[16]Список изделий'!Z7957","v":0},{"$f":"'[16]Список изделий'!AA7957","v":0},{"$f":"'[16]Список изделий'!AB7957","v":0},{"$f":"'[16]Список изделий'!AC7957","v":"x"},{"$f":"'[16]Список изделий'!AD7957","v":0},{"$f":"'[16]Список изделий'!AE7957","v":0},{"$f":"'[16]Список изделий'!AF7957","v":"00:00:00"},{"$f":"'[16]Список изделий'!AY7957","v":0},{"$f":"'[16]Список изделий'!AZ7957","v":"00:00:00"},-43153,-43153,0,0,{"$f":"'[16]Список изделий'!BR7957","v":0},0]
[1499,{"$f":"'[16]Список изделий'!D8039","v":99},{"$f":"'[16]Список изделий'!E8039","v":0},{"$f":"'[16]Список изделий'!F8039","v":0},{"$f":"'[16]Список изделий'!I8039","v":0},{"$f":"'[16]Список изделий'!X8039","v":0},{"$f":"'[16]Список изделий'!Y8039","v":0},{"$f":"'[16]Список изделий'!Z8039","v":0},{"$f":"'[16]Список изделий'!AA8039","v":0},{"$f":"'[16]Список изделий'!AB8039","v":0},{"$f":"'[16]Список изделий'!AC8039","v":"x"},{"$f":"'[16]Список изделий'!AD8039","v":0},{"$f":"'[16]Список изделий'!AE8039","v":0},{"$f":"'[16]Список изделий'!AF8039","v":"00:00:00"},{"$f":"'[16]Список изделий'!AY8039","v":0},{"$f":"'[16]Список изделий'!AZ8039","v":"00:00:00"},-43153,-43153,0,0,{"$f":"'[16]Список изделий'!BR8039","v":0},0]
[1500,{"$f":"'[16]Список изделий'!D8121","v":100},{"$f":"'[16]Список изделий'!E8121","v":0},{"$f":"'[16]Список изделий'!F8121","v":0},{"$f":"'[16]Список изделий'!I8121","v":0},{"$f":"'[16]Список изделий'!X8121","v":0},{"$f":"'[16]Список изделий'!Y8121","v":0},{"$f":"'[16]Список изделий'!Z8121","v":0},{"$f":"'[16]Список изделий'!AA8121","v":0},{"$f":"'[16]Список изделий'!AB8121","v":0},{"$f":"'[16]Список изделий'!AC8121","v":"x"},{"$f":"'[16]Список изделий'!AD8121","v":0},{"$f":"'[16]Список изделий'!AE8121","v":0},{"$f":"'[16]Список изделий'!AF8121","v":"00:00:00"},{"$f":"'[16]Список изделий'!AY8121","v":0},{"$f":"'[16]Список изделий'!AZ8121","v":"00:00:00"},-43153,-43153,0,0,{"$f":"'[16]Список изделий'!BR8121","v":0},0]
[1501,{"$f":"'[17]Список изделий'!D3","v":1},{"$f":"'[17]Список изделий'!E3","v":0},{"$f":"'[17]Список изделий'!F3","v":0},{"$f":"'[17]Список изделий'!I3","v":0},{"$f":"'[17]Список изделий'!X3","v":0},{"$f":"'[17]Список изделий'!Y3","v":0},{"$f":"'[17]Список изделий'!Z3","v":0},{"$f":"'[17]Список изделий'!AA3","v":0},{"$f":"'[17]Список изделий'!AB3","v":0},{"$f":"'[17]Список изделий'!AC3","v":"x"},{"$f":"'[17]Список изделий'!AD3","v":0},{"$f":"'[17]Список изделий'!AE3","v":0},{"$f":"'[17]Список изделий'!AF3","v":"00:00:00"},{"$f":"'[17]Список изделий'!AY3","v":0},{"$f":"'[17]Список изделий'!AZ3","v":"00:00:00"},-43153,-43153,1,1,{"$f":"'[17]Список изделий'!BR3","v":0},1]
[1502,{"$f":"'[17]Список изделий'!D4","v":2},{"$f":"'[17]Список изделий'!E4","v":0},{"$f":"'[17]Список изделий'!F4","v":0},{"$f":"'[17]Список изделий'!I4","v":0},{"$f":"'[17]Список изделий'!X4","v":0},{"$f":"'[17]Список изделий'!Y4","v":0},{"$f":"'[17]Список изделий'!Z4","v":0},{"$f":"'[17]Список изделий'!AA4","v":0},{"$f":"'[17]Список изделий'!AB4","v":0},{"$f":"'[17]Список изделий'!AC4","v":"x"},{"$f":"'[17]Список изделий'!AD4","v":0},{"$f":"'[17]Список изделий'!AE4","v":0},{"$f":"'[17]Список изделий'!AF4","v":"00:00:00"},{"$f":"'[17]Список изделий'!AY4","v":0},{"$f":"'[17]Список изделий'!AZ4","v":"00:00:00"},-43153,-43153,0,0,{"$f":"'[17]Список изделий'!BR4","v":0},0]
[1503,{"$f":"'[17]Список изделий'!D5","v":3},{"$f":"'[17]Список изделий'!E5","v":0},{"$f":"'[17]Список изделий'!F5","v":0},{"$f":"'[17]Список изделий'!I5","v":0},{"$f":"'[17]Список изделий'!X5","v":0},{"$f":"'[17]Список изделий'!Y5","v":0},{"$f":"'[17]Список изделий'!Z5","v":0},{"$f":"'[17]Список изделий'!AA5","v":0},{"$f":"'[17]Список изделий'!AB5","v":0},{"$f":"'[17]Список изделий'!AC5","v":"x"},{"$f":"'[17]Список изделий'!AD5","v":0},{"$f":"'[17]Список изделий'!AE5","v":0},{"$f":"'[17]Список изделий'!AF5","v":"00:00:00"},{"$f":"'[17]Список изделий'!AY5","v":0},{"$f":"'[17]Список изделий'!AZ5","v":"00:00:00"},-43153,-43153,1,1,{"$f":"'[17]Список изделий'!BR5","v":0},1]
[1504,{"$f":"'[17]Список изделий'!D6","v":4},{"$f":"'[17]Список изделий'!E6","v":0},{"$f":"'[17]Список изделий'!F6","v":0},{"$f":"'[17]Список изделий'!I6","v":0},{"$f":"'[17]Список изделий'!X6","v":0},{"$f":"'[17]Список изделий'!Y6","v":0},{"$f":"'[17]Список изделий'!Z6","v":0},{"$f":"'[17]Список изделий'!AA6","v":0},{"$f":"'[17]Список изделий'!AB6","v":0},{"$f":"'[17]Список изделий'!AC6","v":"x"},{"$f":"'[17]Список изделий'!AD6","v":0},{"$f":"'[17]Список изделий'!AE6","v":0},{"$f":"'[17]Список изделий'!AF6","v":"00:00:00"},{"$f":"'[17]Список изделий'!AY6","v":0},{"$f":"'[17]Список изделий'!AZ6","v":"00:00:00"},-43153,-43153,1,1,{"$f":"'[17]Список изделий'!BR6","v":0},1]
[1505,{"$f":"'[17]Список изделий'!D7","v":5},{"$f":"'[17]Список изделий'!E7","v":0},{"$f":"'[17]Список изделий'!F7","v":0},{"$f":"'[17]Список изделий'!I7","v":0},{"$f":"'[17]Список изделий'!X7","v":0},{"$f":"'[17]Список изделий'!Y7","v":0},{"$f":"'[17]Список изделий'!Z7","v":0},{"$f":"'[17]Список изделий'!AA7","v":0},{"$f":"'[17]Список изделий'!AB7","v":0},{"$f":"'[17]Список изделий'!AC7","v":"x"},{"$f":"'[17]Список изделий'!AD7","v":0},{"$f":"'[17]Список изделий'!AE7","v":0},{"$f":"'[17]Список изделий'!AF7","v":"00:00:00"},{"$f":"'[17]Список изделий'!AY7","v":0},{"$f":"'[17]Список изделий'!AZ7","v":"00:00:00"},-43153,-43153,1,1,{"$f":"'[17]Список изделий'!BR7","v":0},1]
[1506,{"$f":"'[17]Список изделий'!D8","v":6},{"$f":"'[17]Список изделий'!E8","v":0},{"$f":"'[17]Список изделий'!F8","v":0},{"$f":"'[17]Список изделий'!I8","v":0},{"$f":"'[17]Список изделий'!X8","v":0},{"$f":"'[17]Список изделий'!Y8","v":0},{"$f":"'[17]Список изделий'!Z8","v":0},{"$f":"'[17]Список изделий'!AA8","v":0},{"$f":"'[17]Список изделий'!AB8","v":0},{"$f":"'[17]Список изделий'!AC8","v":"x"},{"$f":"'[17]Список изделий'!AD8","v":0},{"$f":"'[17]Список изделий'!AE8","v":0},{"$f":"'[17]Список изделий'!AF8","v":"00:00:00"},{"$f":"'[17]Список изделий'!AY8","v":0},{"$f":"'[17]Список изделий'!AZ8","v":"00:00:00"},-43153,-43153,0,0,{"$f":"'[17]Список изделий'!BR8","v":0},0]
[1507,{"$f":"'[17]Список изделий'!D9","v":7},{"$f":"'[17]Список изделий'!E9","v":0},{"$f":"'[17]Список изделий'!F9","v":0},{"$f":"'[17]Список изделий'!I9","v":0},{"$f":"'[17]Список изделий'!X9","v":0},{"$f":"'[17]Список изделий'!Y9","v":0},{"$f":"'[17]Список изделий'!Z9","v":0},{"$f":"'[17]Список изделий'!AA9","v":0},{"$f":"'[17]Список изделий'!AB9","v":0},{"$f":"'[17]Список изделий'!AC9","v":"x"},{"$f":"'[17]Список изделий'!AD9","v":0},{"$f":"'[17]Список изделий'!AE9","v":0},{"$f":"'[17]Список изделий'!AF9","v":"00:00:00"},{"$f":"'[17]Список изделий'!AY9","v":0},{"$f":"'[17]Список изделий'!AZ9","v":"00:00:00"},-43153,-43153,1,1,{"$f":"'[17]Список изделий'!BR9","v":0},1]
[1508,{"$f":"'[17]Список изделий'!D10","v":8},{"$f":"'[17]Список изделий'!E10","v":0},{"$f":"'[17]Список изделий'!F10","v":0},{"$f":"'[17]Список изделий'!I10","v":0},{"$f":"'[17]Список изделий'!X10","v":0},{"$f":"'[17]Список изделий'!Y10","v":0},{"$f":"'[17]Список изделий'!Z10","v":0},{"$f":"'[17]Список изделий'!AA10","v":0},{"$f":"'[17]Список изделий'!AB10","v":0},{"$f":"'[17]Список изделий'!AC10","v":"x"},{"$f":"'[17]Список изделий'!AD10","v":0},{"$f":"'[17]Список изделий'!AE10","v":0},{"$f":"'[17]Список изделий'!AF10","v":"00:00:00"},{"$f":"'[17]Список изделий'!AY10","v":0},{"$f":"'[17]Список изделий'!AZ10","v":"00:00:00"},-43153,-43153,1,1,{"$f":"'[17]Список изделий'!BR10","v":0},1]
[1509,{"$f":"'[17]Список изделий'!D11","v":9},{"$f":"'[17]Список изделий'!E11","v":0},{"$f":"'[17]Список изделий'!F11","v":0},{"$f":"'[17]Список изделий'!I11","v":0},{"$f":"'[17]Список изделий'!X11","v":0},{"$f":"'[17]Список изделий'!Y11","v":0},{"$f":"'[17]Список изделий'!Z11","v":0},{"$f":"'[17]Список изделий'!AA11","v":0},{"$f":"'[17]Список изделий'!AB11","v":0},{"$f":"'[17]Список изделий'!AC11","v":"x"},{"$f":"'[17]Список изделий'!AD11","v":0},{"$f":"'[17]Список изделий'!AE11","v":0},{"$f":"'[17]Список изделий'!AF11","v":"00:00:00"},{"$f":"'[17]Список изделий'!AY11","v":0},{"$f":"'[17]Список изделий'!AZ11","v":"00:00:00"},-43153,-43153,0,0,{"$f":"'[17]Список изделий'!BR11","v":0},0]
[1510,{"$f":"'[17]Список изделий'!D12","v":10},{"$f":"'[17]Список изделий'!E12","v":0},{"$f":"'[17]Список изделий'!F12","v":0},{"$f":"'[17]Список изделий'!I12","v":0},{"$f":"'[17]Список изделий'!X12","v":0},{"$f":"'[17]Список изделий'!Y12","v":0},{"$f":"'[17]Список изделий'!Z12","v":0},{"$f":"'[17]Список изделий'!AA12","v":0},{"$f":"'[17]Список изделий'!AB12","v":0},{"$f":"'[17]Список изделий'!AC12","v":"x"},{"$f":"'[17]Список изделий'!AD12","v":0},{"$f":"'[17]Список изделий'!AE12","v":0},{"$f":"'[17]Список изделий'!AF12","v":"00:00:00"},{"$f":"'[17]Список изделий'!AY12","v":0},{"$f":"'[17]Список изделий'!AZ12","v":"00:00:00"},-43153,-43153,1,{"$f":"V1512","v":1},{"$f":"'[17]Список изделий'!BR12","v":0},1]
[1511,{"$f":"'[17]Список изделий'!D13","v":11},{"$f":"'[17]Список изделий'!E13","v":0},{"$f":"'[17]Список изделий'!F13","v":0},{"$f":"'[17]Список изделий'!I13","v":0},{"$f":"'[17]Список изделий'!X13","v":0},{"$f":"'[17]Список изделий'!Y13","v":0},{"$f":"'[17]Список изделий'!Z13","v":0},{"$f":"'[17]Список изделий'!AA13","v":0},{"$f":"'[17]Список изделий'!AB13","v":0},{"$f":"'[17]Список изделий'!AC13","v":"x"},{"$f":"'[17]Список изделий'!AD13","v":0},{"$f":"'[17]Список изделий'!AE13","v":0},{"$f":"'[17]Список изделий'!AF13","v":"00:00:00"},{"$f":"'[17]Список изделий'!AY13","v":0},{"$f":"'[17]Список изделий'!AZ13","v":"00:00:00"},-43153,-43153,1,1,{"$f":"'[17]Список изделий'!BR13","v":0},1]
[1512,{"$f":"'[17]Список изделий'!D14","v":12},{"$f":"'[17]Список изделий'!E14","v":0},{"$f":"'[17]Список изделий'!F14","v":0},{"$f":"'[17]Список изделий'!I14","v":0},{"$f":"'[17]Список изделий'!X14","v":0},{"$f":"'[17]Список изделий'!Y14","v":0},{"$f":"'[17]Список изделий'!Z14","v":0},{"$f":"'[17]Список изделий'!AA14","v":0},{"$f":"'[17]Список изделий'!AB14","v":0},{"$f":"'[17]Список изделий'!AC14","v":"x"},{"$f":"'[17]Список изделий'!AD14","v":0},{"$f":"'[17]Список изделий'!AE14","v":0},{"$f":"'[17]Список изделий'!AF14","v":"00:00:00"},{"$f":"'[17]Список изделий'!AY14","v":0},{"$f":"'[17]Список изделий'!AZ14","v":"00:00:00"},-43153,-43153,1,1,{"$f":"'[17]Список изделий'!BR14","v":0},1]
[1513,{"$f":"'[17]Список изделий'!D15","v":13},{"$f":"'[17]Список изделий'!E15","v":0},{"$f":"'[17]Список изделий'!F15","v":0},{"$f":"'[17]Список изделий'!I15","v":0},{"$f":"'[17]Список изделий'!X15","v":0},{"$f":"'[17]Список изделий'!Y15","v":0},{"$f":"'[17]Список изделий'!Z15","v":0},{"$f":"'[17]Список изделий'!AA15","v":0},{"$f":"'[17]Список изделий'!AB15","v":0},{"$f":"'[17]Список изделий'!AC15","v":"x"},{"$f":"'[17]Список изделий'!AD15","v":0},{"$f":"'[17]Список изделий'!AE15","v":0},{"$f":"'[17]Список изделий'!AF15","v":"00:00:00"},{"$f":"'[17]Список изделий'!AY15","v":0},{"$f":"'[17]Список изделий'!AZ15","v":"00:00:00"},-43153,-43153,1,1,{"$f":"'[17]Список изделий'!BR15","v":0},1]
[1514,{"$f":"'[17]Список изделий'!D16","v":14},{"$f":"'[17]Список изделий'!E16","v":0},{"$f":"'[17]Список изделий'!F16","v":0},{"$f":"'[17]Список изделий'!I16","v":0},{"$f":"'[17]Список изделий'!X16","v":0},{"$f":"'[17]Список изделий'!Y16","v":0},{"$f":"'[17]Список изделий'!Z16","v":0},{"$f":"'[17]Список изделий'!AA16","v":0},{"$f":"'[17]Список изделий'!AB16","v":0},{"$f":"'[17]Список изделий'!AC16","v":"x"},{"$f":"'[17]Список изделий'!AD16","v":0},{"$f":"'[17]Список изделий'!AE16","v":0},{"$f":"'[17]Список изделий'!AF16","v":"00:00:00"},{"$f":"'[17]Список изделий'!AY16","v":0},{"$f":"'[17]Список изделий'!AZ16","v":"00:00:00"},-43153,-43153,0,0,{"$f":"'[17]Список изделий'!BR16","v":0},0]
[1515,{"$f":"'[17]Список изделий'!D17","v":15},{"$f":"'[17]Список изделий'!E17","v":0},{"$f":"'[17]Список изделий'!F17","v":0},{"$f":"'[17]Список изделий'!I17","v":0},{"$f":"'[17]Список изделий'!X17","v":0},{"$f":"'[17]Список изделий'!Y17","v":0},{"$f":"'[17]Список изделий'!Z17","v":0},{"$f":"'[17]Список изделий'!AA17","v":0},{"$f":"'[17]Список изделий'!AB17","v":0},{"$f":"'[17]Список изделий'!AC17","v":"x"},{"$f":"'[17]Список изделий'!AD17","v":0},{"$f":"'[17]Список изделий'!AE17","v":0},{"$f":"'[17]Список изделий'!AF17","v":"00:00:00"},{"$f":"'[17]Список изделий'!AY17","v":0},{"$f":"'[17]Список изделий'!AZ17","v":"00:00:00"},-43153,-43153,1,1,{"$f":"'[17]Список изделий'!BR17","v":0},1]
[1516,{"$f":"'[17]Список изделий'!D18","v":16},{"$f":"'[17]Список изделий'!E18","v":0},{"$f":"'[17]Список изделий'!F18","v":0},{"$f":"'[17]Список изделий'!I18","v":0},{"$f":"'[17]Список изделий'!X18","v":0},{"$f":"'[17]Список изделий'!Y18","v":0},{"$f":"'[17]Список изделий'!Z18","v":0},{"$f":"'[17]Список изделий'!AA18","v":0},{"$f":"'[17]Список изделий'!AB18","v":0},{"$f":"'[17]Список изделий'!AC18","v":"x"},{"$f":"'[17]Список изделий'!AD18","v":0},{"$f":"'[17]Список изделий'!AE18","v":0},{"$f":"'[17]Список изделий'!AF18","v":"00:00:00"},{"$f":"'[17]Список изделий'!AY18","v":0},{"$f":"'[17]Список изделий'!AZ18","v":"00:00:00"},-43153,-43153,1,1,{"$f":"'[17]Список изделий'!BR18","v":0},1]
[1517,{"$f":"'[17]Список изделий'!D19","v":17},{"$f":"'[17]Список изделий'!E19","v":0},{"$f":"'[17]Список изделий'!F19","v":0},{"$f":"'[17]Список изделий'!I19","v":0},{"$f":"'[17]Список изделий'!X19","v":0},{"$f":"'[17]Список изделий'!Y19","v":0},{"$f":"'[17]Список изделий'!Z19","v":0},{"$f":"'[17]Список изделий'!AA19","v":0},{"$f":"'[17]Список изделий'!AB19","v":0},{"$f":"'[17]Список изделий'!AC19","v":"x"},{"$f":"'[17]Список изделий'!AD19","v":0},{"$f":"'[17]Список изделий'!AE19","v":0},{"$f":"'[17]Список изделий'!AF19","v":"00:00:00"},{"$f":"'[17]Список изделий'!AY19","v":0},{"$f":"'[17]Список изделий'!AZ19","v":"00:00:00"},-43153,-43153,1,1,{"$f":"'[17]Список изделий'!BR19","v":0},1]
[1518,{"$f":"'[17]Список изделий'!D20","v":18},{"$f":"'[17]Список изделий'!E20","v":0},{"$f":"'[17]Список изделий'!F20","v":0},{"$f":"'[17]Список изделий'!I20","v":0},{"$f":"'[17]Список изделий'!X20","v":0},{"$f":"'[17]Список изделий'!Y20","v":0},{"$f":"'[17]Список изделий'!Z20","v":0},{"$f":"'[17]Список изделий'!AA20","v":0},{"$f":"'[17]Список изделий'!AB20","v":0},{"$f":"'[17]Список изделий'!AC20","v":"x"},{"$f":"'[17]Список изделий'!AD20","v":0},{"$f":"'[17]Список изделий'!AE20","v":0},{"$f":"'[17]Список изделий'!AF20","v":"00:00:00"},{"$f":"'[17]Список изделий'!AY20","v":0},{"$f":"'[17]Список изделий'!AZ20","v":"00:00:00"},-43153,-43153,1,1,{"$f":"'[17]Список изделий'!BR20","v":0},1]
[1519,{"$f":"'[17]Список изделий'!D21","v":19},{"$f":"'[17]Список изделий'!E21","v":0},{"$f":"'[17]Список изделий'!F21","v":0},{"$f":"'[17]Список изделий'!I21","v":0},{"$f":"'[17]Список изделий'!X21","v":0},{"$f":"'[17]Список изделий'!Y21","v":0},{"$f":"'[17]Список изделий'!Z21","v":0},{"$f":"'[17]Список изделий'!AA21","v":0},{"$f":"'[17]Список изделий'!AB21","v":0},{"$f":"'[17]Список изделий'!AC21","v":"x"},{"$f":"'[17]Список изделий'!AD21","v":0},{"$f":"'[17]Список изделий'!AE21","v":0},{"$f":"'[17]Список изделий'!AF21","v":"00:00:00"},{"$f":"'[17]Список изделий'!AY21","v":0},{"$f":"'[17]Список изделий'!AZ21","v":"00:00:00"},-43153,-43153,1,1,{"$f":"'[17]Список изделий'!BR21","v":0},1]
[1520,{"$f":"'[17]Список изделий'!D22","v":20},{"$f":"'[17]Список изделий'!E22","v":0},{"$f":"'[17]Список изделий'!F22","v":0},{"$f":"'[17]Список изделий'!I22","v":0},{"$f":"'[17]Список изделий'!X22","v":0},{"$f":"'[17]Список изделий'!Y22","v":0},{"$f":"'[17]Список изделий'!Z22","v":0},{"$f":"'[17]Список изделий'!AA22","v":0},{"$f":"'[17]Список изделий'!AB22","v":0},{"$f":"'[17]Список изделий'!AC22","v":"x"},{"$f":"'[17]Список изделий'!AD22","v":0},{"$f":"'[17]Список изделий'!AE22","v":0},{"$f":"'[17]Список изделий'!AF22","v":"00:00:00"},{"$f":"'[17]Список изделий'!AY22","v":0},{"$f":"'[17]Список изделий'!AZ22","v":"00:00:00"},-43153,-43153,1,1,{"$f":"'[17]Список изделий'!BR22","v":0},1]
[1521,{"$f":"'[17]Список изделий'!D23","v":21},{"$f":"'[17]Список изделий'!E23","v":0},{"$f":"'[17]Список изделий'!F23","v":0},{"$f":"'[17]Список изделий'!I23","v":0},{"$f":"'[17]Список изделий'!X23","v":0},{"$f":"'[17]Список изделий'!Y23","v":0},{"$f":"'[17]Список изделий'!Z23","v":0},{"$f":"'[17]Список изделий'!AA23","v":0},{"$f":"'[17]Список изделий'!AB23","v":0},{"$f":"'[17]Список изделий'!AC23","v":"x"},{"$f":"'[17]Список изделий'!AD23","v":0},{"$f":"'[17]Список изделий'!AE23","v":0},{"$f":"'[17]Список изделий'!AF23","v":"00:00:00"},{"$f":"'[17]Список изделий'!AY23","v":0},{"$f":"'[17]Список изделий'!AZ23","v":"00:00:00"},-43153,-43153,1,1,{"$f":"'[17]Список изделий'!BR23","v":0},1]
[1522,{"$f":"'[17]Список изделий'!D24","v":22},{"$f":"'[17]Список изделий'!E24","v":0},{"$f":"'[17]Список изделий'!F24","v":0},{"$f":"'[17]Список изделий'!I24","v":0},{"$f":"'[17]Список изделий'!X24","v":0},{"$f":"'[17]Список изделий'!Y24","v":0},{"$f":"'[17]Список изделий'!Z24","v":0},{"$f":"'[17]Список изделий'!AA24","v":0},{"$f":"'[17]Список изделий'!AB24","v":0},{"$f":"'[17]Список изделий'!AC24","v":"x"},{"$f":"'[17]Список изделий'!AD24","v":0},{"$f":"'[17]Список изделий'!AE24","v":0},{"$f":"'[17]Список изделий'!AF24","v":"00:00:00"},{"$f":"'[17]Список изделий'!AY24","v":0},{"$f":"'[17]Список изделий'!AZ24","v":"00:00:00"},-43153,-43153,1,1,{"$f":"'[17]Список изделий'!BR24","v":0},1]
[1523,{"$f":"'[17]Список изделий'!D25","v":23},{"$f":"'[17]Список изделий'!E25","v":0},{"$f":"'[17]Список изделий'!F25","v":0},{"$f":"'[17]Список изделий'!I25","v":0},{"$f":"'[17]Список изделий'!X25","v":0},{"$f":"'[17]Список изделий'!Y25","v":0},{"$f":"'[17]Список изделий'!Z25","v":0},{"$f":"'[17]Список изделий'!AA25","v":0},{"$f":"'[17]Список изделий'!AB25","v":0},{"$f":"'[17]Список изделий'!AC25","v":"x"},{"$f":"'[17]Список изделий'!AD25","v":0},{"$f":"'[17]Список изделий'!AE25","v":0},{"$f":"'[17]Список изделий'!AF25","v":"00:00:00"},{"$f":"'[17]Список изделий'!AY25","v":0},{"$f":"'[17]Список изделий'!AZ25","v":"00:00:00"},-43153,-43153,1,1,{"$f":"'[17]Список изделий'!BR25","v":0},1]
[1524,{"$f":"'[17]Список изделий'!D26","v":24},{"$f":"'[17]Список изделий'!E26","v":0},{"$f":"'[17]Список изделий'!F26","v":0},{"$f":"'[17]Список изделий'!I26","v":0},{"$f":"'[17]Список изделий'!X26","v":0},{"$f":"'[17]Список изделий'!Y26","v":0},{"$f":"'[17]Список изделий'!Z26","v":0},{"$f":"'[17]Список изделий'!AA26","v":0},{"$f":"'[17]Список изделий'!AB26","v":0},{"$f":"'[17]Список изделий'!AC26","v":"x"},{"$f":"'[17]Список изделий'!AD26","v":0},{"$f":"'[17]Список изделий'!AE26","v":0},{"$f":"'[17]Список изделий'!AF26","v":"00:00:00"},{"$f":"'[17]Список изделий'!AY26","v":0},{"$f":"'[17]Список изделий'!AZ26","v":"00:00:00"},-43153,-43153,1,1,{"$f":"'[17]Список изделий'!BR26","v":0},1]
[1525,{"$f":"'[17]Список изделий'!D27","v":25},{"$f":"'[17]Список изделий'!E27","v":0},{"$f":"'[17]Список изделий'!F27","v":0},{"$f":"'[17]Список изделий'!I27","v":0},{"$f":"'[17]Список изделий'!X27","v":0},{"$f":"'[17]Список изделий'!Y27","v":0},{"$f":"'[17]Список изделий'!Z27","v":0},{"$f":"'[17]Список изделий'!AA27","v":0},{"$f":"'[17]Список изделий'!AB27","v":0},{"$f":"'[17]Список изделий'!AC27","v":"x"},{"$f":"'[17]Список изделий'!AD27","v":0},{"$f":"'[17]Список изделий'!AE27","v":0},{"$f":"'[17]Список изделий'!AF27","v":"00:00:00"},{"$f":"'[17]Список изделий'!AY27","v":0},{"$f":"'[17]Список изделий'!AZ27","v":"00:00:00"},-43153,-43153,1,1,{"$f":"'[17]Список изделий'!BR27","v":0},1]
[1526,{"$f":"'[17]Список изделий'!D28","v":26},{"$f":"'[17]Список изделий'!E28","v":0},{"$f":"'[17]Список изделий'!F28","v":0},{"$f":"'[17]Список изделий'!I28","v":0},{"$f":"'[17]Список изделий'!X28","v":0},{"$f":"'[17]Список изделий'!Y28","v":0},{"$f":"'[17]Список изделий'!Z28","v":0},{"$f":"'[17]Список изделий'!AA28","v":0},{"$f":"'[17]Список изделий'!AB28","v":0},{"$f":"'[17]Список изделий'!AC28","v":"x"},{"$f":"'[17]Список изделий'!AD28","v":0},{"$f":"'[17]Список изделий'!AE28","v":0},{"$f":"'[17]Список изделий'!AF28","v":"00:00:00"},{"$f":"'[17]Список изделий'!AY28","v":0},{"$f":"'[17]Список изделий'!AZ28","v":"00:00:00"},-43153,-43153,0,0,{"$f":"'[17]Список изделий'!BR28","v":0},0]
[1527,{"$f":"'[17]Список изделий'!D29","v":27},{"$f":"'[17]Список изделий'!E29","v":0},{"$f":"'[17]Список изделий'!F29","v":0},{"$f":"'[17]Список изделий'!I29","v":0},{"$f":"'[17]Список изделий'!X29","v":0},{"$f":"'[17]Список изделий'!Y29","v":0},{"$f":"'[17]Список изделий'!Z29","v":0},{"$f":"'[17]Список изделий'!AA29","v":0},{"$f":"'[17]Список изделий'!AB29","v":0},{"$f":"'[17]Список изделий'!AC29","v":"x"},{"$f":"'[17]Список изделий'!AD29","v":0},{"$f":"'[17]Список изделий'!AE29","v":0},{"$f":"'[17]Список изделий'!AF29","v":"00:00:00"},{"$f":"'[17]Список изделий'!AY29","v":0},{"$f":"'[17]Список изделий'!AZ29","v":"00:00:00"},-43153,-43153,1,1,{"$f":"'[17]Список изделий'!BR29","v":0},1]
[1528,{"$f":"'[17]Список изделий'!D30","v":28},{"$f":"'[17]Список изделий'!E30","v":0},{"$f":"'[17]Список изделий'!F30","v":0},{"$f":"'[17]Список изделий'!I30","v":0},{"$f":"'[17]Список изделий'!X30","v":0},{"$f":"'[17]Список изделий'!Y30","v":0},{"$f":"'[17]Список изделий'!Z30","v":0},{"$f":"'[17]Список изделий'!AA30","v":0},{"$f":"'[17]Список изделий'!AB30","v":0},{"$f":"'[17]Список изделий'!AC30","v":"x"},{"$f":"'[17]Список изделий'!AD30","v":0},{"$f":"'[17]Список изделий'!AE30","v":0},{"$f":"'[17]Список изделий'!AF30","v":"00:00:00"},{"$f":"'[17]Список изделий'!AY30","v":0},{"$f":"'[17]Список изделий'!AZ30","v":"00:00:00"},-43153,-43153,1,1,{"$f":"'[17]Список изделий'!BR30","v":0},1]
[1529,{"$f":"'[17]Список изделий'!D31","v":29},{"$f":"'[17]Список изделий'!E31","v":0},{"$f":"'[17]Список изделий'!F31","v":0},{"$f":"'[17]Список изделий'!I31","v":0},{"$f":"'[17]Список изделий'!X31","v":0},{"$f":"'[17]Список изделий'!Y31","v":0},{"$f":"'[17]Список изделий'!Z31","v":0},{"$f":"'[17]Список изделий'!AA31","v":0},{"$f":"'[17]Список изделий'!AB31","v":0},{"$f":"'[17]Список изделий'!AC31","v":"x"},{"$f":"'[17]Список изделий'!AD31","v":0},{"$f":"'[17]Список изделий'!AE31","v":0},{"$f":"'[17]Список изделий'!AF31","v":"00:00:00"},{"$f":"'[17]Список изделий'!AY31","v":0},{"$f":"'[17]Список изделий'!AZ31","v":"00:00:00"},-43153,-43153,0,0,{"$f":"'[17]Список изделий'!BR31","v":0},0]
[1530,{"$f":"'[17]Список изделий'!D32","v":30},{"$f":"'[17]Список изделий'!E32","v":0},{"$f":"'[17]Список изделий'!F32","v":0},{"$f":"'[17]Список изделий'!I32","v":0},{"$f":"'[17]Список изделий'!X32","v":0},{"$f":"'[17]Список изделий'!Y32","v":0},{"$f":"'[17]Список изделий'!Z32","v":0},{"$f":"'[17]Список изделий'!AA32","v":0},{"$f":"'[17]Список изделий'!AB32","v":0},{"$f":"'[17]Список изделий'!AC32","v":"x"},{"$f":"'[17]Список изделий'!AD32","v":0},{"$f":"'[17]Список изделий'!AE32","v":0},{"$f":"'[17]Список изделий'!AF32","v":"00:00:00"},{"$f":"'[17]Список изделий'!AY32","v":0},{"$f":"'[17]Список изделий'!AZ32","v":"00:00:00"},-43153,-43153,1,1,{"$f":"'[17]Список изделий'!BR32","v":0},1]
[1531,{"$f":"'[17]Список изделий'!D33","v":31},{"$f":"'[17]Список изделий'!E33","v":0},{"$f":"'[17]Список изделий'!F33","v":0},{"$f":"'[17]Список изделий'!I33","v":0},{"$f":"'[17]Список изделий'!X33","v":0},{"$f":"'[17]Список изделий'!Y33","v":0},{"$f":"'[17]Список изделий'!Z33","v":0},{"$f":"'[17]Список изделий'!AA33","v":0},{"$f":"'[17]Список изделий'!AB33","v":0},{"$f":"'[17]Список изделий'!AC33","v":"x"},{"$f":"'[17]Список изделий'!AD33","v":0},{"$f":"'[17]Список изделий'!AE33","v":0},{"$f":"'[17]Список изделий'!AF33","v":"00:00:00"},{"$f":"'[17]Список изделий'!AY33","v":0},{"$f":"'[17]Список изделий'!AZ33","v":"00:00:00"},-43153,-43153,1,1,{"$f":"'[17]Список изделий'!BR33","v":0},1]
[1532,{"$f":"'[17]Список изделий'!D34","v":32},{"$f":"'[17]Список изделий'!E34","v":0},{"$f":"'[17]Список изделий'!F34","v":0},{"$f":"'[17]Список изделий'!I34","v":0},{"$f":"'[17]Список изделий'!X34","v":0},{"$f":"'[17]Список изделий'!Y34","v":0},{"$f":"'[17]Список изделий'!Z34","v":0},{"$f":"'[17]Список изделий'!AA34","v":0},{"$f":"'[17]Список изделий'!AB34","v":0},{"$f":"'[17]Список изделий'!AC34","v":"x"},{"$f":"'[17]Список изделий'!AD34","v":0},{"$f":"'[17]Список изделий'!AE34","v":0},{"$f":"'[17]Список изделий'!AF34","v":"00:00:00"},{"$f":"'[17]Список изделий'!AY34","v":0},{"$f":"'[17]Список изделий'!AZ34","v":"00:00:00"},-43153,-43153,0,0,{"$f":"'[17]Список изделий'!BR34","v":0},0]
[1533,{"$f":"'[17]Список изделий'!D35","v":33},{"$f":"'[17]Список изделий'!E35","v":0},{"$f":"'[17]Список изделий'!F35","v":0},{"$f":"'[17]Список изделий'!I35","v":0},{"$f":"'[17]Список изделий'!X35","v":0},{"$f":"'[17]Список изделий'!Y35","v":0},{"$f":"'[17]Список изделий'!Z35","v":0},{"$f":"'[17]Список изделий'!AA35","v":0},{"$f":"'[17]Список изделий'!AB35","v":0},{"$f":"'[17]Список изделий'!AC35","v":"x"},{"$f":"'[17]Список изделий'!AD35","v":0},{"$f":"'[17]Список изделий'!AE35","v":0},{"$f":"'[17]Список изделий'!AF35","v":"00:00:00"},{"$f":"'[17]Список изделий'!AY35","v":0},{"$f":"'[17]Список изделий'!AZ35","v":"00:00:00"},-43153,-43153,1,1,{"$f":"'[17]Список изделий'!BR35","v":0},1]
[1534,{"$f":"'[17]Список изделий'!D36","v":34},{"$f":"'[17]Список изделий'!E36","v":0},{"$f":"'[17]Список изделий'!F36","v":0},{"$f":"'[17]Список изделий'!I36","v":0},{"$f":"'[17]Список изделий'!X36","v":0},{"$f":"'[17]Список изделий'!Y36","v":0},{"$f":"'[17]Список изделий'!Z36","v":0},{"$f":"'[17]Список изделий'!AA36","v":0},{"$f":"'[17]Список изделий'!AB36","v":0},{"$f":"'[17]Список изделий'!AC36","v":"x"},{"$f":"'[17]Список изделий'!AD36","v":0},{"$f":"'[17]Список изделий'!AE36","v":0},{"$f":"'[17]Список изделий'!AF36","v":"00:00:00"},{"$f":"'[17]Список изделий'!AY36","v":0},{"$f":"'[17]Список изделий'!AZ36","v":"00:00:00"},-43153,-43153,1,1,{"$f":"'[17]Список изделий'!BR36","v":0},1]
[1535,{"$f":"'[17]Список изделий'!D37","v":35},{"$f":"'[17]Список изделий'!E37","v":0},{"$f":"'[17]Список изделий'!F37","v":0},{"$f":"'[17]Список изделий'!I37","v":0},{"$f":"'[17]Список изделий'!X37","v":0},{"$f":"'[17]Список изделий'!Y37","v":0},{"$f":"'[17]Список изделий'!Z37","v":0},{"$f":"'[17]Список изделий'!AA37","v":0},{"$f":"'[17]Список изделий'!AB37","v":0},{"$f":"'[17]Список изделий'!AC37","v":"x"},{"$f":"'[17]Список изделий'!AD37","v":0},{"$f":"'[17]Список изделий'!AE37","v":0},{"$f":"'[17]Список изделий'!AF37","v":"00:00:00"},{"$f":"'[17]Список изделий'!AY37","v":0},{"$f":"'[17]Список изделий'!AZ37","v":"00:00:00"},-43153,-43153,1,1,{"$f":"'[17]Список изделий'!BR37","v":0},1]
[1536,{"$f":"'[17]Список изделий'!D38","v":36},{"$f":"'[17]Список изделий'!E38","v":0},{"$f":"'[17]Список изделий'!F38","v":0},{"$f":"'[17]Список изделий'!I38","v":0},{"$f":"'[17]Список изделий'!X38","v":0},{"$f":"'[17]Список изделий'!Y38","v":0},{"$f":"'[17]Список изделий'!Z38","v":0},{"$f":"'[17]Список изделий'!AA38","v":0},{"$f":"'[17]Список изделий'!AB38","v":0},{"$f":"'[17]Список изделий'!AC38","v":"x"},{"$f":"'[17]Список изделий'!AD38","v":0},{"$f":"'[17]Список изделий'!AE38","v":0},{"$f":"'[17]Список изделий'!AF38","v":"00:00:00"},{"$f":"'[17]Список изделий'!AY38","v":0},{"$f":"'[17]Список изделий'!AZ38","v":"00:00:00"},-43153,-43153,1,1,{"$f":"'[17]Список изделий'!BR38","v":0},1]
[1537,{"$f":"'[17]Список изделий'!D39","v":37},{"$f":"'[17]Список изделий'!E39","v":0},{"$f":"'[17]Список изделий'!F39","v":0},{"$f":"'[17]Список изделий'!I39","v":0},{"$f":"'[17]Список изделий'!X39","v":0},{"$f":"'[17]Список изделий'!Y39","v":0},{"$f":"'[17]Список изделий'!Z39","v":0},{"$f":"'[17]Список изделий'!AA39","v":0},{"$f":"'[17]Список изделий'!AB39","v":0},{"$f":"'[17]Список изделий'!AC39","v":"x"},{"$f":"'[17]Список изделий'!AD39","v":0},{"$f":"'[17]Список изделий'!AE39","v":0},{"$f":"'[17]Список изделий'!AF39","v":"00:00:00"},{"$f":"'[17]Список изделий'!AY39","v":0},{"$f":"'[17]Список изделий'!AZ39","v":"00:00:00"},-43153,-43153,0,0,{"$f":"'[17]Список изделий'!BR39","v":0},0]
[1538,{"$f":"'[17]Список изделий'!D40","v":38},{"$f":"'[17]Список изделий'!E40","v":0},{"$f":"'[17]Список изделий'!F40","v":0},{"$f":"'[17]Список изделий'!I40","v":0},{"$f":"'[17]Список изделий'!X40","v":0},{"$f":"'[17]Список изделий'!Y40","v":0},{"$f":"'[17]Список изделий'!Z40","v":0},{"$f":"'[17]Список изделий'!AA40","v":0},{"$f":"'[17]Список изделий'!AB40","v":0},{"$f":"'[17]Список изделий'!AC40","v":"x"},{"$f":"'[17]Список изделий'!AD40","v":0},{"$f":"'[17]Список изделий'!AE40","v":0},{"$f":"'[17]Список изделий'!AF40","v":"00:00:00"},{"$f":"'[17]Список изделий'!AY40","v":0},{"$f":"'[17]Список изделий'!AZ40","v":"00:00:00"},{"$f":"IF(O1540=\"нет в заказе\",\"нет в заказе\",-(TODAY()-(P1540-O1540)))","v":-43153},{"$f":"IF(Q1540=\"нет в заказе\",\"нет взаказе\",-(IF(O1540=\"нет в заказе\",\"нет в заказе\",TODAY()-P1540)))","v":-43153},1,1,{"$f":"'[17]Список изделий'!BR40","v":0},{"$f":"IF(S1540>=0,S1540,IF(T1540>S1540,T1540,S1540))","v":1}]
[1539,{"$f":"'[17]Список изделий'!D41","v":39},{"$f":"'[17]Список изделий'!E41","v":0},{"$f":"'[17]Список изделий'!F41","v":0},{"$f":"'[17]Список изделий'!I41","v":0},{"$f":"'[17]Список изделий'!X41","v":0},{"$f":"'[17]Список изделий'!Y41","v":0},{"$f":"'[17]Список изделий'!Z41","v":0},{"$f":"'[17]Список изделий'!AA41","v":0},{"$f":"'[17]Список изделий'!AB41","v":0},{"$f":"'[17]Список изделий'!AC41","v":"x"},{"$f":"'[17]Список изделий'!AD41","v":0},{"$f":"'[17]Список изделий'!AE41","v":0},{"$f":"'[17]Список изделий'!AF41","v":"00:00:00"},{"$f":"'[17]Список изделий'!AY41","v":0},{"$f":"'[17]Список изделий'!AZ41","v":"00:00:00"},-43153,-43153,0,0,{"$f":"'[17]Список изделий'!BR41","v":0},0]
[1540,{"$f":"'[17]Список изделий'!D42","v":40},{"$f":"'[17]Список изделий'!E42","v":0},{"$f":"'[17]Список изделий'!F42","v":0},{"$f":"'[17]Список изделий'!I42","v":0},{"$f":"'[17]Список изделий'!X42","v":0},{"$f":"'[17]Список изделий'!Y42","v":0},{"$f":"'[17]Список изделий'!Z42","v":0},{"$f":"'[17]Список изделий'!AA42","v":0},{"$f":"'[17]Список изделий'!AB42","v":0},{"$f":"'[17]Список изделий'!AC42","v":"x"},{"$f":"'[17]Список изделий'!AD42","v":0},{"$f":"'[17]Список изделий'!AE42","v":0},{"$f":"'[17]Список изделий'!AF42","v":"00:00:00"},{"$f":"'[17]Список изделий'!AY42","v":0},{"$f":"'[17]Список изделий'!AZ42","v":"00:00:00"},-43153,-43153,1,1,{"$f":"'[17]Список изделий'!BR42","v":0},1]
[1541,{"$f":"'[17]Список изделий'!D43","v":41},{"$f":"'[17]Список изделий'!E43","v":0},{"$f":"'[17]Список изделий'!F43","v":0},{"$f":"'[17]Список изделий'!I43","v":0},{"$f":"'[17]Список изделий'!X43","v":0},{"$f":"'[17]Список изделий'!Y43","v":0},{"$f":"'[17]Список изделий'!Z43","v":0},{"$f":"'[17]Список изделий'!AA43","v":0},{"$f":"'[17]Список изделий'!AB43","v":0},{"$f":"'[17]Список изделий'!AC43","v":"x"},{"$f":"'[17]Список изделий'!AD43","v":0},{"$f":"'[17]Список изделий'!AE43","v":0},{"$f":"'[17]Список изделий'!AF43","v":"00:00:00"},{"$f":"'[17]Список изделий'!AY43","v":0},{"$f":"'[17]Список изделий'!AZ43","v":"00:00:00"},-43153,-43153,1,1,{"$f":"'[17]Список изделий'!BR43","v":0},1]
[1542,{"$f":"'[17]Список изделий'!D44","v":42},{"$f":"'[17]Список изделий'!E44","v":0},{"$f":"'[17]Список изделий'!F44","v":0},{"$f":"'[17]Список изделий'!I44","v":0},{"$f":"'[17]Список изделий'!X44","v":0},{"$f":"'[17]Список изделий'!Y44","v":0},{"$f":"'[17]Список изделий'!Z44","v":0},{"$f":"'[17]Список изделий'!AA44","v":0},{"$f":"'[17]Список изделий'!AB44","v":0},{"$f":"'[17]Список изделий'!AC44","v":"x"},{"$f":"'[17]Список изделий'!AD44","v":0},{"$f":"'[17]Список изделий'!AE44","v":0},{"$f":"'[17]Список изделий'!AF44","v":"00:00:00"},{"$f":"'[17]Список изделий'!AY44","v":0},{"$f":"'[17]Список изделий'!AZ44","v":"00:00:00"},-43153,-43153,1,1,{"$f":"'[17]Список изделий'!BR44","v":0},1]
[1543,{"$f":"'[17]Список изделий'!D45","v":43},{"$f":"'[17]Список изделий'!E45","v":0},{"$f":"'[17]Список изделий'!F45","v":0},{"$f":"'[17]Список изделий'!I45","v":0},{"$f":"'[17]Список изделий'!X45","v":0},{"$f":"'[17]Список изделий'!Y45","v":0},{"$f":"'[17]Список изделий'!Z45","v":0},{"$f":"'[17]Список изделий'!AA45","v":0},{"$f":"'[17]Список изделий'!AB45","v":0},{"$f":"'[17]Список изделий'!AC45","v":"x"},{"$f":"'[17]Список изделий'!AD45","v":0},{"$f":"'[17]Список изделий'!AE45","v":0},{"$f":"'[17]Список изделий'!AF45","v":"00:00:00"},{"$f":"'[17]Список изделий'!AY45","v":0},{"$f":"'[17]Список изделий'!AZ45","v":"00:00:00"},-43153,-43153,1,1,{"$f":"'[17]Список изделий'!BR45","v":0},1]
[1544,{"$f":"'[17]Список изделий'!D46","v":44},{"$f":"'[17]Список изделий'!E46","v":0},{"$f":"'[17]Список изделий'!F46","v":0},{"$f":"'[17]Список изделий'!I46","v":0},{"$f":"'[17]Список изделий'!X46","v":0},{"$f":"'[17]Список изделий'!Y46","v":0},{"$f":"'[17]Список изделий'!Z46","v":0},{"$f":"'[17]Список изделий'!AA46","v":0},{"$f":"'[17]Список изделий'!AB46","v":0},{"$f":"'[17]Список изделий'!AC46","v":"x"},{"$f":"'[17]Список изделий'!AD46","v":0},{"$f":"'[17]Список изделий'!AE46","v":0},{"$f":"'[17]Список изделий'!AF46","v":"00:00:00"},{"$f":"'[17]Список изделий'!AY46","v":0},{"$f":"'[17]Список изделий'!AZ46","v":"00:00:00"},-43153,-43153,1,1,{"$f":"'[17]Список изделий'!BR46","v":0},1]
[1545,{"$f":"'[17]Список изделий'!D47","v":45},{"$f":"'[17]Список изделий'!E47","v":0},{"$f":"'[17]Список изделий'!F47","v":0},{"$f":"'[17]Список изделий'!I47","v":0},{"$f":"'[17]Список изделий'!X47","v":0},{"$f":"'[17]Список изделий'!Y47","v":0},{"$f":"'[17]Список изделий'!Z47","v":0},{"$f":"'[17]Список изделий'!AA47","v":0},{"$f":"'[17]Список изделий'!AB47","v":0},{"$f":"'[17]Список изделий'!AC47","v":"x"},{"$f":"'[17]Список изделий'!AD47","v":0},{"$f":"'[17]Список изделий'!AE47","v":0},{"$f":"'[17]Список изделий'!AF47","v":"00:00:00"},{"$f":"'[17]Список изделий'!AY47","v":0},{"$f":"'[17]Список изделий'!AZ47","v":"00:00:00"},-43153,-43153,0,0,{"$f":"'[17]Список изделий'!BR47","v":0},0]
[1546,{"$f":"'[17]Список изделий'!D48","v":46},{"$f":"'[17]Список изделий'!E48","v":0},{"$f":"'[17]Список изделий'!F48","v":0},{"$f":"'[17]Список изделий'!I48","v":0},{"$f":"'[17]Список изделий'!X48","v":0},{"$f":"'[17]Список изделий'!Y48","v":0},{"$f":"'[17]Список изделий'!Z48","v":0},{"$f":"'[17]Список изделий'!AA48","v":0},{"$f":"'[17]Список изделий'!AB48","v":0},{"$f":"'[17]Список изделий'!AC48","v":"x"},{"$f":"'[17]Список изделий'!AD48","v":0},{"$f":"'[17]Список изделий'!AE48","v":0},{"$f":"'[17]Список изделий'!AF48","v":"00:00:00"},{"$f":"'[17]Список изделий'!AY48","v":0},{"$f":"'[17]Список изделий'!AZ48","v":"00:00:00"},-43153,-43153,1,1,{"$f":"'[17]Список изделий'!BR48","v":0},1]
[1547,{"$f":"'[17]Список изделий'!D49","v":47},{"$f":"'[17]Список изделий'!E49","v":0},{"$f":"'[17]Список изделий'!F49","v":0},{"$f":"'[17]Список изделий'!I49","v":0},{"$f":"'[17]Список изделий'!X49","v":0},{"$f":"'[17]Список изделий'!Y49","v":0},{"$f":"'[17]Список изделий'!Z49","v":0},{"$f":"'[17]Список изделий'!AA49","v":0},{"$f":"'[17]Список изделий'!AB49","v":0},{"$f":"'[17]Список изделий'!AC49","v":"x"},{"$f":"'[17]Список изделий'!AD49","v":0},{"$f":"'[17]Список изделий'!AE49","v":0},{"$f":"'[17]Список изделий'!AF49","v":"00:00:00"},{"$f":"'[17]Список изделий'!AY49","v":0},{"$f":"'[17]Список изделий'!AZ49","v":"00:00:00"},-43153,-43153,1,1,{"$f":"'[17]Список изделий'!BR49","v":0},1]
[1548,{"$f":"'[17]Список изделий'!D50","v":48},{"$f":"'[17]Список изделий'!E50","v":0},{"$f":"'[17]Список изделий'!F50","v":0},{"$f":"'[17]Список изделий'!I50","v":0},{"$f":"'[17]Список изделий'!X50","v":0},{"$f":"'[17]Список изделий'!Y50","v":0},{"$f":"'[17]Список изделий'!Z50","v":0},{"$f":"'[17]Список изделий'!AA50","v":0},{"$f":"'[17]Список изделий'!AB50","v":0},{"$f":"'[17]Список изделий'!AC50","v":"x"},{"$f":"'[17]Список изделий'!AD50","v":0},{"$f":"'[17]Список изделий'!AE50","v":0},{"$f":"'[17]Список изделий'!AF50","v":"00:00:00"},{"$f":"'[17]Список изделий'!AY50","v":0},{"$f":"'[17]Список изделий'!AZ50","v":"00:00:00"},-43153,-43153,1,1,{"$f":"'[17]Список изделий'!BR50","v":0},1]
[1549,{"$f":"'[17]Список изделий'!D51","v":49},{"$f":"'[17]Список изделий'!E51","v":0},{"$f":"'[17]Список изделий'!F51","v":0},{"$f":"'[17]Список изделий'!I51","v":0},{"$f":"'[17]Список изделий'!X51","v":0},{"$f":"'[17]Список изделий'!Y51","v":0},{"$f":"'[17]Список изделий'!Z51","v":0},{"$f":"'[17]Список изделий'!AA51","v":0},{"$f":"'[17]Список изделий'!AB51","v":0},{"$f":"'[17]Список изделий'!AC51","v":"x"},{"$f":"'[17]Список изделий'!AD51","v":0},{"$f":"'[17]Список изделий'!AE51","v":0},{"$f":"'[17]Список изделий'!AF51","v":"00:00:00"},{"$f":"'[17]Список изделий'!AY51","v":0},{"$f":"'[17]Список изделий'!AZ51","v":"00:00:00"},-43153,-43153,1,1,{"$f":"'[17]Список изделий'!BR51","v":0},1]
[1550,{"$f":"'[17]Список изделий'!D52","v":50},{"$f":"'[17]Список изделий'!E52","v":0},{"$f":"'[17]Список изделий'!F52","v":0},{"$f":"'[17]Список изделий'!I52","v":0},{"$f":"'[17]Список изделий'!X52","v":0},{"$f":"'[17]Список изделий'!Y52","v":0},{"$f":"'[17]Список изделий'!Z52","v":0},{"$f":"'[17]Список изделий'!AA52","v":0},{"$f":"'[17]Список изделий'!AB52","v":0},{"$f":"'[17]Список изделий'!AC52","v":"x"},{"$f":"'[17]Список изделий'!AD52","v":0},{"$f":"'[17]Список изделий'!AE52","v":0},{"$f":"'[17]Список изделий'!AF52","v":"00:00:00"},{"$f":"'[17]Список изделий'!AY52","v":0},{"$f":"'[17]Список изделий'!AZ52","v":"00:00:00"},-43153,-43153,1,1,{"$f":"'[17]Список изделий'!BR52","v":0},1]
[1551,{"$f":"'[17]Список изделий'!D53","v":51},{"$f":"'[17]Список изделий'!E53","v":0},{"$f":"'[17]Список изделий'!F53","v":0},{"$f":"'[17]Список изделий'!I53","v":0},{"$f":"'[17]Список изделий'!X53","v":0},{"$f":"'[17]Список изделий'!Y53","v":0},{"$f":"'[17]Список изделий'!Z53","v":0},{"$f":"'[17]Список изделий'!AA53","v":0},{"$f":"'[17]Список изделий'!AB53","v":0},{"$f":"'[17]Список изделий'!AC53","v":"x"},{"$f":"'[17]Список изделий'!AD53","v":0},{"$f":"'[17]Список изделий'!AE53","v":0},{"$f":"'[17]Список изделий'!AF53","v":"00:00:00"},{"$f":"'[17]Список изделий'!AY53","v":0},{"$f":"'[17]Список изделий'!AZ53","v":"00:00:00"},-43153,-43153,1,1,{"$f":"'[17]Список изделий'!BR53","v":0},1]
[1552,{"$f":"'[17]Список изделий'!D54","v":52},{"$f":"'[17]Список изделий'!E54","v":0},{"$f":"'[17]Список изделий'!F54","v":0},{"$f":"'[17]Список изделий'!I54","v":0},{"$f":"'[17]Список изделий'!X54","v":0},{"$f":"'[17]Список изделий'!Y54","v":0},{"$f":"'[17]Список изделий'!Z54","v":0},{"$f":"'[17]Список изделий'!AA54","v":0},{"$f":"'[17]Список изделий'!AB54","v":0},{"$f":"'[17]Список изделий'!AC54","v":"x"},{"$f":"'[17]Список изделий'!AD54","v":0},{"$f":"'[17]Список изделий'!AE54","v":0},{"$f":"'[17]Список изделий'!AF54","v":"00:00:00"},{"$f":"'[17]Список изделий'!AY54","v":0},{"$f":"'[17]Список изделий'!AZ54","v":"00:00:00"},-43153,-43153,1,1,{"$f":"'[17]Список изделий'!BR54","v":0},1]
[1553,{"$f":"'[17]Список изделий'!D55","v":53},{"$f":"'[17]Список изделий'!E55","v":0},{"$f":"'[17]Список изделий'!F55","v":0},{"$f":"'[17]Список изделий'!I55","v":0},{"$f":"'[17]Список изделий'!X55","v":0},{"$f":"'[17]Список изделий'!Y55","v":0},{"$f":"'[17]Список изделий'!Z55","v":0},{"$f":"'[17]Список изделий'!AA55","v":0},{"$f":"'[17]Список изделий'!AB55","v":0},{"$f":"'[17]Список изделий'!AC55","v":"x"},{"$f":"'[17]Список изделий'!AD55","v":0},{"$f":"'[17]Список изделий'!AE55","v":0},{"$f":"'[17]Список изделий'!AF55","v":"00:00:00"},{"$f":"'[17]Список изделий'!AY55","v":0},{"$f":"'[17]Список изделий'!AZ55","v":"00:00:00"},-43153,-43153,0,0,{"$f":"'[17]Список изделий'!BR55","v":0},0]
[1554,{"$f":"'[17]Список изделий'!D56","v":54},{"$f":"'[17]Список изделий'!E56","v":0},{"$f":"'[17]Список изделий'!F56","v":0},{"$f":"'[17]Список изделий'!I56","v":0},{"$f":"'[17]Список изделий'!X56","v":0},{"$f":"'[17]Список изделий'!Y56","v":0},{"$f":"'[17]Список изделий'!Z56","v":0},{"$f":"'[17]Список изделий'!AA56","v":0},{"$f":"'[17]Список изделий'!AB56","v":0},{"$f":"'[17]Список изделий'!AC56","v":"x"},{"$f":"'[17]Список изделий'!AD56","v":0},{"$f":"'[17]Список изделий'!AE56","v":0},{"$f":"'[17]Список изделий'!AF56","v":"00:00:00"},{"$f":"'[17]Список изделий'!AY56","v":0},{"$f":"'[17]Список изделий'!AZ56","v":"00:00:00"},-43153,-43153,1,1,{"$f":"'[17]Список изделий'!BR56","v":0},1]
[1555,{"$f":"'[17]Список изделий'!D57","v":55},{"$f":"'[17]Список изделий'!E57","v":0},{"$f":"'[17]Список изделий'!F57","v":0},{"$f":"'[17]Список изделий'!I57","v":0},{"$f":"'[17]Список изделий'!X57","v":0},{"$f":"'[17]Список изделий'!Y57","v":0},{"$f":"'[17]Список изделий'!Z57","v":0},{"$f":"'[17]Список изделий'!AA57","v":0},{"$f":"'[17]Список изделий'!AB57","v":0},{"$f":"'[17]Список изделий'!AC57","v":"x"},{"$f":"'[17]Список изделий'!AD57","v":0},{"$f":"'[17]Список изделий'!AE57","v":0},{"$f":"'[17]Список изделий'!AF57","v":"00:00:00"},{"$f":"'[17]Список изделий'!AY57","v":0},{"$f":"'[17]Список изделий'!AZ57","v":"00:00:00"},-43153,-43153,0,0,{"$f":"'[17]Список изделий'!BR57","v":0},0]
[1556,{"$f":"'[17]Список изделий'!D58","v":56},{"$f":"'[17]Список изделий'!E58","v":0},{"$f":"'[17]Список изделий'!F58","v":0},{"$f":"'[17]Список изделий'!I58","v":0},{"$f":"'[17]Список изделий'!X58","v":0},{"$f":"'[17]Список изделий'!Y58","v":0},{"$f":"'[17]Список изделий'!Z58","v":0},{"$f":"'[17]Список изделий'!AA58","v":0},{"$f":"'[17]Список изделий'!AB58","v":0},{"$f":"'[17]Список изделий'!AC58","v":"x"},{"$f":"'[17]Список изделий'!AD58","v":0},{"$f":"'[17]Список изделий'!AE58","v":0},{"$f":"'[17]Список изделий'!AF58","v":"00:00:00"},{"$f":"'[17]Список изделий'!AY58","v":0},{"$f":"'[17]Список изделий'!AZ58","v":"00:00:00"},-43153,-43153,1,1,{"$f":"'[17]Список изделий'!BR58","v":0},1]
[1557,{"$f":"'[17]Список изделий'!D59","v":57},{"$f":"'[17]Список изделий'!E59","v":0},{"$f":"'[17]Список изделий'!F59","v":0},{"$f":"'[17]Список изделий'!I59","v":0},{"$f":"'[17]Список изделий'!X59","v":0},{"$f":"'[17]Список изделий'!Y59","v":0},{"$f":"'[17]Список изделий'!Z59","v":0},{"$f":"'[17]Список изделий'!AA59","v":0},{"$f":"'[17]Список изделий'!AB59","v":0},{"$f":"'[17]Список изделий'!AC59","v":"x"},{"$f":"'[17]Список изделий'!AD59","v":0},{"$f":"'[17]Список изделий'!AE59","v":0},{"$f":"'[17]Список изделий'!AF59","v":"00:00:00"},{"$f":"'[17]Список изделий'!AY59","v":0},{"$f":"'[17]Список изделий'!AZ59","v":"00:00:00"},-43153,-43153,1,1,{"$f":"'[17]Список изделий'!BR59","v":0},1]
[1558,{"$f":"'[17]Список изделий'!D60","v":58},{"$f":"'[17]Список изделий'!E60","v":0},{"$f":"'[17]Список изделий'!F60","v":0},{"$f":"'[17]Список изделий'!I60","v":0},{"$f":"'[17]Список изделий'!X60","v":0},{"$f":"'[17]Список изделий'!Y60","v":0},{"$f":"'[17]Список изделий'!Z60","v":0},{"$f":"'[17]Список изделий'!AA60","v":0},{"$f":"'[17]Список изделий'!AB60","v":0},{"$f":"'[17]Список изделий'!AC60","v":"x"},{"$f":"'[17]Список изделий'!AD60","v":0},{"$f":"'[17]Список изделий'!AE60","v":0},{"$f":"'[17]Список изделий'!AF60","v":"00:00:00"},{"$f":"'[17]Список изделий'!AY60","v":0},{"$f":"'[17]Список изделий'!AZ60","v":"00:00:00"},-43153,-43153,1,1,{"$f":"'[17]Список изделий'!BR60","v":0},1]
[1559,{"$f":"'[17]Список изделий'!D61","v":59},{"$f":"'[17]Список изделий'!E61","v":0},{"$f":"'[17]Список изделий'!F61","v":0},{"$f":"'[17]Список изделий'!I61","v":0},{"$f":"'[17]Список изделий'!X61","v":0},{"$f":"'[17]Список изделий'!Y61","v":0},{"$f":"'[17]Список изделий'!Z61","v":0},{"$f":"'[17]Список изделий'!AA61","v":0},{"$f":"'[17]Список изделий'!AB61","v":0},{"$f":"'[17]Список изделий'!AC61","v":"x"},{"$f":"'[17]Список изделий'!AD61","v":0},{"$f":"'[17]Список изделий'!AE61","v":0},{"$f":"'[17]Список изделий'!AF61","v":"00:00:00"},{"$f":"'[17]Список изделий'!AY61","v":0},{"$f":"'[17]Список изделий'!AZ61","v":"00:00:00"},-43153,-43153,0,0,{"$f":"'[17]Список изделий'!BR61","v":0},0]
[1560,{"$f":"'[17]Список изделий'!D62","v":60},{"$f":"'[17]Список изделий'!E62","v":0},{"$f":"'[17]Список изделий'!F62","v":0},{"$f":"'[17]Список изделий'!I62","v":0},{"$f":"'[17]Список изделий'!X62","v":0},{"$f":"'[17]Список изделий'!Y62","v":0},{"$f":"'[17]Список изделий'!Z62","v":0},{"$f":"'[17]Список изделий'!AA62","v":0},{"$f":"'[17]Список изделий'!AB62","v":0},{"$f":"'[17]Список изделий'!AC62","v":"x"},{"$f":"'[17]Список изделий'!AD62","v":0},{"$f":"'[17]Список изделий'!AE62","v":0},{"$f":"'[17]Список изделий'!AF62","v":"00:00:00"},{"$f":"'[17]Список изделий'!AY62","v":0},{"$f":"'[17]Список изделий'!AZ62","v":"00:00:00"},-43153,-43153,0,0,{"$f":"'[17]Список изделий'!BR62","v":0},0]
[1561,{"$f":"'[17]Список изделий'!D63","v":61},{"$f":"'[17]Список изделий'!E63","v":0},{"$f":"'[17]Список изделий'!F63","v":0},{"$f":"'[17]Список изделий'!I63","v":0},{"$f":"'[17]Список изделий'!X63","v":0},{"$f":"'[17]Список изделий'!Y63","v":0},{"$f":"'[17]Список изделий'!Z63","v":0},{"$f":"'[17]Список изделий'!AA63","v":0},{"$f":"'[17]Список изделий'!AB63","v":0},{"$f":"'[17]Список изделий'!AC63","v":"x"},{"$f":"'[17]Список изделий'!AD63","v":0},{"$f":"'[17]Список изделий'!AE63","v":0},{"$f":"'[17]Список изделий'!AF63","v":"00:00:00"},{"$f":"'[17]Список изделий'!AY63","v":0},{"$f":"'[17]Список изделий'!AZ63","v":"00:00:00"},-43153,-43153,1,1,{"$f":"'[17]Список изделий'!BR63","v":0},1]
[1562,{"$f":"'[17]Список изделий'!D64","v":62},{"$f":"'[17]Список изделий'!E64","v":0},{"$f":"'[17]Список изделий'!F64","v":0},{"$f":"'[17]Список изделий'!I64","v":0},{"$f":"'[17]Список изделий'!X64","v":0},{"$f":"'[17]Список изделий'!Y64","v":0},{"$f":"'[17]Список изделий'!Z64","v":0},{"$f":"'[17]Список изделий'!AA64","v":0},{"$f":"'[17]Список изделий'!AB64","v":0},{"$f":"'[17]Список изделий'!AC64","v":"x"},{"$f":"'[17]Список изделий'!AD64","v":0},{"$f":"'[17]Список изделий'!AE64","v":0},{"$f":"'[17]Список изделий'!AF64","v":"00:00:00"},{"$f":"'[17]Список изделий'!AY64","v":0},{"$f":"'[17]Список изделий'!AZ64","v":"00:00:00"},-43153,-43153,1,1,{"$f":"'[17]Список изделий'!BR64","v":0},1]
[1563,{"$f":"'[17]Список изделий'!D65","v":63},{"$f":"'[17]Список изделий'!E65","v":0},{"$f":"'[17]Список изделий'!F65","v":0},{"$f":"'[17]Список изделий'!I65","v":0},{"$f":"'[17]Список изделий'!X65","v":0},{"$f":"'[17]Список изделий'!Y65","v":0},{"$f":"'[17]Список изделий'!Z65","v":0},{"$f":"'[17]Список изделий'!AA65","v":0},{"$f":"'[17]Список изделий'!AB65","v":0},{"$f":"'[17]Список изделий'!AC65","v":"x"},{"$f":"'[17]Список изделий'!AD65","v":0},{"$f":"'[17]Список изделий'!AE65","v":0},{"$f":"'[17]Список изделий'!AF65","v":"00:00:00"},{"$f":"'[17]Список изделий'!AY65","v":0},{"$f":"'[17]Список изделий'!AZ65","v":"00:00:00"},-43153,-43153,0,0,{"$f":"'[17]Список изделий'!BR65","v":0},0]
[1564,{"$f":"'[17]Список изделий'!D66","v":64},{"$f":"'[17]Список изделий'!E66","v":0},{"$f":"'[17]Список изделий'!F66","v":0},{"$f":"'[17]Список изделий'!I66","v":0},{"$f":"'[17]Список изделий'!X66","v":0},{"$f":"'[17]Список изделий'!Y66","v":0},{"$f":"'[17]Список изделий'!Z66","v":0},{"$f":"'[17]Список изделий'!AA66","v":0},{"$f":"'[17]Список изделий'!AB66","v":0},{"$f":"'[17]Список изделий'!AC66","v":"x"},{"$f":"'[17]Список изделий'!AD66","v":0},{"$f":"'[17]Список изделий'!AE66","v":0},{"$f":"'[17]Список изделий'!AF66","v":"00:00:00"},{"$f":"'[17]Список изделий'!AY66","v":0},{"$f":"'[17]Список изделий'!AZ66","v":"00:00:00"},-43153,-43153,0,0,{"$f":"'[17]Список изделий'!BR66","v":0},0]
[1565,{"$f":"'[17]Список изделий'!D67","v":65},{"$f":"'[17]Список изделий'!E67","v":0},{"$f":"'[17]Список изделий'!F67","v":0},{"$f":"'[17]Список изделий'!I67","v":0},{"$f":"'[17]Список изделий'!X67","v":0},{"$f":"'[17]Список изделий'!Y67","v":0},{"$f":"'[17]Список изделий'!Z67","v":0},{"$f":"'[17]Список изделий'!AA67","v":0},{"$f":"'[17]Список изделий'!AB67","v":0},{"$f":"'[17]Список изделий'!AC67","v":"x"},{"$f":"'[17]Список изделий'!AD67","v":0},{"$f":"'[17]Список изделий'!AE67","v":0},{"$f":"'[17]Список изделий'!AF67","v":"00:00:00"},{"$f":"'[17]Список изделий'!AY67","v":0},{"$f":"'[17]Список изделий'!AZ67","v":"00:00:00"},-43153,-43153,0,0,{"$f":"'[17]Список изделий'!BR67","v":0},0]
[1566,{"$f":"'[17]Список изделий'!D68","v":66},{"$f":"'[17]Список изделий'!E68","v":0},{"$f":"'[17]Список изделий'!F68","v":0},{"$f":"'[17]Список изделий'!I68","v":0},{"$f":"'[17]Список изделий'!X68","v":0},{"$f":"'[17]Список изделий'!Y68","v":0},{"$f":"'[17]Список изделий'!Z68","v":0},{"$f":"'[17]Список изделий'!AA68","v":0},{"$f":"'[17]Список изделий'!AB68","v":0},{"$f":"'[17]Список изделий'!AC68","v":"x"},{"$f":"'[17]Список изделий'!AD68","v":0},{"$f":"'[17]Список изделий'!AE68","v":0},{"$f":"'[17]Список изделий'!AF68","v":"00:00:00"},{"$f":"'[17]Список изделий'!AY68","v":0},{"$f":"'[17]Список изделий'!AZ68","v":"00:00:00"},-43153,-43153,0,0,{"$f":"'[17]Список изделий'!BR68","v":0},0]
[1567,{"$f":"'[17]Список изделий'!D69","v":67},{"$f":"'[17]Список изделий'!E69","v":0},{"$f":"'[17]Список изделий'!F69","v":0},{"$f":"'[17]Список изделий'!I69","v":0},{"$f":"'[17]Список изделий'!X69","v":0},{"$f":"'[17]Список изделий'!Y69","v":0},{"$f":"'[17]Список изделий'!Z69","v":0},{"$f":"'[17]Список изделий'!AA69","v":0},{"$f":"'[17]Список изделий'!AB69","v":0},{"$f":"'[17]Список изделий'!AC69","v":"x"},{"$f":"'[17]Список изделий'!AD69","v":0},{"$f":"'[17]Список изделий'!AE69","v":0},{"$f":"'[17]Список изделий'!AF69","v":"00:00:00"},{"$f":"'[17]Список изделий'!AY69","v":0},{"$f":"'[17]Список изделий'!AZ69","v":"00:00:00"},-43153,-43153,0,0,{"$f":"'[17]Список изделий'!BR69","v":0},0]
[1568,{"$f":"'[17]Список изделий'!D70","v":68},{"$f":"'[17]Список изделий'!E70","v":0},{"$f":"'[17]Список изделий'!F70","v":0},{"$f":"'[17]Список изделий'!I70","v":0},{"$f":"'[17]Список изделий'!X70","v":0},{"$f":"'[17]Список изделий'!Y70","v":0},{"$f":"'[17]Список изделий'!Z70","v":0},{"$f":"'[17]Список изделий'!AA70","v":0},{"$f":"'[17]Список изделий'!AB70","v":0},{"$f":"'[17]Список изделий'!AC70","v":"x"},{"$f":"'[17]Список изделий'!AD70","v":0},{"$f":"'[17]Список изделий'!AE70","v":0},{"$f":"'[17]Список изделий'!AF70","v":"00:00:00"},{"$f":"'[17]Список изделий'!AY70","v":0},{"$f":"'[17]Список изделий'!AZ70","v":"00:00:00"},-43153,-43153,1,1,{"$f":"'[17]Список изделий'!BR70","v":0},1]
[1569,{"$f":"'[17]Список изделий'!D71","v":69},{"$f":"'[17]Список изделий'!E71","v":0},{"$f":"'[17]Список изделий'!F71","v":0},{"$f":"'[17]Список изделий'!I71","v":0},{"$f":"'[17]Список изделий'!X71","v":0},{"$f":"'[17]Список изделий'!Y71","v":0},{"$f":"'[17]Список изделий'!Z71","v":0},{"$f":"'[17]Список изделий'!AA71","v":0},{"$f":"'[17]Список изделий'!AB71","v":0},{"$f":"'[17]Список изделий'!AC71","v":"x"},{"$f":"'[17]Список изделий'!AD71","v":0},{"$f":"'[17]Список изделий'!AE71","v":0},{"$f":"'[17]Список изделий'!AF71","v":"00:00:00"},{"$f":"'[17]Список изделий'!AY71","v":0},{"$f":"'[17]Список изделий'!AZ71","v":"00:00:00"},-43153,-43153,0,0,{"$f":"'[17]Список изделий'!BR71","v":0},0]
[1570,{"$f":"'[17]Список изделий'!D72","v":70},{"$f":"'[17]Список изделий'!E72","v":0},{"$f":"'[17]Список изделий'!F72","v":0},{"$f":"'[17]Список изделий'!I72","v":0},{"$f":"'[17]Список изделий'!X72","v":0},{"$f":"'[17]Список изделий'!Y72","v":0},{"$f":"'[17]Список изделий'!Z72","v":0},{"$f":"'[17]Список изделий'!AA72","v":0},{"$f":"'[17]Список изделий'!AB72","v":0},{"$f":"'[17]Список изделий'!AC72","v":"x"},{"$f":"'[17]Список изделий'!AD72","v":0},{"$f":"'[17]Список изделий'!AE72","v":0},{"$f":"'[17]Список изделий'!AF72","v":"00:00:00"},{"$f":"'[17]Список изделий'!AY72","v":0},{"$f":"'[17]Список изделий'!AZ72","v":"00:00:00"},-43153,-43153,0,0,{"$f":"'[17]Список изделий'!BR72","v":0},0]
[1571,{"$f":"'[17]Список изделий'!D73","v":71},{"$f":"'[17]Список изделий'!E73","v":0},{"$f":"'[17]Список изделий'!F73","v":0},{"$f":"'[17]Список изделий'!I73","v":0},{"$f":"'[17]Список изделий'!X73","v":0},{"$f":"'[17]Список изделий'!Y73","v":0},{"$f":"'[17]Список изделий'!Z73","v":0},{"$f":"'[17]Список изделий'!AA73","v":0},{"$f":"'[17]Список изделий'!AB73","v":0},{"$f":"'[17]Список изделий'!AC73","v":"x"},{"$f":"'[17]Список изделий'!AD73","v":0},{"$f":"'[17]Список изделий'!AE73","v":0},{"$f":"'[17]Список изделий'!AF73","v":"00:00:00"},{"$f":"'[17]Список изделий'!AY73","v":0},{"$f":"'[17]Список изделий'!AZ73","v":"00:00:00"},-43153,-43153,0,0,{"$f":"'[17]Список изделий'!BR73","v":0},0]
[1572,{"$f":"'[17]Список изделий'!D74","v":72},{"$f":"'[17]Список изделий'!E74","v":0},{"$f":"'[17]Список изделий'!F74","v":0},{"$f":"'[17]Список изделий'!I74","v":0},{"$f":"'[17]Список изделий'!X74","v":0},{"$f":"'[17]Список изделий'!Y74","v":0},{"$f":"'[17]Список изделий'!Z74","v":0},{"$f":"'[17]Список изделий'!AA74","v":0},{"$f":"'[17]Список изделий'!AB74","v":0},{"$f":"'[17]Список изделий'!AC74","v":"x"},{"$f":"'[17]Список изделий'!AD74","v":0},{"$f":"'[17]Список изделий'!AE74","v":0},{"$f":"'[17]Список изделий'!AF74","v":"00:00:00"},{"$f":"'[17]Список изделий'!AY74","v":0},{"$f":"'[17]Список изделий'!AZ74","v":"00:00:00"},-43153,-43153,0,0,{"$f":"'[17]Список изделий'!BR74","v":0},0]
[1573,{"$f":"'[17]Список изделий'!D75","v":73},{"$f":"'[17]Список изделий'!E75","v":0},{"$f":"'[17]Список изделий'!F75","v":0},{"$f":"'[17]Список изделий'!I75","v":0},{"$f":"'[17]Список изделий'!X75","v":0},{"$f":"'[17]Список изделий'!Y75","v":0},{"$f":"'[17]Список изделий'!Z75","v":0},{"$f":"'[17]Список изделий'!AA75","v":0},{"$f":"'[17]Список изделий'!AB75","v":0},{"$f":"'[17]Список изделий'!AC75","v":"x"},{"$f":"'[17]Список изделий'!AD75","v":0},{"$f":"'[17]Список изделий'!AE75","v":0},{"$f":"'[17]Список изделий'!AF75","v":"00:00:00"},{"$f":"'[17]Список изделий'!AY75","v":0},{"$f":"'[17]Список изделий'!AZ75","v":"00:00:00"},-43153,-43153,0,0,{"$f":"'[17]Список изделий'!BR75","v":0},0]
[1574,{"$f":"'[17]Список изделий'!D76","v":74},{"$f":"'[17]Список изделий'!E76","v":0},{"$f":"'[17]Список изделий'!F76","v":0},{"$f":"'[17]Список изделий'!I76","v":0},{"$f":"'[17]Список изделий'!X76","v":0},{"$f":"'[17]Список изделий'!Y76","v":0},{"$f":"'[17]Список изделий'!Z76","v":0},{"$f":"'[17]Список изделий'!AA76","v":0},{"$f":"'[17]Список изделий'!AB76","v":0},{"$f":"'[17]Список изделий'!AC76","v":"x"},{"$f":"'[17]Список изделий'!AD76","v":0},{"$f":"'[17]Список изделий'!AE76","v":0},{"$f":"'[17]Список изделий'!AF76","v":"00:00:00"},{"$f":"'[17]Список изделий'!AY76","v":0},{"$f":"'[17]Список изделий'!AZ76","v":"00:00:00"},-43153,-43153,0,{"$f":"V1576","v":0},{"$f":"'[17]Список изделий'!BR76","v":0},0]
[1575,{"$f":"'[17]Список изделий'!D77","v":75},{"$f":"'[17]Список изделий'!E77","v":0},{"$f":"'[17]Список изделий'!F77","v":0},{"$f":"'[17]Список изделий'!I77","v":0},{"$f":"'[17]Список изделий'!X77","v":0},{"$f":"'[17]Список изделий'!Y77","v":0},{"$f":"'[17]Список изделий'!Z77","v":0},{"$f":"'[17]Список изделий'!AA77","v":0},{"$f":"'[17]Список изделий'!AB77","v":0},{"$f":"'[17]Список изделий'!AC77","v":"x"},{"$f":"'[17]Список изделий'!AD77","v":0},{"$f":"'[17]Список изделий'!AE77","v":0},{"$f":"'[17]Список изделий'!AF77","v":"00:00:00"},{"$f":"'[17]Список изделий'!AY77","v":0},{"$f":"'[17]Список изделий'!AZ77","v":"00:00:00"},-43153,-43153,0,0,{"$f":"'[17]Список изделий'!BR77","v":0},0]
[1576,{"$f":"'[17]Список изделий'!D78","v":76},{"$f":"'[17]Список изделий'!E78","v":0},{"$f":"'[17]Список изделий'!F78","v":0},{"$f":"'[17]Список изделий'!I78","v":0},{"$f":"'[17]Список изделий'!X78","v":0},{"$f":"'[17]Список изделий'!Y78","v":0},{"$f":"'[17]Список изделий'!Z78","v":0},{"$f":"'[17]Список изделий'!AA78","v":0},{"$f":"'[17]Список изделий'!AB78","v":0},{"$f":"'[17]Список изделий'!AC78","v":"x"},{"$f":"'[17]Список изделий'!AD78","v":0},{"$f":"'[17]Список изделий'!AE78","v":0},{"$f":"'[17]Список изделий'!AF78","v":"00:00:00"},{"$f":"'[17]Список изделий'!AY78","v":0},{"$f":"'[17]Список изделий'!AZ78","v":"00:00:00"},-43153,-43153,1,1,{"$f":"'[17]Список изделий'!BR78","v":0},1]
[1577,{"$f":"'[17]Список изделий'!D79","v":77},{"$f":"'[17]Список изделий'!E79","v":0},{"$f":"'[17]Список изделий'!F79","v":0},{"$f":"'[17]Список изделий'!I79","v":0},{"$f":"'[17]Список изделий'!X79","v":0},{"$f":"'[17]Список изделий'!Y79","v":0},{"$f":"'[17]Список изделий'!Z79","v":0},{"$f":"'[17]Список изделий'!AA79","v":0},{"$f":"'[17]Список изделий'!AB79","v":0},{"$f":"'[17]Список изделий'!AC79","v":"x"},{"$f":"'[17]Список изделий'!AD79","v":0},{"$f":"'[17]Список изделий'!AE79","v":0},{"$f":"'[17]Список изделий'!AF79","v":"00:00:00"},{"$f":"'[17]Список изделий'!AY79","v":0},{"$f":"'[17]Список изделий'!AZ79","v":"00:00:00"},-43153,-43153,1,1,{"$f":"'[17]Список изделий'!BR79","v":0},1]
[1578,{"$f":"'[17]Список изделий'!D80","v":78},{"$f":"'[17]Список изделий'!E80","v":0},{"$f":"'[17]Список изделий'!F80","v":0},{"$f":"'[17]Список изделий'!I80","v":0},{"$f":"'[17]Список изделий'!X80","v":0},{"$f":"'[17]Список изделий'!Y80","v":0},{"$f":"'[17]Список изделий'!Z80","v":0},{"$f":"'[17]Список изделий'!AA80","v":0},{"$f":"'[17]Список изделий'!AB80","v":0},{"$f":"'[17]Список изделий'!AC80","v":"x"},{"$f":"'[17]Список изделий'!AD80","v":0},{"$f":"'[17]Список изделий'!AE80","v":0},{"$f":"'[17]Список изделий'!AF80","v":"00:00:00"},{"$f":"'[17]Список изделий'!AY80","v":0},{"$f":"'[17]Список изделий'!AZ80","v":"00:00:00"},-43153,-43153,0,0,{"$f":"'[17]Список изделий'!BR80","v":0},0]
[1579,{"$f":"'[17]Список изделий'!D81","v":79},{"$f":"'[17]Список изделий'!E81","v":0},{"$f":"'[17]Список изделий'!F81","v":0},{"$f":"'[17]Список изделий'!I81","v":0},{"$f":"'[17]Список изделий'!X81","v":0},{"$f":"'[17]Список изделий'!Y81","v":0},{"$f":"'[17]Список изделий'!Z81","v":0},{"$f":"'[17]Список изделий'!AA81","v":0},{"$f":"'[17]Список изделий'!AB81","v":0},{"$f":"'[17]Список изделий'!AC81","v":"x"},{"$f":"'[17]Список изделий'!AD81","v":0},{"$f":"'[17]Список изделий'!AE81","v":0},{"$f":"'[17]Список изделий'!AF81","v":"00:00:00"},{"$f":"'[17]Список изделий'!AY81","v":0},{"$f":"'[17]Список изделий'!AZ81","v":"00:00:00"},-43153,-43153,0,0,{"$f":"'[17]Список изделий'!BR81","v":0},0]
[1580,{"$f":"'[17]Список изделий'!D82","v":80},{"$f":"'[17]Список изделий'!E82","v":0},{"$f":"'[17]Список изделий'!F82","v":0},{"$f":"'[17]Список изделий'!I82","v":0},{"$f":"'[17]Список изделий'!X82","v":0},{"$f":"'[17]Список изделий'!Y82","v":0},{"$f":"'[17]Список изделий'!Z82","v":0},{"$f":"'[17]Список изделий'!AA82","v":0},{"$f":"'[17]Список изделий'!AB82","v":0},{"$f":"'[17]Список изделий'!AC82","v":"x"},{"$f":"'[17]Список изделий'!AD82","v":0},{"$f":"'[17]Список изделий'!AE82","v":0},{"$f":"'[17]Список изделий'!AF82","v":"00:00:00"},{"$f":"'[17]Список изделий'!AY82","v":0},{"$f":"'[17]Список изделий'!AZ82","v":"00:00:00"},-43153,-43153,0,0,{"$f":"'[17]Список изделий'!BR82","v":0},0]
[1581,{"$f":"'[17]Список изделий'!D83","v":81},{"$f":"'[17]Список изделий'!E83","v":0},{"$f":"'[17]Список изделий'!F83","v":0},{"$f":"'[17]Список изделий'!I83","v":0},{"$f":"'[17]Список изделий'!X83","v":0},{"$f":"'[17]Список изделий'!Y83","v":0},{"$f":"'[17]Список изделий'!Z83","v":0},{"$f":"'[17]Список изделий'!AA83","v":0},{"$f":"'[17]Список изделий'!AB83","v":0},{"$f":"'[17]Список изделий'!AC83","v":"x"},{"$f":"'[17]Список изделий'!AD83","v":0},{"$f":"'[17]Список изделий'!AE83","v":0},{"$f":"'[17]Список изделий'!AF83","v":"00:00:00"},{"$f":"'[17]Список изделий'!AY83","v":0},{"$f":"'[17]Список изделий'!AZ83","v":"00:00:00"},-43153,-43153,0,0,{"$f":"'[17]Список изделий'!BR83","v":0},0]
[1582,{"$f":"'[17]Список изделий'!D84","v":82},{"$f":"'[17]Список изделий'!E84","v":0},{"$f":"'[17]Список изделий'!F84","v":0},{"$f":"'[17]Список изделий'!I84","v":0},{"$f":"'[17]Список изделий'!X84","v":0},{"$f":"'[17]Список изделий'!Y84","v":0},{"$f":"'[17]Список изделий'!Z84","v":0},{"$f":"'[17]Список изделий'!AA84","v":0},{"$f":"'[17]Список изделий'!AB84","v":0},{"$f":"'[17]Список изделий'!AC84","v":"x"},{"$f":"'[17]Список изделий'!AD84","v":0},{"$f":"'[17]Список изделий'!AE84","v":0},{"$f":"'[17]Список изделий'!AF84","v":"00:00:00"},{"$f":"'[17]Список изделий'!AY84","v":0},{"$f":"'[17]Список изделий'!AZ84","v":"00:00:00"},-43153,-43153,0,0,{"$f":"'[17]Список изделий'!BR84","v":0},0]
[1583,{"$f":"'[17]Список изделий'!D85","v":83},{"$f":"'[17]Список изделий'!E85","v":0},{"$f":"'[17]Список изделий'!F85","v":0},{"$f":"'[17]Список изделий'!I85","v":0},{"$f":"'[17]Список изделий'!X85","v":0},{"$f":"'[17]Список изделий'!Y85","v":0},{"$f":"'[17]Список изделий'!Z85","v":0},{"$f":"'[17]Список изделий'!AA85","v":0},{"$f":"'[17]Список изделий'!AB85","v":0},{"$f":"'[17]Список изделий'!AC85","v":"x"},{"$f":"'[17]Список изделий'!AD85","v":0},{"$f":"'[17]Список изделий'!AE85","v":0},{"$f":"'[17]Список изделий'!AF85","v":"00:00:00"},{"$f":"'[17]Список изделий'!AY85","v":0},{"$f":"'[17]Список изделий'!AZ85","v":"00:00:00"},-43153,-43153,0,0,{"$f":"'[17]Список изделий'!BR85","v":0},0]
[1584,{"$f":"'[17]Список изделий'!D86","v":84},{"$f":"'[17]Список изделий'!E86","v":0},{"$f":"'[17]Список изделий'!F86","v":0},{"$f":"'[17]Список изделий'!I86","v":0},{"$f":"'[17]Список изделий'!X86","v":0},{"$f":"'[17]Список изделий'!Y86","v":0},{"$f":"'[17]Список изделий'!Z86","v":0},{"$f":"'[17]Список изделий'!AA86","v":0},{"$f":"'[17]Список изделий'!AB86","v":0},{"$f":"'[17]Список изделий'!AC86","v":"x"},{"$f":"'[17]Список изделий'!AD86","v":0},{"$f":"'[17]Список изделий'!AE86","v":0},{"$f":"'[17]Список изделий'!AF86","v":"00:00:00"},{"$f":"'[17]Список изделий'!AY86","v":0},{"$f":"'[17]Список изделий'!AZ86","v":"00:00:00"},-43153,-43153,0,0,{"$f":"'[17]Список изделий'!BR86","v":0},0]
[1585,{"$f":"'[17]Список изделий'!D87","v":85},{"$f":"'[17]Список изделий'!E87","v":0},{"$f":"'[17]Список изделий'!F87","v":0},{"$f":"'[17]Список изделий'!I87","v":0},{"$f":"'[17]Список изделий'!X87","v":0},{"$f":"'[17]Список изделий'!Y87","v":0},{"$f":"'[17]Список изделий'!Z87","v":0},{"$f":"'[17]Список изделий'!AA87","v":0},{"$f":"'[17]Список изделий'!AB87","v":0},{"$f":"'[17]Список изделий'!AC87","v":"x"},{"$f":"'[17]Список изделий'!AD87","v":0},{"$f":"'[17]Список изделий'!AE87","v":0},{"$f":"'[17]Список изделий'!AF87","v":"00:00:00"},{"$f":"'[17]Список изделий'!AY87","v":0},{"$f":"'[17]Список изделий'!AZ87","v":"00:00:00"},-43153,-43153,0,0,{"$f":"'[17]Список изделий'!BR87","v":0},0]
[1586,{"$f":"'[17]Список изделий'!D88","v":86},{"$f":"'[17]Список изделий'!E88","v":0},{"$f":"'[17]Список изделий'!F88","v":0},{"$f":"'[17]Список изделий'!I88","v":0},{"$f":"'[17]Список изделий'!X88","v":0},{"$f":"'[17]Список изделий'!Y88","v":0},{"$f":"'[17]Список изделий'!Z88","v":0},{"$f":"'[17]Список изделий'!AA88","v":0},{"$f":"'[17]Список изделий'!AB88","v":0},{"$f":"'[17]Список изделий'!AC88","v":"x"},{"$f":"'[17]Список изделий'!AD88","v":0},{"$f":"'[17]Список изделий'!AE88","v":0},{"$f":"'[17]Список изделий'!AF88","v":"00:00:00"},{"$f":"'[17]Список изделий'!AY88","v":0},{"$f":"'[17]Список изделий'!AZ88","v":"00:00:00"},-43153,-43153,0,0,{"$f":"'[17]Список изделий'!BR88","v":0},0]
[1587,{"$f":"'[17]Список изделий'!D89","v":87},{"$f":"'[17]Список изделий'!E89","v":0},{"$f":"'[17]Список изделий'!F89","v":0},{"$f":"'[17]Список изделий'!I89","v":0},{"$f":"'[17]Список изделий'!X89","v":0},{"$f":"'[17]Список изделий'!Y89","v":0},{"$f":"'[17]Список изделий'!Z89","v":0},{"$f":"'[17]Список изделий'!AA89","v":0},{"$f":"'[17]Список изделий'!AB89","v":0},{"$f":"'[17]Список изделий'!AC89","v":"x"},{"$f":"'[17]Список изделий'!AD89","v":0},{"$f":"'[17]Список изделий'!AE89","v":0},{"$f":"'[17]Список изделий'!AF89","v":"00:00:00"},{"$f":"'[17]Список изделий'!AY89","v":0},{"$f":"'[17]Список изделий'!AZ89","v":"00:00:00"},-43153,-43153,0,0,{"$f":"'[17]Список изделий'!BR89","v":0},0]
[1588,{"$f":"'[17]Список изделий'!D90","v":88},{"$f":"'[17]Список изделий'!E90","v":0},{"$f":"'[17]Список изделий'!F90","v":0},{"$f":"'[17]Список изделий'!I90","v":0},{"$f":"'[17]Список изделий'!X90","v":0},{"$f":"'[17]Список изделий'!Y90","v":0},{"$f":"'[17]Список изделий'!Z90","v":0},{"$f":"'[17]Список изделий'!AA90","v":0},{"$f":"'[17]Список изделий'!AB90","v":0},{"$f":"'[17]Список изделий'!AC90","v":"x"},{"$f":"'[17]Список изделий'!AD90","v":0},{"$f":"'[17]Список изделий'!AE90","v":0},{"$f":"'[17]Список изделий'!AF90","v":"00:00:00"},{"$f":"'[17]Список изделий'!AY90","v":0},{"$f":"'[17]Список изделий'!AZ90","v":"00:00:00"},-43153,-43153,0,0,{"$f":"'[17]Список изделий'!BR90","v":0},0]
[1589,{"$f":"'[17]Список изделий'!D91","v":89},{"$f":"'[17]Список изделий'!E91","v":0},{"$f":"'[17]Список изделий'!F91","v":0},{"$f":"'[17]Список изделий'!I91","v":0},{"$f":"'[17]Список изделий'!X91","v":0},{"$f":"'[17]Список изделий'!Y91","v":0},{"$f":"'[17]Список изделий'!Z91","v":0},{"$f":"'[17]Список изделий'!AA91","v":0},{"$f":"'[17]Список изделий'!AB91","v":0},{"$f":"'[17]Список изделий'!AC91","v":"x"},{"$f":"'[17]Список изделий'!AD91","v":0},{"$f":"'[17]Список изделий'!AE91","v":0},{"$f":"'[17]Список изделий'!AF91","v":"00:00:00"},{"$f":"'[17]Список изделий'!AY91","v":0},{"$f":"'[17]Список изделий'!AZ91","v":"00:00:00"},-43153,-43153,0,0,{"$f":"'[17]Список изделий'!BR91","v":0},0]
[1590,{"$f":"'[17]Список изделий'!D92","v":90},{"$f":"'[17]Список изделий'!E92","v":0},{"$f":"'[17]Список изделий'!F92","v":0},{"$f":"'[17]Список изделий'!I92","v":0},{"$f":"'[17]Список изделий'!X92","v":0},{"$f":"'[17]Список изделий'!Y92","v":0},{"$f":"'[17]Список изделий'!Z92","v":0},{"$f":"'[17]Список изделий'!AA92","v":0},{"$f":"'[17]Список изделий'!AB92","v":0},{"$f":"'[17]Список изделий'!AC92","v":"x"},{"$f":"'[17]Список изделий'!AD92","v":0},{"$f":"'[17]Список изделий'!AE92","v":0},{"$f":"'[17]Список изделий'!AF92","v":"00:00:00"},{"$f":"'[17]Список изделий'!AY92","v":0},{"$f":"'[17]Список изделий'!AZ92","v":"00:00:00"},-43153,-43153,0,0,{"$f":"'[17]Список изделий'!BR92","v":0},0]
[1591,{"$f":"'[17]Список изделий'!D93","v":91},{"$f":"'[17]Список изделий'!E93","v":0},{"$f":"'[17]Список изделий'!F93","v":0},{"$f":"'[17]Список изделий'!I93","v":0},{"$f":"'[17]Список изделий'!X93","v":0},{"$f":"'[17]Список изделий'!Y93","v":0},{"$f":"'[17]Список изделий'!Z93","v":0},{"$f":"'[17]Список изделий'!AA93","v":0},{"$f":"'[17]Список изделий'!AB93","v":0},{"$f":"'[17]Список изделий'!AC93","v":"x"},{"$f":"'[17]Список изделий'!AD93","v":0},{"$f":"'[17]Список изделий'!AE93","v":0},{"$f":"'[17]Список изделий'!AF93","v":"00:00:00"},{"$f":"'[17]Список изделий'!AY93","v":0},{"$f":"'[17]Список изделий'!AZ93","v":"00:00:00"},-43153,-43153,0,0,{"$f":"'[17]Список изделий'!BR93","v":0},0]
[1592,{"$f":"'[17]Список изделий'!D94","v":92},{"$f":"'[17]Список изделий'!E94","v":0},{"$f":"'[17]Список изделий'!F94","v":0},{"$f":"'[17]Список изделий'!I94","v":0},{"$f":"'[17]Список изделий'!X94","v":0},{"$f":"'[17]Список изделий'!Y94","v":0},{"$f":"'[17]Список изделий'!Z94","v":0},{"$f":"'[17]Список изделий'!AA94","v":0},{"$f":"'[17]Список изделий'!AB94","v":0},{"$f":"'[17]Список изделий'!AC94","v":"x"},{"$f":"'[17]Список изделий'!AD94","v":0},{"$f":"'[17]Список изделий'!AE94","v":0},{"$f":"'[17]Список изделий'!AF94","v":"00:00:00"},{"$f":"'[17]Список изделий'!AY94","v":0},{"$f":"'[17]Список изделий'!AZ94","v":"00:00:00"},-43153,-43153,0,0,{"$f":"'[17]Список изделий'!BR94","v":0},0]
[1593,{"$f":"'[17]Список изделий'!D95","v":93},{"$f":"'[17]Список изделий'!E95","v":0},{"$f":"'[17]Список изделий'!F95","v":0},{"$f":"'[17]Список изделий'!I95","v":0},{"$f":"'[17]Список изделий'!X95","v":0},{"$f":"'[17]Список изделий'!Y95","v":0},{"$f":"'[17]Список изделий'!Z95","v":0},{"$f":"'[17]Список изделий'!AA95","v":0},{"$f":"'[17]Список изделий'!AB95","v":0},{"$f":"'[17]Список изделий'!AC95","v":"x"},{"$f":"'[17]Список изделий'!AD95","v":0},{"$f":"'[17]Список изделий'!AE95","v":0},{"$f":"'[17]Список изделий'!AF95","v":"00:00:00"},{"$f":"'[17]Список изделий'!AY95","v":0},{"$f":"'[17]Список изделий'!AZ95","v":"00:00:00"},-43153,-43153,0,0,{"$f":"'[17]Список изделий'!BR95","v":0},0]
[1594,{"$f":"'[17]Список изделий'!D96","v":94},{"$f":"'[17]Список изделий'!E96","v":0},{"$f":"'[17]Список изделий'!F96","v":0},{"$f":"'[17]Список изделий'!I96","v":0},{"$f":"'[17]Список изделий'!X96","v":0},{"$f":"'[17]Список изделий'!Y96","v":0},{"$f":"'[17]Список изделий'!Z96","v":0},{"$f":"'[17]Список изделий'!AA96","v":0},{"$f":"'[17]Список изделий'!AB96","v":0},{"$f":"'[17]Список изделий'!AC96","v":"x"},{"$f":"'[17]Список изделий'!AD96","v":0},{"$f":"'[17]Список изделий'!AE96","v":0},{"$f":"'[17]Список изделий'!AF96","v":"00:00:00"},{"$f":"'[17]Список изделий'!AY96","v":0},{"$f":"'[17]Список изделий'!AZ96","v":"00:00:00"},-43153,-43153,0,0,{"$f":"'[17]Список изделий'!BR96","v":0},0]
[1595,{"$f":"'[17]Список изделий'!D97","v":95},{"$f":"'[17]Список изделий'!E97","v":0},{"$f":"'[17]Список изделий'!F97","v":0},{"$f":"'[17]Список изделий'!I97","v":0},{"$f":"'[17]Список изделий'!X97","v":0},{"$f":"'[17]Список изделий'!Y97","v":0},{"$f":"'[17]Список изделий'!Z97","v":0},{"$f":"'[17]Список изделий'!AA97","v":0},{"$f":"'[17]Список изделий'!AB97","v":0},{"$f":"'[17]Список изделий'!AC97","v":"x"},{"$f":"'[17]Список изделий'!AD97","v":0},{"$f":"'[17]Список изделий'!AE97","v":0},{"$f":"'[17]Список изделий'!AF97","v":"00:00:00"},{"$f":"'[17]Список изделий'!AY97","v":0},{"$f":"'[17]Список изделий'!AZ97","v":"00:00:00"},-43153,-43153,0,0,{"$f":"'[17]Список изделий'!BR97","v":0},0]
[1596,{"$f":"'[17]Список изделий'!D98","v":96},{"$f":"'[17]Список изделий'!E98","v":0},{"$f":"'[17]Список изделий'!F98","v":0},{"$f":"'[17]Список изделий'!I98","v":0},{"$f":"'[17]Список изделий'!X98","v":0},{"$f":"'[17]Список изделий'!Y98","v":0},{"$f":"'[17]Список изделий'!Z98","v":0},{"$f":"'[17]Список изделий'!AA98","v":0},{"$f":"'[17]Список изделий'!AB98","v":0},{"$f":"'[17]Список изделий'!AC98","v":"x"},{"$f":"'[17]Список изделий'!AD98","v":0},{"$f":"'[17]Список изделий'!AE98","v":0},{"$f":"'[17]Список изделий'!AF98","v":"00:00:00"},{"$f":"'[17]Список изделий'!AY98","v":0},{"$f":"'[17]Список изделий'!AZ98","v":"00:00:00"},-43153,-43153,0,0,{"$f":"'[17]Список изделий'!BR98","v":0},0]
[1597,{"$f":"'[17]Список изделий'!D99","v":97},{"$f":"'[17]Список изделий'!E99","v":0},{"$f":"'[17]Список изделий'!F99","v":0},{"$f":"'[17]Список изделий'!I99","v":0},{"$f":"'[17]Список изделий'!X99","v":0},{"$f":"'[17]Список изделий'!Y99","v":0},{"$f":"'[17]Список изделий'!Z99","v":0},{"$f":"'[17]Список изделий'!AA99","v":0},{"$f":"'[17]Список изделий'!AB99","v":0},{"$f":"'[17]Список изделий'!AC99","v":"x"},{"$f":"'[17]Список изделий'!AD99","v":0},{"$f":"'[17]Список изделий'!AE99","v":0},{"$f":"'[17]Список изделий'!AF99","v":"00:00:00"},{"$f":"'[17]Список изделий'!AY99","v":0},{"$f":"'[17]Список изделий'!AZ99","v":"00:00:00"},-43153,-43153,0,0,{"$f":"'[17]Список изделий'!BR99","v":0},0]
[1598,{"$f":"'[17]Список изделий'!D100","v":98},{"$f":"'[17]Список изделий'!E100","v":0},{"$f":"'[17]Список изделий'!F100","v":0},{"$f":"'[17]Список изделий'!I100","v":0},{"$f":"'[17]Список изделий'!X100","v":0},{"$f":"'[17]Список изделий'!Y100","v":0},{"$f":"'[17]Список изделий'!Z100","v":0},{"$f":"'[17]Список изделий'!AA100","v":0},{"$f":"'[17]Список изделий'!AB100","v":0},{"$f":"'[17]Список изделий'!AC100","v":"x"},{"$f":"'[17]Список изделий'!AD100","v":0},{"$f":"'[17]Список изделий'!AE100","v":0},{"$f":"'[17]Список изделий'!AF100","v":"00:00:00"},{"$f":"'[17]Список изделий'!AY100","v":0},{"$f":"'[17]Список изделий'!AZ100","v":"00:00:00"},-43153,-43153,0,0,{"$f":"'[17]Список изделий'!BR100","v":0},0]
[1599,{"$f":"'[17]Список изделий'!D101","v":99},{"$f":"'[17]Список изделий'!E101","v":0},{"$f":"'[17]Список изделий'!F101","v":0},{"$f":"'[17]Список изделий'!I101","v":0},{"$f":"'[17]Список изделий'!X101","v":0},{"$f":"'[17]Список изделий'!Y101","v":0},{"$f":"'[17]Список изделий'!Z101","v":0},{"$f":"'[17]Список изделий'!AA101","v":0},{"$f":"'[17]Список изделий'!AB101","v":0},{"$f":"'[17]Список изделий'!AC101","v":"x"},{"$f":"'[17]Список изделий'!AD101","v":0},{"$f":"'[17]Список изделий'!AE101","v":0},{"$f":"'[17]Список изделий'!AF101","v":"00:00:00"},{"$f":"'[17]Список изделий'!AY101","v":0},{"$f":"'[17]Список изделий'!AZ101","v":"00:00:00"},-43153,-43153,0,0,{"$f":"'[17]Список изделий'!BR101","v":0},0]
[1600,{"$f":"'[17]Список изделий'!D102","v":100},{"$f":"'[17]Список изделий'!E102","v":0},{"$f":"'[17]Список изделий'!F102","v":0},{"$f":"'[17]Список изделий'!I102","v":0},{"$f":"'[17]Список изделий'!X102","v":0},{"$f":"'[17]Список изделий'!Y102","v":0},{"$f":"'[17]Список изделий'!Z102","v":0},{"$f":"'[17]Список изделий'!AA102","v":0},{"$f":"'[17]Список изделий'!AB102","v":0},{"$f":"'[17]Список изделий'!AC102","v":"x"},{"$f":"'[17]Список изделий'!AD102","v":0},{"$f":"'[17]Список изделий'!AE102","v":0},{"$f":"'[17]Список изделий'!AF102","v":"00:00:00"},{"$f":"'[17]Список изделий'!AY102","v":0},{"$f":"'[17]Список изделий'!AZ102","v":"00:00:00"},-43153,-43153,0,0,{"$f":"'[17]Список изделий'!BR102","v":0},0]
[1456,{"$f":"'[16]Список изделий'!D4513","v":56},{"$f":"'[16]Список изделий'!E4513","v":"Пер-Колпин-56"},{"$f":"'[16]Список изделий'!F4513","v":"Вывеска-тележки - ВТ"},{"$f":"'[16]Список изделий'!I4513","v":1},{"$f":"'[16]Список изделий'!X4513","v":"ГМА"},{"$f":"'[16]Список изделий'!Y4513","v":"Микуло"},{"$f":"'[16]Список изделий'!Z4513","v":"Закурдаев"},{"$f":"'[16]Список изделий'!AA4513","v":"Замотаев"},{"$f":"'[16]Список изделий'!AB4513","v":0},{"$f":"'[16]Список изделий'!AC4513","v":"x"},{"$f":"'[16]Список изделий'!AD4513","v":0},{"$f":"'[16]Список изделий'!AE4513","v":0},{"$f":"'[16]Список изделий'!AF4513","v":"2018-03-10"},{"$f":"'[16]Список изделий'!AY4513","v":7},{"$f":"'[16]Список изделий'!AZ4513","v":"2018-03-04"},3,10,0,0,{"$f":"'[16]Список изделий'!BR4513","v":0},0]
[1602,{"$f":"'[1]Список изделий'!D85","v":2},{"$f":"'[1]Список изделий'!E85","v":0},{"$f":"'[1]Список изделий'!F85","v":0},{"$f":"'[1]Список изделий'!I85","v":0},{"$f":"'[1]Список изделий'!X85","v":0},{"$f":"'[1]Список изделий'!Y85","v":0},{"$f":"'[1]Список изделий'!Z85","v":0},{"$f":"'[1]Список изделий'!AA85","v":0},{"$f":"'[1]Список изделий'!AB85","v":0},{"$f":"'[1]Список изделий'!AC85","v":"x"},{"$f":"'[1]Список изделий'!AD85","v":0},{"$f":"'[1]Список изделий'!AE85","v":0},{"$f":"'[1]Список изделий'!AF85","v":"00:00:00"},{"$f":"'[1]Список изделий'!AY85","v":0},{"$f":"'[1]Список изделий'!AZ85","v":"00:00:00"},{"$f":"IF(O1604=\"нет в заказе\",\"нет в заказе\",-(TODAY()-(P1604-O1604)))","v":-43153},{"$f":"IF(Q1604=\"нет в заказе\",\"нет взаказе\",-(IF(O1604=\"нет в заказе\",\"нет в заказе\",TODAY()-P1604)))","v":-43153},0,0,{"$f":"'[1]Список изделий'!BR85","v":0},{"$f":"IF(S1604>=0,S1604,IF(T1604>S1604,T1604,S1604))","v":0}]
[1603,{"$f":"'[1]Список изделий'!D167","v":3},{"$f":"'[1]Список изделий'!E167","v":0},{"$f":"'[1]Список изделий'!F167","v":0},{"$f":"'[1]Список изделий'!I167","v":0},{"$f":"'[1]Список изделий'!X167","v":0},{"$f":"'[1]Список изделий'!Y167","v":0},{"$f":"'[1]Список изделий'!Z167","v":0},{"$f":"'[1]Список изделий'!AA167","v":0},{"$f":"'[1]Список изделий'!AB167","v":0},{"$f":"'[1]Список изделий'!AC167","v":"x"},{"$f":"'[1]Список изделий'!AD167","v":0},{"$f":"'[1]Список изделий'!AE167","v":0},{"$f":"'[1]Список изделий'!AF167","v":"00:00:00"},{"$f":"'[1]Список изделий'!AY167","v":0},{"$f":"'[1]Список изделий'!AZ167","v":"00:00:00"},-43153,-43153,0,0,{"$f":"'[1]Список изделий'!BR167","v":0},0]
[1604,{"$f":"'[1]Список изделий'!D249","v":4},{"$f":"'[1]Список изделий'!E249","v":0},{"$f":"'[1]Список изделий'!F249","v":0},{"$f":"'[1]Список изделий'!I249","v":0},{"$f":"'[1]Список изделий'!X249","v":0},{"$f":"'[1]Список изделий'!Y249","v":0},{"$f":"'[1]Список изделий'!Z249","v":0},{"$f":"'[1]Список изделий'!AA249","v":0},{"$f":"'[1]Список изделий'!AB249","v":0},{"$f":"'[1]Список изделий'!AC249","v":"x"},{"$f":"'[1]Список изделий'!AD249","v":0},{"$f":"'[1]Список изделий'!AE249","v":0},{"$f":"'[1]Список изделий'!AF249","v":"00:00:00"},{"$f":"'[1]Список изделий'!AY249","v":0},{"$f":"'[1]Список изделий'!AZ249","v":"00:00:00"},-43153,-43153,0,0,{"$f":"'[1]Список изделий'!BR249","v":0},0]
[1605,{"$f":"'[1]Список изделий'!D331","v":5},{"$f":"'[1]Список изделий'!E331","v":0},{"$f":"'[1]Список изделий'!F331","v":0},{"$f":"'[1]Список изделий'!I331","v":0},{"$f":"'[1]Список изделий'!X331","v":0},{"$f":"'[1]Список изделий'!Y331","v":0},{"$f":"'[1]Список изделий'!Z331","v":0},{"$f":"'[1]Список изделий'!AA331","v":0},{"$f":"'[1]Список изделий'!AB331","v":0},{"$f":"'[1]Список изделий'!AC331","v":"x"},{"$f":"'[1]Список изделий'!AD331","v":0},{"$f":"'[1]Список изделий'!AE331","v":0},{"$f":"'[1]Список изделий'!AF331","v":"00:00:00"},{"$f":"'[1]Список изделий'!AY331","v":0},{"$f":"'[1]Список изделий'!AZ331","v":"00:00:00"},-43153,-43153,0,0,{"$f":"'[1]Список изделий'!BR331","v":0},0]
[1606,{"$f":"'[1]Список изделий'!D413","v":6},{"$f":"'[1]Список изделий'!E413","v":0},{"$f":"'[1]Список изделий'!F413","v":0},{"$f":"'[1]Список изделий'!I413","v":0},{"$f":"'[1]Список изделий'!X413","v":0},{"$f":"'[1]Список изделий'!Y413","v":0},{"$f":"'[1]Список изделий'!Z413","v":0},{"$f":"'[1]Список изделий'!AA413","v":0},{"$f":"'[1]Список изделий'!AB413","v":0},{"$f":"'[1]Список изделий'!AC413","v":0},{"$f":"'[1]Список изделий'!AD413","v":0},{"$f":"'[1]Список изделий'!AE413","v":0},{"$f":"'[1]Список изделий'!AF413","v":"00:00:00"},{"$f":"'[1]Список изделий'!AY413","v":0},{"$f":"'[1]Список изделий'!AZ413","v":"00:00:00"},-43153,-43153,0,0,{"$f":"'[1]Список изделий'!BR413","v":0},0]
[1607,{"$f":"'[1]Список изделий'!D495","v":7},{"$f":"'[1]Список изделий'!E495","v":0},{"$f":"'[1]Список изделий'!F495","v":0},{"$f":"'[1]Список изделий'!I495","v":0},{"$f":"'[1]Список изделий'!X495","v":0},{"$f":"'[1]Список изделий'!Y495","v":0},{"$f":"'[1]Список изделий'!Z495","v":0},{"$f":"'[1]Список изделий'!AA495","v":0},{"$f":"'[1]Список изделий'!AB495","v":0},{"$f":"'[1]Список изделий'!AC495","v":0},{"$f":"'[1]Список изделий'!AD495","v":0},{"$f":"'[1]Список изделий'!AE495","v":0},{"$f":"'[1]Список изделий'!AF495","v":"00:00:00"},{"$f":"'[1]Список изделий'!AY495","v":0},{"$f":"'[1]Список изделий'!AZ495","v":"00:00:00"},-43153,-43153,0,0,{"$f":"'[1]Список изделий'!BR495","v":0},0]
[1457,{"$f":"'[16]Список изделий'!D4595","v":57},{"$f":"'[16]Список изделий'!E4595","v":"Пер-Колпин-57"},{"$f":"'[16]Список изделий'!F4595","v":"Конструкции \"Суперцена\" треугольная (к-во предварительно)"},{"$f":"'[16]Список изделий'!I4595","v":5},{"$f":"'[16]Список изделий'!X4595","v":"ГМА"},{"$f":"'[16]Список изделий'!Y4595","v":"Микуло"},{"$f":"'[16]Список изделий'!Z4595","v":"Закурдаев"},{"$f":"'[16]Список изделий'!AA4595","v":"Замотаев"},{"$f":"'[16]Список изделий'!AB4595","v":0},{"$f":"'[16]Список изделий'!AC4595","v":"x"},{"$f":"'[16]Список изделий'!AD4595","v":0},{"$f":"'[16]Список изделий'!AE4595","v":0},{"$f":"'[16]Список изделий'!AF4595","v":"2018-03-10"},{"$f":"'[16]Список изделий'!AY4595","v":7},{"$f":"'[16]Список изделий'!AZ4595","v":"2018-03-04"},3,10,0,0,{"$f":"'[16]Список изделий'!BR4595","v":"\\\\SERVER\\Data1\\П\\Перекресток\\2018\\ОКЕЙ_Перекресток\\Колпино Тверская 36_9А\\техничка\\57-СУПЕРЦЕНА-треугольная(Призма)"},0]
[1609,{"$f":"'[1]Список изделий'!D659","v":9},{"$f":"'[1]Список изделий'!E659","v":0},{"$f":"'[1]Список изделий'!F659","v":0},{"$f":"'[1]Список изделий'!I659","v":0},{"$f":"'[1]Список изделий'!X659","v":0},{"$f":"'[1]Список изделий'!Y659","v":0},{"$f":"'[1]Список изделий'!Z659","v":0},{"$f":"'[1]Список изделий'!AA659","v":0},{"$f":"'[1]Список изделий'!AB659","v":0},{"$f":"'[1]Список изделий'!AC659","v":"x"},{"$f":"'[1]Список изделий'!AD659","v":0},{"$f":"'[1]Список изделий'!AE659","v":0},{"$f":"'[1]Список изделий'!AF659","v":"00:00:00"},{"$f":"'[1]Список изделий'!AY659","v":0},{"$f":"'[1]Список изделий'!AZ659","v":"00:00:00"},-43153,-43153,0,0,{"$f":"'[1]Список изделий'!BR659","v":0},0]
[1610,{"$f":"'[1]Список изделий'!D741","v":10},{"$f":"'[1]Список изделий'!E741","v":0},{"$f":"'[1]Список изделий'!F741","v":0},{"$f":"'[1]Список изделий'!I741","v":0},{"$f":"'[1]Список изделий'!X741","v":0},{"$f":"'[1]Список изделий'!Y741","v":0},{"$f":"'[1]Список изделий'!Z741","v":0},{"$f":"'[1]Список изделий'!AA741","v":0},{"$f":"'[1]Список изделий'!AB741","v":0},{"$f":"'[1]Список изделий'!AC741","v":"x"},{"$f":"'[1]Список изделий'!AD741","v":0},{"$f":"'[1]Список изделий'!AE741","v":0},{"$f":"'[1]Список изделий'!AF741","v":"00:00:00"},{"$f":"'[1]Список изделий'!AY741","v":0},{"$f":"'[1]Список изделий'!AZ741","v":"00:00:00"},-43153,-43153,0,0,{"$f":"'[1]Список изделий'!BR741","v":0},0]
[1611,10,{"$f":"'[1]Список изделий'!E823","v":0},{"$f":"'[1]Список изделий'!F823","v":0},{"$f":"'[1]Список изделий'!I823","v":0},{"$f":"'[1]Список изделий'!X823","v":0},{"$f":"'[1]Список изделий'!Y823","v":0},{"$f":"'[1]Список изделий'!Z823","v":0},{"$f":"'[1]Список изделий'!AA823","v":0},{"$f":"'[1]Список изделий'!AB823","v":0},{"$f":"'[1]Список изделий'!AC823","v":"x"},{"$f":"'[1]Список изделий'!AD823","v":0},{"$f":"'[1]Список изделий'!AE823","v":0},{"$f":"'[1]Список изделий'!AF823","v":"00:00:00"},{"$f":"'[1]Список изделий'!AY823","v":0},{"$f":"'[1]Список изделий'!AZ823","v":"00:00:00"},-43153,-43153,0,0,{"$f":"'[1]Список изделий'!BR823","v":0},0]
[1612,{"$f":"'[1]Список изделий'!D905","v":12},{"$f":"'[1]Список изделий'!E905","v":0},{"$f":"'[1]Список изделий'!F905","v":0},{"$f":"'[1]Список изделий'!I905","v":0},{"$f":"'[1]Список изделий'!X905","v":0},{"$f":"'[1]Список изделий'!Y905","v":0},{"$f":"'[1]Список изделий'!Z905","v":0},{"$f":"'[1]Список изделий'!AA905","v":0},{"$f":"'[1]Список изделий'!AB905","v":0},{"$f":"'[1]Список изделий'!AC905","v":"x"},{"$f":"'[1]Список изделий'!AD905","v":0},{"$f":"'[1]Список изделий'!AE905","v":0},{"$f":"'[1]Список изделий'!AF905","v":"00:00:00"},{"$f":"'[1]Список изделий'!AY905","v":0},{"$f":"'[1]Список изделий'!AZ905","v":"00:00:00"},-43153,-43153,0,0,{"$f":"'[1]Список изделий'!BR905","v":0},0]
[1613,{"$f":"'[1]Список изделий'!D987","v":13},{"$f":"'[1]Список изделий'!E987","v":0},{"$f":"'[1]Список изделий'!F987","v":0},{"$f":"'[1]Список изделий'!I987","v":0},{"$f":"'[1]Список изделий'!X987","v":0},{"$f":"'[1]Список изделий'!Y987","v":0},{"$f":"'[1]Список изделий'!Z987","v":0},{"$f":"'[1]Список изделий'!AA987","v":0},{"$f":"'[1]Список изделий'!AB987","v":0},{"$f":"'[1]Список изделий'!AC987","v":"x"},{"$f":"'[1]Список изделий'!AD987","v":0},{"$f":"'[1]Список изделий'!AE987","v":0},{"$f":"'[1]Список изделий'!AF987","v":"00:00:00"},{"$f":"'[1]Список изделий'!AY987","v":0},{"$f":"'[1]Список изделий'!AZ987","v":"00:00:00"},-43153,-43153,0,0,{"$f":"'[1]Список изделий'!BR987","v":0},0]
[1614,{"$f":"'[1]Список изделий'!D1069","v":14},{"$f":"'[1]Список изделий'!E1069","v":0},{"$f":"'[1]Список изделий'!F1069","v":0},{"$f":"'[1]Список изделий'!I1069","v":0},{"$f":"'[1]Список изделий'!X1069","v":0},{"$f":"'[1]Список изделий'!Y1069","v":0},{"$f":"'[1]Список изделий'!Z1069","v":0},{"$f":"'[1]Список изделий'!AA1069","v":0},{"$f":"'[1]Список изделий'!AB1069","v":0},{"$f":"'[1]Список изделий'!AC1069","v":"x"},{"$f":"'[1]Список изделий'!AD1069","v":0},{"$f":"'[1]Список изделий'!AE1069","v":0},{"$f":"'[1]Список изделий'!AF1069","v":"00:00:00"},{"$f":"'[1]Список изделий'!AY1069","v":0},{"$f":"'[1]Список изделий'!AZ1069","v":"00:00:00"},-43153,-43153,0,0,{"$f":"'[1]Список изделий'!BR1069","v":0},0]
[1615,{"$f":"'[1]Список изделий'!D1151","v":15},{"$f":"'[1]Список изделий'!E1151","v":0},{"$f":"'[1]Список изделий'!F1151","v":0},{"$f":"'[1]Список изделий'!I1151","v":0},{"$f":"'[1]Список изделий'!X1151","v":0},{"$f":"'[1]Список изделий'!Y1151","v":0},{"$f":"'[1]Список изделий'!Z1151","v":0},{"$f":"'[1]Список изделий'!AA1151","v":0},{"$f":"'[1]Список изделий'!AB1151","v":0},{"$f":"'[1]Список изделий'!AC1151","v":"x"},{"$f":"'[1]Список изделий'!AD1151","v":0},{"$f":"'[1]Список изделий'!AE1151","v":0},{"$f":"'[1]Список изделий'!AF1151","v":"00:00:00"},{"$f":"'[1]Список изделий'!AY1151","v":0},{"$f":"'[1]Список изделий'!AZ1151","v":"00:00:00"},-43153,-43153,0,0,{"$f":"'[1]Список изделий'!BR1151","v":0},0]
[1616,{"$f":"'[1]Список изделий'!D1233","v":16},{"$f":"'[1]Список изделий'!E1233","v":0},{"$f":"'[1]Список изделий'!F1233","v":0},{"$f":"'[1]Список изделий'!I1233","v":0},{"$f":"'[1]Список изделий'!X1233","v":0},{"$f":"'[1]Список изделий'!Y1233","v":0},{"$f":"'[1]Список изделий'!Z1233","v":0},{"$f":"'[1]Список изделий'!AA1233","v":0},{"$f":"'[1]Список изделий'!AB1233","v":0},{"$f":"'[1]Список изделий'!AC1233","v":"x"},{"$f":"'[1]Список изделий'!AD1233","v":0},{"$f":"'[1]Список изделий'!AE1233","v":0},{"$f":"'[1]Список изделий'!AF1233","v":"00:00:00"},{"$f":"'[1]Список изделий'!AY1233","v":0},{"$f":"'[1]Список изделий'!AZ1233","v":"00:00:00"},-43153,-43153,0,0,{"$f":"'[1]Список изделий'!BR1233","v":0},0]
[1617,{"$f":"'[1]Список изделий'!D1315","v":17},{"$f":"'[1]Список изделий'!E1315","v":0},{"$f":"'[1]Список изделий'!F1315","v":0},{"$f":"'[1]Список изделий'!I1315","v":0},{"$f":"'[1]Список изделий'!X1315","v":0},{"$f":"'[1]Список изделий'!Y1315","v":0},{"$f":"'[1]Список изделий'!Z1315","v":0},{"$f":"'[1]Список изделий'!AA1315","v":0},{"$f":"'[1]Список изделий'!AB1315","v":0},{"$f":"'[1]Список изделий'!AC1315","v":"x"},{"$f":"'[1]Список изделий'!AD1315","v":0},{"$f":"'[1]Список изделий'!AE1315","v":0},{"$f":"'[1]Список изделий'!AF1315","v":"00:00:00"},{"$f":"'[1]Список изделий'!AY1315","v":0},{"$f":"'[1]Список изделий'!AZ1315","v":"00:00:00"},-43153,-43153,0,0,{"$f":"'[1]Список изделий'!BR1315","v":0},0]
[1618,{"$f":"'[1]Список изделий'!D1397","v":18},{"$f":"'[1]Список изделий'!E1397","v":0},{"$f":"'[1]Список изделий'!F1397","v":0},{"$f":"'[1]Список изделий'!I1397","v":0},{"$f":"'[1]Список изделий'!X1397","v":0},{"$f":"'[1]Список изделий'!Y1397","v":0},{"$f":"'[1]Список изделий'!Z1397","v":0},{"$f":"'[1]Список изделий'!AA1397","v":0},{"$f":"'[1]Список изделий'!AB1397","v":0},{"$f":"'[1]Список изделий'!AC1397","v":"x"},{"$f":"'[1]Список изделий'!AD1397","v":0},{"$f":"'[1]Список изделий'!AE1397","v":0},{"$f":"'[1]Список изделий'!AF1397","v":"00:00:00"},{"$f":"'[1]Список изделий'!AY1397","v":0},{"$f":"'[1]Список изделий'!AZ1397","v":"00:00:00"},-43153,-43153,0,0,{"$f":"'[1]Список изделий'!BR1397","v":0},0]
[1619,{"$f":"'[1]Список изделий'!D1479","v":19},{"$f":"'[1]Список изделий'!E1479","v":0},{"$f":"'[1]Список изделий'!F1479","v":0},{"$f":"'[1]Список изделий'!I1479","v":0},{"$f":"'[1]Список изделий'!X1479","v":0},{"$f":"'[1]Список изделий'!Y1479","v":0},{"$f":"'[1]Список изделий'!Z1479","v":0},{"$f":"'[1]Список изделий'!AA1479","v":0},{"$f":"'[1]Список изделий'!AB1479","v":0},{"$f":"'[1]Список изделий'!AC1479","v":"x"},{"$f":"'[1]Список изделий'!AD1479","v":0},{"$f":"'[1]Список изделий'!AE1479","v":0},{"$f":"'[1]Список изделий'!AF1479","v":"00:00:00"},{"$f":"'[1]Список изделий'!AY1479","v":0},{"$f":"'[1]Список изделий'!AZ1479","v":"00:00:00"},-43153,-43153,0,0,{"$f":"'[1]Список изделий'!BR1479","v":0},0]
[1620,{"$f":"'[1]Список изделий'!D1561","v":20},{"$f":"'[1]Список изделий'!E1561","v":0},{"$f":"'[1]Список изделий'!F1561","v":0},{"$f":"'[1]Список изделий'!I1561","v":0},{"$f":"'[1]Список изделий'!X1561","v":0},{"$f":"'[1]Список изделий'!Y1561","v":0},{"$f":"'[1]Список изделий'!Z1561","v":0},{"$f":"'[1]Список изделий'!AA1561","v":0},{"$f":"'[1]Список изделий'!AB1561","v":0},{"$f":"'[1]Список изделий'!AC1561","v":"x"},{"$f":"'[1]Список изделий'!AD1561","v":0},{"$f":"'[1]Список изделий'!AE1561","v":0},{"$f":"'[1]Список изделий'!AF1561","v":"00:00:00"},{"$f":"'[1]Список изделий'!AY1561","v":0},{"$f":"'[1]Список изделий'!AZ1561","v":"00:00:00"},-43153,-43153,0,0,{"$f":"'[1]Список изделий'!BR1561","v":0},0]
[1621,{"$f":"'[1]Список изделий'!D1643","v":21},{"$f":"'[1]Список изделий'!E1643","v":0},{"$f":"'[1]Список изделий'!F1643","v":0},{"$f":"'[1]Список изделий'!I1643","v":0},{"$f":"'[1]Список изделий'!X1643","v":0},{"$f":"'[1]Список изделий'!Y1643","v":0},{"$f":"'[1]Список изделий'!Z1643","v":0},{"$f":"'[1]Список изделий'!AA1643","v":0},{"$f":"'[1]Список изделий'!AB1643","v":0},{"$f":"'[1]Список изделий'!AC1643","v":"x"},{"$f":"'[1]Список изделий'!AD1643","v":0},{"$f":"'[1]Список изделий'!AE1643","v":0},{"$f":"'[1]Список изделий'!AF1643","v":"00:00:00"},{"$f":"'[1]Список изделий'!AY1643","v":0},{"$f":"'[1]Список изделий'!AZ1643","v":"00:00:00"},-43153,-43153,0,0,{"$f":"'[1]Список изделий'!BR1643","v":0},0]
[1622,{"$f":"'[1]Список изделий'!D1725","v":22},{"$f":"'[1]Список изделий'!E1725","v":0},{"$f":"'[1]Список изделий'!F1725","v":0},{"$f":"'[1]Список изделий'!I1725","v":0},{"$f":"'[1]Список изделий'!X1725","v":0},{"$f":"'[1]Список изделий'!Y1725","v":0},{"$f":"'[1]Список изделий'!Z1725","v":0},{"$f":"'[1]Список изделий'!AA1725","v":0},{"$f":"'[1]Список изделий'!AB1725","v":0},{"$f":"'[1]Список изделий'!AC1725","v":"x"},{"$f":"'[1]Список изделий'!AD1725","v":0},{"$f":"'[1]Список изделий'!AE1725","v":0},{"$f":"'[1]Список изделий'!AF1725","v":"00:00:00"},{"$f":"'[1]Список изделий'!AY1725","v":0},{"$f":"'[1]Список изделий'!AZ1725","v":"00:00:00"},-43153,-43153,0,0,{"$f":"'[1]Список изделий'!BR1725","v":0},0]
[1623,{"$f":"'[1]Список изделий'!D1807","v":23},{"$f":"'[1]Список изделий'!E1807","v":0},{"$f":"'[1]Список изделий'!F1807","v":0},{"$f":"'[1]Список изделий'!I1807","v":0},{"$f":"'[1]Список изделий'!X1807","v":0},{"$f":"'[1]Список изделий'!Y1807","v":0},{"$f":"'[1]Список изделий'!Z1807","v":0},{"$f":"'[1]Список изделий'!AA1807","v":0},{"$f":"'[1]Список изделий'!AB1807","v":0},{"$f":"'[1]Список изделий'!AC1807","v":"x"},{"$f":"'[1]Список изделий'!AD1807","v":0},{"$f":"'[1]Список изделий'!AE1807","v":0},{"$f":"'[1]Список изделий'!AF1807","v":"00:00:00"},{"$f":"'[1]Список изделий'!AY1807","v":0},{"$f":"'[1]Список изделий'!AZ1807","v":"00:00:00"},-43153,-43153,0,0,{"$f":"'[1]Список изделий'!BR1807","v":0},0]
[1624,{"$f":"'[1]Список изделий'!D1889","v":24},{"$f":"'[1]Список изделий'!E1889","v":0},{"$f":"'[1]Список изделий'!F1889","v":0},{"$f":"'[1]Список изделий'!I1889","v":0},{"$f":"'[1]Список изделий'!X1889","v":0},{"$f":"'[1]Список изделий'!Y1889","v":0},{"$f":"'[1]Список изделий'!Z1889","v":0},{"$f":"'[1]Список изделий'!AA1889","v":0},{"$f":"'[1]Список изделий'!AB1889","v":0},{"$f":"'[1]Список изделий'!AC1889","v":"x"},{"$f":"'[1]Список изделий'!AD1889","v":0},{"$f":"'[1]Список изделий'!AE1889","v":0},{"$f":"'[1]Список изделий'!AF1889","v":"00:00:00"},{"$f":"'[1]Список изделий'!AY1889","v":0},{"$f":"'[1]Список изделий'!AZ1889","v":"00:00:00"},-43153,-43153,0,0,{"$f":"'[1]Список изделий'!BR1889","v":0},0]
[1625,{"$f":"'[1]Список изделий'!D1971","v":25},{"$f":"'[1]Список изделий'!E1971","v":0},{"$f":"'[1]Список изделий'!F1971","v":0},{"$f":"'[1]Список изделий'!I1971","v":0},{"$f":"'[1]Список изделий'!X1971","v":0},{"$f":"'[1]Список изделий'!Y1971","v":0},{"$f":"'[1]Список изделий'!Z1971","v":0},{"$f":"'[1]Список изделий'!AA1971","v":0},{"$f":"'[1]Список изделий'!AB1971","v":0},{"$f":"'[1]Список изделий'!AC1971","v":"x"},{"$f":"'[1]Список изделий'!AD1971","v":0},{"$f":"'[1]Список изделий'!AE1971","v":0},{"$f":"'[1]Список изделий'!AF1971","v":"00:00:00"},{"$f":"'[1]Список изделий'!AY1971","v":0},{"$f":"'[1]Список изделий'!AZ1971","v":"00:00:00"},-43153,-43153,0,0,{"$f":"'[1]Список изделий'!BR1971","v":0},0]
[1458,{"$f":"'[16]Список изделий'!D4677","v":58},{"$f":"'[16]Список изделий'!E4677","v":"Пер-Колпин-58"},{"$f":"'[16]Список изделий'!F4677","v":"Конструкция \"Суперцена\" одинарная, один карман, подвесная к-во предварительное"},{"$f":"'[16]Список изделий'!I4677","v":10},{"$f":"'[16]Список изделий'!X4677","v":"ГМА"},{"$f":"'[16]Список изделий'!Y4677","v":"Микуло"},{"$f":"'[16]Список изделий'!Z4677","v":"Закурдаев"},{"$f":"'[16]Список изделий'!AA4677","v":"Замотаев"},{"$f":"'[16]Список изделий'!AB4677","v":0},{"$f":"'[16]Список изделий'!AC4677","v":"x"},{"$f":"'[16]Список изделий'!AD4677","v":0},{"$f":"'[16]Список изделий'!AE4677","v":0},{"$f":"'[16]Список изделий'!AF4677","v":"2018-03-10"},{"$f":"'[16]Список изделий'!AY4677","v":7},{"$f":"'[16]Список изделий'!AZ4677","v":"2018-03-04"},3,10,0,0,{"$f":"'[16]Список изделий'!BR4677","v":"\\\\SERVER\\Data1\\П\\Перекресток\\2018\\ТЕХНИЧЕСКАЯ ДОКУМЕНТАЦИЯ\\58-СУПЕРЦЕНА-одинарная_подвесная\\Сборка\\суперцена_плоская-сборка.cdr"},0]
[1459,{"$f":"'[16]Список изделий'!D4759","v":59},{"$f":"'[16]Список изделий'!E4759","v":"Пер-Колпин-59"},{"$f":"'[16]Список изделий'!F4759","v":"Стикеры \"Суперцена\", на карманы (треугольные конструкции)"},{"$f":"'[16]Список изделий'!I4759","v":8},{"$f":"'[16]Список изделий'!X4759","v":"ГМА"},{"$f":"'[16]Список изделий'!Y4759","v":"Микуло"},{"$f":"'[16]Список изделий'!Z4759","v":"Закурдаев"},{"$f":"'[16]Список изделий'!AA4759","v":"Замотаев"},{"$f":"'[16]Список изделий'!AB4759","v":0},{"$f":"'[16]Список изделий'!AC4759","v":"x"},{"$f":"'[16]Список изделий'!AD4759","v":0},{"$f":"'[16]Список изделий'!AE4759","v":0},{"$f":"'[16]Список изделий'!AF4759","v":"2018-03-10"},{"$f":"'[16]Список изделий'!AY4759","v":7},{"$f":"'[16]Список изделий'!AZ4759","v":"2018-03-04"},3,10,0,0,{"$f":"'[16]Список изделий'!BR4759","v":0},0]
[1461,{"$f":"'[16]Список изделий'!D4923","v":61},{"$f":"'[16]Список изделий'!E4923","v":"Пер-Колпин-61"},{"$f":"'[16]Список изделий'!F4923","v":"Подвес кассы на трубе 20х20 (двухсторонний) (к-во предварительно)"},{"$f":"'[16]Список изделий'!I4923","v":2},{"$f":"'[16]Список изделий'!X4923","v":"ГМА"},{"$f":"'[16]Список изделий'!Y4923","v":"Микуло"},{"$f":"'[16]Список изделий'!Z4923","v":"Закурдаев"},{"$f":"'[16]Список изделий'!AA4923","v":"Замотаев"},{"$f":"'[16]Список изделий'!AB4923","v":0},{"$f":"'[16]Список изделий'!AC4923","v":"x"},{"$f":"'[16]Список изделий'!AD4923","v":0},{"$f":"'[16]Список изделий'!AE4923","v":0},{"$f":"'[16]Список изделий'!AF4923","v":"2018-03-10"},{"$f":"'[16]Список изделий'!AY4923","v":7},{"$f":"'[16]Список изделий'!AZ4923","v":"2018-03-04"},3,10,0,0,{"$f":"'[16]Список изделий'!BR4923","v":0},0]
[1476,{"$f":"'[16]Список изделий'!D6153","v":76},{"$f":"'[16]Список изделий'!E6153","v":"Пер-Колпин-76"},{"$f":"'[16]Список изделий'!F6153","v":"Пилон несветовой"},{"$f":"'[16]Список изделий'!I6153","v":1},{"$f":"'[16]Список изделий'!X6153","v":"ГМА"},{"$f":"'[16]Список изделий'!Y6153","v":"Микуло"},{"$f":"'[16]Список изделий'!Z6153","v":"Закурдаев"},{"$f":"'[16]Список изделий'!AA6153","v":"Замотаев"},{"$f":"'[16]Список изделий'!AB6153","v":0},{"$f":"'[16]Список изделий'!AC6153","v":"x"},{"$f":"'[16]Список изделий'!AD6153","v":0},{"$f":"'[16]Список изделий'!AE6153","v":0},{"$f":"'[16]Список изделий'!AF6153","v":"2018-03-10"},{"$f":"'[16]Список изделий'!AY6153","v":7},{"$f":"'[16]Список изделий'!AZ6153","v":"2018-03-04"},3,10,0,0,{"$f":"'[16]Список изделий'!BR6153","v":"\\\\SERVER\\Data1\\П\\Перекресток\\2018\\МОСКВА_18\\Балаклавский пр. 16А\\Техничка\\76-Пилон-660х1600"},0]
[1477,{"$f":"'[16]Список изделий'!D6235","v":77},{"$f":"'[16]Список изделий'!E6235","v":"Пер-Колпин-77"},{"$f":"'[16]Список изделий'!F6235","v":"Печать на бумаге для пилона (комплект из 2шт.)"},{"$f":"'[16]Список изделий'!I6235","v":1},{"$f":"'[16]Список изделий'!X6235","v":"ГМА"},{"$f":"'[16]Список изделий'!Y6235","v":"Микуло"},{"$f":"'[16]Список изделий'!Z6235","v":"Закурдаев"},{"$f":"'[16]Список изделий'!AA6235","v":"Замотаев"},{"$f":"'[16]Список изделий'!AB6235","v":0},{"$f":"'[16]Список изделий'!AC6235","v":"x"},{"$f":"'[16]Список изделий'!AD6235","v":0},{"$f":"'[16]Список изделий'!AE6235","v":0},{"$f":"'[16]Список изделий'!AF6235","v":"2018-03-10"},{"$f":"'[16]Список изделий'!AY6235","v":7},{"$f":"'[16]Список изделий'!AZ6235","v":"2018-03-04"},3,10,0,0,{"$f":"'[16]Список изделий'!BR6235","v":"\\\\SERVER\\Data1\\П\\Перекресток\\2018\\МОСКВА_18\\Балаклавский пр. 16А\\Техничка\\77-Бумага_для_пилона"},0]
[731,{"$f":"'[10]Список изделий'!D2463","v":31},{"$f":"'[10]Список изделий'!E2463","v":0},{"$f":"'[10]Список изделий'!F2463","v":0},{"$f":"'[10]Список изделий'!I2463","v":0},{"$f":"'[10]Список изделий'!X2463","v":0},{"$f":"'[10]Список изделий'!Y2463","v":0},{"$f":"'[10]Список изделий'!Z2463","v":0},{"$f":"'[10]Список изделий'!AA2463","v":0},{"$f":"'[10]Список изделий'!AB2463","v":0},{"$f":"'[10]Список изделий'!AC2463","v":"x"},{"$f":"'[10]Список изделий'!AD2463","v":0},{"$f":"'[10]Список изделий'!AE2463","v":0},{"$f":"'[10]Список изделий'!AF2463","v":"00:00:00"},{"$f":"'[10]Список изделий'!AY2463","v":0},{"$f":"'[10]Список изделий'!AZ2463","v":"00:00:00"},-43153,-43153,0.01,0.01,{"$f":"'[10]Список изделий'!BR2463","v":0},0.01]
[1632,{"$f":"'[1]Список изделий'!D2545","v":32},{"$f":"'[1]Список изделий'!E2545","v":0},{"$f":"'[1]Список изделий'!F2545","v":0},{"$f":"'[1]Список изделий'!I2545","v":0},{"$f":"'[1]Список изделий'!X2545","v":0},{"$f":"'[1]Список изделий'!Y2545","v":0},{"$f":"'[1]Список изделий'!Z2545","v":0},{"$f":"'[1]Список изделий'!AA2545","v":0},{"$f":"'[1]Список изделий'!AB2545","v":0},{"$f":"'[1]Список изделий'!AC2545","v":"x"},{"$f":"'[1]Список изделий'!AD2545","v":0},{"$f":"'[1]Список изделий'!AE2545","v":0},{"$f":"'[1]Список изделий'!AF2545","v":"00:00:00"},{"$f":"'[1]Список изделий'!AY2545","v":0},{"$f":"'[1]Список изделий'!AZ2545","v":"00:00:00"},-43153,-43153,0,0,{"$f":"'[1]Список изделий'!BR2545","v":0},0]
[1633,{"$f":"'[1]Список изделий'!D2627","v":33},{"$f":"'[1]Список изделий'!E2627","v":0},{"$f":"'[1]Список изделий'!F2627","v":0},{"$f":"'[1]Список изделий'!I2627","v":0},{"$f":"'[1]Список изделий'!X2627","v":0},{"$f":"'[1]Список изделий'!Y2627","v":0},{"$f":"'[1]Список изделий'!Z2627","v":0},{"$f":"'[1]Список изделий'!AA2627","v":0},{"$f":"'[1]Список изделий'!AB2627","v":0},{"$f":"'[1]Список изделий'!AC2627","v":"x"},{"$f":"'[1]Список изделий'!AD2627","v":0},{"$f":"'[1]Список изделий'!AE2627","v":0},{"$f":"'[1]Список изделий'!AF2627","v":"00:00:00"},{"$f":"'[1]Список изделий'!AY2627","v":0},{"$f":"'[1]Список изделий'!AZ2627","v":"00:00:00"},-43153,-43153,0,0,{"$f":"'[1]Список изделий'!BR2627","v":0},0]
[1634,{"$f":"'[1]Список изделий'!D2709","v":34},{"$f":"'[1]Список изделий'!E2709","v":0},{"$f":"'[1]Список изделий'!F2709","v":0},{"$f":"'[1]Список изделий'!I2709","v":0},{"$f":"'[1]Список изделий'!X2709","v":0},{"$f":"'[1]Список изделий'!Y2709","v":0},{"$f":"'[1]Список изделий'!Z2709","v":0},{"$f":"'[1]Список изделий'!AA2709","v":0},{"$f":"'[1]Список изделий'!AB2709","v":0},{"$f":"'[1]Список изделий'!AC2709","v":"x"},{"$f":"'[1]Список изделий'!AD2709","v":0},{"$f":"'[1]Список изделий'!AE2709","v":0},{"$f":"'[1]Список изделий'!AF2709","v":"00:00:00"},{"$f":"'[1]Список изделий'!AY2709","v":0},{"$f":"'[1]Список изделий'!AZ2709","v":"00:00:00"},-43153,-43153,0,0,{"$f":"'[1]Список изделий'!BR2709","v":0},0]
[1635,{"$f":"'[1]Список изделий'!D2791","v":35},{"$f":"'[1]Список изделий'!E2791","v":0},{"$f":"'[1]Список изделий'!F2791","v":0},{"$f":"'[1]Список изделий'!I2791","v":0},{"$f":"'[1]Список изделий'!X2791","v":0},{"$f":"'[1]Список изделий'!Y2791","v":0},{"$f":"'[1]Список изделий'!Z2791","v":0},{"$f":"'[1]Список изделий'!AA2791","v":0},{"$f":"'[1]Список изделий'!AB2791","v":0},{"$f":"'[1]Список изделий'!AC2791","v":"x"},{"$f":"'[1]Список изделий'!AD2791","v":0},{"$f":"'[1]Список изделий'!AE2791","v":0},{"$f":"'[1]Список изделий'!AF2791","v":"00:00:00"},{"$f":"'[1]Список изделий'!AY2791","v":0},{"$f":"'[1]Список изделий'!AZ2791","v":"00:00:00"},-43153,-43153,0,0,{"$f":"'[1]Список изделий'!BR2791","v":0},0]
[1636,{"$f":"'[1]Список изделий'!D2873","v":36},{"$f":"'[1]Список изделий'!E2873","v":0},{"$f":"'[1]Список изделий'!F2873","v":0},{"$f":"'[1]Список изделий'!I2873","v":0},{"$f":"'[1]Список изделий'!X2873","v":0},{"$f":"'[1]Список изделий'!Y2873","v":0},{"$f":"'[1]Список изделий'!Z2873","v":0},{"$f":"'[1]Список изделий'!AA2873","v":0},{"$f":"'[1]Список изделий'!AB2873","v":0},{"$f":"'[1]Список изделий'!AC2873","v":"x"},{"$f":"'[1]Список изделий'!AD2873","v":0},{"$f":"'[1]Список изделий'!AE2873","v":0},{"$f":"'[1]Список изделий'!AF2873","v":"00:00:00"},{"$f":"'[1]Список изделий'!AY2873","v":0},{"$f":"'[1]Список изделий'!AZ2873","v":"00:00:00"},-43153,-43153,0,0,{"$f":"'[1]Список изделий'!BR2873","v":0},0]
[1637,{"$f":"'[1]Список изделий'!D2955","v":37},{"$f":"'[1]Список изделий'!E2955","v":0},{"$f":"'[1]Список изделий'!F2955","v":0},{"$f":"'[1]Список изделий'!I2955","v":0},{"$f":"'[1]Список изделий'!X2955","v":0},{"$f":"'[1]Список изделий'!Y2955","v":0},{"$f":"'[1]Список изделий'!Z2955","v":0},{"$f":"'[1]Список изделий'!AA2955","v":0},{"$f":"'[1]Список изделий'!AB2955","v":0},{"$f":"'[1]Список изделий'!AC2955","v":"x"},{"$f":"'[1]Список изделий'!AD2955","v":0},{"$f":"'[1]Список изделий'!AE2955","v":0},{"$f":"'[1]Список изделий'!AF2955","v":"00:00:00"},{"$f":"'[1]Список изделий'!AY2955","v":0},{"$f":"'[1]Список изделий'!AZ2955","v":"00:00:00"},-43153,-43153,0,0,{"$f":"'[1]Список изделий'!BR2955","v":0},0]
[1638,{"$f":"'[1]Список изделий'!D3037","v":38},{"$f":"'[1]Список изделий'!E3037","v":0},{"$f":"'[1]Список изделий'!F3037","v":0},{"$f":"'[1]Список изделий'!I3037","v":0},{"$f":"'[1]Список изделий'!X3037","v":0},{"$f":"'[1]Список изделий'!Y3037","v":0},{"$f":"'[1]Список изделий'!Z3037","v":0},{"$f":"'[1]Список изделий'!AA3037","v":0},{"$f":"'[1]Список изделий'!AB3037","v":0},{"$f":"'[1]Список изделий'!AC3037","v":"x"},{"$f":"'[1]Список изделий'!AD3037","v":0},{"$f":"'[1]Список изделий'!AE3037","v":0},{"$f":"'[1]Список изделий'!AF3037","v":"00:00:00"},{"$f":"'[1]Список изделий'!AY3037","v":0},{"$f":"'[1]Список изделий'!AZ3037","v":"00:00:00"},-43153,-43153,0,{"$f":"V1640","v":0},{"$f":"'[1]Список изделий'!BR3037","v":0},0]
[1639,{"$f":"'[1]Список изделий'!D3119","v":39},{"$f":"'[1]Список изделий'!E3119","v":0},{"$f":"'[1]Список изделий'!F3119","v":0},{"$f":"'[1]Список изделий'!I3119","v":0},{"$f":"'[1]Список изделий'!X3119","v":0},{"$f":"'[1]Список изделий'!Y3119","v":0},{"$f":"'[1]Список изделий'!Z3119","v":0},{"$f":"'[1]Список изделий'!AA3119","v":0},{"$f":"'[1]Список изделий'!AB3119","v":0},{"$f":"'[1]Список изделий'!AC3119","v":"x"},{"$f":"'[1]Список изделий'!AD3119","v":0},{"$f":"'[1]Список изделий'!AE3119","v":0},{"$f":"'[1]Список изделий'!AF3119","v":"00:00:00"},{"$f":"'[1]Список изделий'!AY3119","v":0},{"$f":"'[1]Список изделий'!AZ3119","v":"00:00:00"},-43153,-43153,0,0,{"$f":"'[1]Список изделий'!BR3119","v":0},0]
[1640,{"$f":"'[1]Список изделий'!D3201","v":40},{"$f":"'[1]Список изделий'!E3201","v":0},{"$f":"'[1]Список изделий'!F3201","v":0},{"$f":"'[1]Список изделий'!I3201","v":0},{"$f":"'[1]Список изделий'!X3201","v":0},{"$f":"'[1]Список изделий'!Y3201","v":0},{"$f":"'[1]Список изделий'!Z3201","v":0},{"$f":"'[1]Список изделий'!AA3201","v":0},{"$f":"'[1]Список изделий'!AB3201","v":0},{"$f":"'[1]Список изделий'!AC3201","v":"x"},{"$f":"'[1]Список изделий'!AD3201","v":0},{"$f":"'[1]Список изделий'!AE3201","v":0},{"$f":"'[1]Список изделий'!AF3201","v":"00:00:00"},{"$f":"'[1]Список изделий'!AY3201","v":0},{"$f":"'[1]Список изделий'!AZ3201","v":"00:00:00"},-43153,-43153,0,0,{"$f":"'[1]Список изделий'!BR3201","v":0},0]
[1641,{"$f":"'[1]Список изделий'!D3283","v":41},{"$f":"'[1]Список изделий'!E3283","v":0},{"$f":"'[1]Список изделий'!F3283","v":0},{"$f":"'[1]Список изделий'!I3283","v":0},{"$f":"'[1]Список изделий'!X3283","v":0},{"$f":"'[1]Список изделий'!Y3283","v":0},{"$f":"'[1]Список изделий'!Z3283","v":0},{"$f":"'[1]Список изделий'!AA3283","v":0},{"$f":"'[1]Список изделий'!AB3283","v":0},{"$f":"'[1]Список изделий'!AC3283","v":"x"},{"$f":"'[1]Список изделий'!AD3283","v":0},{"$f":"'[1]Список изделий'!AE3283","v":0},{"$f":"'[1]Список изделий'!AF3283","v":"00:00:00"},{"$f":"'[1]Список изделий'!AY3283","v":0},{"$f":"'[1]Список изделий'!AZ3283","v":"00:00:00"},-43153,-43153,0,0,{"$f":"'[1]Список изделий'!BR3283","v":0},0]
[1642,{"$f":"'[1]Список изделий'!D3365","v":42},{"$f":"'[1]Список изделий'!E3365","v":0},{"$f":"'[1]Список изделий'!F3365","v":0},{"$f":"'[1]Список изделий'!I3365","v":0},{"$f":"'[1]Список изделий'!X3365","v":0},{"$f":"'[1]Список изделий'!Y3365","v":0},{"$f":"'[1]Список изделий'!Z3365","v":0},{"$f":"'[1]Список изделий'!AA3365","v":0},{"$f":"'[1]Список изделий'!AB3365","v":0},{"$f":"'[1]Список изделий'!AC3365","v":"x"},{"$f":"'[1]Список изделий'!AD3365","v":0},{"$f":"'[1]Список изделий'!AE3365","v":0},{"$f":"'[1]Список изделий'!AF3365","v":"00:00:00"},{"$f":"'[1]Список изделий'!AY3365","v":0},{"$f":"'[1]Список изделий'!AZ3365","v":"00:00:00"},-43153,-43153,0,0,{"$f":"'[1]Список изделий'!BR3365","v":0},0]
[1643,{"$f":"'[1]Список изделий'!D3447","v":43},{"$f":"'[1]Список изделий'!E3447","v":0},{"$f":"'[1]Список изделий'!F3447","v":0},{"$f":"'[1]Список изделий'!I3447","v":0},{"$f":"'[1]Список изделий'!X3447","v":0},{"$f":"'[1]Список изделий'!Y3447","v":0},{"$f":"'[1]Список изделий'!Z3447","v":0},{"$f":"'[1]Список изделий'!AA3447","v":0},{"$f":"'[1]Список изделий'!AB3447","v":0},{"$f":"'[1]Список изделий'!AC3447","v":"x"},{"$f":"'[1]Список изделий'!AD3447","v":0},{"$f":"'[1]Список изделий'!AE3447","v":0},{"$f":"'[1]Список изделий'!AF3447","v":"00:00:00"},{"$f":"'[1]Список изделий'!AY3447","v":0},{"$f":"'[1]Список изделий'!AZ3447","v":"00:00:00"},-43153,-43153,0,0,{"$f":"'[1]Список изделий'!BR3447","v":0},0]
[1644,{"$f":"'[1]Список изделий'!D3529","v":44},{"$f":"'[1]Список изделий'!E3529","v":0},{"$f":"'[1]Список изделий'!F3529","v":0},{"$f":"'[1]Список изделий'!I3529","v":0},{"$f":"'[1]Список изделий'!X3529","v":0},{"$f":"'[1]Список изделий'!Y3529","v":0},{"$f":"'[1]Список изделий'!Z3529","v":0},{"$f":"'[1]Список изделий'!AA3529","v":0},{"$f":"'[1]Список изделий'!AB3529","v":0},{"$f":"'[1]Список изделий'!AC3529","v":"x"},{"$f":"'[1]Список изделий'!AD3529","v":0},{"$f":"'[1]Список изделий'!AE3529","v":0},{"$f":"'[1]Список изделий'!AF3529","v":"00:00:00"},{"$f":"'[1]Список изделий'!AY3529","v":0},{"$f":"'[1]Список изделий'!AZ3529","v":"00:00:00"},-43153,-43153,0,0,{"$f":"'[1]Список изделий'!BR3529","v":0},0]
[1645,{"$f":"'[1]Список изделий'!D3611","v":45},{"$f":"'[1]Список изделий'!E3611","v":0},{"$f":"'[1]Список изделий'!F3611","v":0},{"$f":"'[1]Список изделий'!I3611","v":0},{"$f":"'[1]Список изделий'!X3611","v":0},{"$f":"'[1]Список изделий'!Y3611","v":0},{"$f":"'[1]Список изделий'!Z3611","v":0},{"$f":"'[1]Список изделий'!AA3611","v":0},{"$f":"'[1]Список изделий'!AB3611","v":0},{"$f":"'[1]Список изделий'!AC3611","v":"x"},{"$f":"'[1]Список изделий'!AD3611","v":0},{"$f":"'[1]Список изделий'!AE3611","v":0},{"$f":"'[1]Список изделий'!AF3611","v":"00:00:00"},{"$f":"'[1]Список изделий'!AY3611","v":0},{"$f":"'[1]Список изделий'!AZ3611","v":"00:00:00"},-43153,-43153,0,0,{"$f":"'[1]Список изделий'!BR3611","v":0},0]
[1646,{"$f":"'[1]Список изделий'!D3693","v":46},{"$f":"'[1]Список изделий'!E3693","v":0},{"$f":"'[1]Список изделий'!F3693","v":0},{"$f":"'[1]Список изделий'!I3693","v":0},{"$f":"'[1]Список изделий'!X3693","v":0},{"$f":"'[1]Список изделий'!Y3693","v":0},{"$f":"'[1]Список изделий'!Z3693","v":0},{"$f":"'[1]Список изделий'!AA3693","v":0},{"$f":"'[1]Список изделий'!AB3693","v":0},{"$f":"'[1]Список изделий'!AC3693","v":"x"},{"$f":"'[1]Список изделий'!AD3693","v":0},{"$f":"'[1]Список изделий'!AE3693","v":0},{"$f":"'[1]Список изделий'!AF3693","v":"00:00:00"},{"$f":"'[1]Список изделий'!AY3693","v":0},{"$f":"'[1]Список изделий'!AZ3693","v":"00:00:00"},-43153,-43153,0,0,{"$f":"'[1]Список изделий'!BR3693","v":0},0]
[1647,{"$f":"'[1]Список изделий'!D3775","v":47},{"$f":"'[1]Список изделий'!E3775","v":0},{"$f":"'[1]Список изделий'!F3775","v":0},{"$f":"'[1]Список изделий'!I3775","v":0},{"$f":"'[1]Список изделий'!X3775","v":0},{"$f":"'[1]Список изделий'!Y3775","v":0},{"$f":"'[1]Список изделий'!Z3775","v":0},{"$f":"'[1]Список изделий'!AA3775","v":0},{"$f":"'[1]Список изделий'!AB3775","v":0},{"$f":"'[1]Список изделий'!AC3775","v":"x"},{"$f":"'[1]Список изделий'!AD3775","v":0},{"$f":"'[1]Список изделий'!AE3775","v":0},{"$f":"'[1]Список изделий'!AF3775","v":"00:00:00"},{"$f":"'[1]Список изделий'!AY3775","v":0},{"$f":"'[1]Список изделий'!AZ3775","v":"00:00:00"},-43153,-43153,0,0,{"$f":"'[1]Список изделий'!BR3775","v":0},0]
[1648,{"$f":"'[1]Список изделий'!D3857","v":48},{"$f":"'[1]Список изделий'!E3857","v":0},{"$f":"'[1]Список изделий'!F3857","v":0},{"$f":"'[1]Список изделий'!I3857","v":0},{"$f":"'[1]Список изделий'!X3857","v":0},{"$f":"'[1]Список изделий'!Y3857","v":0},{"$f":"'[1]Список изделий'!Z3857","v":0},{"$f":"'[1]Список изделий'!AA3857","v":0},{"$f":"'[1]Список изделий'!AB3857","v":0},{"$f":"'[1]Список изделий'!AC3857","v":"x"},{"$f":"'[1]Список изделий'!AD3857","v":0},{"$f":"'[1]Список изделий'!AE3857","v":0},{"$f":"'[1]Список изделий'!AF3857","v":"00:00:00"},{"$f":"'[1]Список изделий'!AY3857","v":0},{"$f":"'[1]Список изделий'!AZ3857","v":"00:00:00"},-43153,-43153,0,0,{"$f":"'[1]Список изделий'!BR3857","v":0},0]
[1649,{"$f":"'[1]Список изделий'!D3939","v":49},{"$f":"'[1]Список изделий'!E3939","v":0},{"$f":"'[1]Список изделий'!F3939","v":0},{"$f":"'[1]Список изделий'!I3939","v":0},{"$f":"'[1]Список изделий'!X3939","v":0},{"$f":"'[1]Список изделий'!Y3939","v":0},{"$f":"'[1]Список изделий'!Z3939","v":0},{"$f":"'[1]Список изделий'!AA3939","v":0},{"$f":"'[1]Список изделий'!AB3939","v":0},{"$f":"'[1]Список изделий'!AC3939","v":"x"},{"$f":"'[1]Список изделий'!AD3939","v":0},{"$f":"'[1]Список изделий'!AE3939","v":0},{"$f":"'[1]Список изделий'!AF3939","v":"00:00:00"},{"$f":"'[1]Список изделий'!AY3939","v":0},{"$f":"'[1]Список изделий'!AZ3939","v":"00:00:00"},-43153,-43153,0,0,{"$f":"'[1]Список изделий'!BR3939","v":0},0]
[1650,{"$f":"'[1]Список изделий'!D4021","v":50},{"$f":"'[1]Список изделий'!E4021","v":0},{"$f":"'[1]Список изделий'!F4021","v":0},{"$f":"'[1]Список изделий'!I4021","v":0},{"$f":"'[1]Список изделий'!X4021","v":0},{"$f":"'[1]Список изделий'!Y4021","v":0},{"$f":"'[1]Список изделий'!Z4021","v":0},{"$f":"'[1]Список изделий'!AA4021","v":0},{"$f":"'[1]Список изделий'!AB4021","v":0},{"$f":"'[1]Список изделий'!AC4021","v":"x"},{"$f":"'[1]Список изделий'!AD4021","v":0},{"$f":"'[1]Список изделий'!AE4021","v":0},{"$f":"'[1]Список изделий'!AF4021","v":"00:00:00"},{"$f":"'[1]Список изделий'!AY4021","v":0},{"$f":"'[1]Список изделий'!AZ4021","v":"00:00:00"},-43153,-43153,0,0,{"$f":"'[1]Список изделий'!BR4021","v":0},0]
[1651,{"$f":"'[1]Список изделий'!D4103","v":51},{"$f":"'[1]Список изделий'!E4103","v":0},{"$f":"'[1]Список изделий'!F4103","v":0},{"$f":"'[1]Список изделий'!I4103","v":0},{"$f":"'[1]Список изделий'!X4103","v":0},{"$f":"'[1]Список изделий'!Y4103","v":0},{"$f":"'[1]Список изделий'!Z4103","v":0},{"$f":"'[1]Список изделий'!AA4103","v":0},{"$f":"'[1]Список изделий'!AB4103","v":0},{"$f":"'[1]Список изделий'!AC4103","v":"x"},{"$f":"'[1]Список изделий'!AD4103","v":0},{"$f":"'[1]Список изделий'!AE4103","v":0},{"$f":"'[1]Список изделий'!AF4103","v":"00:00:00"},{"$f":"'[1]Список изделий'!AY4103","v":0},{"$f":"'[1]Список изделий'!AZ4103","v":"00:00:00"},-43153,-43153,0,0,{"$f":"'[1]Список изделий'!BR4103","v":0},0]
[1652,{"$f":"'[1]Список изделий'!D4185","v":52},{"$f":"'[1]Список изделий'!E4185","v":0},{"$f":"'[1]Список изделий'!F4185","v":0},{"$f":"'[1]Список изделий'!I4185","v":0},{"$f":"'[1]Список изделий'!X4185","v":0},{"$f":"'[1]Список изделий'!Y4185","v":0},{"$f":"'[1]Список изделий'!Z4185","v":0},{"$f":"'[1]Список изделий'!AA4185","v":0},{"$f":"'[1]Список изделий'!AB4185","v":0},{"$f":"'[1]Список изделий'!AC4185","v":"x"},{"$f":"'[1]Список изделий'!AD4185","v":0},{"$f":"'[1]Список изделий'!AE4185","v":0},{"$f":"'[1]Список изделий'!AF4185","v":"00:00:00"},{"$f":"'[1]Список изделий'!AY4185","v":0},{"$f":"'[1]Список изделий'!AZ4185","v":"00:00:00"},-43153,-43153,0,0,{"$f":"'[1]Список изделий'!BR4185","v":0},0]
[1653,{"$f":"'[1]Список изделий'!D4267","v":53},{"$f":"'[1]Список изделий'!E4267","v":0},{"$f":"'[1]Список изделий'!F4267","v":0},{"$f":"'[1]Список изделий'!I4267","v":0},{"$f":"'[1]Список изделий'!X4267","v":0},{"$f":"'[1]Список изделий'!Y4267","v":0},{"$f":"'[1]Список изделий'!Z4267","v":0},{"$f":"'[1]Список изделий'!AA4267","v":0},{"$f":"'[1]Список изделий'!AB4267","v":0},{"$f":"'[1]Список изделий'!AC4267","v":"x"},{"$f":"'[1]Список изделий'!AD4267","v":0},{"$f":"'[1]Список изделий'!AE4267","v":0},{"$f":"'[1]Список изделий'!AF4267","v":"00:00:00"},{"$f":"'[1]Список изделий'!AY4267","v":0},{"$f":"'[1]Список изделий'!AZ4267","v":"00:00:00"},-43153,-43153,0,0,{"$f":"'[1]Список изделий'!BR4267","v":0},0]
[1654,{"$f":"'[1]Список изделий'!D4349","v":54},{"$f":"'[1]Список изделий'!E4349","v":0},{"$f":"'[1]Список изделий'!F4349","v":0},{"$f":"'[1]Список изделий'!I4349","v":0},{"$f":"'[1]Список изделий'!X4349","v":0},{"$f":"'[1]Список изделий'!Y4349","v":0},{"$f":"'[1]Список изделий'!Z4349","v":0},{"$f":"'[1]Список изделий'!AA4349","v":0},{"$f":"'[1]Список изделий'!AB4349","v":0},{"$f":"'[1]Список изделий'!AC4349","v":"x"},{"$f":"'[1]Список изделий'!AD4349","v":0},{"$f":"'[1]Список изделий'!AE4349","v":0},{"$f":"'[1]Список изделий'!AF4349","v":"00:00:00"},{"$f":"'[1]Список изделий'!AY4349","v":0},{"$f":"'[1]Список изделий'!AZ4349","v":"00:00:00"},-43153,-43153,0,0,{"$f":"'[1]Список изделий'!BR4349","v":0},0]
[1655,{"$f":"'[1]Список изделий'!D4431","v":55},{"$f":"'[1]Список изделий'!E4431","v":0},{"$f":"'[1]Список изделий'!F4431","v":0},{"$f":"'[1]Список изделий'!I4431","v":0},{"$f":"'[1]Список изделий'!X4431","v":0},{"$f":"'[1]Список изделий'!Y4431","v":0},{"$f":"'[1]Список изделий'!Z4431","v":0},{"$f":"'[1]Список изделий'!AA4431","v":0},{"$f":"'[1]Список изделий'!AB4431","v":0},{"$f":"'[1]Список изделий'!AC4431","v":"x"},{"$f":"'[1]Список изделий'!AD4431","v":0},{"$f":"'[1]Список изделий'!AE4431","v":0},{"$f":"'[1]Список изделий'!AF4431","v":"00:00:00"},{"$f":"'[1]Список изделий'!AY4431","v":0},{"$f":"'[1]Список изделий'!AZ4431","v":"00:00:00"},-43153,-43153,0,0,{"$f":"'[1]Список изделий'!BR4431","v":0},0]
[1656,{"$f":"'[1]Список изделий'!D4513","v":56},{"$f":"'[1]Список изделий'!E4513","v":0},{"$f":"'[1]Список изделий'!F4513","v":0},{"$f":"'[1]Список изделий'!I4513","v":0},{"$f":"'[1]Список изделий'!X4513","v":0},{"$f":"'[1]Список изделий'!Y4513","v":0},{"$f":"'[1]Список изделий'!Z4513","v":0},{"$f":"'[1]Список изделий'!AA4513","v":0},{"$f":"'[1]Список изделий'!AB4513","v":0},{"$f":"'[1]Список изделий'!AC4513","v":"x"},{"$f":"'[1]Список изделий'!AD4513","v":0},{"$f":"'[1]Список изделий'!AE4513","v":0},{"$f":"'[1]Список изделий'!AF4513","v":"00:00:00"},{"$f":"'[1]Список изделий'!AY4513","v":0},{"$f":"'[1]Список изделий'!AZ4513","v":"00:00:00"},-43153,-43153,0,0,{"$f":"'[1]Список изделий'!BR4513","v":0},0]
[1657,{"$f":"'[1]Список изделий'!D4595","v":57},{"$f":"'[1]Список изделий'!E4595","v":0},{"$f":"'[1]Список изделий'!F4595","v":0},{"$f":"'[1]Список изделий'!I4595","v":0},{"$f":"'[1]Список изделий'!X4595","v":0},{"$f":"'[1]Список изделий'!Y4595","v":0},{"$f":"'[1]Список изделий'!Z4595","v":0},{"$f":"'[1]Список изделий'!AA4595","v":0},{"$f":"'[1]Список изделий'!AB4595","v":0},{"$f":"'[1]Список изделий'!AC4595","v":"x"},{"$f":"'[1]Список изделий'!AD4595","v":0},{"$f":"'[1]Список изделий'!AE4595","v":0},{"$f":"'[1]Список изделий'!AF4595","v":"00:00:00"},{"$f":"'[1]Список изделий'!AY4595","v":0},{"$f":"'[1]Список изделий'!AZ4595","v":"00:00:00"},-43153,-43153,0,0,{"$f":"'[1]Список изделий'!BR4595","v":0},0]
[1658,{"$f":"'[1]Список изделий'!D4677","v":58},{"$f":"'[1]Список изделий'!E4677","v":0},{"$f":"'[1]Список изделий'!F4677","v":0},{"$f":"'[1]Список изделий'!I4677","v":0},{"$f":"'[1]Список изделий'!X4677","v":0},{"$f":"'[1]Список изделий'!Y4677","v":0},{"$f":"'[1]Список изделий'!Z4677","v":0},{"$f":"'[1]Список изделий'!AA4677","v":0},{"$f":"'[1]Список изделий'!AB4677","v":0},{"$f":"'[1]Список изделий'!AC4677","v":"x"},{"$f":"'[1]Список изделий'!AD4677","v":0},{"$f":"'[1]Список изделий'!AE4677","v":0},{"$f":"'[1]Список изделий'!AF4677","v":"00:00:00"},{"$f":"'[1]Список изделий'!AY4677","v":0},{"$f":"'[1]Список изделий'!AZ4677","v":"00:00:00"},-43153,-43153,0,0,{"$f":"'[1]Список изделий'!BR4677","v":0},0]
[1659,{"$f":"'[1]Список изделий'!D4759","v":59},{"$f":"'[1]Список изделий'!E4759","v":0},{"$f":"'[1]Список изделий'!F4759","v":0},{"$f":"'[1]Список изделий'!I4759","v":0},{"$f":"'[1]Список изделий'!X4759","v":0},{"$f":"'[1]Список изделий'!Y4759","v":0},{"$f":"'[1]Список изделий'!Z4759","v":0},{"$f":"'[1]Список изделий'!AA4759","v":0},{"$f":"'[1]Список изделий'!AB4759","v":0},{"$f":"'[1]Список изделий'!AC4759","v":"x"},{"$f":"'[1]Список изделий'!AD4759","v":0},{"$f":"'[1]Список изделий'!AE4759","v":0},{"$f":"'[1]Список изделий'!AF4759","v":"00:00:00"},{"$f":"'[1]Список изделий'!AY4759","v":0},{"$f":"'[1]Список изделий'!AZ4759","v":"00:00:00"},-43153,-43153,0,0,{"$f":"'[1]Список изделий'!BR4759","v":0},0]
[1660,{"$f":"'[1]Список изделий'!D4841","v":60},{"$f":"'[1]Список изделий'!E4841","v":0},{"$f":"'[1]Список изделий'!F4841","v":0},{"$f":"'[1]Список изделий'!I4841","v":0},{"$f":"'[1]Список изделий'!X4841","v":0},{"$f":"'[1]Список изделий'!Y4841","v":0},{"$f":"'[1]Список изделий'!Z4841","v":0},{"$f":"'[1]Список изделий'!AA4841","v":0},{"$f":"'[1]Список изделий'!AB4841","v":0},{"$f":"'[1]Список изделий'!AC4841","v":"x"},{"$f":"'[1]Список изделий'!AD4841","v":0},{"$f":"'[1]Список изделий'!AE4841","v":0},{"$f":"'[1]Список изделий'!AF4841","v":"00:00:00"},{"$f":"'[1]Список изделий'!AY4841","v":0},{"$f":"'[1]Список изделий'!AZ4841","v":"00:00:00"},-43153,-43153,0,0,{"$f":"'[1]Список изделий'!BR4841","v":0},0]
[1661,{"$f":"'[1]Список изделий'!D4923","v":61},{"$f":"'[1]Список изделий'!E4923","v":0},{"$f":"'[1]Список изделий'!F4923","v":0},{"$f":"'[1]Список изделий'!I4923","v":0},{"$f":"'[1]Список изделий'!X4923","v":0},{"$f":"'[1]Список изделий'!Y4923","v":0},{"$f":"'[1]Список изделий'!Z4923","v":0},{"$f":"'[1]Список изделий'!AA4923","v":0},{"$f":"'[1]Список изделий'!AB4923","v":0},{"$f":"'[1]Список изделий'!AC4923","v":"x"},{"$f":"'[1]Список изделий'!AD4923","v":0},{"$f":"'[1]Список изделий'!AE4923","v":0},{"$f":"'[1]Список изделий'!AF4923","v":"00:00:00"},{"$f":"'[1]Список изделий'!AY4923","v":0},{"$f":"'[1]Список изделий'!AZ4923","v":"00:00:00"},-43153,-43153,0,0,{"$f":"'[1]Список изделий'!BR4923","v":0},0]
[1662,{"$f":"'[1]Список изделий'!D5005","v":62},{"$f":"'[1]Список изделий'!E5005","v":0},{"$f":"'[1]Список изделий'!F5005","v":0},{"$f":"'[1]Список изделий'!I5005","v":0},{"$f":"'[1]Список изделий'!X5005","v":0},{"$f":"'[1]Список изделий'!Y5005","v":0},{"$f":"'[1]Список изделий'!Z5005","v":0},{"$f":"'[1]Список изделий'!AA5005","v":0},{"$f":"'[1]Список изделий'!AB5005","v":0},{"$f":"'[1]Список изделий'!AC5005","v":"x"},{"$f":"'[1]Список изделий'!AD5005","v":0},{"$f":"'[1]Список изделий'!AE5005","v":0},{"$f":"'[1]Список изделий'!AF5005","v":"00:00:00"},{"$f":"'[1]Список изделий'!AY5005","v":0},{"$f":"'[1]Список изделий'!AZ5005","v":"00:00:00"},-43153,-43153,0,0,{"$f":"'[1]Список изделий'!BR5005","v":0},0]
[1663,{"$f":"'[1]Список изделий'!D5087","v":63},{"$f":"'[1]Список изделий'!E5087","v":0},{"$f":"'[1]Список изделий'!F5087","v":0},{"$f":"'[1]Список изделий'!I5087","v":0},{"$f":"'[1]Список изделий'!X5087","v":0},{"$f":"'[1]Список изделий'!Y5087","v":0},{"$f":"'[1]Список изделий'!Z5087","v":0},{"$f":"'[1]Список изделий'!AA5087","v":0},{"$f":"'[1]Список изделий'!AB5087","v":0},{"$f":"'[1]Список изделий'!AC5087","v":"x"},{"$f":"'[1]Список изделий'!AD5087","v":0},{"$f":"'[1]Список изделий'!AE5087","v":0},{"$f":"'[1]Список изделий'!AF5087","v":"00:00:00"},{"$f":"'[1]Список изделий'!AY5087","v":0},{"$f":"'[1]Список изделий'!AZ5087","v":"00:00:00"},-43153,-43153,0,0,{"$f":"'[1]Список изделий'!BR5087","v":0},0]
[1664,{"$f":"'[1]Список изделий'!D5169","v":64},{"$f":"'[1]Список изделий'!E5169","v":0},{"$f":"'[1]Список изделий'!F5169","v":0},{"$f":"'[1]Список изделий'!I5169","v":0},{"$f":"'[1]Список изделий'!X5169","v":0},{"$f":"'[1]Список изделий'!Y5169","v":0},{"$f":"'[1]Список изделий'!Z5169","v":0},{"$f":"'[1]Список изделий'!AA5169","v":0},{"$f":"'[1]Список изделий'!AB5169","v":0},{"$f":"'[1]Список изделий'!AC5169","v":"x"},{"$f":"'[1]Список изделий'!AD5169","v":0},{"$f":"'[1]Список изделий'!AE5169","v":0},{"$f":"'[1]Список изделий'!AF5169","v":"00:00:00"},{"$f":"'[1]Список изделий'!AY5169","v":0},{"$f":"'[1]Список изделий'!AZ5169","v":"00:00:00"},-43153,-43153,0,0,{"$f":"'[1]Список изделий'!BR5169","v":0},0]
[1665,{"$f":"'[1]Список изделий'!D5251","v":65},{"$f":"'[1]Список изделий'!E5251","v":0},{"$f":"'[1]Список изделий'!F5251","v":0},{"$f":"'[1]Список изделий'!I5251","v":0},{"$f":"'[1]Список изделий'!X5251","v":0},{"$f":"'[1]Список изделий'!Y5251","v":0},{"$f":"'[1]Список изделий'!Z5251","v":0},{"$f":"'[1]Список изделий'!AA5251","v":0},{"$f":"'[1]Список изделий'!AB5251","v":0},{"$f":"'[1]Список изделий'!AC5251","v":"x"},{"$f":"'[1]Список изделий'!AD5251","v":0},{"$f":"'[1]Список изделий'!AE5251","v":0},{"$f":"'[1]Список изделий'!AF5251","v":"00:00:00"},{"$f":"'[1]Список изделий'!AY5251","v":0},{"$f":"'[1]Список изделий'!AZ5251","v":"00:00:00"},-43153,-43153,0,0,{"$f":"'[1]Список изделий'!BR5251","v":0},0]
[1666,{"$f":"'[1]Список изделий'!D5333","v":66},{"$f":"'[1]Список изделий'!E5333","v":0},{"$f":"'[1]Список изделий'!F5333","v":0},{"$f":"'[1]Список изделий'!I5333","v":0},{"$f":"'[1]Список изделий'!X5333","v":0},{"$f":"'[1]Список изделий'!Y5333","v":0},{"$f":"'[1]Список изделий'!Z5333","v":0},{"$f":"'[1]Список изделий'!AA5333","v":0},{"$f":"'[1]Список изделий'!AB5333","v":0},{"$f":"'[1]Список изделий'!AC5333","v":"x"},{"$f":"'[1]Список изделий'!AD5333","v":0},{"$f":"'[1]Список изделий'!AE5333","v":0},{"$f":"'[1]Список изделий'!AF5333","v":"00:00:00"},{"$f":"'[1]Список изделий'!AY5333","v":0},{"$f":"'[1]Список изделий'!AZ5333","v":"00:00:00"},{"$f":"IF(O1668=\"нет в заказе\",\"нет в заказе\",-(TODAY()-(P1668-O1668)))","v":-43153},{"$f":"IF(Q1668=\"нет в заказе\",\"нет взаказе\",-(IF(O1668=\"нет в заказе\",\"нет в заказе\",TODAY()-P1668)))","v":-43153},null,0,{"$f":"'[1]Список изделий'!BR5333","v":0},{"$f":"IF(S1668>=0,S1668,IF(T1668>S1668,T1668,S1668))","v":0}]
[1667,{"$f":"'[1]Список изделий'!D5415","v":67},{"$f":"'[1]Список изделий'!E5415","v":0},{"$f":"'[1]Список изделий'!F5415","v":0},{"$f":"'[1]Список изделий'!I5415","v":0},{"$f":"'[1]Список изделий'!X5415","v":0},{"$f":"'[1]Список изделий'!Y5415","v":0},{"$f":"'[1]Список изделий'!Z5415","v":0},{"$f":"'[1]Список изделий'!AA5415","v":0},{"$f":"'[1]Список изделий'!AB5415","v":0},{"$f":"'[1]Список изделий'!AC5415","v":"x"},{"$f":"'[1]Список изделий'!AD5415","v":0},{"$f":"'[1]Список изделий'!AE5415","v":0},{"$f":"'[1]Список изделий'!AF5415","v":"00:00:00"},{"$f":"'[1]Список изделий'!AY5415","v":0},{"$f":"'[1]Список изделий'!AZ5415","v":"00:00:00"},-43153,-43153,0,0,{"$f":"'[1]Список изделий'!BR5415","v":0},0]
[1668,{"$f":"'[1]Список изделий'!D5497","v":68},{"$f":"'[1]Список изделий'!E5497","v":0},{"$f":"'[1]Список изделий'!F5497","v":0},{"$f":"'[1]Список изделий'!I5497","v":0},{"$f":"'[1]Список изделий'!X5497","v":0},{"$f":"'[1]Список изделий'!Y5497","v":0},{"$f":"'[1]Список изделий'!Z5497","v":0},{"$f":"'[1]Список изделий'!AA5497","v":0},{"$f":"'[1]Список изделий'!AB5497","v":0},{"$f":"'[1]Список изделий'!AC5497","v":"x"},{"$f":"'[1]Список изделий'!AD5497","v":0},{"$f":"'[1]Список изделий'!AE5497","v":0},{"$f":"'[1]Список изделий'!AF5497","v":"00:00:00"},{"$f":"'[1]Список изделий'!AY5497","v":0},{"$f":"'[1]Список изделий'!AZ5497","v":"00:00:00"},-43153,-43153,0,0,{"$f":"'[1]Список изделий'!BR5497","v":0},0]
[1669,{"$f":"'[1]Список изделий'!D5579","v":69},{"$f":"'[1]Список изделий'!E5579","v":0},{"$f":"'[1]Список изделий'!F5579","v":0},{"$f":"'[1]Список изделий'!I5579","v":0},{"$f":"'[1]Список изделий'!X5579","v":0},{"$f":"'[1]Список изделий'!Y5579","v":0},{"$f":"'[1]Список изделий'!Z5579","v":0},{"$f":"'[1]Список изделий'!AA5579","v":0},{"$f":"'[1]Список изделий'!AB5579","v":0},{"$f":"'[1]Список изделий'!AC5579","v":"x"},{"$f":"'[1]Список изделий'!AD5579","v":0},{"$f":"'[1]Список изделий'!AE5579","v":0},{"$f":"'[1]Список изделий'!AF5579","v":"00:00:00"},{"$f":"'[1]Список изделий'!AY5579","v":0},{"$f":"'[1]Список изделий'!AZ5579","v":"00:00:00"},-43153,-43153,0,0,{"$f":"'[1]Список изделий'!BR5579","v":0},0]
[1670,{"$f":"'[1]Список изделий'!D5661","v":70},{"$f":"'[1]Список изделий'!E5661","v":0},{"$f":"'[1]Список изделий'!F5661","v":0},{"$f":"'[1]Список изделий'!I5661","v":0},{"$f":"'[1]Список изделий'!X5661","v":0},{"$f":"'[1]Список изделий'!Y5661","v":0},{"$f":"'[1]Список изделий'!Z5661","v":0},{"$f":"'[1]Список изделий'!AA5661","v":0},{"$f":"'[1]Список изделий'!AB5661","v":0},{"$f":"'[1]Список изделий'!AC5661","v":"x"},{"$f":"'[1]Список изделий'!AD5661","v":0},{"$f":"'[1]Список изделий'!AE5661","v":0},{"$f":"'[1]Список изделий'!AF5661","v":"00:00:00"},{"$f":"'[1]Список изделий'!AY5661","v":0},{"$f":"'[1]Список изделий'!AZ5661","v":"00:00:00"},-43153,-43153,0,0,{"$f":"'[1]Список изделий'!BR5661","v":0},0]
[1671,{"$f":"'[1]Список изделий'!D5743","v":71},{"$f":"'[1]Список изделий'!E5743","v":0},{"$f":"'[1]Список изделий'!F5743","v":0},{"$f":"'[1]Список изделий'!I5743","v":0},{"$f":"'[1]Список изделий'!X5743","v":0},{"$f":"'[1]Список изделий'!Y5743","v":0},{"$f":"'[1]Список изделий'!Z5743","v":0},{"$f":"'[1]Список изделий'!AA5743","v":0},{"$f":"'[1]Список изделий'!AB5743","v":0},{"$f":"'[1]Список изделий'!AC5743","v":"x"},{"$f":"'[1]Список изделий'!AD5743","v":0},{"$f":"'[1]Список изделий'!AE5743","v":0},{"$f":"'[1]Список изделий'!AF5743","v":"00:00:00"},{"$f":"'[1]Список изделий'!AY5743","v":0},{"$f":"'[1]Список изделий'!AZ5743","v":"00:00:00"},-43153,-43153,0,0,{"$f":"'[1]Список изделий'!BR5743","v":0},0]
[1672,{"$f":"'[1]Список изделий'!D5825","v":72},{"$f":"'[1]Список изделий'!E5825","v":0},{"$f":"'[1]Список изделий'!F5825","v":0},{"$f":"'[1]Список изделий'!I5825","v":0},{"$f":"'[1]Список изделий'!X5825","v":0},{"$f":"'[1]Список изделий'!Y5825","v":0},{"$f":"'[1]Список изделий'!Z5825","v":0},{"$f":"'[1]Список изделий'!AA5825","v":0},{"$f":"'[1]Список изделий'!AB5825","v":0},{"$f":"'[1]Список изделий'!AC5825","v":"x"},{"$f":"'[1]Список изделий'!AD5825","v":0},{"$f":"'[1]Список изделий'!AE5825","v":0},{"$f":"'[1]Список изделий'!AF5825","v":"00:00:00"},{"$f":"'[1]Список изделий'!AY5825","v":0},{"$f":"'[1]Список изделий'!AZ5825","v":"00:00:00"},-43153,-43153,0,0,{"$f":"'[1]Список изделий'!BR5825","v":0},0]
[1673,{"$f":"'[1]Список изделий'!D5907","v":73},{"$f":"'[1]Список изделий'!E5907","v":0},{"$f":"'[1]Список изделий'!F5907","v":0},{"$f":"'[1]Список изделий'!I5907","v":0},{"$f":"'[1]Список изделий'!X5907","v":0},{"$f":"'[1]Список изделий'!Y5907","v":0},{"$f":"'[1]Список изделий'!Z5907","v":0},{"$f":"'[1]Список изделий'!AA5907","v":0},{"$f":"'[1]Список изделий'!AB5907","v":0},{"$f":"'[1]Список изделий'!AC5907","v":"x"},{"$f":"'[1]Список изделий'!AD5907","v":0},{"$f":"'[1]Список изделий'!AE5907","v":0},{"$f":"'[1]Список изделий'!AF5907","v":"00:00:00"},{"$f":"'[1]Список изделий'!AY5907","v":0},{"$f":"'[1]Список изделий'!AZ5907","v":"00:00:00"},-43153,-43153,0,0,{"$f":"'[1]Список изделий'!BR5907","v":0},0]
[1674,{"$f":"'[1]Список изделий'!D5989","v":74},{"$f":"'[1]Список изделий'!E5989","v":0},{"$f":"'[1]Список изделий'!F5989","v":0},{"$f":"'[1]Список изделий'!I5989","v":0},{"$f":"'[1]Список изделий'!X5989","v":0},{"$f":"'[1]Список изделий'!Y5989","v":0},{"$f":"'[1]Список изделий'!Z5989","v":0},{"$f":"'[1]Список изделий'!AA5989","v":0},{"$f":"'[1]Список изделий'!AB5989","v":0},{"$f":"'[1]Список изделий'!AC5989","v":"x"},{"$f":"'[1]Список изделий'!AD5989","v":0},{"$f":"'[1]Список изделий'!AE5989","v":0},{"$f":"'[1]Список изделий'!AF5989","v":"00:00:00"},{"$f":"'[1]Список изделий'!AY5989","v":0},{"$f":"'[1]Список изделий'!AZ5989","v":"00:00:00"},-43153,-43153,0,0,{"$f":"'[1]Список изделий'!BR5989","v":0},0]
[1675,{"$f":"'[1]Список изделий'!D6071","v":75},{"$f":"'[1]Список изделий'!E6071","v":0},{"$f":"'[1]Список изделий'!F6071","v":0},{"$f":"'[1]Список изделий'!I6071","v":0},{"$f":"'[1]Список изделий'!X6071","v":0},{"$f":"'[1]Список изделий'!Y6071","v":0},{"$f":"'[1]Список изделий'!Z6071","v":0},{"$f":"'[1]Список изделий'!AA6071","v":0},{"$f":"'[1]Список изделий'!AB6071","v":0},{"$f":"'[1]Список изделий'!AC6071","v":"x"},{"$f":"'[1]Список изделий'!AD6071","v":0},{"$f":"'[1]Список изделий'!AE6071","v":0},{"$f":"'[1]Список изделий'!AF6071","v":"00:00:00"},{"$f":"'[1]Список изделий'!AY6071","v":0},{"$f":"'[1]Список изделий'!AZ6071","v":"00:00:00"},-43153,-43153,0,0,{"$f":"'[1]Список изделий'!BR6071","v":0},0]
[1676,{"$f":"'[1]Список изделий'!D6153","v":76},{"$f":"'[1]Список изделий'!E6153","v":0},{"$f":"'[1]Список изделий'!F6153","v":0},{"$f":"'[1]Список изделий'!I6153","v":0},{"$f":"'[1]Список изделий'!X6153","v":0},{"$f":"'[1]Список изделий'!Y6153","v":0},{"$f":"'[1]Список изделий'!Z6153","v":0},{"$f":"'[1]Список изделий'!AA6153","v":0},{"$f":"'[1]Список изделий'!AB6153","v":0},{"$f":"'[1]Список изделий'!AC6153","v":"x"},{"$f":"'[1]Список изделий'!AD6153","v":0},{"$f":"'[1]Список изделий'!AE6153","v":0},{"$f":"'[1]Список изделий'!AF6153","v":"00:00:00"},{"$f":"'[1]Список изделий'!AY6153","v":0},{"$f":"'[1]Список изделий'!AZ6153","v":"00:00:00"},-43153,-43153,0,0,{"$f":"'[1]Список изделий'!BR6153","v":0},0]
[1677,{"$f":"'[1]Список изделий'!D6235","v":77},{"$f":"'[1]Список изделий'!E6235","v":0},{"$f":"'[1]Список изделий'!F6235","v":0},{"$f":"'[1]Список изделий'!I6235","v":0},{"$f":"'[1]Список изделий'!X6235","v":0},{"$f":"'[1]Список изделий'!Y6235","v":0},{"$f":"'[1]Список изделий'!Z6235","v":0},{"$f":"'[1]Список изделий'!AA6235","v":0},{"$f":"'[1]Список изделий'!AB6235","v":0},{"$f":"'[1]Список изделий'!AC6235","v":"x"},{"$f":"'[1]Список изделий'!AD6235","v":0},{"$f":"'[1]Список изделий'!AE6235","v":0},{"$f":"'[1]Список изделий'!AF6235","v":"00:00:00"},{"$f":"'[1]Список изделий'!AY6235","v":0},{"$f":"'[1]Список изделий'!AZ6235","v":"00:00:00"},-43153,-43153,0,0,{"$f":"'[1]Список изделий'!BR6235","v":0},0]
[1678,{"$f":"'[1]Список изделий'!D6317","v":78},{"$f":"'[1]Список изделий'!E6317","v":0},{"$f":"'[1]Список изделий'!F6317","v":0},{"$f":"'[1]Список изделий'!I6317","v":0},{"$f":"'[1]Список изделий'!X6317","v":0},{"$f":"'[1]Список изделий'!Y6317","v":0},{"$f":"'[1]Список изделий'!Z6317","v":0},{"$f":"'[1]Список изделий'!AA6317","v":0},{"$f":"'[1]Список изделий'!AB6317","v":0},{"$f":"'[1]Список изделий'!AC6317","v":"x"},{"$f":"'[1]Список изделий'!AD6317","v":0},{"$f":"'[1]Список изделий'!AE6317","v":0},{"$f":"'[1]Список изделий'!AF6317","v":"00:00:00"},{"$f":"'[1]Список изделий'!AY6317","v":0},{"$f":"'[1]Список изделий'!AZ6317","v":"00:00:00"},-43153,-43153,0,0,{"$f":"'[1]Список изделий'!BR6317","v":0},0]
[1679,{"$f":"'[1]Список изделий'!D6399","v":79},{"$f":"'[1]Список изделий'!E6399","v":0},{"$f":"'[1]Список изделий'!F6399","v":0},{"$f":"'[1]Список изделий'!I6399","v":0},{"$f":"'[1]Список изделий'!X6399","v":0},{"$f":"'[1]Список изделий'!Y6399","v":0},{"$f":"'[1]Список изделий'!Z6399","v":0},{"$f":"'[1]Список изделий'!AA6399","v":0},{"$f":"'[1]Список изделий'!AB6399","v":0},{"$f":"'[1]Список изделий'!AC6399","v":"x"},{"$f":"'[1]Список изделий'!AD6399","v":0},{"$f":"'[1]Список изделий'!AE6399","v":0},{"$f":"'[1]Список изделий'!AF6399","v":"00:00:00"},{"$f":"'[1]Список изделий'!AY6399","v":0},{"$f":"'[1]Список изделий'!AZ6399","v":"00:00:00"},-43153,-43153,0,0,{"$f":"'[1]Список изделий'!BR6399","v":0},0]
[1680,{"$f":"'[1]Список изделий'!D6481","v":80},{"$f":"'[1]Список изделий'!E6481","v":0},{"$f":"'[1]Список изделий'!F6481","v":0},{"$f":"'[1]Список изделий'!I6481","v":0},{"$f":"'[1]Список изделий'!X6481","v":0},{"$f":"'[1]Список изделий'!Y6481","v":0},{"$f":"'[1]Список изделий'!Z6481","v":0},{"$f":"'[1]Список изделий'!AA6481","v":0},{"$f":"'[1]Список изделий'!AB6481","v":0},{"$f":"'[1]Список изделий'!AC6481","v":"x"},{"$f":"'[1]Список изделий'!AD6481","v":0},{"$f":"'[1]Список изделий'!AE6481","v":0},{"$f":"'[1]Список изделий'!AF6481","v":"00:00:00"},{"$f":"'[1]Список изделий'!AY6481","v":0},{"$f":"'[1]Список изделий'!AZ6481","v":"00:00:00"},-43153,-43153,0,0,{"$f":"'[1]Список изделий'!BR6481","v":0},0]
[1681,{"$f":"'[1]Список изделий'!D6563","v":81},{"$f":"'[1]Список изделий'!E6563","v":0},{"$f":"'[1]Список изделий'!F6563","v":0},{"$f":"'[1]Список изделий'!I6563","v":0},{"$f":"'[1]Список изделий'!X6563","v":0},{"$f":"'[1]Список изделий'!Y6563","v":0},{"$f":"'[1]Список изделий'!Z6563","v":0},{"$f":"'[1]Список изделий'!AA6563","v":0},{"$f":"'[1]Список изделий'!AB6563","v":0},{"$f":"'[1]Список изделий'!AC6563","v":"x"},{"$f":"'[1]Список изделий'!AD6563","v":0},{"$f":"'[1]Список изделий'!AE6563","v":0},{"$f":"'[1]Список изделий'!AF6563","v":"00:00:00"},{"$f":"'[1]Список изделий'!AY6563","v":0},{"$f":"'[1]Список изделий'!AZ6563","v":"00:00:00"},-43153,-43153,0,0,{"$f":"'[1]Список изделий'!BR6563","v":0},0]
[1682,{"$f":"'[1]Список изделий'!D6645","v":82},{"$f":"'[1]Список изделий'!E6645","v":0},{"$f":"'[1]Список изделий'!F6645","v":0},{"$f":"'[1]Список изделий'!I6645","v":0},{"$f":"'[1]Список изделий'!X6645","v":0},{"$f":"'[1]Список изделий'!Y6645","v":0},{"$f":"'[1]Список изделий'!Z6645","v":0},{"$f":"'[1]Список изделий'!AA6645","v":0},{"$f":"'[1]Список изделий'!AB6645","v":0},{"$f":"'[1]Список изделий'!AC6645","v":"x"},{"$f":"'[1]Список изделий'!AD6645","v":0},{"$f":"'[1]Список изделий'!AE6645","v":0},{"$f":"'[1]Список изделий'!AF6645","v":"00:00:00"},{"$f":"'[1]Список изделий'!AY6645","v":0},{"$f":"'[1]Список изделий'!AZ6645","v":"00:00:00"},-43153,-43153,0,0,{"$f":"'[1]Список изделий'!BR6645","v":0},0]
[1683,{"$f":"'[1]Список изделий'!D6727","v":83},{"$f":"'[1]Список изделий'!E6727","v":0},{"$f":"'[1]Список изделий'!F6727","v":0},{"$f":"'[1]Список изделий'!I6727","v":0},{"$f":"'[1]Список изделий'!X6727","v":0},{"$f":"'[1]Список изделий'!Y6727","v":0},{"$f":"'[1]Список изделий'!Z6727","v":0},{"$f":"'[1]Список изделий'!AA6727","v":0},{"$f":"'[1]Список изделий'!AB6727","v":0},{"$f":"'[1]Список изделий'!AC6727","v":"x"},{"$f":"'[1]Список изделий'!AD6727","v":0},{"$f":"'[1]Список изделий'!AE6727","v":0},{"$f":"'[1]Список изделий'!AF6727","v":"00:00:00"},{"$f":"'[1]Список изделий'!AY6727","v":0},{"$f":"'[1]Список изделий'!AZ6727","v":"00:00:00"},-43153,-43153,0,0,{"$f":"'[1]Список изделий'!BR6727","v":0},0]
[1684,{"$f":"'[1]Список изделий'!D6809","v":84},{"$f":"'[1]Список изделий'!E6809","v":0},{"$f":"'[1]Список изделий'!F6809","v":0},{"$f":"'[1]Список изделий'!I6809","v":0},{"$f":"'[1]Список изделий'!X6809","v":0},{"$f":"'[1]Список изделий'!Y6809","v":0},{"$f":"'[1]Список изделий'!Z6809","v":0},{"$f":"'[1]Список изделий'!AA6809","v":0},{"$f":"'[1]Список изделий'!AB6809","v":0},{"$f":"'[1]Список изделий'!AC6809","v":"x"},{"$f":"'[1]Список изделий'!AD6809","v":0},{"$f":"'[1]Список изделий'!AE6809","v":0},{"$f":"'[1]Список изделий'!AF6809","v":"00:00:00"},{"$f":"'[1]Список изделий'!AY6809","v":0},{"$f":"'[1]Список изделий'!AZ6809","v":"00:00:00"},-43153,-43153,0,0,{"$f":"'[1]Список изделий'!BR6809","v":0},0]
[1685,{"$f":"'[1]Список изделий'!D6891","v":85},{"$f":"'[1]Список изделий'!E6891","v":0},{"$f":"'[1]Список изделий'!F6891","v":0},{"$f":"'[1]Список изделий'!I6891","v":0},{"$f":"'[1]Список изделий'!X6891","v":0},{"$f":"'[1]Список изделий'!Y6891","v":0},{"$f":"'[1]Список изделий'!Z6891","v":0},{"$f":"'[1]Список изделий'!AA6891","v":0},{"$f":"'[1]Список изделий'!AB6891","v":0},{"$f":"'[1]Список изделий'!AC6891","v":"x"},{"$f":"'[1]Список изделий'!AD6891","v":0},{"$f":"'[1]Список изделий'!AE6891","v":0},{"$f":"'[1]Список изделий'!AF6891","v":"00:00:00"},{"$f":"'[1]Список изделий'!AY6891","v":0},{"$f":"'[1]Список изделий'!AZ6891","v":"00:00:00"},-43153,-43153,0,0,{"$f":"'[1]Список изделий'!BR6891","v":0},0]
[1686,{"$f":"'[1]Список изделий'!D6973","v":86},{"$f":"'[1]Список изделий'!E6973","v":0},{"$f":"'[1]Список изделий'!F6973","v":0},{"$f":"'[1]Список изделий'!I6973","v":0},{"$f":"'[1]Список изделий'!X6973","v":0},{"$f":"'[1]Список изделий'!Y6973","v":0},{"$f":"'[1]Список изделий'!Z6973","v":0},{"$f":"'[1]Список изделий'!AA6973","v":0},{"$f":"'[1]Список изделий'!AB6973","v":0},{"$f":"'[1]Список изделий'!AC6973","v":"x"},{"$f":"'[1]Список изделий'!AD6973","v":0},{"$f":"'[1]Список изделий'!AE6973","v":0},{"$f":"'[1]Список изделий'!AF6973","v":"00:00:00"},{"$f":"'[1]Список изделий'!AY6973","v":0},{"$f":"'[1]Список изделий'!AZ6973","v":"00:00:00"},-43153,-43153,0,0,{"$f":"'[1]Список изделий'!BR6973","v":0},0]
[1687,{"$f":"'[1]Список изделий'!D7055","v":87},{"$f":"'[1]Список изделий'!E7055","v":0},{"$f":"'[1]Список изделий'!F7055","v":0},{"$f":"'[1]Список изделий'!I7055","v":0},{"$f":"'[1]Список изделий'!X7055","v":0},{"$f":"'[1]Список изделий'!Y7055","v":0},{"$f":"'[1]Список изделий'!Z7055","v":0},{"$f":"'[1]Список изделий'!AA7055","v":0},{"$f":"'[1]Список изделий'!AB7055","v":0},{"$f":"'[1]Список изделий'!AC7055","v":"x"},{"$f":"'[1]Список изделий'!AD7055","v":0},{"$f":"'[1]Список изделий'!AE7055","v":0},{"$f":"'[1]Список изделий'!AF7055","v":"00:00:00"},{"$f":"'[1]Список изделий'!AY7055","v":0},{"$f":"'[1]Список изделий'!AZ7055","v":"00:00:00"},-43153,-43153,0,0,{"$f":"'[1]Список изделий'!BR7055","v":0},0]
[1688,{"$f":"'[1]Список изделий'!D7137","v":88},{"$f":"'[1]Список изделий'!E7137","v":0},{"$f":"'[1]Список изделий'!F7137","v":0},{"$f":"'[1]Список изделий'!I7137","v":0},{"$f":"'[1]Список изделий'!X7137","v":0},{"$f":"'[1]Список изделий'!Y7137","v":0},{"$f":"'[1]Список изделий'!Z7137","v":0},{"$f":"'[1]Список изделий'!AA7137","v":0},{"$f":"'[1]Список изделий'!AB7137","v":0},{"$f":"'[1]Список изделий'!AC7137","v":"x"},{"$f":"'[1]Список изделий'!AD7137","v":0},{"$f":"'[1]Список изделий'!AE7137","v":0},{"$f":"'[1]Список изделий'!AF7137","v":"00:00:00"},{"$f":"'[1]Список изделий'!AY7137","v":0},{"$f":"'[1]Список изделий'!AZ7137","v":"00:00:00"},-43153,-43153,0,0,{"$f":"'[1]Список изделий'!BR7137","v":0},0]
[1689,{"$f":"'[1]Список изделий'!D7219","v":89},{"$f":"'[1]Список изделий'!E7219","v":0},{"$f":"'[1]Список изделий'!F7219","v":0},{"$f":"'[1]Список изделий'!I7219","v":0},{"$f":"'[1]Список изделий'!X7219","v":0},{"$f":"'[1]Список изделий'!Y7219","v":0},{"$f":"'[1]Список изделий'!Z7219","v":0},{"$f":"'[1]Список изделий'!AA7219","v":0},{"$f":"'[1]Список изделий'!AB7219","v":0},{"$f":"'[1]Список изделий'!AC7219","v":"x"},{"$f":"'[1]Список изделий'!AD7219","v":0},{"$f":"'[1]Список изделий'!AE7219","v":0},{"$f":"'[1]Список изделий'!AF7219","v":"00:00:00"},{"$f":"'[1]Список изделий'!AY7219","v":0},{"$f":"'[1]Список изделий'!AZ7219","v":"00:00:00"},-43153,-43153,0,0,{"$f":"'[1]Список изделий'!BR7219","v":0},0]
[1690,{"$f":"'[1]Список изделий'!D7301","v":90},{"$f":"'[1]Список изделий'!E7301","v":0},{"$f":"'[1]Список изделий'!F7301","v":0},{"$f":"'[1]Список изделий'!I7301","v":0},{"$f":"'[1]Список изделий'!X7301","v":0},{"$f":"'[1]Список изделий'!Y7301","v":0},{"$f":"'[1]Список изделий'!Z7301","v":0},{"$f":"'[1]Список изделий'!AA7301","v":0},{"$f":"'[1]Список изделий'!AB7301","v":0},{"$f":"'[1]Список изделий'!AC7301","v":"x"},{"$f":"'[1]Список изделий'!AD7301","v":0},{"$f":"'[1]Список изделий'!AE7301","v":0},{"$f":"'[1]Список изделий'!AF7301","v":"00:00:00"},{"$f":"'[1]Список изделий'!AY7301","v":0},{"$f":"'[1]Список изделий'!AZ7301","v":"00:00:00"},-43153,-43153,0,0,{"$f":"'[1]Список изделий'!BR7301","v":0},0]
[1691,{"$f":"'[1]Список изделий'!D7383","v":91},{"$f":"'[1]Список изделий'!E7383","v":0},{"$f":"'[1]Список изделий'!F7383","v":0},{"$f":"'[1]Список изделий'!I7383","v":0},{"$f":"'[1]Список изделий'!X7383","v":0},{"$f":"'[1]Список изделий'!Y7383","v":0},{"$f":"'[1]Список изделий'!Z7383","v":0},{"$f":"'[1]Список изделий'!AA7383","v":0},{"$f":"'[1]Список изделий'!AB7383","v":0},{"$f":"'[1]Список изделий'!AC7383","v":"x"},{"$f":"'[1]Список изделий'!AD7383","v":0},{"$f":"'[1]Список изделий'!AE7383","v":0},{"$f":"'[1]Список изделий'!AF7383","v":"00:00:00"},{"$f":"'[1]Список изделий'!AY7383","v":0},{"$f":"'[1]Список изделий'!AZ7383","v":"00:00:00"},-43153,-43153,0,0,{"$f":"'[1]Список изделий'!BR7383","v":0},0]
[1692,{"$f":"'[1]Список изделий'!D7465","v":92},{"$f":"'[1]Список изделий'!E7465","v":0},{"$f":"'[1]Список изделий'!F7465","v":0},{"$f":"'[1]Список изделий'!I7465","v":0},{"$f":"'[1]Список изделий'!X7465","v":0},{"$f":"'[1]Список изделий'!Y7465","v":0},{"$f":"'[1]Список изделий'!Z7465","v":0},{"$f":"'[1]Список изделий'!AA7465","v":0},{"$f":"'[1]Список изделий'!AB7465","v":0},{"$f":"'[1]Список изделий'!AC7465","v":"x"},{"$f":"'[1]Список изделий'!AD7465","v":0},{"$f":"'[1]Список изделий'!AE7465","v":0},{"$f":"'[1]Список изделий'!AF7465","v":"00:00:00"},{"$f":"'[1]Список изделий'!AY7465","v":0},{"$f":"'[1]Список изделий'!AZ7465","v":"00:00:00"},-43153,-43153,0,0,{"$f":"'[1]Список изделий'!BR7465","v":0},0]
[1693,{"$f":"'[1]Список изделий'!D7547","v":93},{"$f":"'[1]Список изделий'!E7547","v":0},{"$f":"'[1]Список изделий'!F7547","v":0},{"$f":"'[1]Список изделий'!I7547","v":0},{"$f":"'[1]Список изделий'!X7547","v":0},{"$f":"'[1]Список изделий'!Y7547","v":0},{"$f":"'[1]Список изделий'!Z7547","v":0},{"$f":"'[1]Список изделий'!AA7547","v":0},{"$f":"'[1]Список изделий'!AB7547","v":0},{"$f":"'[1]Список изделий'!AC7547","v":"x"},{"$f":"'[1]Список изделий'!AD7547","v":0},{"$f":"'[1]Список изделий'!AE7547","v":0},{"$f":"'[1]Список изделий'!AF7547","v":"00:00:00"},{"$f":"'[1]Список изделий'!AY7547","v":0},{"$f":"'[1]Список изделий'!AZ7547","v":"00:00:00"},-43153,-43153,0,0,{"$f":"'[1]Список изделий'!BR7547","v":0},0]
[1694,{"$f":"'[1]Список изделий'!D7629","v":94},{"$f":"'[1]Список изделий'!E7629","v":0},{"$f":"'[1]Список изделий'!F7629","v":0},{"$f":"'[1]Список изделий'!I7629","v":0},{"$f":"'[1]Список изделий'!X7629","v":0},{"$f":"'[1]Список изделий'!Y7629","v":0},{"$f":"'[1]Список изделий'!Z7629","v":0},{"$f":"'[1]Список изделий'!AA7629","v":0},{"$f":"'[1]Список изделий'!AB7629","v":0},{"$f":"'[1]Список изделий'!AC7629","v":"x"},{"$f":"'[1]Список изделий'!AD7629","v":0},{"$f":"'[1]Список изделий'!AE7629","v":0},{"$f":"'[1]Список изделий'!AF7629","v":"00:00:00"},{"$f":"'[1]Список изделий'!AY7629","v":0},{"$f":"'[1]Список изделий'!AZ7629","v":"00:00:00"},-43153,-43153,0,0,{"$f":"'[1]Список изделий'!BR7629","v":0},0]
[1695,{"$f":"'[1]Список изделий'!D7711","v":95},{"$f":"'[1]Список изделий'!E7711","v":0},{"$f":"'[1]Список изделий'!F7711","v":0},{"$f":"'[1]Список изделий'!I7711","v":0},{"$f":"'[1]Список изделий'!X7711","v":0},{"$f":"'[1]Список изделий'!Y7711","v":0},{"$f":"'[1]Список изделий'!Z7711","v":0},{"$f":"'[1]Список изделий'!AA7711","v":0},{"$f":"'[1]Список изделий'!AB7711","v":0},{"$f":"'[1]Список изделий'!AC7711","v":"x"},{"$f":"'[1]Список изделий'!AD7711","v":0},{"$f":"'[1]Список изделий'!AE7711","v":0},{"$f":"'[1]Список изделий'!AF7711","v":"00:00:00"},{"$f":"'[1]Список изделий'!AY7711","v":0},{"$f":"'[1]Список изделий'!AZ7711","v":"00:00:00"},-43153,-43153,0,0,{"$f":"'[1]Список изделий'!BR7711","v":0},0]
[1696,{"$f":"'[1]Список изделий'!D7793","v":96},{"$f":"'[1]Список изделий'!E7793","v":0},{"$f":"'[1]Список изделий'!F7793","v":0},{"$f":"'[1]Список изделий'!I7793","v":0},{"$f":"'[1]Список изделий'!X7793","v":0},{"$f":"'[1]Список изделий'!Y7793","v":0},{"$f":"'[1]Список изделий'!Z7793","v":0},{"$f":"'[1]Список изделий'!AA7793","v":0},{"$f":"'[1]Список изделий'!AB7793","v":0},{"$f":"'[1]Список изделий'!AC7793","v":"x"},{"$f":"'[1]Список изделий'!AD7793","v":0},{"$f":"'[1]Список изделий'!AE7793","v":0},{"$f":"'[1]Список изделий'!AF7793","v":"00:00:00"},{"$f":"'[1]Список изделий'!AY7793","v":0},{"$f":"'[1]Список изделий'!AZ7793","v":"00:00:00"},-43153,-43153,0,0,{"$f":"'[1]Список изделий'!BR7793","v":0},0]
[1697,{"$f":"'[1]Список изделий'!D7875","v":97},{"$f":"'[1]Список изделий'!E7875","v":0},{"$f":"'[1]Список изделий'!F7875","v":0},{"$f":"'[1]Список изделий'!I7875","v":0},{"$f":"'[1]Список изделий'!X7875","v":0},{"$f":"'[1]Список изделий'!Y7875","v":0},{"$f":"'[1]Список изделий'!Z7875","v":0},{"$f":"'[1]Список изделий'!AA7875","v":0},{"$f":"'[1]Список изделий'!AB7875","v":0},{"$f":"'[1]Список изделий'!AC7875","v":"x"},{"$f":"'[1]Список изделий'!AD7875","v":0},{"$f":"'[1]Список изделий'!AE7875","v":0},{"$f":"'[1]Список изделий'!AF7875","v":"00:00:00"},{"$f":"'[1]Список изделий'!AY7875","v":0},{"$f":"'[1]Список изделий'!AZ7875","v":"00:00:00"},-43153,-43153,0,0,{"$f":"'[1]Список изделий'!BR7875","v":0},0]
[1698,{"$f":"'[1]Список изделий'!D7957","v":98},{"$f":"'[1]Список изделий'!E7957","v":0},{"$f":"'[1]Список изделий'!F7957","v":0},{"$f":"'[1]Список изделий'!I7957","v":0},{"$f":"'[1]Список изделий'!X7957","v":0},{"$f":"'[1]Список изделий'!Y7957","v":0},{"$f":"'[1]Список изделий'!Z7957","v":0},{"$f":"'[1]Список изделий'!AA7957","v":0},{"$f":"'[1]Список изделий'!AB7957","v":0},{"$f":"'[1]Список изделий'!AC7957","v":"x"},{"$f":"'[1]Список изделий'!AD7957","v":0},{"$f":"'[1]Список изделий'!AE7957","v":0},{"$f":"'[1]Список изделий'!AF7957","v":"00:00:00"},{"$f":"'[1]Список изделий'!AY7957","v":0},{"$f":"'[1]Список изделий'!AZ7957","v":"00:00:00"},-43153,-43153,0,0,{"$f":"'[1]Список изделий'!BR7957","v":0},0]
[1699,{"$f":"'[1]Список изделий'!D8039","v":99},{"$f":"'[1]Список изделий'!E8039","v":0},{"$f":"'[1]Список изделий'!F8039","v":0},{"$f":"'[1]Список изделий'!I8039","v":0},{"$f":"'[1]Список изделий'!X8039","v":0},{"$f":"'[1]Список изделий'!Y8039","v":0},{"$f":"'[1]Список изделий'!Z8039","v":0},{"$f":"'[1]Список изделий'!AA8039","v":0},{"$f":"'[1]Список изделий'!AB8039","v":0},{"$f":"'[1]Список изделий'!AC8039","v":"x"},{"$f":"'[1]Список изделий'!AD8039","v":0},{"$f":"'[1]Список изделий'!AE8039","v":0},{"$f":"'[1]Список изделий'!AF8039","v":"00:00:00"},{"$f":"'[1]Список изделий'!AY8039","v":0},{"$f":"'[1]Список изделий'!AZ8039","v":"00:00:00"},-43153,-43153,0,0,{"$f":"'[1]Список изделий'!BR8039","v":0},0]
[1700,{"$f":"'[1]Список изделий'!D8121","v":100},{"$f":"'[1]Список изделий'!E8121","v":0},{"$f":"'[1]Список изделий'!F8121","v":0},{"$f":"'[1]Список изделий'!I8121","v":0},{"$f":"'[1]Список изделий'!X8121","v":0},{"$f":"'[1]Список изделий'!Y8121","v":0},{"$f":"'[1]Список изделий'!Z8121","v":0},{"$f":"'[1]Список изделий'!AA8121","v":0},{"$f":"'[1]Список изделий'!AB8121","v":0},{"$f":"'[1]Список изделий'!AC8121","v":"x"},{"$f":"'[1]Список изделий'!AD8121","v":0},{"$f":"'[1]Список изделий'!AE8121","v":0},{"$f":"'[1]Список изделий'!AF8121","v":"00:00:00"},{"$f":"'[1]Список изделий'!AY8121","v":0},{"$f":"'[1]Список изделий'!AZ8121","v":"00:00:00"},-43153,-43153,0,0,{"$f":"'[1]Список изделий'!BR8121","v":0},0]

{"sheet":"Лист2","index":1,"n_rows":2,"n_cols":22,"rows_kept":2,"cut":false,"hidden":false,"merged":[[0,21,1,21],[0,20,1,20],[0,14,0,19],[0,8,1,8],[0,13,1,13],[0,9,0,12],[0,1,1,1],[0,4,1,4],[0,5,1,5],[0,6,1,6],[0,7,1,7],[0,3,1,3]]}
["№","№",{"$f":"TODAY()","v":"2018-02-22"},"Внутрифирменное название","Кол-во","Менеджер","Конструктор","Дизайнер","Отв. Производство /бригадир","Размер",null,null,null,"Дата сдачи заказа","Сборочный участок",null,null,null,null,null,"Ссылка_Сборочный участок","Готовность_Сборочный участок"]
[null,null,"Идентификатор изделий",null,null,null,null,null,null,"ширина","х","высота","ед. изм.",null,"надо дней","конечная дата на участке","начать ч/з","дней до срока на участке","выполнено (стало)","выполнено (было)"]